{"text_format":"1","workbook":"xlsx","n_sheets":11,"sheets":["Total NF","Total Private","Construction","Mfg","TTU","Finance","Prof&Bus","Ed&Health","Leisure&Hosp","Govt","state fips"],"not_rendered":{"charts":0,"images":0,"macros":0,"external_links":0,"defined_names":13,"comments":1,"pivot_tables":0},"unopened":[],"bounds":{"document_bytes":16777216,"sheet_cells":100000,"rows_first":2000,"rows_last":500,"rows_between":2000,"halvings":0,"cell_chars":16384,"cell_head_chars":4096},"cells_cut":0,"cells_raw":0,"read":"whole","date_system":"1900"}

{"sheet":"Total NF","index":0,"n_rows":54,"n_cols":130,"rows_kept":54,"cut":false,"hidden":false,"merged":[]}
[]
["TNF"]
[]
["State Name","Series ID","Jan\n2009","Feb\n2009","Mar\n2009","Apr\n2009","May\n2009","Jun\n2009","2009-07-01","Aug\n2009","Sep\n2009","Oct\n2009","Nov\n2009","Dec\n2009","Annual\n2009","Jan\n2010","Feb\n2010","Mar\n2010","Apr\n2010","May\n2010","Jun\n2010","Jul\n2010","Aug\n2010","Sep\n2010","Oct\n2010","Nov\n2010","Dec\n2010","Annual\n2010","Jan\n2011","Feb\n2011","Mar\n2011","Apr\n2011","May\n2011","Jun\n2011","2011-07-01","2011-08-01","2011-09-01","2011-10-01","2011-11-01","2011-12-01",null,"2012-01-01","2012-02-01","2012-03-01","2012-04-01","2012-05-01","2012-06-01","2012-07-01","2012-08-01","2012-09-01","2012-10-01","2012-11-01","2012-12-01",null,"2013-01-01","2013-02-01","2013-03-01","2013-04-01","2013-05-01","2013-06-01","2013-07-01","2013-08-01","2013-09-01","2013-10-01","2013-11-01","2013-12-01",null,"2014-01-01","2014-02-01","2014-03-01","2014-04-01","2014-05-01","2014-06-01","2014-07-01","2014-08-01","2014-09-01","2014-10-01","2014-11-01","2014-12-01","2015-01-01","2015-02-01","2015-03-01","2015-04-01","2015-05-01","2015-06-01","2015-07-01","2015-08-01","2015-09-01","2015-10-01","2015-11-01","2015-12-01","2016-01-01","2016-02-01","2016-03-16","2016-04-29","2016-05-29","2016-06-29","2016-07-29","2016-08-29","2016-09-29","2016-10-29","2016-11-29","2016-12-29","2017-01-29","2017-02-28","2017-03-30","2017-04-29","2017-05-29","2017-06-29","2017-07-29","2017-08-29","2017-09-29","2017-10-29","2017-11-29","Month-to-Month","Month-to-Month %","Mo Chg Rank","Mo % Rank","Year-to-Year","Year-to-Year %","Yr Chg Rank","Yr % Rank","Year-to-Date Chg","Year-to-Date %","Year-to-Date  Chg Rank","Year-to-Date % Rank","Chg from Trough","% Chg from Trough","Trough Chg Rank","Trough % Chg Rank"]
["Alabama","SMS01000004000000001",1929.2,1915.2,1903.6,1896.9,1891,1883.8,1880.2,1873.9,1867.6,1864.7,1865.8,1864.2,null,1863.9,1860.1,1864.4,1868.2,1879,1877.6,1876.6,1872.1,1869,1873.8,1873.3,1873.4,null,1864.2,1869.1,1868.8,1870,1868.2,1865.9,1872.1,1871.9,1876.6,1870.5,1873.4,1874.5,null,1875.6,1877.9,1882.9,1885.3,1883.1,1884.5,1883.1,1886,1886.6,1889.7,1892.8,1893.1,null,1891.3,1897,1898.4,1900.5,1901.3,1903.6,1905.5,1906.4,1902.4,1908.9,1913.1,1916.6,null,1910.3,1909.3,1911.5,1916.9,1918.1,1918.9,1922.7,1925.9,1927.2,1937.8,1940.6,1942.8,1936.2,1938.4,1936.1,1939.5,1945.9,1946.4,1948.9,1952.5,1951.1,1951.4,1957.5,1957.5,1966.9,1967.5,1967.7,1972,1971.4,1970.1,1976.7,1977.9,1979.2,1983,1983.5,1983.7,1995,1997.3,1997.7,1997.6,2003,2009.8,2007.7,2005.3,2012.2,2014.1,2016.9,{"$f":"DJ5-DI5","v":2.8000000000001819},{"$f":"DK5/DI5","v":1.3901990963706777E-3},{"$f":"RANK(DK5,($DK$5:$DK$54))","v":20},{"$f":"RANK(DL5,($DL$5:$DL$54))","v":22},{"$f":"DJ5-CX5","v":33.400000000000091},{"$f":"DO5/CX5","v":1.6838921099067351E-2},{"$f":"RANK(DO5,($DO$5:$DO$54))","v":24},{"$f":"RANK(DP5,($DP$5:$DP$54))","v":14},{"$f":"DJ5-CY5","v":33.200000000000045},{"$f":"DS5/CY5","v":1.673640167364019E-2},{"$f":"RANK(DS5,DS$5:DS$54)","v":18},{"$f":"RANK(DT5,DT$5:DT$54)","v":14},{"$f":"DJ5-I5","v":136.70000000000005},{"$f":"DW5/I5","v":7.2705031379640489E-2},{"$f":"RANK(DW5,($DW$5:$DW$54))","v":28},{"$f":"RANK(DX5,($DX$5:$DX$54))","v":38}]
["Alaska","SMS02000004000000001",320.2,321,319.89999999999998,320.5,319.7,319.60000000000002,319.39999999999998,319.5,319.8,320.10000000000002,320,319,null,320.60000000000002,320,320.3,322.2,323,325.2,325.3,325,325.3,326.3,327,327.2,null,328.4,327.8,327.7,328.4,327.8,329.2,330,329.1,330.9,331,331.4,331.7,null,333.6,333.7,334.2,334.7,335.5,334.7,334,333.7,334.6,338.6,335.4,335.5,null,335.8,336.2,336.2,336.9,335.7,336.1,335.5,336.3,336.6,337.2,338.6,338.8,null,337.7,337,337.1,338.4,338,337.1,337.8,337,336.3,337.2,338.1,340.6,340.4,339.9,340,340.2,341.4,339.1,339.3,338.1,338.5,339.3,338.1,339.2,336.3,336,335.3,335.1,333.6,331.3,332.1,331.8,329.9,330.6,329.9,329.4,328.2,330.1,328.4,328.4,330.9,332.4,331.7,332,331.1,330.4,327.39999999999998,{"$f":"DJ6-DI6","v":-3},{"$f":"DK6/DI6","v":-9.079903147699759E-3},43,50,{"$f":"DJ6-CX6","v":-2.5},{"$f":"DO6/CX6","v":-7.5780539557441656E-3},{"$f":"RANK(DO6,($DO$5:$DO$54))","v":49},{"$f":"RANK(DP6,($DP$5:$DP$54))","v":49},{"$f":"DJ6-CY6","v":-2},{"$f":"DS6/CY6","v":-6.0716454159077116E-3},{"$f":"RANK(DS6,DS$5:DS$54)","v":50},{"$f":"RANK(DT6,DT$5:DT$54)","v":49},{"$f":"DJ6-I6","v":8},{"$f":"DW6/I6","v":2.5046963055729496E-2},{"$f":"RANK(DW6,($DW$5:$DW$54))","v":48},{"$f":"RANK(DX6,($DX$5:$DX$54))","v":48}]
["Arizona","SMS04000004000000001",2517.1999999999998,2491.3000000000002,2472.1999999999998,2448,2439.1,2427,2419.9,2409.5,2397.4,2392.5,2388.6,2382.4,null,2382,2381.9,2384.1,2385.8000000000002,2400.3000000000002,2389.4,2384.6,2380.3000000000002,2374.5,2386.6,2389.8000000000002,2393.5,null,2398.9,2399,2402,2404.5,2412.1,2401,2399.3000000000002,2417.6,2424.1999999999998,2426.5,2431.5,2431.4,null,2443,2444.3000000000002,2452.3000000000002,2454.1,2449.1999999999998,2462.6999999999998,2452.9,2467.6,2474.1999999999998,2480.4,2487.1999999999998,2491,null,2495.1,2500.1,2503.1,2509.6999999999998,2511.1999999999998,2512.3000000000002,2512.6,2518.3000000000002,2525.6,2526.3000000000002,2534.1999999999998,2542.3000000000002,null,2546.1999999999998,2552.3000000000002,2551.9,2557,2551.6,2562.6999999999998,2565.3000000000002,2571.1,2575.6999999999998,2589.3000000000002,2598.6,2607.3000000000002,2605.6999999999998,2611.1,2612.4,2615.8000000000002,2616.6999999999998,2624.8,2636,2644.8,2649.8,2664.7,2677.7,2681.6,2672.9,2680.9,2685,2692.6,2695.3,2696.5,2712,2716.4,2730.8,2731,2728.2,2735.4,2731.2,2739.9,2736.1,2742.6,2745.2,2751.1,2743.9,2754.6,2767.1,2762,2769.5,7.5,2.715423606082549E-3,8,11,41.300000000000182,1.513818634997441E-2,15,18,34.099999999999909,1.2466184104701289E-2,17,21,349.59999999999991,0.14446877970164052,16,16]
["Arkansas","SMS05000004000000001",1183.4000000000001,1180.8,1174.4000000000001,1168.9000000000001,1164.5,1161.3,1161.5999999999999,1160,1156.5,1155,1156.2,1155.5999999999999,null,1152.4000000000001,1150.5999999999999,1155.7,1157.3,1168.0999999999999,1174.3,1168.5,1169.5999999999999,1165.2,1164.5999999999999,1164,1166.2,null,1164.5,1161.4000000000001,1164.0999999999999,1172.3,1167.5,1164.2,1171.9000000000001,1173.2,1172.3,1177.5999999999999,1177.3,1176.9000000000001,null,1176.5999999999999,1176.8,1179.4000000000001,1178,1179.2,1178.0999999999999,1172.3,1173.8,1173.9000000000001,1174.9000000000001,1176.3,1177.8,null,1177.2,1179.2,1176.9000000000001,1177.2,1175.0999999999999,1172.7,1173.7,1172.8,1176.3,1181.0999999999999,1184.3,1185.0999999999999,null,1179.8,1181.9000000000001,1181,1184.2,1187,1188.0999999999999,1185.4000000000001,1188,1192,1195.5,1199.0999999999999,1204.5999999999999,1198.9000000000001,1201.0999999999999,1197.9000000000001,1199.9000000000001,1204.0999999999999,1206,1209.4000000000001,1212.7,1214.2,1219.5999999999999,1220.2,1227,1221.7,1224.7,1226.5,1225.3,1224.7,1224.9000000000001,1227.0999999999999,1228.5,1230.2,1234.7,1233.5,1237.3,1234.9000000000001,1240.5999999999999,1240.0999999999999,1243.8,1245.0999999999999,1253.7,1259.0999999999999,1253.5,1255.0999999999999,1256.2,1254.0999999999999,-2.1000000000001364,-1.6717083266996786E-3,41,43,20.599999999999909,1.670044588569105E-2,30,15,16.799999999999955,1.3577951992241134E-2,31,18,92.5,7.9631542699724528E-2,32,34]
["California","SMS06000004000000001",14787,14667.8,14577.2,14470.1,14425.9,14361.5,14256.4,14207.9,14159.3,14187.4,14178.8,14155.9,null,14131.3,14121,14125.8,14209.5,14250.8,14235.9,14217.8,14214,14204,14258.7,14264.1,14286.7,null,14296.9,14303.9,14302.3,14318.1,14317.6,14304.4,14362.2,14373.2,14404.5,14415.1,14445.8,14466.1,null,14539.5,14553.9,14585.9,14601.9,14632.9,14672.2,14700.5,14731.4,14752.6,14863.6,14906.4,14931.9,null,14972.5,15013.8,15040.4,15084.4,15107.8,15116.4,15168.9,15225.7,15233.5,15248.1,15306.4,15323.6,null,15430,15472.8,15500.1,15554.9,15588.4,15607.2,15654.8,15715.1,15754.7,15790.1,15840.9,15860.7,15827.7,15858.4,15900.1,15931.3,15966.8,15998.6,16114.4,16156.3,16169.9,16197.3,16226.4,16274.1,16317.2,16360.3,16347.6,16444.5,16454.900000000001,16441.900000000001,16507.7,16512.7,16550.2,16603.5,16633.099999999999,16637.900000000001,16653.2,16674.7,16697.5,16679.900000000001,16704.7,16701.5,16786,16778.3,16828.599999999999,16874,16921.400000000001,47.400000000001455,2.8090553514283191E-3,2,9,288.30000000000291,1.7332908477674214E-2,2,12,283.5,1.7039410021697447E-2,2,13,2665.0000000000018,0.18693358772200569,1,8]
["Colorado","SMS08000004000000001",2308.3000000000002,2287.6,2271.6999999999998,2254.5,2251.6999999999998,2239.9,2232.1,2225.9,2222.3000000000002,2219.9,2217.6999999999998,2213.8000000000002,null,2211.3000000000002,2213.5,2215.1999999999998,2217.6,2226.8000000000002,2223,2225.5,2224.8000000000002,2220.1999999999998,2228.4,2229,2232.8000000000002,null,2239.9,2238.3000000000002,2242.9,2252.8000000000002,2253.6999999999998,2254.1,2259.1,2264.6,2272.6999999999998,2269.9,2275.1999999999998,2279.6999999999998,null,2286.6999999999998,2288.4,2295.8000000000002,2301.1,2304.1,2309.9,2314.9,2316.6999999999998,2323.3000000000002,2333.6999999999998,2337.3000000000002,2341.9,null,2349,2357,2362.3000000000002,2367.3000000000002,2373.3000000000002,2380.5,2386.6,2393,2397.1,2400.9,2402.9,2404.9,null,2425.4,2431.1999999999998,2436.4,2445.9,2453.4,2460.1999999999998,2467.1,2475.5,2482.1999999999998,2481.1999999999998,2484.1999999999998,2492.8000000000002,2514.6999999999998,2521.8000000000002,2523.3000000000002,2526.1,2531.3000000000002,2537.1999999999998,2541.8000000000002,2546.1999999999998,2552.1999999999998,2562.6999999999998,2564.9,2578.6,2576,2581.1999999999998,2585.3000000000002,2590.1999999999998,2583.6,2592.1,2605,2609.5,2614.9,2621.1999999999998,2618,2618.3000000000002,2629.5,2634.4,2634.1,2635,2640.5,2644.8,2650.9,2652.2,2657.6,2661.5,2663.3,1.8000000000001819,6.7631035130572307E-4,25,28,45.300000000000182,1.7303284950343844E-2,12,13,45,1.7186724210365503E-2,12,12,431.20000000000027,0.19318130908113448,11,4]
["Connecticut","SMS09000004000000001",1663.8,1656.6,1646.7,1627.9,1629.7,1624.8,1614.8,1612.6,1613.5,1609.2,1608.5,1606.4,null,1594.5,1593.9,1594.9,1600.8,1611.6,1610.2,1612.6,1614.1,1612.6,1616,1616.1,1616.9,null,1618.1,1620.7,1620.1,1627.4,1623.6,1622.3,1628.5,1626.8,1628.9,1626.4,1628.3,1631.2,null,1637.2,1639.9,1643,1636.9,1636.5,1639.5,1639.1,1640.9,1641.8,1643.1,1645.6,1645.1,null,1649.2,1643.1,1649.5,1653.3,1653,1662.1,1661.1,1659.7,1653.1,1658.8,1661.4,1663.5,null,1659.9,1656.1,1659.6,1664,1665.7,1664.9,1665.4,1665.7,1666.5,1670,1672.9,1678.1,1671.1,1669.6,1670.6,1669.7,1674.2,1675.5,1672.8,1672.2,1672.2,1673.2,1678.5,1680,1677.8,1680.3,1683.8,1677.7,1677.3,1678.8,1680.6,1681.2,1681.4,1679.2,1678.2,1677.5,1684,1684.1,1684.7,1681.6,1687.2,1692.8,1691.1,1686.9,1687.2,1681,1677.5,-3.5,-2.0820939916716239E-3,45,46,-0.70000000000004547,-4.1711357406748034E-4,47,47,0,0,47,47,62.700000000000045,3.8828337874659433E-2,39,47]
["Delaware","SMS10000004000000001",425.3,424.5,420.7,417.2,418.6,416.2,414.1,413.5,413,412.7,411.8,410.4,null,409.6,407.1,409.7,411.8,414,414.7,417.4,417,416.3,416,415.6,416.6,null,417.1,417.9,417.4,419.9,417,416.4,417.3,416.3,416.8,416.2,416.5,416.9,null,417.3,417.4,418.1,417.8,418.8,418.8,419.4,419.1,419.8,421.5,423.1,422.6,null,423.1,424.4,425.1,425.1,426.6,426.1,427.8,428.6,428.5,431.4,433.6,432.8,null,435.6,434.5,435.3,435.9,437.4,438.1,437.7,438.3,438.1,440.9,442.3,442.8,444.9,445.3,446.2,443.4,447.3,448.1,450.3,449.1,449.6,452.7,454.4,456,451.4,452.2,453.3,453,451.7,452.9,454.5,454.5,454.2,453.9,453.8,454.4,455.8,456.5,456.1,455.7,456,454.7,456.3,456.9,457.1,455.6,454.1,-1.5,-3.2923617208077257E-3,39,48,0.30000000000001137,6.610841780520303E-4,46,46,-0.29999999999995453,-6.6021126760553372E-4,48,48,40,9.6595025356194145E-2,43,26]
["Florida","SMS12000004000000001",7417.2,7360.4,7311.8,7265.3,7244.9,7221.1,7193.8,7173.8,7155,7150.5,7145.4,7128,null,7133.5,7131.2,7135.9,7151.2,7196.4,7184.8,7185.6,7189.1,7166.5,7197,7195.9,7201,null,7214.2,7210.9,7216.2,7242.2,7237.6,7232.3,7259.6,7260.3,7277.2,7279.9,7292.4,7304.6,null,7324,7333.8,7349.9,7375.9,7374.6,7389.9,7397.2,7405.4,7422,7449.9,7466.9,7470.3,null,7485.2,7507,7517.8,7531.7,7543.1,7562.5,7587.4,7607.3,7621.6,7650.4,7667.1,7680.6,null,7705.5,7723.6,7738.8,7767.8,7790.6,7804.6,7833.5,7857.7,7878.2,7910.3,7945.2,7965.7,7979.8,7998.5,8014.5,8029.4,8058.3,8080,8109.1,8132.6,8151.7,8181.4,8201.1,8211.5,8268.7999999999993,8294.2000000000007,8307.9,8337.1,8354,8364.1,8408.1,8428.5,8456.7000000000007,8457.6,8481.4,8492.4,8548,8547.7999999999993,8541.6,8552.4,8583.2999999999993,8601.6,8629.7999999999993,8646.5,8529.7999999999993,8663.2999999999993,8676.4,13.100000000000364,1.5121258642780886E-3,4,21,195,2.2991487254462709E-2,3,4,184,2.1666431161980124E-2,3,4,1482.5999999999995,0.20609413661764289,3,3]
["Georgia","SMS13000004000000001",4002.1,3974.1,3945.5,3925.3,3911.3,3898.2,3878.7,3868.7,3856.1,3855.5,3851.6,3844.7,null,3843,3839,3843.8,3849.7,3870.5,3866.8,3871.3,3867.9,3865.1,3873.9,3875.1,3873.3,null,3851.4,3888.6,3893.5,3904.4,3904.1,3902.6,3910.2,3910.8,3917.6,3911.2,3917.1,3913.4,null,3924.1,3927.7,3938,3945,3948.6,3956.3,3950.6,3954.2,3957.3,3974.3,3983.8,3986.3,null,3997.5,4008.1,4010.7,4019.2,4021.3,4027.2,4038.2,4045.4,4051.8,4054.5,4067.6,4072.5,null,4090.2,4088.4,4112.3999999999996,4125.6000000000004,4137.8999999999996,4148,4162.8,4177.1000000000004,4185.2,4205.7,4216.2,4226.5,4210.8999999999996,4226.1000000000004,4229.1000000000004,4230.5,4245.8999999999996,4264.3999999999996,4270.2,4283.2,4284.7,4313.2,4324.2,4330.1000000000004,4327.5,4338.2,4335.1000000000004,4353.1000000000004,4362.2,4373.3999999999996,4383.6000000000004,4393.7,4413.1000000000004,4422.3,4428.1000000000004,4435.7,4440.2,4456.6000000000004,4469.5,4469.1000000000004,4468.6000000000004,4493.8999999999996,4490.3999999999996,4497.7,4494.3,4510.3999999999996,4513.3,2.9000000000005457,6.4295849592066023E-4,18,30,85.199999999999818,1.9240757887129877E-2,5,10,77.600000000000364,1.7494420271885015E-2,5,10,634.60000000000036,0.16361151932348478,5,13]
["Hawaii","SMS15000004000000001",602.79999999999995,599.29999999999995,597.5,593.79999999999995,592.29999999999995,592.79999999999995,589.6,588.4,585.29999999999995,585.70000000000005,584.20000000000005,583,null,583.9,583.70000000000005,584.29999999999995,585.29999999999995,587.29999999999995,585.29999999999995,587.5,585.4,587.29999999999995,589.1,592.5,589.9,null,588.79999999999995,591.29999999999995,592.6,590.79999999999995,590.6,589.9,594.4,592.9,596.29999999999995,596.29999999999995,598,598.79999999999995,null,592.9,599.29999999999995,599.5,606.70000000000005,604.70000000000005,605.1,606,615.1,609.1,610.79999999999995,613.4,612.9,null,608.79999999999995,614.6,615.5,617.5,616.70000000000005,617,619.20000000000005,618.9,619.29999999999995,620.1,622.29999999999995,623.4,null,627.4,622.9,624,623.20000000000005,624.5,624,624.9,628.5,626.6,625.20000000000005,625.6,626,632.4,633.4,634.4,633.9,634.6,636.20000000000005,636.70000000000005,640.6,637.29999999999995,640.20000000000005,640.5,642,642.6,645.5,645.6,644.6,646,645.29999999999995,648.6,651.9,650.79999999999995,650.79999999999995,651.6,651.9,650,650.29999999999995,650.1,653.1,653.9,654.29999999999995,658.2,655.8,658.4,657.8,656.5,-1.2999999999999545,-1.9762845849801681E-3,38,45,4.8999999999999773,7.5199508901166012E-3,40,37,4.6000000000000227,7.0562969780641558E-3,39,38,66.899999999999977,0.1134667571234735,37,21]
["Idaho","SMS16000004000000001",625.6,619.70000000000005,615,610.6,608.9,609.4,605.70000000000005,605,603.4,605,604.5,603.70000000000005,null,600,601.29999999999995,602.6,603.5,606.20000000000005,602.79999999999995,603.9,604.5,602.29999999999995,605.20000000000005,605.6,605.1,null,606.29999999999995,606.6,605.6,608.20000000000005,608.5,608.29999999999995,611.70000000000005,613.1,613.79999999999995,613.70000000000005,616.70000000000005,617.79999999999995,null,617.1,618,618.70000000000005,618.1,620.1,620.6,621.70000000000005,622.5,624.5,627.5,628.5,629.70000000000005,null,633.20000000000005,635.20000000000005,636.70000000000005,638.79999999999995,639.79999999999995,640.6,640.4,640,639.79999999999995,640.4,639.1,638.20000000000005,null,648.20000000000005,650.5,652.1,653.9,654.1,655,656.3,656,655.7,658.4,659.1,659.1,664.3,665,667.8,669,670.6,672.2,673.7,673.5,675.3,680.6,683.9,687.4,685.3,688.4,690.4,691.6,692,694,697.4,698.9,700,702.7,705.2,707.9,712.9,711.3,708.7,710,708.8,708.8,711.7,714.4,715.8,720.5,721.4,0.89999999999997726,1.249132546842439E-3,30,24,16.199999999999932,2.297220646625061E-2,32,5,13.5,1.907049018222913E-2,33,7,115.69999999999993,0.1910186561003796,30,6]
["Illinois","SMS17000004000000001",5803.6,5767.5,5726.1,5677.7,5667.7,5643.4,5624.1,5609.5,5600.9,5591.1,5594.1,5584.9,null,5584.4,5587.8,5586.1,5600.9,5623.6,5615.3,5597.9,5619.9,5618.3,5637.3,5642.2,5641.2,null,5648.1,5651,5659.2,5668.9,5669.7,5673.3,5683.3,5690.6,5692.2,5690.6,5693.9,5698.9,null,5718,5722.4,5738.8,5742.5,5741.2,5749.1,5749,5755.5,5765.6,5764.2,5774.3,5778.4,null,5778.6,5789.7,5785.5,5779.1,5784.8,5793.1,5788.9,5796.8,5794.6,5816.9,5825.1,5827.8,null,5834.9,5836.2,5843.7,5856.8,5867.4,5872.7,5873.9,5879.2,5882.1,5886.9,5891.5,5907,5918.1,5928.1,5929.1,5944.6,5958.4,5962.3,5970.7,5968.6,5972.9,5993.1,5982.5,5974.2,6007.1,6008,6009.8,6007.2,5996.9,5995,6015.8,6020.2,6030.4,6022.6,6019.3,6021.3,6029.4,6044.2,6036.5,6029.2,6040.5,6046.9,6047.5,6044.9,6037,6046.3,6045.2,-1.1000000000003638,-1.8192944445369295E-4,37,34,25.899999999999636,4.3028259099894732E-3,26,{"$f":"RANK(DP17,($DP$5:$DP$54))","v":41},23.899999999999636,3.9692425223788281E-3,26,41,421.09999999999945,7.4874202094557252E-2,13,37]
["Indiana","SMS18000004000000001",2858.2,2843.5,2819.9,2795.2,2789.1,2776.4,2757.7,2773.3,2770.5,2772,2779.5,2777,null,2779.4,2779.6,2783.3,2797.9,2809.6,2808.1,2822.6,2823.7,2801.1,2811.5,2811.3,2814.7,null,2825.3,2828.5,2835,2840.9,2851.5,2844.8,2843.1,2850.4,2861.9,2863.4,2866.1,2878.2,null,2888.1,2894.6,2900.5,2891.9,2894.3,2902.3,2895.5,2898.8,2905.1,2905.6,2909.6,2911.2,null,2911.3,2923,2920.1,2922.7,2921,2928.4,2925.5,2939.5,2934.4,2954.1,2964,2965.2,null,2951.9,2962.3,2965.5,2974.7,2980.1,2984,2979.9,2981.4,2986.3,2996.6,3005.1,3012.1,3016.5,3021.8,3019.6,3023.8,3028.6,3030.4,3043,3043.2,3041,3047.5,3050,3059.7,3066.3,3074.4,3074.2,3075.4,3072.9,3076.4,3088,3094.2,3101.6,3100.6,3108.3,3103.9,3106.5,3119.5,3117.8,3111,3110.6,3118.1,3126.6,3122.7,3129.1,3133.8,3129.3,-4.5,-1.4359563469270534E-3,48,41,21,6.7561046231058774E-3,29,39,25.400000000000091,8.1832533264602891E-3,25,34,371.60000000000036,0.1347499728034233,15,18]
["Iowa","SMS19000004000000001",1502.9,1499.6,1490.7,1482.3,1480.9,1476.2,1470.5,1471.6,1471.6,1468,1467.3,1462.8,null,1463.6,1464.6,1467.3,1470.8,1472.3,1470.2,1466.3,1465.3,1466.3,1473.2,1474.4,1474.9,null,1476.2,1477.3,1478.7,1483.3,1484,1482.3,1488.1,1488.4,1493.2,1492.7,1494.2,1495.7,null,1500.3,1502.8,1507.5,1509.4,1508.2,1506.5,1509.1,1511.6,1511.6,1512.3,1513.7,1514.8,null,1517.4,1521.4,1520.8,1520.4,1523.4,1527.5,1533.7,1535.5,1534.1,1541.5,1543,1544.2,null,1537.4,1539.9,1541.2,1545.6,1546.8,1547.2,1546.5,1549.8,1549.3,1555,1557.4,1559.1,1558.3,1558.6,1560.1,1560.8,1559.9,1559.9,1561,1559.4,1558.2,1565.9,1570.1,1573.9,1568.3,1569.5,1572.5,1571.7,1567.9,1566.2,1572.4,1572.9,1572.4,1573.2,1570.2,1571.8,1577.4,1581.1,1580.2,1577.6,1580.6,1586.7,1587.8,1590.6,1586.7,1586.6,1592.9,6.3000000000001819,3.9707550737427093E-3,11,2,22.700000000000045,1.445675710100627E-2,28,19,21.100000000000136,1.3424099758239048E-2,29,19,122.40000000000009,8.3236994219653235E-2,29,32]
["Kansas","SMS20000004000000001",1381.4,1370.8,1361.7,1350.3,1346.1,1339.5,1333.9,1329.9,1328.5,1325,1326.3,1324.1,null,1323,1319,1321.3,1326.7,1331.4,1331.8,1333.3,1334.3,1327,1333.2,1329.2,1331,null,1337.9,1331.3,1332.9,1339.8,1339.2,1331.7,1342,1344.2,1343.5,1343.7,1344.2,1341.4,null,1354.2,1354.7,1358.4,1353.6,1355.6,1356.6,1354.6,1359.6,1356.9,1360.7,1362.7,1362.9,null,1364.1,1368,1366.2,1369.6,1367.6,1366.3,1373.3,1376.7,1380.2,1382.7,1384.9,1382.7,null,1382,1386.1,1388.4,1389.9,1392,1392.1,1394.6,1395.4,1395.5,1399.6,1398.9,1401.9,1396.3,1401.3,1398.8,1396.1,1398.7,1400.5,1400.2,1401.2,1401.7,1402,1398.7,1401.7,1409.4,1411.6,1410.4,1411.3,1408.3,1407.4,1411.9,1410.9,1415.6,1412.3,1408.7,1410.5,1407,1412.6,1413.6,1409.6,1406.9,1399.8,1401.1,1405.5,1408.8,1408.5,1411.6,3.0999999999999091,2.2009229676960662E-3,17,13,2.8999999999998636,2.0586356214948986E-3,42,45,1.0999999999999091,7.7986529599426374E-4,45,46,77.699999999999818,5.8250243646450116E-2,35,43]
["Kentucky","SMS21000004000000001",1796.2,1786.2,1776.5,1768.6,1767.7,1763.6,1765.1,1760.5,1761.4,1760.3,1762,1759.2,null,1756.6,1748.5,1757.5,1764,1774.1,1775.3,1772,1767.5,1772.7,1780.4,1778.8,1786.1,null,1779.2,1783.9,1786.4,1786.7,1785.9,1788.3,1794.7,1798.4,1801.6,1800.6,1805.2,1807.7,null,1813.2,1816.1,1819.1,1819.4,1820.9,1821.6,1823.9,1821,1823,1824.4,1828.1,1828.8,null,1832.6,1834.2,1834,1834.9,1833.1,1833,1837.4,1841.8,1842.8,1835.3,1839.9,1845.9,null,1843.7,1841.3,1844.7,1852.4,1853.2,1854.1,1861.4,1861.6,1863.2,1872.3,1879.3,1880,1877.2,1876.5,1871.4,1870,1881.4,1882.9,1884.6,1885.3,1890.6,1895.9,1901.9,1908.4,1904.3,1909.8,1908.6,1908.3,1911.1,1908.6,1920.6,1916.8,1919.9,1920.8,1927.4,1931.3,1934.3,1936.2,1938.9,1939.5,1940,1936.2,1939,1947,1951.3,1948.8,1953,4.2000000000000455,2.1551724137931268E-3,14,14,25.599999999999909,1.328214174535639E-2,27,21,21.700000000000045,1.1235955056179799E-2,28,24,187.90000000000009,0.10645289218741154,27,23]
["Louisiana","SMS22000004000000001",1931.4,1928.7,1917.4,1904,1904.4,1896.7,1894.1,1894.2,1892.7,1885.7,1886,1878.6,null,1876.3,1875,1880.8,1883.4,1889.3,1895.5,1885.6,1884.3,1882.1,1885.6,1885,1889.2,null,1892.5,1897.2,1897.6,1899.1,1899,1894.3,1905,1903.4,1906,1907.2,1908.8,1910.9,null,1914.8,1917.4,1919.2,1929.4,1930.6,1928.1,1924.2,1923.1,1923.7,1927.5,1933.8,1934.8,null,1938.2,1945.1,1944.5,1946.1,1948.5,1951.5,1949.5,1953.1,1954.8,1964.4,1963.4,1963.2,null,1964.4,1967.9,1970.1,1972.1,1978,1980.8,1982.3,1985.2,1987.5,1991.8,1994.4,1996.6,1998.2,1997.2,1991.3,1990.8,1993.8,1993,1991.5,1989.6,1986.4,1982.2,1981.7,1980,1982.5,1979.4,1977,1975.7,1973.8,1968.1,1970.4,1961,1965.7,1969.1,1966,1969,1975.7,1983.6,1973.9,1972.7,1984.4,1988.1,1981.8,1983.2,1980.5,1978,1974.9,-3.0999999999999091,-1.5672396359959096E-3,44,42,8.9000000000000909,4.5269582909461294E-3,36,40,5.9000000000000909,2.9964448958862827E-3,38,42,80.800000000000182,4.2658782535241108E-2,34,46]
["Maine","SMS23000004000000001",604.6,601.6,598.29999999999995,598.5,598.6,595.5,593.5,592.1,594.29999999999995,592.4,592.6,592.6,null,592.70000000000005,591.9,593.5,594,596,593.1,591.79999999999995,590.5,592.6,593.6,593.29999999999995,593.5,null,593,593.9,594.29999999999995,593.20000000000005,591.29999999999995,592.70000000000005,596,595.70000000000005,596.70000000000005,595.79999999999995,596.20000000000005,595.6,null,596.1,597.9,597.70000000000005,598.70000000000005,598.9,599.6,598.29999999999995,598.79999999999995,598.29999999999995,598.6,597.20000000000005,597.79999999999995,null,599,599.1,599.1,599.5,601.1,603.4,603,603.20000000000005,602.4,604.1,602.70000000000005,604.1,null,601.9,603.5,603.6,603,604.9,605.5,605.29999999999995,605.29999999999995,605.79999999999995,605.9,604.79999999999995,604.70000000000005,608.70000000000005,607.5,608.6,609.79999999999995,610.20000000000005,611.1,612.20000000000005,611.29999999999995,610.29999999999995,609.70000000000005,609.6,610.9,615.70000000000005,617.29999999999995,617.70000000000005,618,616.1,616.4,618.1,618.1,617.79999999999995,616,617.1,617.6,621.9,620,622.9,621.9,620.5,623.29999999999995,624.5,621.9,621.4,619.20000000000005,619.20000000000005,0,0,33,33,2.1000000000000227,3.4030140982013006E-3,43,43,1.6000000000000227,2.5906735751295702E-3,43,43,25.700000000000045,4.3302443133951214E-2,46,45]
["Maryland","SMS24000004000000001",2554,2545,2532.5,2525.6,2528.5,2524.9,2518.1,2513.5,2508.6999999999998,2506.8000000000002,2506.6,2502.3000000000002,null,2500.6999999999998,2467.9,2500.3000000000002,2515.6,2526.8000000000002,2527.1999999999998,2525.6,2525.5,2523.1,2530.9,2527.6,2530.8000000000002,null,2529.6,2534.5,2536.5,2538,2539,2541.1999999999998,2549.3000000000002,2542.8000000000002,2548.5,2551.3000000000002,2551,2555.5,null,2563.9,2566.1999999999998,2573.1,2566.6,2569.8000000000002,2573.5,2571.1,2573.9,2581.5,2582.5,2585.5,2586.4,null,2591,2595,2592.5,2592.1,2594.9,2595.1,2593.9,2597,2597.5,2598.1999999999998,2605,2609.3000000000002,null,2603,2601.6999999999998,2602.3000000000002,2613.3000000000002,2619.8000000000002,2620.1999999999998,2617.4,2621.4,2625.6,2632.8,2636.3,2641.3,2640.4,2644.7,2641.2,2648.9,2658.8,2655.9,2661.3,2665.5,2664.4,2677.5,2680,2683.3,2697.5,2697.7,2702.1,2704.1,2700.9,2701.3,2710.5,2714.7,2716.8,2721.8,2722.2,2730.8,2744,2753.5,2745.6,2745.6,2744.1,2760.7,2764.1,2778.5,2781.7,2777.5,2782.9,5.4000000000000909,1.944194419441977E-3,12,15,60.700000000000273,2.2298141209316096E-2,10,6,52.099999999999909,1.9078658268639193E-2,10,6,264.80000000000018,0.10515865136412382,22,24]
["Massachusetts","SMS25000004000000001",3244,3236.3,3224,3210.5,3205.9,3198.3,3188.7,3188,3186.6,3184.2,3187.5,3195.6,null,3203.3,3200,3203.2,3211.3,3225.5,3213.3,3218.4,3219.5,3215.5,3230.7,3231.9,3234.5,null,3236.1,3233.9,3239,3249.8,3248.4,3241.8,3265.7,3264.5,3272.5,3273.4,3274.5,3278.4,null,3289.4,3292.4,3302.2,3298.1,3299.9,3311.9,3311,3312.5,3319.1,3322.4,3329.2,3331.5,null,3332.2,3339,3346,3349.7,3354.9,3360.6,3354.8,3360.9,3360.9,3372,3378.9,3386.7,null,3380.5,3389.5,3397.5,3403.2,3407.2,3413.4,3422.8,3412.2,3425.6,3428.1,3436.8,3445.9,3464,3462.8,3476,3477.5,3492.5,3496.2,3506.5,3508.3,3500.9,3505.3,3512.5,3515.4,3534.3,3545.9,3555.9,3551.1,3549.6,3551.1,3572.5,3573.8,3575.4,3574.5,3583.4,3586.4,3593.5,3604.7,3605.8,3605,3607,3617.9,3620.4,3628.4,3638.7,3641.9,3648.6,6.6999999999998181,1.839699058183865E-3,9,17,65.199999999999818,1.8195010325389244E-2,8,11,62.199999999999818,1.7343296899397672E-2,7,11,459.90000000000009,0.14422805532035002,10,17]
["Michigan","SMS26000004000000001",3951.1,3951.3,3923,3906.8,3875,3837.7,3830.3,3831.2,3832.7,3837.3,3834.2,3835.7,null,3834.5,3835.4,3829.8,3848.8,3861.5,3864,3879.9,3864.9,3872,3888.6,3891.4,3891.8,null,3910.1,3912.7,3921.2,3935.8,3937.9,3942,3963.2,3965.8,3973,3983.3,3989.1,3988.5,null,4006.6,4013.4,4021.6,4034.2,4024.5,4023.7,4039.2,4038,4039.3,4047.8,4057,4065.3,null,4081.3,4093.4,4094.7,4091.5,4101.6000000000004,4106.7,4102.3,4112.8,4113.2,4123.8999999999996,4124.3999999999996,4126,null,4143.5,4158,4158.2,4156.5,4170.6000000000004,4188.1000000000004,4183.5,4188.8999999999996,4187.3999999999996,4197.3,4207.3,4217.6000000000004,4220.1000000000004,4222.1000000000004,4223.5,4226.2,4238.5,4238.8999999999996,4240.6000000000004,4248.8,4246.8999999999996,4266.3,4275.5,4288.6000000000004,4289.8999999999996,4294.3999999999996,4298.7,4315.8,4308.2,4322.2,4331.5,4332.3,4340.8,4364.8999999999996,4368,4368.8999999999996,4378.6000000000004,4376,4378.5,4390.5,4383.3,4386.1000000000004,4391.1000000000004,4392.8999999999996,4407,4406.1000000000004,4414.3,8.1999999999998181,1.8610562629081994E-3,6,16,46.300000000000182,1.0599816849816892E-2,11,30,45.400000000000546,1.0391631760855261E-2,11,28,584,0.1524684750541733,6,14]
["Minnesota","SMS27000004000000001",2710.7,2694.3,2679.5,2662.8,2662,2647.6,2645.1,2637,2621.9,2631.7,2632.3,2633,null,2627.1,2625.2,2628.5,2636.9,2641.4,2641.1,2644.7,2644,2638.3,2654.4,2656.2,2655.2,null,2662.7,2668.1,2671.3,2680,2687.5,2688.9,2675.6,2700.3,2709.1,2702.7,2703.9,2708.9,null,2708.6,2712.7,2721.9,2736.4,2723.3,2726.6,2725.8,2733.1,2740.5,2744.4,2747.3,2752.4,null,2758.4,2768.3,2770,2767,2771.5,2776.6,2770.3,2780.2,2784,2797.6,2799.8,2811.7,null,2795.2,2796.3,2795.4,2805.9,2809.3,2817.7,2829.2,2829.8,2819.2,2829.6,2830.6,2831.4,2837.5,2842.3,2845.5,2851.6,2858.3,2859.5,2860.9,2862.7,2859.2,2861,2867.8,2875.7,2880.8,2884.4,2884.7,2895.1,2890.8,2884.6,2899.4,2904.1,2903.1,2908.4,2915.6,2921.4,2917.5,2923.7,2929.3,2945.7,2942.8,2952.1,2954.7,2948.9,2955.5,2953.1,2949.1,-4,-1.3545088212386983E-3,47,39,33.5,1.1489916312251339E-2,23,27,27.699999999999818,9.4817553227903809E-3,24,32,304,0.1149294922687233,20,20]
["Mississippi","SMS28000004000000001",1120.7,1115.0999999999999,1106.2,1100.2,1099.3,1095.8,1094.4000000000001,1092.0999999999999,1089.3,1086.8,1086.7,1085.5,null,1084.7,1084.5,1086.5999999999999,1092.2,1098.4000000000001,1098.8,1097.5,1093.2,1092.7,1095.5,1092.5,1095.5,null,1091.2,1090.7,1092.5999999999999,1093.5999999999999,1093.3,1093.7,1093.8,1092.7,1093.9000000000001,1094.5999999999999,1094.7,1094.8,null,1098.3,1100.4000000000001,1101.4000000000001,1101.7,1101.2,1100.7,1102.0999999999999,1103,1102.0999999999999,1103.5,1104.8,1106.2,null,1106.0999999999999,1109.4000000000001,1107.5,1108.5,1107.9000000000001,1108.2,1109.4000000000001,1109.7,1112.3,1120.2,1120.5,1120.0999999999999,null,1120.0999999999999,1116.8,1115.5999999999999,1117.2,1116.8,1117.5999999999999,1120.0999999999999,1119.5,1119.8,1122.9000000000001,1122.5999999999999,1124.5,1127.2,1128.8,1125.9000000000001,1129.0999999999999,1132.4000000000001,1131.5999999999999,1134.9000000000001,1135.5,1136,1140.9000000000001,1142.0999999999999,1144.7,1145.5,1147.0999999999999,1146,1144.2,1141.9000000000001,1142.5,1147.3,1146.5999999999999,1147,1147.0999999999999,1146.8,1145,1146.5999999999999,1146.2,1145.3,1145.0999999999999,1144.5999999999999,1151.3,1153.5,1152.0999999999999,1151.5,1155.5999999999999,1159,3.4000000000000909,2.9421945309796565E-3,15,6,12.200000000000045,1.0638297872340465E-2,33,29,14,1.222707423580786E-2,32,22,64.599999999999909,5.9027777777777693E-2,38,42]
["Missouri","SMS29000004000000001",2742.2,2730.1,2713.9,2696.5,2692.6,2685.3,2683.7,2677.7,2670.7,2663.8,2662.5,2658.4,null,2652.1,2655,2655.4,2654.2,2660.9,2652.4,2658.8,2672.7,2661.2,2662.6,2661.8,2662.6,null,2660.6,2657.6,2661.9,2666.9,2666.9,2664.9,2671.5,2669,2672,2669.3,2671.9,2676.6,null,2678.4,2677.6,2681.6,2681.7,2681.6,2687.1,2689.6,2689.9,2693.9,2702,2705.8,2708.6,null,2711.1,2718.5,2714.1,2724.8,2724.1,2724.6,2728,2728.9,2734,2740.4,2750.7,2750.3,null,2715.7,2723.8,2721.5,2733,2735,2735.1,2737.1,2740.5,2739.7,2740.6,2740.2,2744.6,2774.7,2779.8,2774.6,2779.1,2785.3,2787.4,2795.1,2794.8,2794.7,2787.6,2785.1,2783.3,2823.8,2826.5,2828.7,2832.5,2830.8,2839.7,2844.9,2848.3,2850.6,2860.3,2864.2,2871.7,2877,2880.6,2865.9,2869.5,2874.4,2889,2900.4,2899.4,2890,2891.9,2894.4,2.5,8.6448355752273586E-4,21,26,30.200000000000273,1.0543956427623865E-2,25,32,22.700000000000273,7.9047254239649947E-3,27,36,210.70000000000027,7.85110109177629E-2,26,35]
["Montana","SMS30000004000000001",434.2,432.6,428.7,429,429.2,429.3,428.3,427.6,426.8,427.5,427.4,426.5,null,427.2,426.7,428.1,427.6,429.7,429,429.2,429.1,427.7,428.3,427.2,427.3,null,427.4,428.6,429.1,429.1,430.8,430.1,429.8,431.9,433.1,433.9,434.4,435.4,null,436.4,436.7,437.2,439.4,440.4,439.9,440.7,441.3,442.3,443.2,444,445,null,445.5,448.5,448,449.5,448.6,448.3,449.1,449.3,449.8,448.3,449.9,450.6,null,453.2,453.9,452.6,454.4,453.5,454.7,454.3,454.6,453.7,453.3,453.8,454.7,459,459.8,461.3,460.7,460.9,461.2,460.8,461,461.4,460.8,461,461.1,465.4,466,466.4,467.5,467.5,467.1,467.8,467.6,468.7,469.6,472.1,471.7,474.3,477,476.7,475.5,474.4,473.7,473.2,474.6,474.1,476.3,476,-0.30000000000001137,-6.2985513331936045E-4,34,35,3.8999999999999773,8.260961660665065E-3,41,36,4.3000000000000114,9.1159635361458789E-3,40,33,47.699999999999989,0.11137053467195888,41,22]
["Nebraska","SMS31000004000000001",962.6,959.5,956.3,949.8,950,947.7,949.3,946.2,944,941.9,942.7,939.4,null,939.6,940.5,940.7,942.8,945.2,947.3,948.5,948.1,945.7,947.8,946.1,948,null,947.4,947.3,948.3,951.4,951.4,950.4,952.6,953.7,955.6,956.5,958.2,959.5,null,963.5,963.1,967.2,967.9,968,967.7,968.9,968.7,970.6,971.7,973,975.7,null,974.7,975.4,975.6,974.8,977.7,977,979.1,980.9,981.9,983.5,983.3,982.5,null,989.3,991.1,991.2,993.2,992.9,992.7,993.5,994.1,994.8,995.8,996,996.8,999.3,1000.9,1002.1,1002.1,1002.9,1004.6,1006.5,1007.9,1007.8,1012.4,1013.8,1013.9,1010.5,1011.1,1014,1012,1013.6,1014.8,1016.4,1013.6,1017.8,1017.6,1021.8,1021.9,1018.8,1025,1022.8,1024.2,1024.5,1029.8,1029.5999999999999,1027.8,1034,1028.7,1031.9000000000001,3.2000000000000455,3.1107222708273018E-3,16,5,10.100000000000136,9.8845175181054377E-3,35,34,10.000000000000114,9.7856933163715763E-3,34,31,82.600000000000136,8.7011482144738375E-2,33,31]
["Nevada","SMS32000004000000001",1198.5,1184.8,1170.5999999999999,1156.2,1149.8,1144.0999999999999,1136.7,1131.9000000000001,1129.2,1126.4000000000001,1125,1126.5,null,1120.7,1118.9000000000001,1116.5999999999999,1118.4000000000001,1122.0999999999999,1120.7,1119.7,1117.9000000000001,1111.5,1114.9000000000001,1116.4000000000001,1119.2,null,1124,1122.5999999999999,1122.0999999999999,1123.5999999999999,1124.0999999999999,1122.2,1125.0999999999999,1126,1128.3,1129.0999999999999,1130.2,1131.2,null,1136.7,1136.3,1138.4000000000001,1139.9000000000001,1141.7,1143.8,1141.9000000000001,1145.3,1148.7,1152,1156.5,1153.5999999999999,null,1161.7,1161.7,1165.3,1168.2,1169.2,1174.2,1172.8,1179.4000000000001,1179.7,1185.4000000000001,1189.7,1193.0999999999999,null,1193.8,1198.5999999999999,1203.0999999999999,1207.5,1212.8,1213.7,1215.5,1223.4000000000001,1227.0999999999999,1224.3,1228.4000000000001,1230.5,1241.5999999999999,1246.5,1247.7,1250.2,1253.4000000000001,1254.4000000000001,1258.2,1264.0999999999999,1265.3,1271,1267.5999999999999,1267.7,1277.9000000000001,1283.4000000000001,1285.5,1290.8,1292.0999999999999,1293.4000000000001,1307,1309.0999999999999,1315.7,1315.3,1318.8,1321.3,1321.5,1325.9,1325.7,1333.6,1331.5,1337.4,1345.2,1347.8,1349.1,1352.1,1353.9,1.8000000000001819,1.33126248058589E-3,25,23,35.100000000000136,2.6615104640582452E-2,21,3,32.600000000000136,2.467267085446162E-2,22,3,217.20000000000005,0.19107944048561629,25,5]
["New Hampshire","SMS33000004000000001",640.1,636.20000000000005,631.6,629.4,630.6,628.4,624.5,624.70000000000005,624.9,624.5,623.5,624.79999999999995,null,621.29999999999995,623.1,624.5,625.1,627.1,625.4,625.20000000000005,625.1,624.6,626.4,625.20000000000005,626.6,null,626.20000000000005,627.29999999999995,628.20000000000005,629.79999999999995,628.29999999999995,626.79999999999995,626.4,627.29999999999995,629,629.70000000000005,630.79999999999995,631,null,632.9,631.4,633.6,633.20000000000005,632.9,634.5,634.29999999999995,634.9,637.1,637,637.20000000000005,637.4,null,638.20000000000005,638.9,638.1,639.4,640.6,640.9,639.20000000000005,640.20000000000005,639.4,642.4,643.5,644.29999999999995,null,645.9,646.4,646.4,646.9,645.70000000000005,648.1,649.70000000000005,642.6,650.1,651.5,651.5,653,652.6,651.29999999999995,653.79999999999995,654.79999999999995,656.6,656.8,658.7,658.5,657.4,659.7,660.2,661.1,663.9,666.4,665.2,666.5,665.2,666.2,668,670.3,670,674.3,674.3,673.6,680.4,678,675.3,678.5,675.2,676.9,680.4,683.8,678.1,681.1,683,1.8999999999999773,2.7896050506533215E-3,24,10,8.7000000000000455,1.2902269019724227E-2,37,22,9.3999999999999773,1.3954869358669799E-2,35,16,58.5,9.3674939951961564E-2,40,27]
["New Jersey","SMS34000004000000001",3955.3,3940.9,3918.6,3896.7,3902.2,3891,3881.3,3875.3,3870.9,3863.2,3862.6,3862.8,null,3849.8,3837.6,3840.7,3854.6,3867,3863.4,3855.5,3846.5,3835.6,3841.4,3842.1,3840.9,null,3834.3,3834.6,3835.8,3841.9,3839.7,3837.9,3850.3,3846.5,3856.1,3855.8,3863.5,3866.1,null,3875.3,3882.4,3891.7,3875.9,3883.8,3891.2,3884.7,3892.1,3900.3,3902.6,3896.5,3910,null,3919.3,3924.7,3928.8,3927.7,3934.9,3938.6,3937,3946.5,3947.1,3942.5,3947.9,3928.8,null,3945.6,3939.7,3941.3,3956.3,3966.3,3963.1,3966.5,3967.1,3969.7,3974.3,3982.1,3982.3,3987.9,3988.7,3991.3,4002.5,4018.1,4021.6,4025.9,4028.6,4031.6,4051.4,4060.4,4072.8,4046.6,4056.5,4061.3,4064.1,4060.5,4069.9,4085,4091.3,4095.7,4095.7,4094.8,4103.7,4117.6000000000004,4128.5,4116,4116.7,4107.6000000000004,4122.5,4129.2,4130.5,4124,4130.3,4136.7,6.3999999999996362,1.5495242476332557E-3,10,19,41.899999999999636,1.0232489987300877E-2,14,33,33,8.0415235031800567E-3,20,35,255.39999999999964,6.5802694973333575E-2,23,41]
["New Mexico","SMS35000004000000001",829.1,825,818.8,813.7,813.8,811.2,809.3,809.8,807.3,804.7,803.6,802.5,null,801.1,802.5,803.1,804.7,807.6,806.9,805.9,803.8,797.7,800.8,800.8,802,null,799.9,802.5,802.5,804.9,805.3,804.7,804.3,803.2,804.3,801.6,802.7,802.1,null,802.1,804.2,806,804.2,804.5,805.2,802.9,803.8,805.8,814.4,814.5,812.7,null,813.6,814.1,811.7,814.2,813.8,808.3,809.5,811.8,810.4,810.8,811.1,811,null,816,816.2,815.7,816.8,819.6,816.4,821.5,822.2,821.6,824.7,828.8,827.4,825,826.2,826,825.9,826.2,824.2,822.9,826.4,825.5,826.2,828.2,828,828.5,831.7,829.6,830.5,829.5,828.6,830.2,830.4,830.6,830.8,835.4,836.4,833.5,837,837.3,840,837.7,834.3,833.5,839.6,842.6,844.3,845.6,1.3000000000000682,1.5397370602867088E-3,28,20,10.200000000000045,1.2209719894661296E-2,34,24,9.2000000000000455,1.0999521759923536E-2,36,25,36.300000000000068,4.4853577165451713E-2,44,44]
["New York","SMS36000004000000001",8664.9,8636.2000000000007,8598.7000000000007,8529.9,8539.2000000000007,8522.6,8552.7999999999993,8536.6,8496.9,8486.7999999999993,8488.7999999999993,8489.7999999999993,null,8501,8499.7999999999993,8516.7000000000007,8552.7000000000007,8588.1,8583.2000000000007,8555.2000000000007,8553.5,8549,8580.2999999999993,8592.2000000000007,8592.7999999999993,null,8618.9,8628.4,8633.2000000000007,8665.9,8659.2000000000007,8661.1,8693.5,8694.7999999999993,8707.2000000000007,8701.5,8717.6,8725.2000000000007,null,8746.4,8768.7000000000007,8783.4,8777.1,8789.9,8791.6,8783.4,8805.9,8824.2999999999993,8836.5,8814.2000000000007,8849.9,null,8848.1,8860.7999999999993,8877.5,8904.7999999999993,8912.5,8915,8927.4,8933.2000000000007,8938.9,8942.7000000000007,8959,8966.9,null,9008.6,9028,9041.2999999999993,9063.4,9084.7000000000007,9087.4,9104.9,9118.7000000000007,9133.9,9132.9,9134.7999999999993,9156.2999999999993,9186.2000000000007,9193.2999999999993,9202.1,9209.7999999999993,9242.2000000000007,9260.6,9283.7999999999993,9283.4,9278.1,9281.9,9293.7999999999993,9298.4,9347.2000000000007,9361.7000000000007,9379.5,9388.4,9363.6,9382.5,9416.7000000000007,9421.4,9426.5,9420.7999999999993,9435.7999999999993,9458.2999999999993,9484.5,9498,9480.6,9485,9504.7999999999993,9533.2000000000007,9547.7999999999993,9553.7000000000007,9538,9527.7000000000007,9552.6,24.899999999999636,2.6134324128593085E-3,3,12,116.80000000000109,1.2378388689883328E-2,4,23,94.300000000001091,9.9700791897065124E-3,4,30,999.80000000000109,0.11689739032831367,4,19]
["North Carolina","SMS37000004000000001",3997.8,3978.2,3944.8,3917.2,3909.9,3897,3885.1,3875.9,3867.7,3859.1,3856.1,3846.8,null,3842.9,3839.2,3847.9,3858.6,3878.1,3874.1,3877.7,3874.1,3873.6,3889.3,3893.7,3895.8,null,3887.3,3902.4,3905.2,3911.3,3911.3,3917.3,3920.8,3923.7,3929.2,3929.6,3938.6,3945.4,null,3961.2,3964.7,3970.1,3976.1,3982.5,3977.6,3979.4,3985.6,3987.9,4008.7,4013.6,4018.6,null,4026.9,4034.5,4035.3,4042.8,4044.7,4044.7,4050.8,4054.9,4061.5,4099.2,4096.5,4104.2,null,4095.4,4086.9,4105.8999999999996,4124.8999999999996,4134.3999999999996,4140.5,4148.8,4151.3999999999996,4152,4174.5,4187.8,4203.1000000000004,4193.8999999999996,4208.5,4204.3999999999996,4215.8999999999996,4229.6000000000004,4240.1000000000004,4246.5,4252.3999999999996,4254.7,4259.7,4271.3999999999996,4275,4296.8999999999996,4309.3,4317.8999999999996,4327.2,4328.7,4334.7,4350,4352.5,4361.1000000000004,4364.1000000000004,4375,4382.7,4377,4387.1000000000004,4387.5,4379.1000000000004,4394.3,4405.6000000000004,4414.6000000000004,4420,4427.8999999999996,4443.6000000000004,4446.5,2.8999999999996362,6.5262399855964444E-4,{"$f":"RANK(DK37,($DK$5:$DK$54))","v":19},{"$f":"RANK(DL37,($DL$5:$DL$54))","v":29},71.5,1.6342857142857142E-2,6,16,63.800000000000182,1.455723640678125E-2,6,15,561.40000000000009,0.14450078505057787,7,15]
["North Dakota","SMS38000004000000001",366.2,366.4,365.6,362.8,366.6,367,366.2,366.1,367.6,367.8,367.8,368.3,null,367.8,369.5,371.2,374.4,375,374.5,375.2,376.6,378,381.6,382.6,384,null,385.5,386.3,388.3,389.3,392,392.7,396.6,398.5,403,405,408.8,412.3,null,416.7,419.6,422.2,425.9,428,430.5,433.2,433.9,433.8,434.7,434.7,435.5,null,436.9,439.4,439.7,438.1,441.8,443.1,445.5,447.1,447.6,449.2,451.6,451.7,null,451,453.2,454.3,457.4,459.2,461,463.3,464.1,466,467.7,469.7,469.8,466.3,463.8,461,457.5,454.9,453.2,452.7,450,447.8,449.3,447.6,444.7,438.3,437.1,435.8,435.5,433.9,433.3,434.8,435.1,434.2,435.4,434.2,433.8,435.3,434.2,434.6,437,439.6,439.6,441.3,441,440.2,438.5,435.8,-2.6999999999999886,-6.1573546180159373E-3,42,49,1.6000000000000227,3.6849378166743962E-3,44,42,2,4.6104195481788844E-3,42,40,69.600000000000023,0.19006007646095036,36,7]
["Ohio","SMS39000004000000001",5203.8999999999996,5175.3999999999996,5136,5091,5072,5042.8,5030.6000000000004,5022.8999999999996,5021.2,5011.1000000000004,5006.8999999999996,5003.7,null,5005.8999999999996,4998.8999999999996,5001.8,5016.8999999999996,5031.1000000000004,5026.8,5036.6000000000004,5034,5037.2,5054.1000000000004,5057.7,5061,null,5061.5,5070,5072.2,5082.6000000000004,5079.6000000000004,5073.5,5110.8999999999996,5113.2,5117.8,5116.8999999999996,5132.7,5142.1000000000004,null,5152.2,5167.2,5183.7,5180.5,5185.6000000000004,5192.6000000000004,5188.8999999999996,5191.2,5197.3,5211.2,5212.5,5217.8999999999996,null,5218.5,5230,5229.3,5242.3,5251.5,5255.2,5264.5,5274.7,5270.7,5269.7,5264,5268.9,null,5297.2,5302.8,5309.1,5320.7,5330.3,5324.9,5342.3,5352.5,5351.6,5349.8,5361.2,5368.8,5394.7,5399,5399.1,5405.9,5415.9,5415.4,5427.5,5425.1,5424.5,5446.1,5456.6,5475.4,5470.5,5476.6,5482.2,5476.9,5474.3,5472,5490.6,5488.1,5495.4,5491.5,5501.2,5503.7,5506.8,5522.8,5518.5,5509.1,5517.3,5536.5,5540,5546.5,5546.6,5545.4,5539.8,-5.5999999999994543,-1.0098459984851326E-3,49,37,38.600000000000364,7.0166509125282423E-3,18,38,36.100000000000364,6.5592237949016778E-3,16,39,509.19999999999982,0.10122053035423205,8,25]
["Oklahoma","SMS40000004000000001",1603.6,1597.4,1586.5,1573.4,1570.1,1565.9,1563.9,1557.4,1552.7,1548.8,1546.9,1544.8,null,1542.9,1543.3,1545.8,1550.4,1559.9,1562.3,1563.5,1557.7,1552.3,1561.1,1563.1,1566.6,null,1563.5,1556.5,1567.3,1573.7,1574.3,1576.2,1582.5,1580.1,1588.8,1587,1589.1,1593.1,null,1596.9,1601.9,1605.3,1610.5,1612.6,1615.4,1613.6,1615.4,1616.8,1623.7,1626.6,1630,null,1623.3,1626.6,1628.7,1628.4,1630.2,1631.9,1633.5,1635.2,1636.6,1637.1,1643.5,1645.2,null,1644.7,1647.9,1646,1645.7,1646.5,1650.1,1655.7,1657.3,1658.1,1662.5,1665.6,1668.3,1675.5,1675.7,1670.1,1665.7,1666.9,1667,1667.7,1666.8,1665.5,1668.3,1667,1663.1,1661.7,1662.6,1657.7,1654.6,1650.2,1646.7,1648.8,1649.1,1648.5,1652,1649.2,1650.2,1652.7,1656,1655.4,1651.9,1651.8,1656.8,1665.1,1668.8,1668,1672.1,1668.3,-3.7999999999999545,-2.2725913521918274E-3,46,47,19.099999999999909,1.1581372786805669E-2,31,26,18.099999999999909,1.0968367470609568E-2,30,26,104.39999999999986,6.6756186456934499E-2,31,40]
["Oregon","SMS41000004000000001",1656.2,1642,1626.7,1616.1,1613.4,1608.1,1607.4,1600.7,1598.4,1594.2,1592.4,1592,null,1591.8,1590.4,1592.9,1597.4,1604.2,1605.6,1604.4,1604.4,1602.2,1609.6,1609.6,1608.7,null,1614.9,1616.1,1617.2,1618,1617.4,1617,1619,1621.5,1623.7,1621.5,1625.3,1626.8,null,1631,1632.1,1634.4,1635.3,1638.1,1636.8,1640.7,1642.9,1642.8,1645.9,1649,1650.7,null,1654.2,1659.1,1662.6,1667.2,1671.1,1670.7,1674.2,1676.9,1681.4,1685.7,1691.5,1697,null,1697.4,1698.2,1703.4,1712.1,1714.1,1716.2,1721.3,1723.6,1728.7,1737.2,1746.9,1750.8,1754,1762,1764.7,1766.6,1770.6,1776.7,1778.9,1783.8,1785.5,1795.1,1802.4,1803.7,1811.9,1821.5,1823.7,1826.7,1828.5,1829.8,1832.7,1836.5,1841.9,1844.8,1849.3,1852.5,1853.2,1860.8,1862.1,1868.9,1871.5,1880.2,1887.6,1880.6,1879.5,1887.4,1885.6,-1.8000000000001819,-9.5369291088279206E-4,40,36,36.299999999999955,1.9629048829286733E-2,19,9,33.099999999999909,1.7867746288798871E-2,19,9,278.19999999999982,0.17307453029737452,21,11]
["Pennsylvania","SMS42000004000000001",5709.9,5689.7,5654.6,5626.1,5621.3,5606.2,5591.5,5583.9,5581,5580.9,5585,5580.5,null,5579.4,5564.3,5587.2,5611.3,5637.6,5638.1,5629.6,5635.9,5631.4,5649.8,5655.4,5659.5,null,5664.9,5668.1,5675,5687.2,5689.9,5689.2,5685.1,5683.4,5693.4,5695.5,5705.6,5706.4,null,5711.2,5726.2,5743.9,5731.7,5734,5717.9,5718.8,5720.6,5729.6,5728.3,5731.6,5728.7,null,5730.2,5741.4,5741.7,5734.4,5732.5,5733,5738.9,5745.7,5747.2,5754.1,5765.1,5758.1,null,5759.6,5756.1,5764.6,5781.4,5790.1,5789.4,5789.6,5798.4,5802.3,5809.5,5816.2,5825.5,5817.5,5822.9,5810.7,5822.7,5831.8,5830.7,5833.1,5843.7,5843.7,5862,5856.4,5868.1,5861.3,5867.6,5873.6,5879.1,5867.7,5862.4,5892.2,5894.3,5903.8,5908,5913.4,5916.3,5929.1,5950.3,5929.8,5925.7,5930.3,5924.8,5961.7,5960.1,5978.1,5973.7,5976,2.3000000000001819,3.8502100875507342E-4,23,32,62.600000000000364,1.0586126424730335E-2,9,31,59.699999999999818,1.0090766188327133E-2,9,29,384.5,6.8765089868550483E-2,14,39]
["Rhode Island","SMS44000004000000001",467.9,466,463.2,459.7,460,458.8,455.9,455.9,456.1,456.1,456.3,456.3,null,457.1,456.2,457.3,457,458.4,457.2,458.8,459.8,458.5,458.1,458.7,458.4,null,458.3,458.3,459,461.2,460.6,461.1,462.6,461,460.9,461.4,461.5,461.2,null,462.6,464.9,465.3,464.3,465,465.1,465,466.5,467.7,466.1,466.4,468.1,null,468.9,468.3,469.4,469.3,470.1,472.4,472.2,472.2,473,472.9,473.9,471.2,null,475.1,475.1,475.1,477.1,478,477.9,480,479.4,479.1,477.9,478.7,479.3,483.8,480.8,482.1,484,485.6,484.8,485.9,485,484.9,485.8,487.2,488.5,488.1,489.3,490.6,489.6,488.3,489.9,490.7,490.4,490.6,491.2,492.2,491.3,493,495.3,494.8,494.8,496.4,496.1,499.7,498.8,496,497.1,497.7,0.59999999999996589,1.207000603500233E-3,32,25,5.5,1.1174319382364892E-2,38,28,6.3999999999999773,1.3026663952778296E-2,37,20,41.800000000000011,9.1686773415222661E-2,42,28]
["South Carolina","SMS45000004000000001",1858,1844.2,1829.8,1817.5,1813.8,1805.1,1800.9,1796.9,1790.6,1789.9,1788.3,1784.1,null,1790.7,1792.6,1791.8,1802.5,1815.4,1810,1813.2,1812.6,1810.2,1811.1,1810.7,1817,null,1810.5,1819.8,1820.7,1825.5,1827.4,1828.6,1830.4,1830.6,1832.9,1830.5,1833.7,1837.5,null,1845.2,1851.6,1856.8,1856.1,1855.9,1859.3,1856.4,1858.3,1858.8,1863.9,1875.8,1875,null,1879.3,1884.9,1885,1889.3,1891.1,1890.6,1896.1,1898,1903,1912.4,1916.5,1921.5,null,1928.2,1925.3,1935.5,1942.4,1945.3,1945.8,1946.8,1949.5,1953.3,1965.3,1972.8,1975.2,1981.9,1988.4,1987.2,1987.3,1996.4,1998.8,2007.2,2010.3,2015.3,2021,2025.5,2035.2,2035.5,2042.3,2041.9,2047.5,2048.1999999999998,2050.3000000000002,2062.1999999999998,2059.3000000000002,2063.3000000000002,2060,2068.8000000000002,2070.6999999999998,2076.1,2076.3000000000002,2074.4,2073.3000000000002,2079.5,2084.3000000000002,2088.6999999999998,2095.9,2092.4,2105.6999999999998,2113.6,7.9000000000000909,3.751721517785103E-3,7,3,44.799999999999727,2.1655065738592286E-2,13,7,42.900000000000091,2.07176317187425E-2,13,5,312.69999999999982,0.17363540451996212,18,10]
["South Dakota","SMS46000004000000001",409.2,407.7,405.8,401.4,404.8,403.4,403.7,402.4,402.5,401.2,401.7,400.7,null,399.8,399.4,400.4,401.7,403.3,403.6,404.2,404.9,404.8,405.4,405.5,404.7,null,404.5,405,405.1,405.6,406.6,407,407.4,408.2,408.9,409.7,409.8,410.7,null,411.6,411.6,413.2,415.3,414.2,414.3,414,413.9,414.7,414.9,415.6,416.3,null,416.3,417,416.8,415.5,417.1,417.2,417.1,418.1,418.5,416.7,418.1,418.1,null,422,422.4,422.2,422.8,423,423.3,424,424,424.4,424.9,423.9,424.7,426.4,426.7,427.9,428,428.2,428,427.4,427.7,428.2,428.5,429.8,431.2,430.4,430.5,431,431.6,431.7,432.9,433.8,433.5,433.8,434.3,435.3,435.4,434.8,436.8,438.2,438.9,437.1,435.9,435.7,435.9,437.3,435.5,436.3,0.80000000000001137,1.8369690011481316E-3,31,18,1,2.297266253158741E-3,45,44,0.90000000000003411,2.0670647680294768E-3,46,44,32.600000000000023,8.0753034431508608E-2,45,33]
["Tennessee","SMS47000004000000001",2687.2,2667.3,2646.1,2623.3,2619.9,2605.6999999999998,2601.1,2597.9,2593.9,2595.8000000000002,2599.4,2592.3000000000002,null,2595.1,2590.5,2596.1,2606.8000000000002,2626.1,2622.1,2621,2619.3000000000002,2619.5,2627.9,2626.8,2630.7,null,2629.5,2637.5,2642.4,2650.9,2656.9,2655.5,2668.1,2671.9,2673.1,2678.7,2685.2,2689.6,null,2693.2,2699.4,2708.4,2709.5,2712.1,2714.4,2712.8,2714.1,2718.2,2725.3,2731.8,2733.9,null,2734.5,2740.2,2739.4,2741.4,2742.5,2745.6,2748.8,2751.2,2756,2765.7,2772.8,2774.4,null,2787.5,2788.7,2795.4,2804.4,2807,2806.9,2816.4,2825,2830.3,2838.1,2841.1,2850.9,2858.3,2861.5,2859,2869.2,2877.9,2885.8,2897.5,2901.9,2908.8,2917.9,2927.4,2941.2,2936.5,2944.8,2951.2,2953.5,2953.7,2958.9,2971.8,2975.4,2982.4,2988.6,2990.6,2994.1,3002.6,3006.1,3016.4,3011.4,3012.3,3016.2,3019.4,3025.8,3025.7,3025,3026.8,1.8000000000001819,5.9504132231410968E-4,25,31,36.200000000000273,1.2104594395773514E-2,20,25,32.700000000000273,1.0921478908520181E-2,21,27,425.70000000000027,0.16366152781515525,12,12]
["Texas","SMS48000004000000001",10519.9,10465.4,10400.299999999999,10327.6,10312.1,10283.700000000001,10252,10225.4,10223.700000000001,10214.299999999999,10213.1,10207.1,null,10232.200000000001,10241.1,10269.799999999999,10283.9,10349.9,10352.9,10343.1,10352.299999999999,10351.1,10403.6,10413.799999999999,10435.6,null,10448.6,10455.200000000001,10490,10523.1,10537,10560.5,10599,10609.9,10624.5,10625.7,10650.7,10673.3,null,10716,10738.6,10773.5,10807.2,10832,10861.5,10883.4,10918.2,10947.2,10974.4,11010.3,11026.6,null,11036.9,11091.8,11106.6,11129.1,11148.7,11179,11211.6,11228.2,11258.5,11286.5,11301,11325.4,null,11376.7,11412.4,11425.7,11467.6,11502.3,11533.2,11567.8,11591.3,11621.1,11664.6,11703.3,11749.5,11775.1,11793.5,11774,11780.3,11801.9,11816.2,11848.5,11862.8,11878,11893.8,11915.5,11931.1,11963.8,11975.8,11966.1,11989.2,11994.9,11987,12032.9,12035.3,12065,12078.8,12114.6,12137.8,12191.5,12205.6,12217.7,12246.7,12266.1,12306.7,12328.4,12328.4,12323.4,12390.7,12445.2,54.5,4.3984601354241483E-3,1,1,330.60000000000036,2.728938636025955E-2,1,2,307.40000000000146,2.5325841585789967E-2,1,2,2193.2000000000007,0.21392898946547023,2,2]
["Utah","SMS49000004000000001",1218.8,1211,1202.9000000000001,1191.5999999999999,1190,1186.2,1181,1178.9000000000001,1178.3,1177.3,1175.8,1174.2,null,1174.4000000000001,1172.9000000000001,1175.3,1179.2,1183.5999999999999,1183.2,1184.5999999999999,1183.9000000000001,1184.7,1188.5,1189.4000000000001,1191.8,null,1193,1195.4000000000001,1197.2,1201.0999999999999,1202,1204.0999999999999,1210.3,1212.7,1215.9000000000001,1217.7,1219.5,1224.3,null,1228.7,1231.5,1236,1244.5,1249.8,1251.5999999999999,1250.2,1253,1257.0999999999999,1263.0999999999999,1266.5999999999999,1268.3,null,1274.8,1278.4000000000001,1281.8,1284.2,1286.9000000000001,1287.0999999999999,1292.0999999999999,1291.7,1294.2,1300.7,1303.4000000000001,1303.5999999999999,null,1310.7,1314.1,1316.9,1318.7,1323.2,1324.5,1327,1331.5,1335.4,1340.7,1344.8,1353.6,1357.6,1362.3,1366,1367.1,1371.5,1375.5,1382.6,1383.6,1388,1390.7,1393.8,1398.1,1405.6,1411,1415.1,1419.2,1421.8,1424.7,1432.4,1434.7,1439.3,1442.7,1446.3,1449.4,1451.7,1456.4,1459.5,1464.2,1469.7,1468.9,1468.4,1472.3,1479.9,1482.3,1487.5,5.2000000000000455,3.5080617958578196E-3,13,4,41.200000000000045,2.8486482749083903E-2,16,1,38.099999999999909,2.628673934041666E-2,15,1,306.5,0.25952582557154952,19,1]
["Vermont","SMS50000004000000001",301.39999999999998,300.7,299,297.2,298.2,296.7,294.89999999999998,296.5,295,295.60000000000002,295.89999999999998,295.39999999999998,null,296,295.89999999999998,296.60000000000002,298.89999999999998,297.89999999999998,297.2,299.60000000000002,298.3,298.2,300.8,299.10000000000002,298.39999999999998,null,298.89999999999998,299.60000000000002,299.7,299,299.39999999999998,299.8,300,300.7,301.8,302.3,302.3,303.2,null,302.8,303.60000000000002,304.39999999999998,302.3,304.39999999999998,304.39999999999998,304.7,306.10000000000002,305.3,304,304.8,305.5,null,305.7,305.5,306.5,305.7,305.89999999999998,306.5,305.5,305.39999999999998,305.3,305.89999999999998,307.60000000000002,306.3,null,308.89999999999998,308.3,309.3,308.60000000000002,308.89999999999998,310.2,310,310.39999999999998,310.2,310.8,312.5,311.7,312.3,311.2,311.7,311.2,312,312,312.5,311.7,311.5,313.60000000000002,314.60000000000002,313.5,312.3,312.5,311.89999999999998,311.8,312,312.60000000000002,315.89999999999998,314.3,314.3,313.89999999999998,312.60000000000002,313.89999999999998,315.89999999999998,315.5,315,315,313.89999999999998,315,316.60000000000002,316.5,317.60000000000002,316.7,317.60000000000002,0.90000000000003411,2.84180612567109E-3,29,8,5,1.599488163787588E-2,39,17,3.7000000000000455,1.1787193373686033E-2,41,23,22.700000000000045,7.6975245846049672E-2,47,36]
["Virginia","SMS51000004000000001",3709.4,3689.9,3673.1,3652.4,3660.2,3655.3,3638.6,3635.3,3629,3626.8,3630.6,3627,null,3622.2,3598.2,3618.6,3641.9,3664.3,3665.4,3661.8,3655.6,3657.4,3666.9,3665.4,3666.6,null,3673.3,3680.1,3683.9,3686.8,3684,3685.2,3700.7,3698.5,3712,3708.1,3713.4,3708,null,3721,3728.2,3731.4,3730.8,3724.4,3726.9,3724,3739.2,3745.3,3755.4,3760.6,3758.6,null,3760.4,3769.1,3765.4,3769.4,3763.6,3761.4,3764.9,3768.5,3766.3,3763.2,3769.2,3768.4,null,3759.6,3755,3757.7,3771.7,3778.7,3774.9,3776.8,3776.8,3777.5,3778.9,3795.9,3797.4,3815.4,3817.8,3813.2,3823.7,3834.5,3838.3,3857.1,3860.7,3864.2,3881.4,3896.2,3902.1,3894.2,3904.2,3909.5,3910.9,3907.1,3911.9,3915.6,3922.5,3928.7,3939.4,3932.8,3936.3,3946.3,3960.3,3955.3,3953.6,3952.5,3967.6,3979,3978,3978.9,3972.2,3966.5,-5.6999999999998181,-1.4349730627863195E-3,50,40,33.699999999999818,8.5689585028477979E-3,22,35,30.199999999999818,7.6721794578664777E-3,23,37,327.90000000000009,9.011707799703185E-2,17,30]
["Washington","SMS53000004000000001",2935.9,2918.4,2895.9,2872.8,2869.8,2859.1,2848,2841.6,2837,2832,2826.7,2825.2,null,2825.3,2823.8,2827.2,2832.5,2842.5,2839,2837.3,2835.1,2835.1,2846.4,2847.7,2850,null,2857.2,2859.8,2857.9,2868,2868.5,2869.4,2880.7,2882.7,2882.3,2880.5,2885.4,2887,null,2890.6,2893.3,2903.2,2908.4,2914.7,2922.1,2925.1,2928.5,2932.2,2941,2947.1,2953.3,null,2961.7,2967.7,2970.2,2974.8,2981.4,2984.8,2993.5,2999.7,3004.5,3001.6,3004.7,3011.4,null,3040.8,3043.7,3049.5,3052.6,3057.7,3065.9,3080.9,3089.5,3095.8,3105.3,3113.7,3122.6,3115.2,3123.4,3132,3136.8,3145.3,3155.2,3155.5,3163,3168.1,3173.4,3188.1,3195.3,3193.9,3206.6,3213.2,3226.1,3235,3238.8,3247.2,3256.8,3267.7,3274.9,3283.5,3291.5,3288.4,3294.9,3306.6,3309.2,3312.7,3316.9,3322.1,3325.2,3336.5,3342.8,3352.6,9.7999999999997272,2.9316740457101015E-3,5,7,69.099999999999909,2.1044617024516495E-2,7,8,61.099999999999909,1.8562965213428501E-2,8,8,504.59999999999991,0.17717696629213481,9,9]
["West Virginia","SMS54000004000000001",756.4,754.6,751.2,746.4,741.2,749.3,743.6,743.8,739.1,739.9,740,742.4,null,741,739.3,744,744.4,751.5,750.7,750.7,750.5,748.5,749.8,750,748.2,null,747.1,749.6,750.6,753.6,748.1,752.2,754.6,756.4,760,761.3,763.1,764.3,null,765.9,766.6,767.8,767.4,770.9,762.4,761.8,761.8,765.2,764.9,763.9,763.9,null,764.4,764.8,763.9,764,759.2,763,764,763.8,760.9,763.9,764.8,764.8,null,761.3,760,760.1,762,774.2,762,761.3,761.7,762.6,764.3,761.5,763.1,772,769.7,766.2,766.1,766.4,763.9,761.9,760,760.3,761.2,761,761.5,751.7,751,751.8,749.5,750.3,745.6,745.5,744.5,743.8,745.5,754.4,746.8,746.6,747.9,746.3,747.1,742.6,746.7,747.3,745.9,746.9,749.1,748.1,-1,-1.3349352556401015E-3,36,38,-6.2999999999999545,-8.3510074231176491E-3,50,50,1.3000000000000682,1.7407605784682222E-3,44,45,4.5,6.0516406670252819E-3,49,49]
["Wisconsin","SMS55000004000000001",2811.8,2795.2,2774.4,2751,2751.2,2738.1,2726.8,2719.2,2717.8,2717.9,2714.6,2713.1,null,2714.9,2713.2,2714.4,2725.6,2730,2727.4,2730.6,2733.3,2729.5,2741.1,2743.2,2739.9,null,2747.8,2748.4,2749.3,2753.6,2756.2,2751.2,2764.7,2764.6,2766.1,2761.6,2763.8,2767.9,null,2769.2,2773.9,2784.3,2794,2793.7,2789.3,2783.2,2788.1,2792.3,2795.6,2803.3,2802.5,null,2799.1,2815.9,2810.9,2803.6,2810.1,2814.2,2814.9,2820.9,2824.7,2839.8,2841.3,2849,null,2829.3,2832,2832.5,2838.6,2838.6,2843.7,2845.1,2851,2846.8,2858.1,2869,2872,2876.9,2880.8,2883.2,2881.6,2883.6,2884.6,2887.7,2889.6,2887.2,2906.6,2903.1,2904.1,2918.4,2922.6,2923,2924.3,2916.7,2916.8,2928.2,2929.1,2923.8,2930.1,2933.8,2934.3,2939.7,2950.8,2947.1,2960.2,2956.5,2951.1,2956.9,2949.8,2962,2971.9,2974.4,2.5,8.4121269221710019E-4,21,27,40.599999999999909,1.3838707478355684E-2,17,20,40.099999999999909,1.366595099342259E-2,14,17,247.59999999999991,9.0802405750330023E-2,24,29]
["Wyoming","SMS56000004000000001",294.8,292.3,290.5,287,288.2,284.89999999999998,283,281.60000000000002,282.10000000000002,280.10000000000002,279.8,279.3,null,279,279.60000000000002,280,281.39999999999998,282.8,282.3,281.39999999999998,282.2,283.3,284.10000000000002,282.8,283.10000000000002,null,282.60000000000002,283,283.7,283.60000000000002,284.5,285,286.7,288.39999999999998,288.60000000000002,288.3,288.60000000000002,289.89999999999998,null,289.5,290.10000000000002,289.8,290.7,289.39999999999998,288.5,288.7,288.89999999999998,288.2,288.89999999999998,289.2,289.7,null,290.10000000000002,289.8,289.89999999999998,290.2,290,290.5,290.5,290.5,288.89999999999998,291.89999999999998,293.10000000000002,292.89999999999998,null,291.2,291.39999999999998,291.2,292.5,292.7,293.10000000000002,293.7,292.5,293,293.60000000000002,293,295,294.8,294.2,293.60000000000002,292.5,290.8,289.39999999999998,290,289.2,289.10000000000002,289,288,286.60000000000002,287.10000000000002,285.60000000000002,284.60000000000002,283.10000000000002,281.8,280.8,280,279.5,278.3,277,276.60000000000002,276.8,277.89999999999998,277.7,278.3,279.39999999999998,279,277,277,277.7,275.5,275.39999999999998,274.89999999999998,-0.5,-1.8155410312273058E-3,35,44,-1.7000000000000455,-6.1460592913956807E-3,48,48,-1.9000000000000341,-6.8641618497111059E-3,49,50,-8.1000000000000227,-2.8621908127208561E-2,50,50]

{"sheet":"Total Private","index":1,"n_rows":54,"n_cols":130,"rows_kept":54,"cut":false,"hidden":false,"merged":[]}
[]
["Private Sector"]
[]
["State Name","Series ID","Jan\n2009","Feb\n2009","Mar\n2009","Apr\n2009","May\n2009","Jun\n2009","2009-07-01","Aug\n2009","Sep\n2009","Oct\n2009","Nov\n2009","Dec\n2009","Annual\n2009","Jan\n2010","Feb\n2010","Mar\n2010","Apr\n2010","May\n2010","Jun\n2010","Jul\n2010","Aug\n2010","Sep\n2010","Oct\n2010","Nov\n2010","Dec\n2010","Annual\n2010","Jan\n2011","Feb\n2011","Mar\n2011","Apr\n2011","May\n2011","Jun\n2011","2011-07-01","2011-08-01","2011-09-01","2011-10-01","2011-11-01","2011-12-01",null,"2012-01-01","2012-02-01","2012-03-01","2012-04-01","2012-05-01","2012-06-01","2012-07-01","2012-08-01","2012-09-01","2012-10-01","2012-11-01","2012-12-01",null,"2013-01-01","2013-02-01","2013-03-01","2013-04-01","2013-05-01","2013-06-01","2013-07-01","2013-08-01","2013-09-01","2013-10-01","2013-11-01","2013-12-01",null,"2014-01-01","2014-02-01","2014-03-01","2014-04-01","2014-05-01","2014-06-01","2014-07-01","2014-08-01","2014-09-01","2014-10-01","2014-11-01","2014-12-01","2015-01-01","2015-02-01","2015-03-01","2015-04-01","2015-05-01","2015-06-01","2015-07-01","2015-08-01","2015-09-01","2015-10-01","2015-11-01","2015-12-01","2016-01-01","2016-02-01","2016-03-16","2016-04-29","2016-05-29","2016-06-29","2016-07-29","2016-08-29","2016-09-29","2016-10-29","2016-11-29","2016-12-29","2017-01-29","2017-02-28","2017-03-30","2017-04-29","2017-05-29","2017-06-29","2017-07-29","2017-08-29","2017-09-29","2017-10-29","2017-11-29","Month-to-Month","Month-to-Month %","Mo Chg Rank","Mo % Rank","Year-to-Year","Year-to-Year %","Yr Chg Rank","Yr % Rank","Year-to-Date Chg","Year-to-Date %","Year-to-Date  Chg Rank","Year-to-Date % Rank","Chg from Trough","% Chg from Trough","Trough Chg Rank","Trough % Chg Rank"]
["Alabama","SMS01000004000000001",{"$f":"'Total NF'!C5-Govt!C5","v":1545.1},{"$f":"'Total NF'!D5-Govt!D5","v":1531.8000000000002},{"$f":"'Total NF'!E5-Govt!E5","v":1520.5},{"$f":"'Total NF'!F5-Govt!F5","v":1511.8000000000002},{"$f":"'Total NF'!G5-Govt!G5","v":1506.9},{"$f":"'Total NF'!H5-Govt!H5","v":1499.3},{"$f":"'Total NF'!I5-Govt!I5","v":1497.2},{"$f":"'Total NF'!J5-Govt!J5","v":1490.8000000000002},{"$f":"'Total NF'!K5-Govt!K5","v":1484.1},{"$f":"'Total NF'!L5-Govt!L5","v":1480.8000000000002},{"$f":"'Total NF'!M5-Govt!M5","v":1481.3},{"$f":"'Total NF'!N5-Govt!N5","v":1478.8000000000002},null,{"$f":"'Total NF'!P5-Govt!P5","v":1478.8000000000002},{"$f":"'Total NF'!Q5-Govt!Q5","v":1475.3},{"$f":"'Total NF'!R5-Govt!R5","v":1478.1000000000001},{"$f":"'Total NF'!S5-Govt!S5","v":1480.7},{"$f":"'Total NF'!T5-Govt!T5","v":1483.3},{"$f":"'Total NF'!U5-Govt!U5","v":1485.8},{"$f":"'Total NF'!V5-Govt!V5","v":1488.5},{"$f":"'Total NF'!W5-Govt!W5","v":1485.6999999999998},{"$f":"'Total NF'!X5-Govt!X5","v":1484.4},{"$f":"'Total NF'!Y5-Govt!Y5","v":1488.6999999999998},{"$f":"'Total NF'!Z5-Govt!Z5","v":1488.1},{"$f":"'Total NF'!AA5-Govt!AA5","v":1487.1000000000001},null,{"$f":"'Total NF'!AC5-Govt!AC5","v":1479.3000000000002},{"$f":"'Total NF'!AD5-Govt!AD5","v":1484.5},{"$f":"'Total NF'!AE5-Govt!AE5","v":1484.9},{"$f":"'Total NF'!AF5-Govt!AF5","v":1486.3},{"$f":"'Total NF'!AG5-Govt!AG5","v":1485.3000000000002},{"$f":"'Total NF'!AH5-Govt!AH5","v":1483.9},{"$f":"'Total NF'!AI5-Govt!AI5","v":1488.3999999999999},{"$f":"'Total NF'!AJ5-Govt!AJ5","v":1490.1000000000001},{"$f":"'Total NF'!AK5-Govt!AK5","v":1495.5},{"$f":"'Total NF'!AL5-Govt!AL5","v":1490.5},{"$f":"'Total NF'!AM5-Govt!AM5","v":1493.3000000000002},{"$f":"'Total NF'!AN5-Govt!AN5","v":1495.3},null,{"$f":"'Total NF'!AP5-Govt!AP5","v":1496.6},{"$f":"'Total NF'!AQ5-Govt!AQ5","v":1498.9},{"$f":"'Total NF'!AR5-Govt!AR5","v":1503.8000000000002},{"$f":"'Total NF'!AS5-Govt!AS5","v":1506.9},{"$f":"'Total NF'!AT5-Govt!AT5","v":1505.3999999999999},{"$f":"'Total NF'!AU5-Govt!AU5","v":1507},{"$f":"'Total NF'!AV5-Govt!AV5","v":1505.1},{"$f":"'Total NF'!AW5-Govt!AW5","v":1509},{"$f":"'Total NF'!AX5-Govt!AX5","v":1509.8999999999999},{"$f":"'Total NF'!AY5-Govt!AY5","v":1511.8000000000002},{"$f":"'Total NF'!AZ5-Govt!AZ5","v":1515.1999999999998},{"$f":"'Total NF'!BA5-Govt!BA5","v":1515.1999999999998},null,{"$f":"'Total NF'!BC5-Govt!BC5","v":1513.6999999999998},{"$f":"'Total NF'!BD5-Govt!BD5","v":1519.2},{"$f":"'Total NF'!BE5-Govt!BE5","v":1520.5},{"$f":"'Total NF'!BF5-Govt!BF5","v":1522.7},{"$f":"'Total NF'!BG5-Govt!BG5","v":1523.9},{"$f":"'Total NF'!BH5-Govt!BH5","v":1526.6999999999998},{"$f":"'Total NF'!BI5-Govt!BI5","v":1523.6},{"$f":"'Total NF'!BJ5-Govt!BJ5","v":1526.1000000000001},{"$f":"'Total NF'!BK5-Govt!BK5","v":1525},{"$f":"'Total NF'!BL5-Govt!BL5","v":1531.9},{"$f":"'Total NF'!BM5-Govt!BM5","v":1536.3},{"$f":"'Total NF'!BN5-Govt!BN5","v":1541},{"$f":"'Total NF'!BO5-Govt!BO5","v":0},{"$f":"'Total NF'!BP5-Govt!BP5","v":1533.5},{"$f":"'Total NF'!BQ5-Govt!BQ5","v":1532.6999999999998},{"$f":"'Total NF'!BR5-Govt!BR5","v":1535.2},{"$f":"'Total NF'!BS5-Govt!BS5","v":1539.7},{"$f":"'Total NF'!BT5-Govt!BT5","v":1541.1999999999998},{"$f":"'Total NF'!BU5-Govt!BU5","v":1542.4},{"$f":"'Total NF'!BV5-Govt!BV5","v":1545.1},{"$f":"'Total NF'!BW5-Govt!BW5","v":1547.7},{"$f":"'Total NF'!BX5-Govt!BX5","v":1549.2},{"$f":"'Total NF'!BY5-Govt!BY5","v":1558.1},{"$f":"'Total NF'!BZ5-Govt!BZ5","v":1560.8},{"$f":"'Total NF'!CA5-Govt!CA5","v":1563.3},{"$f":"'Total NF'!CB5-Govt!CB5","v":1559},{"$f":"'Total NF'!CC5-Govt!CC5","v":1561.7},{"$f":"'Total NF'!CD5-Govt!CD5","v":1559.8},{"$f":"'Total NF'!CE5-Govt!CE5","v":1562.2},{"$f":"'Total NF'!CF5-Govt!CF5","v":1568.1000000000001},{"$f":"'Total NF'!CG5-Govt!CG5","v":1568.2},{"$f":"'Total NF'!CH5-Govt!CH5","v":1569.8000000000002},{"$f":"'Total NF'!CI5-Govt!CI5","v":1572.6},{"$f":"'Total NF'!CJ5-Govt!CJ5","v":1572.1999999999998},{"$f":"'Total NF'!CK5-Govt!CK5","v":1575.1000000000001},{"$f":"'Total NF'!CL5-Govt!CL5","v":1581.7},{"$f":"'Total NF'!CM5-Govt!CM5","v":1582.1},{"$f":"'Total NF'!CN5-Govt!CN5","v":1589.6000000000001},{"$f":"'Total NF'!CO5-Govt!CO5","v":1590.6},{"$f":"'Total NF'!CP5-Govt!CP5","v":1590.7},{"$f":"'Total NF'!CQ5-Govt!CQ5","v":1594.3},{"$f":"'Total NF'!CR5-Govt!CR5","v":1593.8000000000002},{"$f":"'Total NF'!CS5-Govt!CS5","v":1591.5},{"$f":"'Total NF'!CT5-Govt!CT5","v":1596.9},{"$f":"'Total NF'!CU5-Govt!CU5","v":1596.1000000000001},{"$f":"'Total NF'!CV5-Govt!CV5","v":1599.4},{"$f":"'Total NF'!CW5-Govt!CW5","v":1602.5},{"$f":"'Total NF'!CX5-Govt!CX5","v":1603.1},{"$f":"'Total NF'!CY5-Govt!CY5","v":1603.9},{"$f":"'Total NF'!CZ5-Govt!CZ5","v":1615.7},{"$f":"'Total NF'!DA5-Govt!DA5","v":1617.3},{"$f":"'Total NF'!DB5-Govt!DB5","v":1616.8000000000002},{"$f":"'Total NF'!DC5-Govt!DC5","v":1617.6},{"$f":"'Total NF'!DD5-Govt!DD5","v":1623.5},{"$f":"'Total NF'!DE5-Govt!DE5","v":1631.3},{"$f":"'Total NF'!DF5-Govt!DF5","v":1629.3000000000002},{"$f":"'Total NF'!DG5-Govt!DG5","v":1624.6},{"$f":"'Total NF'!DH5-Govt!DH5","v":1630.4},{"$f":"'Total NF'!DI5-Govt!DI5","v":1631.3999999999999},{"$f":"'Total NF'!DJ5-Govt!DJ5","v":1633.2},{"$f":"DJ5-DI5","v":1.8000000000001819},{"$f":"DK5/DI5","v":1.103346818683451E-3},{"$f":"RANK(DK5,($DK$5:$DK$54))","v":24},{"$f":"RANK(DL5,($DL$5:$DL$54))","v":25},{"$f":"DJ5-CX5","v":30.100000000000136},{"$f":"DO5/CX5","v":1.8776121265049055E-2},{"$f":"RANK(DO5,($DO$5:$DO$54))","v":25},{"$f":"RANK(DP5,($DP$5:$DP$54))","v":16},{"$f":"DJ5-CY5","v":29.299999999999955},{"$f":"DS5/CY5","v":1.826797181869191E-2},{"$f":"RANK(DS5,DS$5:DS$54)","v":22},{"$f":"RANK(DT5,DT$5:DT$54)","v":11},{"$f":"DJ5-I5","v":136},{"$f":"DW5/I5","v":9.0836227624899804E-2},{"$f":"RANK(DW5,($DW$5:$DW$54))","v":28},{"$f":"RANK(DX5,($DX$5:$DX$54))","v":39}]
["Alaska","SMS02000004000000001",{"$f":"'Total NF'!C6-Govt!C6","v":237.7},{"$f":"'Total NF'!D6-Govt!D6","v":238.2},{"$f":"'Total NF'!E6-Govt!E6","v":237.29999999999998},{"$f":"'Total NF'!F6-Govt!F6","v":236.8},{"$f":"'Total NF'!G6-Govt!G6","v":236.7},{"$f":"'Total NF'!H6-Govt!H6","v":235.70000000000002},{"$f":"'Total NF'!I6-Govt!I6","v":235.49999999999997},{"$f":"'Total NF'!J6-Govt!J6","v":235.5},{"$f":"'Total NF'!K6-Govt!K6","v":236},{"$f":"'Total NF'!L6-Govt!L6","v":235.90000000000003},{"$f":"'Total NF'!M6-Govt!M6","v":236},{"$f":"'Total NF'!N6-Govt!N6","v":234.7},null,{"$f":"'Total NF'!P6-Govt!P6","v":236.50000000000003},{"$f":"'Total NF'!Q6-Govt!Q6","v":235.6},{"$f":"'Total NF'!R6-Govt!R6","v":235.5},{"$f":"'Total NF'!S6-Govt!S6","v":237},{"$f":"'Total NF'!T6-Govt!T6","v":237.4},{"$f":"'Total NF'!U6-Govt!U6","v":238.89999999999998},{"$f":"'Total NF'!V6-Govt!V6","v":239.70000000000002},{"$f":"'Total NF'!W6-Govt!W6","v":239.3},{"$f":"'Total NF'!X6-Govt!X6","v":239.60000000000002},{"$f":"'Total NF'!Y6-Govt!Y6","v":240.9},{"$f":"'Total NF'!Z6-Govt!Z6","v":241.7},{"$f":"'Total NF'!AA6-Govt!AA6","v":241.79999999999998},null,{"$f":"'Total NF'!AC6-Govt!AC6","v":241.89999999999998},{"$f":"'Total NF'!AD6-Govt!AD6","v":242.70000000000002},{"$f":"'Total NF'!AE6-Govt!AE6","v":243},{"$f":"'Total NF'!AF6-Govt!AF6","v":243.59999999999997},{"$f":"'Total NF'!AG6-Govt!AG6","v":243.20000000000002},{"$f":"'Total NF'!AH6-Govt!AH6","v":243.79999999999998},{"$f":"'Total NF'!AI6-Govt!AI6","v":245.2},{"$f":"'Total NF'!AJ6-Govt!AJ6","v":245.3},{"$f":"'Total NF'!AK6-Govt!AK6","v":246.29999999999998},{"$f":"'Total NF'!AL6-Govt!AL6","v":246.3},{"$f":"'Total NF'!AM6-Govt!AM6","v":246.89999999999998},{"$f":"'Total NF'!AN6-Govt!AN6","v":247.1},null,{"$f":"'Total NF'!AP6-Govt!AP6","v":249.20000000000002},{"$f":"'Total NF'!AQ6-Govt!AQ6","v":249.1},{"$f":"'Total NF'!AR6-Govt!AR6","v":249.39999999999998},{"$f":"'Total NF'!AS6-Govt!AS6","v":250.5},{"$f":"'Total NF'!AT6-Govt!AT6","v":251.1},{"$f":"'Total NF'!AU6-Govt!AU6","v":250.79999999999998},{"$f":"'Total NF'!AV6-Govt!AV6","v":250.1},{"$f":"'Total NF'!AW6-Govt!AW6","v":249.6},{"$f":"'Total NF'!AX6-Govt!AX6","v":250.3},{"$f":"'Total NF'!AY6-Govt!AY6","v":254.8},{"$f":"'Total NF'!AZ6-Govt!AZ6","v":251.29999999999998},{"$f":"'Total NF'!BA6-Govt!BA6","v":251.7},null,{"$f":"'Total NF'!BC6-Govt!BC6","v":252.10000000000002},{"$f":"'Total NF'!BD6-Govt!BD6","v":252.89999999999998},{"$f":"'Total NF'!BE6-Govt!BE6","v":252.89999999999998},{"$f":"'Total NF'!BF6-Govt!BF6","v":253.7},{"$f":"'Total NF'!BG6-Govt!BG6","v":252.6},{"$f":"'Total NF'!BH6-Govt!BH6","v":253.10000000000002},{"$f":"'Total NF'!BI6-Govt!BI6","v":252.8},{"$f":"'Total NF'!BJ6-Govt!BJ6","v":253.8},{"$f":"'Total NF'!BK6-Govt!BK6","v":254.40000000000003},{"$f":"'Total NF'!BL6-Govt!BL6","v":255.29999999999998},{"$f":"'Total NF'!BM6-Govt!BM6","v":256.60000000000002},{"$f":"'Total NF'!BN6-Govt!BN6","v":256.8},{"$f":"'Total NF'!BO6-Govt!BO6","v":0},{"$f":"'Total NF'!BP6-Govt!BP6","v":255.5},{"$f":"'Total NF'!BQ6-Govt!BQ6","v":254.9},{"$f":"'Total NF'!BR6-Govt!BR6","v":255.00000000000003},{"$f":"'Total NF'!BS6-Govt!BS6","v":256.2},{"$f":"'Total NF'!BT6-Govt!BT6","v":255.7},{"$f":"'Total NF'!BU6-Govt!BU6","v":255.00000000000003},{"$f":"'Total NF'!BV6-Govt!BV6","v":255.10000000000002},{"$f":"'Total NF'!BW6-Govt!BW6","v":254.9},{"$f":"'Total NF'!BX6-Govt!BX6","v":254.5},{"$f":"'Total NF'!BY6-Govt!BY6","v":255.39999999999998},{"$f":"'Total NF'!BZ6-Govt!BZ6","v":256.10000000000002},{"$f":"'Total NF'!CA6-Govt!CA6","v":258.60000000000002},{"$f":"'Total NF'!CB6-Govt!CB6","v":258.2},{"$f":"'Total NF'!CC6-Govt!CC6","v":258},{"$f":"'Total NF'!CD6-Govt!CD6","v":258},{"$f":"'Total NF'!CE6-Govt!CE6","v":258.2},{"$f":"'Total NF'!CF6-Govt!CF6","v":258.59999999999997},{"$f":"'Total NF'!CG6-Govt!CG6","v":257.20000000000005},{"$f":"'Total NF'!CH6-Govt!CH6","v":257.3},{"$f":"'Total NF'!CI6-Govt!CI6","v":256.3},{"$f":"'Total NF'!CJ6-Govt!CJ6","v":256.60000000000002},{"$f":"'Total NF'!CK6-Govt!CK6","v":257.8},{"$f":"'Total NF'!CL6-Govt!CL6","v":256.5},{"$f":"'Total NF'!CM6-Govt!CM6","v":257.60000000000002},{"$f":"'Total NF'!CN6-Govt!CN6","v":254.4},{"$f":"'Total NF'!CO6-Govt!CO6","v":254.3},{"$f":"'Total NF'!CP6-Govt!CP6","v":253.8},{"$f":"'Total NF'!CQ6-Govt!CQ6","v":253.8},{"$f":"'Total NF'!CR6-Govt!CR6","v":252.50000000000003},{"$f":"'Total NF'!CS6-Govt!CS6","v":250.10000000000002},{"$f":"'Total NF'!CT6-Govt!CT6","v":251.10000000000002},{"$f":"'Total NF'!CU6-Govt!CU6","v":250.9},{"$f":"'Total NF'!CV6-Govt!CV6","v":249.2},{"$f":"'Total NF'!CW6-Govt!CW6","v":249.60000000000002},{"$f":"'Total NF'!CX6-Govt!CX6","v":248.89999999999998},{"$f":"'Total NF'!CY6-Govt!CY6","v":248.59999999999997},{"$f":"'Total NF'!CZ6-Govt!CZ6","v":247},{"$f":"'Total NF'!DA6-Govt!DA6","v":248.70000000000002},{"$f":"'Total NF'!DB6-Govt!DB6","v":246.79999999999998},{"$f":"'Total NF'!DC6-Govt!DC6","v":247.2},{"$f":"'Total NF'!DD6-Govt!DD6","v":248.79999999999998},{"$f":"'Total NF'!DE6-Govt!DE6","v":250.7},{"$f":"'Total NF'!DF6-Govt!DF6","v":250.89999999999998},{"$f":"'Total NF'!DG6-Govt!DG6","v":250.5},{"$f":"'Total NF'!DH6-Govt!DH6","v":249.70000000000002},{"$f":"'Total NF'!DI6-Govt!DI6","v":249.29999999999998},{"$f":"'Total NF'!DJ6-Govt!DJ6","v":246.49999999999997},{"$f":"DJ6-DI6","v":-2.8000000000000114},{"$f":"DK6/DI6","v":-1.1231448054552794E-2},44,50,{"$f":"DJ6-CX6","v":-2.4000000000000057},{"$f":"DO6/CX6","v":-9.642426677380498E-3},50,50,{"$f":"DJ6-CY6","v":-2.0999999999999943},-8.4473049074818771E-3,50,50,{"$f":"DJ6-I6","v":11},{"$f":"DW6/I6","v":4.6709129511677286E-2},48,48]
["Arizona","SMS04000004000000001",{"$f":"'Total NF'!C7-Govt!C7","v":2087.2999999999997},{"$f":"'Total NF'!D7-Govt!D7","v":2064.1000000000004},{"$f":"'Total NF'!E7-Govt!E7","v":2045.6},{"$f":"'Total NF'!F7-Govt!F7","v":2020.5},{"$f":"'Total NF'!G7-Govt!G7","v":2015.8},{"$f":"'Total NF'!H7-Govt!H7","v":2005},{"$f":"'Total NF'!I7-Govt!I7","v":1996.9},{"$f":"'Total NF'!J7-Govt!J7","v":1989.4},{"$f":"'Total NF'!K7-Govt!K7","v":1978.2},{"$f":"'Total NF'!L7-Govt!L7","v":1973},{"$f":"'Total NF'!M7-Govt!M7","v":1970.5},{"$f":"'Total NF'!N7-Govt!N7","v":1965.5},null,{"$f":"'Total NF'!P7-Govt!P7","v":1964.6},{"$f":"'Total NF'!Q7-Govt!Q7","v":1964.9},{"$f":"'Total NF'!R7-Govt!R7","v":1967.3},{"$f":"'Total NF'!S7-Govt!S7","v":1967.3000000000002},{"$f":"'Total NF'!T7-Govt!T7","v":1970.9},{"$f":"'Total NF'!U7-Govt!U7","v":1970.3000000000002},{"$f":"'Total NF'!V7-Govt!V7","v":1966.6999999999998},{"$f":"'Total NF'!W7-Govt!W7","v":1966.7000000000003},{"$f":"'Total NF'!X7-Govt!X7","v":1962.3},{"$f":"'Total NF'!Y7-Govt!Y7","v":1974.8999999999999},{"$f":"'Total NF'!Z7-Govt!Z7","v":1978.4},{"$f":"'Total NF'!AA7-Govt!AA7","v":1983.6},null,{"$f":"'Total NF'!AC7-Govt!AC7","v":1987.6000000000001},{"$f":"'Total NF'!AD7-Govt!AD7","v":1989},{"$f":"'Total NF'!AE7-Govt!AE7","v":1991.3},{"$f":"'Total NF'!AF7-Govt!AF7","v":1994.2},{"$f":"'Total NF'!AG7-Govt!AG7","v":2001.6999999999998},{"$f":"'Total NF'!AH7-Govt!AH7","v":1997.1},{"$f":"'Total NF'!AI7-Govt!AI7","v":2003.4},{"$f":"'Total NF'!AJ7-Govt!AJ7","v":2007.6999999999998},{"$f":"'Total NF'!AK7-Govt!AK7","v":2014.4999999999998},{"$f":"'Total NF'!AL7-Govt!AL7","v":2015.8},{"$f":"'Total NF'!AM7-Govt!AM7","v":2022.2},{"$f":"'Total NF'!AN7-Govt!AN7","v":2025.6000000000001},null,{"$f":"'Total NF'!AP7-Govt!AP7","v":2034.7},{"$f":"'Total NF'!AQ7-Govt!AQ7","v":2034.6000000000001},{"$f":"'Total NF'!AR7-Govt!AR7","v":2041.8000000000002},{"$f":"'Total NF'!AS7-Govt!AS7","v":2043.1},{"$f":"'Total NF'!AT7-Govt!AT7","v":2044.9999999999998},{"$f":"'Total NF'!AU7-Govt!AU7","v":2048.3999999999996},{"$f":"'Total NF'!AV7-Govt!AV7","v":2050.1},{"$f":"'Total NF'!AW7-Govt!AW7","v":2055.9},{"$f":"'Total NF'!AX7-Govt!AX7","v":2062.7999999999997},{"$f":"'Total NF'!AY7-Govt!AY7","v":2068.7000000000003},{"$f":"'Total NF'!AZ7-Govt!AZ7","v":2075.5},{"$f":"'Total NF'!BA7-Govt!BA7","v":2079.3000000000002},null,{"$f":"'Total NF'!BC7-Govt!BC7","v":2083.2999999999997},{"$f":"'Total NF'!BD7-Govt!BD7","v":2088.7999999999997},{"$f":"'Total NF'!BE7-Govt!BE7","v":2092.2999999999997},{"$f":"'Total NF'!BF7-Govt!BF7","v":2098.1},{"$f":"'Total NF'!BG7-Govt!BG7","v":2101.5},{"$f":"'Total NF'!BH7-Govt!BH7","v":2104.2000000000003},{"$f":"'Total NF'!BI7-Govt!BI7","v":2109.2999999999997},{"$f":"'Total NF'!BJ7-Govt!BJ7","v":2112.9},{"$f":"'Total NF'!BK7-Govt!BK7","v":2116},{"$f":"'Total NF'!BL7-Govt!BL7","v":2115.9},{"$f":"'Total NF'!BM7-Govt!BM7","v":2126.1},{"$f":"'Total NF'!BN7-Govt!BN7","v":2134.7000000000003},{"$f":"'Total NF'!BO7-Govt!BO7","v":0},{"$f":"'Total NF'!BP7-Govt!BP7","v":2135.1},{"$f":"'Total NF'!BQ7-Govt!BQ7","v":2142.2000000000003},{"$f":"'Total NF'!BR7-Govt!BR7","v":2141.9},{"$f":"'Total NF'!BS7-Govt!BS7","v":2147},{"$f":"'Total NF'!BT7-Govt!BT7","v":2149.2999999999997},{"$f":"'Total NF'!BU7-Govt!BU7","v":2152.2999999999997},{"$f":"'Total NF'!BV7-Govt!BV7","v":2155.4},{"$f":"'Total NF'!BW7-Govt!BW7","v":2160.7999999999997},{"$f":"'Total NF'!BX7-Govt!BX7","v":2164.2999999999997},{"$f":"'Total NF'!BY7-Govt!BY7","v":2177},{"$f":"'Total NF'!BZ7-Govt!BZ7","v":2187.6999999999998},{"$f":"'Total NF'!CA7-Govt!CA7","v":2196.2000000000003},{"$f":"'Total NF'!CB7-Govt!CB7","v":2195.2999999999997},{"$f":"'Total NF'!CC7-Govt!CC7","v":2201},{"$f":"'Total NF'!CD7-Govt!CD7","v":2202.3000000000002},{"$f":"'Total NF'!CE7-Govt!CE7","v":2206.5},{"$f":"'Total NF'!CF7-Govt!CF7","v":2212.5},{"$f":"'Total NF'!CG7-Govt!CG7","v":2217.1000000000004},{"$f":"'Total NF'!CH7-Govt!CH7","v":2229.6999999999998},{"$f":"'Total NF'!CI7-Govt!CI7","v":2235.9},{"$f":"'Total NF'!CJ7-Govt!CJ7","v":2240.2000000000003},{"$f":"'Total NF'!CK7-Govt!CK7","v":2257.2999999999997},{"$f":"'Total NF'!CL7-Govt!CL7","v":2268.2999999999997},{"$f":"'Total NF'!CM7-Govt!CM7","v":2273.6999999999998},{"$f":"'Total NF'!CN7-Govt!CN7","v":2263.6},{"$f":"'Total NF'!CO7-Govt!CO7","v":2271},{"$f":"'Total NF'!CP7-Govt!CP7","v":2274.5},{"$f":"'Total NF'!CQ7-Govt!CQ7","v":2282.2999999999997},{"$f":"'Total NF'!CR7-Govt!CR7","v":2285.3000000000002},{"$f":"'Total NF'!CS7-Govt!CS7","v":2285.3000000000002},{"$f":"'Total NF'!CT7-Govt!CT7","v":2300.6},{"$f":"'Total NF'!CU7-Govt!CU7","v":2305.8000000000002},{"$f":"'Total NF'!CV7-Govt!CV7","v":2317.4},{"$f":"'Total NF'!CW7-Govt!CW7","v":2318.8000000000002},{"$f":"'Total NF'!CX7-Govt!CX7","v":2316.3999999999996},{"$f":"'Total NF'!CY7-Govt!CY7","v":2323.7000000000003},{"$f":"'Total NF'!CZ7-Govt!CZ7","v":2320.6},{"$f":"'Total NF'!DA7-Govt!DA7","v":2329.2000000000003},{"$f":"'Total NF'!DB7-Govt!DB7","v":2327.1999999999998},{"$f":"'Total NF'!DC7-Govt!DC7","v":2333.5},{"$f":"'Total NF'!DD7-Govt!DD7","v":2334.1},{"$f":"'Total NF'!DE7-Govt!DE7","v":2334.7999999999997},{"$f":"'Total NF'!DF7-Govt!DF7","v":2329.7000000000003},{"$f":"'Total NF'!DG7-Govt!DG7","v":2338.2999999999997},{"$f":"'Total NF'!DH7-Govt!DH7","v":2352.7999999999997},{"$f":"'Total NF'!DI7-Govt!DI7","v":2349.9},{"$f":"'Total NF'!DJ7-Govt!DJ7","v":2357.1999999999998},7.2999999999997272,3.106515170858218E-3,9,13,40.800000000000182,1.761353824900716E-2,16,18,33.499999999999545,1.4416663080431873E-2,18,25,360.29999999999973,0.18042966598227239,16,15]
["Arkansas","SMS05000004000000001",{"$f":"'Total NF'!C8-Govt!C8","v":968.7},{"$f":"'Total NF'!D8-Govt!D8","v":964.69999999999993},{"$f":"'Total NF'!E8-Govt!E8","v":958.00000000000011},{"$f":"'Total NF'!F8-Govt!F8","v":951.90000000000009},{"$f":"'Total NF'!G8-Govt!G8","v":947.6},{"$f":"'Total NF'!H8-Govt!H8","v":943.8},{"$f":"'Total NF'!I8-Govt!I8","v":944.09999999999991},{"$f":"'Total NF'!J8-Govt!J8","v":942.2},{"$f":"'Total NF'!K8-Govt!K8","v":940.9},{"$f":"'Total NF'!L8-Govt!L8","v":937.8},{"$f":"'Total NF'!M8-Govt!M8","v":938.7},{"$f":"'Total NF'!N8-Govt!N8","v":937.3},null,{"$f":"'Total NF'!P8-Govt!P8","v":937.40000000000009},{"$f":"'Total NF'!Q8-Govt!Q8","v":935.69999999999993},{"$f":"'Total NF'!R8-Govt!R8","v":938.80000000000007},{"$f":"'Total NF'!S8-Govt!S8","v":939.8},{"$f":"'Total NF'!T8-Govt!T8","v":944.19999999999993},{"$f":"'Total NF'!U8-Govt!U8","v":950.9},{"$f":"'Total NF'!V8-Govt!V8","v":947.5},{"$f":"'Total NF'!W8-Govt!W8","v":950.09999999999991},{"$f":"'Total NF'!X8-Govt!X8","v":948.30000000000007},{"$f":"'Total NF'!Y8-Govt!Y8","v":948.19999999999993},{"$f":"'Total NF'!Z8-Govt!Z8","v":947.9},{"$f":"'Total NF'!AA8-Govt!AA8","v":949.40000000000009},null,{"$f":"'Total NF'!AC8-Govt!AC8","v":947.5},{"$f":"'Total NF'!AD8-Govt!AD8","v":945.00000000000011},{"$f":"'Total NF'!AE8-Govt!AE8","v":947.09999999999991},{"$f":"'Total NF'!AF8-Govt!AF8","v":954.3},{"$f":"'Total NF'!AG8-Govt!AG8","v":949.5},{"$f":"'Total NF'!AH8-Govt!AH8","v":946.5},{"$f":"'Total NF'!AI8-Govt!AI8","v":957.10000000000014},{"$f":"'Total NF'!AJ8-Govt!AJ8","v":955.6},{"$f":"'Total NF'!AK8-Govt!AK8","v":955.9},{"$f":"'Total NF'!AL8-Govt!AL8","v":960.19999999999993},{"$f":"'Total NF'!AM8-Govt!AM8","v":960},{"$f":"'Total NF'!AN8-Govt!AN8","v":960.30000000000007},null,{"$f":"'Total NF'!AP8-Govt!AP8","v":960.59999999999991},{"$f":"'Total NF'!AQ8-Govt!AQ8","v":960.09999999999991},{"$f":"'Total NF'!AR8-Govt!AR8","v":962.60000000000014},{"$f":"'Total NF'!AS8-Govt!AS8","v":962.1},{"$f":"'Total NF'!AT8-Govt!AT8","v":962.7},{"$f":"'Total NF'!AU8-Govt!AU8","v":961.09999999999991},{"$f":"'Total NF'!AV8-Govt!AV8","v":956.4},{"$f":"'Total NF'!AW8-Govt!AW8","v":958},{"$f":"'Total NF'!AX8-Govt!AX8","v":957.90000000000009},{"$f":"'Total NF'!AY8-Govt!AY8","v":958.90000000000009},{"$f":"'Total NF'!AZ8-Govt!AZ8","v":960.19999999999993},{"$f":"'Total NF'!BA8-Govt!BA8","v":961.5},null,{"$f":"'Total NF'!BC8-Govt!BC8","v":961.1},{"$f":"'Total NF'!BD8-Govt!BD8","v":963.2},{"$f":"'Total NF'!BE8-Govt!BE8","v":961.10000000000014},{"$f":"'Total NF'!BF8-Govt!BF8","v":961.30000000000007},{"$f":"'Total NF'!BG8-Govt!BG8","v":959.89999999999986},{"$f":"'Total NF'!BH8-Govt!BH8","v":957.1},{"$f":"'Total NF'!BI8-Govt!BI8","v":958.1},{"$f":"'Total NF'!BJ8-Govt!BJ8","v":957.19999999999993},{"$f":"'Total NF'!BK8-Govt!BK8","v":960.59999999999991},{"$f":"'Total NF'!BL8-Govt!BL8","v":965.99999999999989},{"$f":"'Total NF'!BM8-Govt!BM8","v":968.59999999999991},{"$f":"'Total NF'!BN8-Govt!BN8","v":969.3},{"$f":"'Total NF'!BO8-Govt!BO8","v":0},{"$f":"'Total NF'!BP8-Govt!BP8","v":966.59999999999991},{"$f":"'Total NF'!BQ8-Govt!BQ8","v":968.7},{"$f":"'Total NF'!BR8-Govt!BR8","v":967.8},{"$f":"'Total NF'!BS8-Govt!BS8","v":970.90000000000009},{"$f":"'Total NF'!BT8-Govt!BT8","v":973.3},{"$f":"'Total NF'!BU8-Govt!BU8","v":974.49999999999989},{"$f":"'Total NF'!BV8-Govt!BV8","v":971.50000000000011},{"$f":"'Total NF'!BW8-Govt!BW8","v":974.1},{"$f":"'Total NF'!BX8-Govt!BX8","v":978.2},{"$f":"'Total NF'!BY8-Govt!BY8","v":982.4},{"$f":"'Total NF'!BZ8-Govt!BZ8","v":985.99999999999989},{"$f":"'Total NF'!CA8-Govt!CA8","v":991.39999999999986},{"$f":"'Total NF'!CB8-Govt!CB8","v":985.90000000000009},{"$f":"'Total NF'!CC8-Govt!CC8","v":988.39999999999986},{"$f":"'Total NF'!CD8-Govt!CD8","v":985.40000000000009},{"$f":"'Total NF'!CE8-Govt!CE8","v":987.50000000000011},{"$f":"'Total NF'!CF8-Govt!CF8","v":991.8},{"$f":"'Total NF'!CG8-Govt!CG8","v":993.3},{"$f":"'Total NF'!CH8-Govt!CH8","v":996.2},{"$f":"'Total NF'!CI8-Govt!CI8","v":999.40000000000009},{"$f":"'Total NF'!CJ8-Govt!CJ8","v":1000.9000000000001},{"$f":"'Total NF'!CK8-Govt!CK8","v":1006.4999999999999},{"$f":"'Total NF'!CL8-Govt!CL8","v":1006.9000000000001},{"$f":"'Total NF'!CM8-Govt!CM8","v":1013.6},{"$f":"'Total NF'!CN8-Govt!CN8","v":1008.9000000000001},{"$f":"'Total NF'!CO8-Govt!CO8","v":1011.7},{"$f":"'Total NF'!CP8-Govt!CP8","v":1012.8},{"$f":"'Total NF'!CQ8-Govt!CQ8","v":1012.4},{"$f":"'Total NF'!CR8-Govt!CR8","v":1012.1},{"$f":"'Total NF'!CS8-Govt!CS8","v":1012.4000000000001},{"$f":"'Total NF'!CT8-Govt!CT8","v":1014.4999999999999},{"$f":"'Total NF'!CU8-Govt!CU8","v":1016},{"$f":"'Total NF'!CV8-Govt!CV8","v":1018.5},{"$f":"'Total NF'!CW8-Govt!CW8","v":1023.6},{"$f":"'Total NF'!CX8-Govt!CX8","v":1022.4},{"$f":"'Total NF'!CY8-Govt!CY8","v":1026.0999999999999},{"$f":"'Total NF'!CZ8-Govt!CZ8","v":1023.6000000000001},{"$f":"'Total NF'!DA8-Govt!DA8","v":1029.3},{"$f":"'Total NF'!DB8-Govt!DB8","v":1028.1999999999998},{"$f":"'Total NF'!DC8-Govt!DC8","v":1032.3},{"$f":"'Total NF'!DD8-Govt!DD8","v":1034},{"$f":"'Total NF'!DE8-Govt!DE8","v":1042.6000000000001},{"$f":"'Total NF'!DF8-Govt!DF8","v":1047.5999999999999},{"$f":"'Total NF'!DG8-Govt!DG8","v":1042.3},{"$f":"'Total NF'!DH8-Govt!DH8","v":1044.5},{"$f":"'Total NF'!DI8-Govt!DI8","v":1045.7},{"$f":"'Total NF'!DJ8-Govt!DJ8","v":1043.8},-1.9000000000000909,-1.8169647126327732E-3,40,44,21.399999999999977,2.0931142410015629E-2,29,11,17.700000000000045,1.7249780723126447E-2,29,15,99.700000000000045,0.10560321999788164,33,31]
["California","SMS06000004000000001",{"$f":"'Total NF'!C9-Govt!C9","v":12272.4},{"$f":"'Total NF'!D9-Govt!D9","v":12156.199999999999},{"$f":"'Total NF'!E9-Govt!E9","v":12070.300000000001},{"$f":"'Total NF'!F9-Govt!F9","v":11958.2},{"$f":"'Total NF'!G9-Govt!G9","v":11926.5},{"$f":"'Total NF'!H9-Govt!H9","v":11868.7},{"$f":"'Total NF'!I9-Govt!I9","v":11783.099999999999},{"$f":"'Total NF'!J9-Govt!J9","v":11750},{"$f":"'Total NF'!K9-Govt!K9","v":11726.8},{"$f":"'Total NF'!L9-Govt!L9","v":11734},{"$f":"'Total NF'!M9-Govt!M9","v":11730.699999999999},{"$f":"'Total NF'!N9-Govt!N9","v":11711.5},null,{"$f":"'Total NF'!P9-Govt!P9","v":11686.4},{"$f":"'Total NF'!Q9-Govt!Q9","v":11682.4},{"$f":"'Total NF'!R9-Govt!R9","v":11691},{"$f":"'Total NF'!S9-Govt!S9","v":11735.8},{"$f":"'Total NF'!T9-Govt!T9","v":11738.3},{"$f":"'Total NF'!U9-Govt!U9","v":11755.7},{"$f":"'Total NF'!V9-Govt!V9","v":11767.3},{"$f":"'Total NF'!W9-Govt!W9","v":11783},{"$f":"'Total NF'!X9-Govt!X9","v":11777.5},{"$f":"'Total NF'!Y9-Govt!Y9","v":11826},{"$f":"'Total NF'!Z9-Govt!Z9","v":11833.900000000001},{"$f":"'Total NF'!AA9-Govt!AA9","v":11861.1},null,{"$f":"'Total NF'!AC9-Govt!AC9","v":11870.2},{"$f":"'Total NF'!AD9-Govt!AD9","v":11881.5},{"$f":"'Total NF'!AE9-Govt!AE9","v":11880.599999999999},{"$f":"'Total NF'!AF9-Govt!AF9","v":11899.7},{"$f":"'Total NF'!AG9-Govt!AG9","v":11905.8},{"$f":"'Total NF'!AH9-Govt!AH9","v":11897},{"$f":"'Total NF'!AI9-Govt!AI9","v":11961},{"$f":"'Total NF'!AJ9-Govt!AJ9","v":11980.5},{"$f":"'Total NF'!AK9-Govt!AK9","v":12012.6},{"$f":"'Total NF'!AL9-Govt!AL9","v":12023.7},{"$f":"'Total NF'!AM9-Govt!AM9","v":12056.8},{"$f":"'Total NF'!AN9-Govt!AN9","v":12082.7},null,{"$f":"'Total NF'!AP9-Govt!AP9","v":12154.8},{"$f":"'Total NF'!AQ9-Govt!AQ9","v":12170.2},{"$f":"'Total NF'!AR9-Govt!AR9","v":12205.099999999999},{"$f":"'Total NF'!AS9-Govt!AS9","v":12222.9},{"$f":"'Total NF'!AT9-Govt!AT9","v":12255},{"$f":"'Total NF'!AU9-Govt!AU9","v":12293.400000000001},{"$f":"'Total NF'!AV9-Govt!AV9","v":12322.9},{"$f":"'Total NF'!AW9-Govt!AW9","v":12358.3},{"$f":"'Total NF'!AX9-Govt!AX9","v":12382.400000000001},{"$f":"'Total NF'!AY9-Govt!AY9","v":12494.8},{"$f":"'Total NF'!AZ9-Govt!AZ9","v":12538.099999999999},{"$f":"'Total NF'!BA9-Govt!BA9","v":12561.3},null,{"$f":"'Total NF'!BC9-Govt!BC9","v":12606.7},{"$f":"'Total NF'!BD9-Govt!BD9","v":12648},{"$f":"'Total NF'!BE9-Govt!BE9","v":12674.5},{"$f":"'Total NF'!BF9-Govt!BF9","v":12721.099999999999},{"$f":"'Total NF'!BG9-Govt!BG9","v":12743.4},{"$f":"'Total NF'!BH9-Govt!BH9","v":12751.8},{"$f":"'Total NF'!BI9-Govt!BI9","v":12803.8},{"$f":"'Total NF'!BJ9-Govt!BJ9","v":12843.300000000001},{"$f":"'Total NF'!BK9-Govt!BK9","v":12851.1},{"$f":"'Total NF'!BL9-Govt!BL9","v":12873.8},{"$f":"'Total NF'!BM9-Govt!BM9","v":12927.599999999999},{"$f":"'Total NF'!BN9-Govt!BN9","v":12946.400000000001},{"$f":"'Total NF'!BO9-Govt!BO9","v":0},{"$f":"'Total NF'!BP9-Govt!BP9","v":13037.6},{"$f":"'Total NF'!BQ9-Govt!BQ9","v":13080.9},{"$f":"'Total NF'!BR9-Govt!BR9","v":13104.5},{"$f":"'Total NF'!BS9-Govt!BS9","v":13153.7},{"$f":"'Total NF'!BT9-Govt!BT9","v":13184.099999999999},{"$f":"'Total NF'!BU9-Govt!BU9","v":13201.800000000001},{"$f":"'Total NF'!BV9-Govt!BV9","v":13249.3},{"$f":"'Total NF'!BW9-Govt!BW9","v":13297.1},{"$f":"'Total NF'!BX9-Govt!BX9","v":13328.7},{"$f":"'Total NF'!BY9-Govt!BY9","v":13354.7},{"$f":"'Total NF'!BZ9-Govt!BZ9","v":13408.2},{"$f":"'Total NF'!CA9-Govt!CA9","v":13429},{"$f":"'Total NF'!CB9-Govt!CB9","v":13385.6},{"$f":"'Total NF'!CC9-Govt!CC9","v":13416.5},{"$f":"'Total NF'!CD9-Govt!CD9","v":13455.7},{"$f":"'Total NF'!CE9-Govt!CE9","v":13484.8},{"$f":"'Total NF'!CF9-Govt!CF9","v":13523.5},{"$f":"'Total NF'!CG9-Govt!CG9","v":13542.7},{"$f":"'Total NF'!CH9-Govt!CH9","v":13651.9},{"$f":"'Total NF'!CI9-Govt!CI9","v":13675.8},{"$f":"'Total NF'!CJ9-Govt!CJ9","v":13699.099999999999},{"$f":"'Total NF'!CK9-Govt!CK9","v":13718.8},{"$f":"'Total NF'!CL9-Govt!CL9","v":13750},{"$f":"'Total NF'!CM9-Govt!CM9","v":13796.5},{"$f":"'Total NF'!CN9-Govt!CN9","v":13830.400000000001},{"$f":"'Total NF'!CO9-Govt!CO9","v":13868.5},{"$f":"'Total NF'!CP9-Govt!CP9","v":13849.1},{"$f":"'Total NF'!CQ9-Govt!CQ9","v":13944.6},{"$f":"'Total NF'!CR9-Govt!CR9","v":13947.500000000002},{"$f":"'Total NF'!CS9-Govt!CS9","v":13929.900000000001},{"$f":"'Total NF'!CT9-Govt!CT9","v":13993.7},{"$f":"'Total NF'!CU9-Govt!CU9","v":13995.400000000001},{"$f":"'Total NF'!CV9-Govt!CV9","v":14021.800000000001},{"$f":"'Total NF'!CW9-Govt!CW9","v":14060},{"$f":"'Total NF'!CX9-Govt!CX9","v":14094.099999999999},{"$f":"'Total NF'!CY9-Govt!CY9","v":14092.300000000001},{"$f":"'Total NF'!CZ9-Govt!CZ9","v":14113.5},{"$f":"'Total NF'!DA9-Govt!DA9","v":14131.1},{"$f":"'Total NF'!DB9-Govt!DB9","v":14148.6},{"$f":"'Total NF'!DC9-Govt!DC9","v":14137.900000000001},{"$f":"'Total NF'!DD9-Govt!DD9","v":14149.5},{"$f":"'Total NF'!DE9-Govt!DE9","v":14157.3},{"$f":"'Total NF'!DF9-Govt!DF9","v":14223.1},{"$f":"'Total NF'!DG9-Govt!DG9","v":14219.3},{"$f":"'Total NF'!DH9-Govt!DH9","v":14254.499999999998},{"$f":"'Total NF'!DI9-Govt!DI9","v":14293.6},{"$f":"'Total NF'!DJ9-Govt!DJ9","v":14340.800000000001},47.200000000000728,3.3021771981866519E-3,2,9,246.70000000000255,1.7503778176684043E-2,2,19,248.5,1.7633743249859852E-2,2,13,2557.7000000000025,0.21706511868693323,1,6]
["Colorado","SMS08000004000000001",{"$f":"'Total NF'!C10-Govt!C10","v":1916.8000000000002},{"$f":"'Total NF'!D10-Govt!D10","v":1899.1999999999998},{"$f":"'Total NF'!E10-Govt!E10","v":1882.7999999999997},{"$f":"'Total NF'!F10-Govt!F10","v":1864.2},{"$f":"'Total NF'!G10-Govt!G10","v":1860.1},{"$f":"'Total NF'!H10-Govt!H10","v":1849},{"$f":"'Total NF'!I10-Govt!I10","v":1842.1999999999998},{"$f":"'Total NF'!J10-Govt!J10","v":1835.4},{"$f":"'Total NF'!K10-Govt!K10","v":1832.4},{"$f":"'Total NF'!L10-Govt!L10","v":1829.1000000000001},{"$f":"'Total NF'!M10-Govt!M10","v":1826.8999999999999},{"$f":"'Total NF'!N10-Govt!N10","v":1822.4},null,{"$f":"'Total NF'!P10-Govt!P10","v":1819.8000000000002},{"$f":"'Total NF'!Q10-Govt!Q10","v":1821.1},{"$f":"'Total NF'!R10-Govt!R10","v":1821.1999999999998},{"$f":"'Total NF'!S10-Govt!S10","v":1823.8999999999999},{"$f":"'Total NF'!T10-Govt!T10","v":1825.1000000000001},{"$f":"'Total NF'!U10-Govt!U10","v":1827.2},{"$f":"'Total NF'!V10-Govt!V10","v":1829.8},{"$f":"'Total NF'!W10-Govt!W10","v":1831.1000000000001},{"$f":"'Total NF'!X10-Govt!X10","v":1827.9999999999998},{"$f":"'Total NF'!Y10-Govt!Y10","v":1836},{"$f":"'Total NF'!Z10-Govt!Z10","v":1836.3},{"$f":"'Total NF'!AA10-Govt!AA10","v":1839.8000000000002},null,{"$f":"'Total NF'!AC10-Govt!AC10","v":1847.1000000000001},{"$f":"'Total NF'!AD10-Govt!AD10","v":1846.0000000000002},{"$f":"'Total NF'!AE10-Govt!AE10","v":1850.3000000000002},{"$f":"'Total NF'!AF10-Govt!AF10","v":1859.0000000000002},{"$f":"'Total NF'!AG10-Govt!AG10","v":1860.3999999999999},{"$f":"'Total NF'!AH10-Govt!AH10","v":1861.3},{"$f":"'Total NF'!AI10-Govt!AI10","v":1866.3},{"$f":"'Total NF'!AJ10-Govt!AJ10","v":1872.3},{"$f":"'Total NF'!AK10-Govt!AK10","v":1878.1999999999998},{"$f":"'Total NF'!AL10-Govt!AL10","v":1876.7},{"$f":"'Total NF'!AM10-Govt!AM10","v":1882.3999999999999},{"$f":"'Total NF'!AN10-Govt!AN10","v":1886.6},null,{"$f":"'Total NF'!AP10-Govt!AP10","v":1893.3999999999999},{"$f":"'Total NF'!AQ10-Govt!AQ10","v":1895.4},{"$f":"'Total NF'!AR10-Govt!AR10","v":1902.0000000000002},{"$f":"'Total NF'!AS10-Govt!AS10","v":1906.3},{"$f":"'Total NF'!AT10-Govt!AT10","v":1909.8},{"$f":"'Total NF'!AU10-Govt!AU10","v":1915.2},{"$f":"'Total NF'!AV10-Govt!AV10","v":1920.3000000000002},{"$f":"'Total NF'!AW10-Govt!AW10","v":1921.6999999999998},{"$f":"'Total NF'!AX10-Govt!AX10","v":1928.0000000000002},{"$f":"'Total NF'!AY10-Govt!AY10","v":1938.6},{"$f":"'Total NF'!AZ10-Govt!AZ10","v":1941.6000000000001},{"$f":"'Total NF'!BA10-Govt!BA10","v":1946.1000000000001},null,{"$f":"'Total NF'!BC10-Govt!BC10","v":1947.1},{"$f":"'Total NF'!BD10-Govt!BD10","v":1955.2},{"$f":"'Total NF'!BE10-Govt!BE10","v":1960.7000000000003},{"$f":"'Total NF'!BF10-Govt!BF10","v":1965.1000000000001},{"$f":"'Total NF'!BG10-Govt!BG10","v":1970.7000000000003},{"$f":"'Total NF'!BH10-Govt!BH10","v":1976.8},{"$f":"'Total NF'!BI10-Govt!BI10","v":1982.6999999999998},{"$f":"'Total NF'!BJ10-Govt!BJ10","v":1988.1},{"$f":"'Total NF'!BK10-Govt!BK10","v":1991.5},{"$f":"'Total NF'!BL10-Govt!BL10","v":1994.4},{"$f":"'Total NF'!BM10-Govt!BM10","v":1996.6000000000001},{"$f":"'Total NF'!BN10-Govt!BN10","v":1998.9},{"$f":"'Total NF'!BO10-Govt!BO10","v":0},{"$f":"'Total NF'!BP10-Govt!BP10","v":2019.6000000000001},{"$f":"'Total NF'!BQ10-Govt!BQ10","v":2025.3999999999999},{"$f":"'Total NF'!BR10-Govt!BR10","v":2030.2},{"$f":"'Total NF'!BS10-Govt!BS10","v":2039.2},{"$f":"'Total NF'!BT10-Govt!BT10","v":2046.3000000000002},{"$f":"'Total NF'!BU10-Govt!BU10","v":2051.5},{"$f":"'Total NF'!BV10-Govt!BV10","v":2059.1999999999998},{"$f":"'Total NF'!BW10-Govt!BW10","v":2067.9},{"$f":"'Total NF'!BX10-Govt!BX10","v":2074.6999999999998},{"$f":"'Total NF'!BY10-Govt!BY10","v":2073.6},{"$f":"'Total NF'!BZ10-Govt!BZ10","v":2074.8999999999996},{"$f":"'Total NF'!CA10-Govt!CA10","v":2083.7000000000003},{"$f":"'Total NF'!CB10-Govt!CB10","v":2102.1},{"$f":"'Total NF'!CC10-Govt!CC10","v":2108.7000000000003},{"$f":"'Total NF'!CD10-Govt!CD10","v":2109.9},{"$f":"'Total NF'!CE10-Govt!CE10","v":2111.4},{"$f":"'Total NF'!CF10-Govt!CF10","v":2115.7000000000003},{"$f":"'Total NF'!CG10-Govt!CG10","v":2120.3999999999996},{"$f":"'Total NF'!CH10-Govt!CH10","v":2124.8000000000002},{"$f":"'Total NF'!CI10-Govt!CI10","v":2127.8999999999996},{"$f":"'Total NF'!CJ10-Govt!CJ10","v":2134.3999999999996},{"$f":"'Total NF'!CK10-Govt!CK10","v":2142.8999999999996},{"$f":"'Total NF'!CL10-Govt!CL10","v":2145.4},{"$f":"'Total NF'!CM10-Govt!CM10","v":2158.1},{"$f":"'Total NF'!CN10-Govt!CN10","v":2152},{"$f":"'Total NF'!CO10-Govt!CO10","v":2156.1},{"$f":"'Total NF'!CP10-Govt!CP10","v":2158.9},{"$f":"'Total NF'!CQ10-Govt!CQ10","v":2162.7999999999997},{"$f":"'Total NF'!CR10-Govt!CR10","v":2163.5},{"$f":"'Total NF'!CS10-Govt!CS10","v":2167.1999999999998},{"$f":"'Total NF'!CT10-Govt!CT10","v":2178.6},{"$f":"'Total NF'!CU10-Govt!CU10","v":2179.9},{"$f":"'Total NF'!CV10-Govt!CV10","v":2185.4},{"$f":"'Total NF'!CW10-Govt!CW10","v":2194.1},{"$f":"'Total NF'!CX10-Govt!CX10","v":2190.1999999999998},{"$f":"'Total NF'!CY10-Govt!CY10","v":2190.3000000000002},{"$f":"'Total NF'!CZ10-Govt!CZ10","v":2196.4},{"$f":"'Total NF'!DA10-Govt!DA10","v":2204.1},{"$f":"'Total NF'!DB10-Govt!DB10","v":2204},{"$f":"'Total NF'!DC10-Govt!DC10","v":2206.3000000000002},{"$f":"'Total NF'!DD10-Govt!DD10","v":2212.6999999999998},{"$f":"'Total NF'!DE10-Govt!DE10","v":2218},{"$f":"'Total NF'!DF10-Govt!DF10","v":2220.7000000000003},{"$f":"'Total NF'!DG10-Govt!DG10","v":2218.8999999999996},{"$f":"'Total NF'!DH10-Govt!DH10","v":2227.1999999999998},{"$f":"'Total NF'!DI10-Govt!DI10","v":2233.6},{"$f":"'Total NF'!DJ10-Govt!DJ10","v":2235.2000000000003},1.6000000000003638,7.1633237822365864E-4,27,30,45.000000000000455,2.0546068852159829E-2,13,12,44.900000000000091,2.0499474957768382E-2,10,6,393.00000000000045,0.21333188578873113,14,8]
["Connecticut","SMS09000004000000001",{"$f":"'Total NF'!C11-Govt!C11","v":1412.5},{"$f":"'Total NF'!D11-Govt!D11","v":1405.3},{"$f":"'Total NF'!E11-Govt!E11","v":1395.8},{"$f":"'Total NF'!F11-Govt!F11","v":1377.2},{"$f":"'Total NF'!G11-Govt!G11","v":1379.1000000000001},{"$f":"'Total NF'!H11-Govt!H11","v":1374.5},{"$f":"'Total NF'!I11-Govt!I11","v":1368.6},{"$f":"'Total NF'!J11-Govt!J11","v":1367.5},{"$f":"'Total NF'!K11-Govt!K11","v":1367.7},{"$f":"'Total NF'!L11-Govt!L11","v":1364.1000000000001},{"$f":"'Total NF'!M11-Govt!M11","v":1362.9},{"$f":"'Total NF'!N11-Govt!N11","v":1361.3000000000002},null,{"$f":"'Total NF'!P11-Govt!P11","v":1348.9},{"$f":"'Total NF'!Q11-Govt!Q11","v":1348.4},{"$f":"'Total NF'!R11-Govt!R11","v":1351},{"$f":"'Total NF'!S11-Govt!S11","v":1357.5},{"$f":"'Total NF'!T11-Govt!T11","v":1362.1},{"$f":"'Total NF'!U11-Govt!U11","v":1363.9},{"$f":"'Total NF'!V11-Govt!V11","v":1368.1},{"$f":"'Total NF'!W11-Govt!W11","v":1370},{"$f":"'Total NF'!X11-Govt!X11","v":1370.8},{"$f":"'Total NF'!Y11-Govt!Y11","v":1373.4},{"$f":"'Total NF'!Z11-Govt!Z11","v":1374.3999999999999},{"$f":"'Total NF'!AA11-Govt!AA11","v":1375.4},null,{"$f":"'Total NF'!AC11-Govt!AC11","v":1377.1},{"$f":"'Total NF'!AD11-Govt!AD11","v":1379.6000000000001},{"$f":"'Total NF'!AE11-Govt!AE11","v":1379},{"$f":"'Total NF'!AF11-Govt!AF11","v":1384.3000000000002},{"$f":"'Total NF'!AG11-Govt!AG11","v":1383.3},{"$f":"'Total NF'!AH11-Govt!AH11","v":1382.8},{"$f":"'Total NF'!AI11-Govt!AI11","v":1387.6},{"$f":"'Total NF'!AJ11-Govt!AJ11","v":1388.3},{"$f":"'Total NF'!AK11-Govt!AK11","v":1389.1000000000001},{"$f":"'Total NF'!AL11-Govt!AL11","v":1386.8000000000002},{"$f":"'Total NF'!AM11-Govt!AM11","v":1389.5},{"$f":"'Total NF'!AN11-Govt!AN11","v":1391.7},null,{"$f":"'Total NF'!AP11-Govt!AP11","v":1398.6000000000001},{"$f":"'Total NF'!AQ11-Govt!AQ11","v":1400},{"$f":"'Total NF'!AR11-Govt!AR11","v":1403},{"$f":"'Total NF'!AS11-Govt!AS11","v":1398.5},{"$f":"'Total NF'!AT11-Govt!AT11","v":1399.8},{"$f":"'Total NF'!AU11-Govt!AU11","v":1400.9},{"$f":"'Total NF'!AV11-Govt!AV11","v":1400.1},{"$f":"'Total NF'!AW11-Govt!AW11","v":1401.2},{"$f":"'Total NF'!AX11-Govt!AX11","v":1403.2},{"$f":"'Total NF'!AY11-Govt!AY11","v":1405.8},{"$f":"'Total NF'!AZ11-Govt!AZ11","v":1407.1999999999998},{"$f":"'Total NF'!BA11-Govt!BA11","v":1406.6},null,{"$f":"'Total NF'!BC11-Govt!BC11","v":1408.7},{"$f":"'Total NF'!BD11-Govt!BD11","v":1406.1999999999998},{"$f":"'Total NF'!BE11-Govt!BE11","v":1411.4},{"$f":"'Total NF'!BF11-Govt!BF11","v":1415},{"$f":"'Total NF'!BG11-Govt!BG11","v":1415.3},{"$f":"'Total NF'!BH11-Govt!BH11","v":1416.6},{"$f":"'Total NF'!BI11-Govt!BI11","v":1417.1999999999998},{"$f":"'Total NF'!BJ11-Govt!BJ11","v":1419.3},{"$f":"'Total NF'!BK11-Govt!BK11","v":1417.6},{"$f":"'Total NF'!BL11-Govt!BL11","v":1423.8999999999999},{"$f":"'Total NF'!BM11-Govt!BM11","v":1426.4},{"$f":"'Total NF'!BN11-Govt!BN11","v":1427.9},{"$f":"'Total NF'!BO11-Govt!BO11","v":0},{"$f":"'Total NF'!BP11-Govt!BP11","v":1422.9},{"$f":"'Total NF'!BQ11-Govt!BQ11","v":1419},{"$f":"'Total NF'!BR11-Govt!BR11","v":1421.8999999999999},{"$f":"'Total NF'!BS11-Govt!BS11","v":1425.8},{"$f":"'Total NF'!BT11-Govt!BT11","v":1427.3},{"$f":"'Total NF'!BU11-Govt!BU11","v":1426.1000000000001},{"$f":"'Total NF'!BV11-Govt!BV11","v":1427.2},{"$f":"'Total NF'!BW11-Govt!BW11","v":1427.5},{"$f":"'Total NF'!BX11-Govt!BX11","v":1428.1},{"$f":"'Total NF'!BY11-Govt!BY11","v":1432.7},{"$f":"'Total NF'!BZ11-Govt!BZ11","v":1435.5},{"$f":"'Total NF'!CA11-Govt!CA11","v":1440.3999999999999},{"$f":"'Total NF'!CB11-Govt!CB11","v":1431.6},{"$f":"'Total NF'!CC11-Govt!CC11","v":1430.1999999999998},{"$f":"'Total NF'!CD11-Govt!CD11","v":1431.3999999999999},{"$f":"'Total NF'!CE11-Govt!CE11","v":1431.1000000000001},{"$f":"'Total NF'!CF11-Govt!CF11","v":1434.6000000000001},{"$f":"'Total NF'!CG11-Govt!CG11","v":1436.3},{"$f":"'Total NF'!CH11-Govt!CH11","v":1433.6},{"$f":"'Total NF'!CI11-Govt!CI11","v":1433.5},{"$f":"'Total NF'!CJ11-Govt!CJ11","v":1433.2},{"$f":"'Total NF'!CK11-Govt!CK11","v":1435.7},{"$f":"'Total NF'!CL11-Govt!CL11","v":1440.8},{"$f":"'Total NF'!CM11-Govt!CM11","v":1442.5},{"$f":"'Total NF'!CN11-Govt!CN11","v":1439.7},{"$f":"'Total NF'!CO11-Govt!CO11","v":1442.2},{"$f":"'Total NF'!CP11-Govt!CP11","v":1445.8},{"$f":"'Total NF'!CQ11-Govt!CQ11","v":1440.1000000000001},{"$f":"'Total NF'!CR11-Govt!CR11","v":1439.1},{"$f":"'Total NF'!CS11-Govt!CS11","v":1440.7},{"$f":"'Total NF'!CT11-Govt!CT11","v":1444.6},{"$f":"'Total NF'!CU11-Govt!CU11","v":1445.5},{"$f":"'Total NF'!CV11-Govt!CV11","v":1445.9},{"$f":"'Total NF'!CW11-Govt!CW11","v":1445.3},{"$f":"'Total NF'!CX11-Govt!CX11","v":1443.9},{"$f":"'Total NF'!CY11-Govt!CY11","v":1443.6},{"$f":"'Total NF'!CZ11-Govt!CZ11","v":1450.3},{"$f":"'Total NF'!DA11-Govt!DA11","v":1450.5},{"$f":"'Total NF'!DB11-Govt!DB11","v":1451},{"$f":"'Total NF'!DC11-Govt!DC11","v":1448.3999999999999},{"$f":"'Total NF'!DD11-Govt!DD11","v":1453.3},{"$f":"'Total NF'!DE11-Govt!DE11","v":1459},{"$f":"'Total NF'!DF11-Govt!DF11","v":1458.1999999999998},{"$f":"'Total NF'!DG11-Govt!DG11","v":1454.1000000000001},{"$f":"'Total NF'!DH11-Govt!DH11","v":1455.3},{"$f":"'Total NF'!DI11-Govt!DI11","v":1450},{"$f":"'Total NF'!DJ11-Govt!DJ11","v":1446.7},-3.2999999999999545,-2.2758620689654857E-3,46,46,2.7999999999999545,1.9391924648521049E-3,44,46,3.1000000000001364,2.1474092546412693E-3,42,46,78.100000000000136,5.7065614496565935E-2,36,47]
["Delaware","SMS10000004000000001",{"$f":"'Total NF'!C12-Govt!C12","v":362.3},{"$f":"'Total NF'!D12-Govt!D12","v":360.9},{"$f":"'Total NF'!E12-Govt!E12","v":357.09999999999997},{"$f":"'Total NF'!F12-Govt!F12","v":354.09999999999997},{"$f":"'Total NF'!G12-Govt!G12","v":355.20000000000005},{"$f":"'Total NF'!H12-Govt!H12","v":353.2},{"$f":"'Total NF'!I12-Govt!I12","v":351.40000000000003},{"$f":"'Total NF'!J12-Govt!J12","v":350.5},{"$f":"'Total NF'!K12-Govt!K12","v":350},{"$f":"'Total NF'!L12-Govt!L12","v":349},{"$f":"'Total NF'!M12-Govt!M12","v":348},{"$f":"'Total NF'!N12-Govt!N12","v":347},null,{"$f":"'Total NF'!P12-Govt!P12","v":346.6},{"$f":"'Total NF'!Q12-Govt!Q12","v":344.1},{"$f":"'Total NF'!R12-Govt!R12","v":346.5},{"$f":"'Total NF'!S12-Govt!S12","v":348.6},{"$f":"'Total NF'!T12-Govt!T12","v":349.2},{"$f":"'Total NF'!U12-Govt!U12","v":350.2},{"$f":"'Total NF'!V12-Govt!V12","v":352.59999999999997},{"$f":"'Total NF'!W12-Govt!W12","v":352.9},{"$f":"'Total NF'!X12-Govt!X12","v":352.40000000000003},{"$f":"'Total NF'!Y12-Govt!Y12","v":352.5},{"$f":"'Total NF'!Z12-Govt!Z12","v":351.70000000000005},{"$f":"'Total NF'!AA12-Govt!AA12","v":352.70000000000005},null,{"$f":"'Total NF'!AC12-Govt!AC12","v":353.20000000000005},{"$f":"'Total NF'!AD12-Govt!AD12","v":354.2},{"$f":"'Total NF'!AE12-Govt!AE12","v":354},{"$f":"'Total NF'!AF12-Govt!AF12","v":355.7},{"$f":"'Total NF'!AG12-Govt!AG12","v":353.6},{"$f":"'Total NF'!AH12-Govt!AH12","v":352.79999999999995},{"$f":"'Total NF'!AI12-Govt!AI12","v":353.8},{"$f":"'Total NF'!AJ12-Govt!AJ12","v":352.40000000000003},{"$f":"'Total NF'!AK12-Govt!AK12","v":353},{"$f":"'Total NF'!AL12-Govt!AL12","v":352.4},{"$f":"'Total NF'!AM12-Govt!AM12","v":352.8},{"$f":"'Total NF'!AN12-Govt!AN12","v":353.2},null,{"$f":"'Total NF'!AP12-Govt!AP12","v":353.7},{"$f":"'Total NF'!AQ12-Govt!AQ12","v":353.7},{"$f":"'Total NF'!AR12-Govt!AR12","v":354.5},{"$f":"'Total NF'!AS12-Govt!AS12","v":354.5},{"$f":"'Total NF'!AT12-Govt!AT12","v":355},{"$f":"'Total NF'!AU12-Govt!AU12","v":355},{"$f":"'Total NF'!AV12-Govt!AV12","v":355.79999999999995},{"$f":"'Total NF'!AW12-Govt!AW12","v":355.6},{"$f":"'Total NF'!AX12-Govt!AX12","v":356.2},{"$f":"'Total NF'!AY12-Govt!AY12","v":357.9},{"$f":"'Total NF'!AZ12-Govt!AZ12","v":359.5},{"$f":"'Total NF'!BA12-Govt!BA12","v":358.90000000000003},null,{"$f":"'Total NF'!BC12-Govt!BC12","v":360.20000000000005},{"$f":"'Total NF'!BD12-Govt!BD12","v":360.7},{"$f":"'Total NF'!BE12-Govt!BE12","v":361.20000000000005},{"$f":"'Total NF'!BF12-Govt!BF12","v":361.20000000000005},{"$f":"'Total NF'!BG12-Govt!BG12","v":362.5},{"$f":"'Total NF'!BH12-Govt!BH12","v":362.20000000000005},{"$f":"'Total NF'!BI12-Govt!BI12","v":363.8},{"$f":"'Total NF'!BJ12-Govt!BJ12","v":364.6},{"$f":"'Total NF'!BK12-Govt!BK12","v":364.4},{"$f":"'Total NF'!BL12-Govt!BL12","v":367.09999999999997},{"$f":"'Total NF'!BM12-Govt!BM12","v":369.1},{"$f":"'Total NF'!BN12-Govt!BN12","v":369},{"$f":"'Total NF'!BO12-Govt!BO12","v":0},{"$f":"'Total NF'!BP12-Govt!BP12","v":369.90000000000003},{"$f":"'Total NF'!BQ12-Govt!BQ12","v":369},{"$f":"'Total NF'!BR12-Govt!BR12","v":370.4},{"$f":"'Total NF'!BS12-Govt!BS12","v":371.2},{"$f":"'Total NF'!BT12-Govt!BT12","v":372.7},{"$f":"'Total NF'!BU12-Govt!BU12","v":373.6},{"$f":"'Total NF'!BV12-Govt!BV12","v":373},{"$f":"'Total NF'!BW12-Govt!BW12","v":373.9},{"$f":"'Total NF'!BX12-Govt!BX12","v":373.3},{"$f":"'Total NF'!BY12-Govt!BY12","v":375.5},{"$f":"'Total NF'!BZ12-Govt!BZ12","v":377.1},{"$f":"'Total NF'!CA12-Govt!CA12","v":377.5},{"$f":"'Total NF'!CB12-Govt!CB12","v":379.7},{"$f":"'Total NF'!CC12-Govt!CC12","v":380.6},{"$f":"'Total NF'!CD12-Govt!CD12","v":379.9},{"$f":"'Total NF'!CE12-Govt!CE12","v":379.5},{"$f":"'Total NF'!CF12-Govt!CF12","v":381.9},{"$f":"'Total NF'!CG12-Govt!CG12","v":382.5},{"$f":"'Total NF'!CH12-Govt!CH12","v":384.6},{"$f":"'Total NF'!CI12-Govt!CI12","v":383.8},{"$f":"'Total NF'!CJ12-Govt!CJ12","v":384.20000000000005},{"$f":"'Total NF'!CK12-Govt!CK12","v":386.79999999999995},{"$f":"'Total NF'!CL12-Govt!CL12","v":388.59999999999997},{"$f":"'Total NF'!CM12-Govt!CM12","v":390.4},{"$f":"'Total NF'!CN12-Govt!CN12","v":386.2},{"$f":"'Total NF'!CO12-Govt!CO12","v":387.29999999999995},{"$f":"'Total NF'!CP12-Govt!CP12","v":388},{"$f":"'Total NF'!CQ12-Govt!CQ12","v":387.8},{"$f":"'Total NF'!CR12-Govt!CR12","v":386.29999999999995},{"$f":"'Total NF'!CS12-Govt!CS12","v":387.7},{"$f":"'Total NF'!CT12-Govt!CT12","v":388.8},{"$f":"'Total NF'!CU12-Govt!CU12","v":389.1},{"$f":"'Total NF'!CV12-Govt!CV12","v":388.7},{"$f":"'Total NF'!CW12-Govt!CW12","v":388.29999999999995},{"$f":"'Total NF'!CX12-Govt!CX12","v":388.70000000000005},{"$f":"'Total NF'!CY12-Govt!CY12","v":389.4},{"$f":"'Total NF'!CZ12-Govt!CZ12","v":390.8},{"$f":"'Total NF'!DA12-Govt!DA12","v":391},{"$f":"'Total NF'!DB12-Govt!DB12","v":390.8},{"$f":"'Total NF'!DC12-Govt!DC12","v":390.2},{"$f":"'Total NF'!DD12-Govt!DD12","v":390.7},{"$f":"'Total NF'!DE12-Govt!DE12","v":390},{"$f":"'Total NF'!DF12-Govt!DF12","v":390.8},{"$f":"'Total NF'!DG12-Govt!DG12","v":391.7},{"$f":"'Total NF'!DH12-Govt!DH12","v":390.90000000000003},{"$f":"'Total NF'!DI12-Govt!DI12","v":390.5},{"$f":"'Total NF'!DJ12-Govt!DJ12","v":389.20000000000005},-1.2999999999999545,-3.3290653008961704E-3,39,48,0.5,1.2863390789812192E-3,47,47,-0.19999999999993179,-5.1361068310203334E-4,47,47,37.800000000000011,0.10756972111553786,44,29]
["Florida","SMS12000004000000001",{"$f":"'Total NF'!C13-Govt!C13","v":6296.2},{"$f":"'Total NF'!D13-Govt!D13","v":6241.9},{"$f":"'Total NF'!E13-Govt!E13","v":6196.5},{"$f":"'Total NF'!F13-Govt!F13","v":6141.9},{"$f":"'Total NF'!G13-Govt!G13","v":6128.7999999999993},{"$f":"'Total NF'!H13-Govt!H13","v":6107.2000000000007},{"$f":"'Total NF'!I13-Govt!I13","v":6077.4},{"$f":"'Total NF'!J13-Govt!J13","v":6058.8},{"$f":"'Total NF'!K13-Govt!K13","v":6043},{"$f":"'Total NF'!L13-Govt!L13","v":6041.2},{"$f":"'Total NF'!M13-Govt!M13","v":6035.7},{"$f":"'Total NF'!N13-Govt!N13","v":6021},null,{"$f":"'Total NF'!P13-Govt!P13","v":6024.2},{"$f":"'Total NF'!Q13-Govt!Q13","v":6024.5},{"$f":"'Total NF'!R13-Govt!R13","v":6029.2999999999993},{"$f":"'Total NF'!S13-Govt!S13","v":6036.7999999999993},{"$f":"'Total NF'!T13-Govt!T13","v":6049.2},{"$f":"'Total NF'!U13-Govt!U13","v":6059.7000000000007},{"$f":"'Total NF'!V13-Govt!V13","v":6070.9000000000005},{"$f":"'Total NF'!W13-Govt!W13","v":6074.1},{"$f":"'Total NF'!X13-Govt!X13","v":6058.8},{"$f":"'Total NF'!Y13-Govt!Y13","v":6093.6},{"$f":"'Total NF'!Z13-Govt!Z13","v":6092.2999999999993},{"$f":"'Total NF'!AA13-Govt!AA13","v":6101.1},null,{"$f":"'Total NF'!AC13-Govt!AC13","v":6110.9},{"$f":"'Total NF'!AD13-Govt!AD13","v":6108.5},{"$f":"'Total NF'!AE13-Govt!AE13","v":6116.2},{"$f":"'Total NF'!AF13-Govt!AF13","v":6139.5},{"$f":"'Total NF'!AG13-Govt!AG13","v":6141.5},{"$f":"'Total NF'!AH13-Govt!AH13","v":6139.1},{"$f":"'Total NF'!AI13-Govt!AI13","v":6167.8},{"$f":"'Total NF'!AJ13-Govt!AJ13","v":6172.2000000000007},{"$f":"'Total NF'!AK13-Govt!AK13","v":6191.2999999999993},{"$f":"'Total NF'!AL13-Govt!AL13","v":6191.7999999999993},{"$f":"'Total NF'!AM13-Govt!AM13","v":6206.5999999999995},{"$f":"'Total NF'!AN13-Govt!AN13","v":6219.5},null,{"$f":"'Total NF'!AP13-Govt!AP13","v":6241.1},{"$f":"'Total NF'!AQ13-Govt!AQ13","v":6249.6},{"$f":"'Total NF'!AR13-Govt!AR13","v":6267.5},{"$f":"'Total NF'!AS13-Govt!AS13","v":6296},{"$f":"'Total NF'!AT13-Govt!AT13","v":6299.5},{"$f":"'Total NF'!AU13-Govt!AU13","v":6311.0999999999995},{"$f":"'Total NF'!AV13-Govt!AV13","v":6318.1},{"$f":"'Total NF'!AW13-Govt!AW13","v":6329},{"$f":"'Total NF'!AX13-Govt!AX13","v":6344.8},{"$f":"'Total NF'!AY13-Govt!AY13","v":6371.7},{"$f":"'Total NF'!AZ13-Govt!AZ13","v":6389.2999999999993},{"$f":"'Total NF'!BA13-Govt!BA13","v":6392.8},null,{"$f":"'Total NF'!BC13-Govt!BC13","v":6407.2999999999993},{"$f":"'Total NF'!BD13-Govt!BD13","v":6429.3},{"$f":"'Total NF'!BE13-Govt!BE13","v":6440.2000000000007},{"$f":"'Total NF'!BF13-Govt!BF13","v":6452.7},{"$f":"'Total NF'!BG13-Govt!BG13","v":6467.8},{"$f":"'Total NF'!BH13-Govt!BH13","v":6486.2},{"$f":"'Total NF'!BI13-Govt!BI13","v":6513.2999999999993},{"$f":"'Total NF'!BJ13-Govt!BJ13","v":6533.3},{"$f":"'Total NF'!BK13-Govt!BK13","v":6546.6},{"$f":"'Total NF'!BL13-Govt!BL13","v":6574},{"$f":"'Total NF'!BM13-Govt!BM13","v":6589.9000000000005},{"$f":"'Total NF'!BN13-Govt!BN13","v":6603.9000000000005},{"$f":"'Total NF'!BO13-Govt!BO13","v":0},{"$f":"'Total NF'!BP13-Govt!BP13","v":6632.3},{"$f":"'Total NF'!BQ13-Govt!BQ13","v":6650.1},{"$f":"'Total NF'!BR13-Govt!BR13","v":6664.4},{"$f":"'Total NF'!BS13-Govt!BS13","v":6693.9},{"$f":"'Total NF'!BT13-Govt!BT13","v":6716},{"$f":"'Total NF'!BU13-Govt!BU13","v":6731.6},{"$f":"'Total NF'!BV13-Govt!BV13","v":6761},{"$f":"'Total NF'!BW13-Govt!BW13","v":6786.2},{"$f":"'Total NF'!BX13-Govt!BX13","v":6806.5},{"$f":"'Total NF'!BY13-Govt!BY13","v":6834.5},{"$f":"'Total NF'!BZ13-Govt!BZ13","v":6866.7999999999993},{"$f":"'Total NF'!CA13-Govt!CA13","v":6886.4},{"$f":"'Total NF'!CB13-Govt!CB13","v":6904.4},{"$f":"'Total NF'!CC13-Govt!CC13","v":6920.7},{"$f":"'Total NF'!CD13-Govt!CD13","v":6936.3},{"$f":"'Total NF'!CE13-Govt!CE13","v":6950.4},{"$f":"'Total NF'!CF13-Govt!CF13","v":6979.1},{"$f":"'Total NF'!CG13-Govt!CG13","v":7000.4},{"$f":"'Total NF'!CH13-Govt!CH13","v":7028.6},{"$f":"'Total NF'!CI13-Govt!CI13","v":7050.5},{"$f":"'Total NF'!CJ13-Govt!CJ13","v":7070},{"$f":"'Total NF'!CK13-Govt!CK13","v":7095.2},{"$f":"'Total NF'!CL13-Govt!CL13","v":7115.4000000000005},{"$f":"'Total NF'!CM13-Govt!CM13","v":7124.7},{"$f":"'Total NF'!CN13-Govt!CN13","v":7182.4},{"$f":"'Total NF'!CO13-Govt!CO13","v":7206.3000000000011},{"$f":"'Total NF'!CP13-Govt!CP13","v":7219.0999999999995},{"$f":"'Total NF'!CQ13-Govt!CQ13","v":7246.5},{"$f":"'Total NF'!CR13-Govt!CR13","v":7260.7},{"$f":"'Total NF'!CS13-Govt!CS13","v":7269.5},{"$f":"'Total NF'!CT13-Govt!CT13","v":7310.6},{"$f":"'Total NF'!CU13-Govt!CU13","v":7328.3},{"$f":"'Total NF'!CV13-Govt!CV13","v":7352.7000000000007},{"$f":"'Total NF'!CW13-Govt!CW13","v":7358.4000000000005},{"$f":"'Total NF'!CX13-Govt!CX13","v":7382.9},{"$f":"'Total NF'!CY13-Govt!CY13","v":7392.2999999999993},{"$f":"'Total NF'!CZ13-Govt!CZ13","v":7444.7},{"$f":"'Total NF'!DA13-Govt!DA13","v":7451.1999999999989},{"$f":"'Total NF'!DB13-Govt!DB13","v":7440.6},{"$f":"'Total NF'!DC13-Govt!DC13","v":7455.0999999999995},{"$f":"'Total NF'!DD13-Govt!DD13","v":7479.4999999999991},{"$f":"'Total NF'!DE13-Govt!DE13","v":7496.3},{"$f":"'Total NF'!DF13-Govt!DF13","v":7518.7999999999993},{"$f":"'Total NF'!DG13-Govt!DG13","v":7537.7},{"$f":"'Total NF'!DH13-Govt!DH13","v":7420.7999999999993},{"$f":"'Total NF'!DI13-Govt!DI13","v":7551.7999999999993},{"$f":"'Total NF'!DJ13-Govt!DJ13","v":7565.7},13.900000000000546,1.8406207791520626E-3,4,18,182.80000000000018,2.4759918189329422E-2,3,4,173.40000000000055,2.345684022564027E-2,3,3,1488.3000000000002,0.24489090729588314,3,2]
["Georgia","SMS13000004000000001",{"$f":"'Total NF'!C14-Govt!C14","v":3286.3999999999996},{"$f":"'Total NF'!D14-Govt!D14","v":3259.5},{"$f":"'Total NF'!E14-Govt!E14","v":3231.7},{"$f":"'Total NF'!F14-Govt!F14","v":3209.1000000000004},{"$f":"'Total NF'!G14-Govt!G14","v":3199.7000000000003},{"$f":"'Total NF'!H14-Govt!H14","v":3188.3999999999996},{"$f":"'Total NF'!I14-Govt!I14","v":3170.8999999999996},{"$f":"'Total NF'!J14-Govt!J14","v":3162.7},{"$f":"'Total NF'!K14-Govt!K14","v":3149.5},{"$f":"'Total NF'!L14-Govt!L14","v":3151.9},{"$f":"'Total NF'!M14-Govt!M14","v":3151.3999999999996},{"$f":"'Total NF'!N14-Govt!N14","v":3144.2999999999997},null,{"$f":"'Total NF'!P14-Govt!P14","v":3141.6},{"$f":"'Total NF'!Q14-Govt!Q14","v":3139.4},{"$f":"'Total NF'!R14-Govt!R14","v":3143.6000000000004},{"$f":"'Total NF'!S14-Govt!S14","v":3147.7999999999997},{"$f":"'Total NF'!T14-Govt!T14","v":3155.3},{"$f":"'Total NF'!U14-Govt!U14","v":3157.3},{"$f":"'Total NF'!V14-Govt!V14","v":3164.1000000000004},{"$f":"'Total NF'!W14-Govt!W14","v":3169.4},{"$f":"'Total NF'!X14-Govt!X14","v":3173.6},{"$f":"'Total NF'!Y14-Govt!Y14","v":3183.4},{"$f":"'Total NF'!Z14-Govt!Z14","v":3185.6},{"$f":"'Total NF'!AA14-Govt!AA14","v":3184.2000000000003},null,{"$f":"'Total NF'!AC14-Govt!AC14","v":3162.2},{"$f":"'Total NF'!AD14-Govt!AD14","v":3199.3999999999996},{"$f":"'Total NF'!AE14-Govt!AE14","v":3204.7},{"$f":"'Total NF'!AF14-Govt!AF14","v":3218.5},{"$f":"'Total NF'!AG14-Govt!AG14","v":3216.1},{"$f":"'Total NF'!AH14-Govt!AH14","v":3216},{"$f":"'Total NF'!AI14-Govt!AI14","v":3219.8999999999996},{"$f":"'Total NF'!AJ14-Govt!AJ14","v":3223.6000000000004},{"$f":"'Total NF'!AK14-Govt!AK14","v":3230.3999999999996},{"$f":"'Total NF'!AL14-Govt!AL14","v":3225},{"$f":"'Total NF'!AM14-Govt!AM14","v":3231.8},{"$f":"'Total NF'!AN14-Govt!AN14","v":3227.9},null,{"$f":"'Total NF'!AP14-Govt!AP14","v":3239.8},{"$f":"'Total NF'!AQ14-Govt!AQ14","v":3244.6},{"$f":"'Total NF'!AR14-Govt!AR14","v":3252.5},{"$f":"'Total NF'!AS14-Govt!AS14","v":3259.7},{"$f":"'Total NF'!AT14-Govt!AT14","v":3263.8},{"$f":"'Total NF'!AU14-Govt!AU14","v":3268.7000000000003},{"$f":"'Total NF'!AV14-Govt!AV14","v":3266.1},{"$f":"'Total NF'!AW14-Govt!AW14","v":3270},{"$f":"'Total NF'!AX14-Govt!AX14","v":3272.7000000000003},{"$f":"'Total NF'!AY14-Govt!AY14","v":3287.7000000000003},{"$f":"'Total NF'!AZ14-Govt!AZ14","v":3296.5},{"$f":"'Total NF'!BA14-Govt!BA14","v":3299.8},null,{"$f":"'Total NF'!BC14-Govt!BC14","v":3311.6},{"$f":"'Total NF'!BD14-Govt!BD14","v":3322},{"$f":"'Total NF'!BE14-Govt!BE14","v":3325.8999999999996},{"$f":"'Total NF'!BF14-Govt!BF14","v":3335},{"$f":"'Total NF'!BG14-Govt!BG14","v":3338.6000000000004},{"$f":"'Total NF'!BH14-Govt!BH14","v":3345.6},{"$f":"'Total NF'!BI14-Govt!BI14","v":3356.7999999999997},{"$f":"'Total NF'!BJ14-Govt!BJ14","v":3365.2},{"$f":"'Total NF'!BK14-Govt!BK14","v":3370.7000000000003},{"$f":"'Total NF'!BL14-Govt!BL14","v":3374.5},{"$f":"'Total NF'!BM14-Govt!BM14","v":3388.7},{"$f":"'Total NF'!BN14-Govt!BN14","v":3394.7},{"$f":"'Total NF'!BO14-Govt!BO14","v":0},{"$f":"'Total NF'!BP14-Govt!BP14","v":3408.8999999999996},{"$f":"'Total NF'!BQ14-Govt!BQ14","v":3408.9},{"$f":"'Total NF'!BR14-Govt!BR14","v":3431.7},{"$f":"'Total NF'!BS14-Govt!BS14","v":3442.7000000000003},{"$f":"'Total NF'!BT14-Govt!BT14","v":3453.2},{"$f":"'Total NF'!BU14-Govt!BU14","v":3463.4},{"$f":"'Total NF'!BV14-Govt!BV14","v":3477.1000000000004},{"$f":"'Total NF'!BW14-Govt!BW14","v":3487.6000000000004},{"$f":"'Total NF'!BX14-Govt!BX14","v":3497.8999999999996},{"$f":"'Total NF'!BY14-Govt!BY14","v":3517.3999999999996},{"$f":"'Total NF'!BZ14-Govt!BZ14","v":3527.7},{"$f":"'Total NF'!CA14-Govt!CA14","v":3539},{"$f":"'Total NF'!CB14-Govt!CB14","v":3531.9999999999995},{"$f":"'Total NF'!CC14-Govt!CC14","v":3547.2000000000003},{"$f":"'Total NF'!CD14-Govt!CD14","v":3550.4000000000005},{"$f":"'Total NF'!CE14-Govt!CE14","v":3551.7},{"$f":"'Total NF'!CF14-Govt!CF14","v":3568.2},{"$f":"'Total NF'!CG14-Govt!CG14","v":3584.8999999999996},{"$f":"'Total NF'!CH14-Govt!CH14","v":3590.1},{"$f":"'Total NF'!CI14-Govt!CI14","v":3599.7},{"$f":"'Total NF'!CJ14-Govt!CJ14","v":3606.8999999999996},{"$f":"'Total NF'!CK14-Govt!CK14","v":3631.7},{"$f":"'Total NF'!CL14-Govt!CL14","v":3642.2},{"$f":"'Total NF'!CM14-Govt!CM14","v":3649.0000000000005},{"$f":"'Total NF'!CN14-Govt!CN14","v":3646.1},{"$f":"'Total NF'!CO14-Govt!CO14","v":3655.8999999999996},{"$f":"'Total NF'!CP14-Govt!CP14","v":3658.3},{"$f":"'Total NF'!CQ14-Govt!CQ14","v":3669.0000000000005},{"$f":"'Total NF'!CR14-Govt!CR14","v":3676.3999999999996},{"$f":"'Total NF'!CS14-Govt!CS14","v":3685.7999999999997},{"$f":"'Total NF'!CT14-Govt!CT14","v":3696.0000000000005},{"$f":"'Total NF'!CU14-Govt!CU14","v":3703.7999999999997},{"$f":"'Total NF'!CV14-Govt!CV14","v":3722.8},{"$f":"'Total NF'!CW14-Govt!CW14","v":3731.4},{"$f":"'Total NF'!CX14-Govt!CX14","v":3736.0000000000005},{"$f":"'Total NF'!CY14-Govt!CY14","v":3744.6},{"$f":"'Total NF'!CZ14-Govt!CZ14","v":3747.1},{"$f":"'Total NF'!DA14-Govt!DA14","v":3763.1000000000004},{"$f":"'Total NF'!DB14-Govt!DB14","v":3777.6},{"$f":"'Total NF'!DC14-Govt!DC14","v":3776.0000000000005},{"$f":"'Total NF'!DD14-Govt!DD14","v":3774.8},{"$f":"'Total NF'!DE14-Govt!DE14","v":3798.7},{"$f":"'Total NF'!DF14-Govt!DF14","v":3789.7},{"$f":"'Total NF'!DG14-Govt!DG14","v":3798.1},{"$f":"'Total NF'!DH14-Govt!DH14","v":3796.5},{"$f":"'Total NF'!DI14-Govt!DI14","v":3808.5999999999995},{"$f":"'Total NF'!DJ14-Govt!DJ14","v":3812.1000000000004},3.5000000000009095,9.189728509165861E-4,17,27,76.099999999999909,2.0369379014989267E-2,5,14,67.500000000000455,1.8025957378625342E-2,5,12,641.20000000000073,0.20221388249392941,5,11]
["Hawaii","SMS15000004000000001",{"$f":"'Total NF'!C15-Govt!C15","v":476.19999999999993},{"$f":"'Total NF'!D15-Govt!D15","v":473.9},{"$f":"'Total NF'!E15-Govt!E15","v":471.6},{"$f":"'Total NF'!F15-Govt!F15","v":466.99999999999994},{"$f":"'Total NF'!G15-Govt!G15","v":465.9},{"$f":"'Total NF'!H15-Govt!H15","v":465.79999999999995},{"$f":"'Total NF'!I15-Govt!I15","v":463},{"$f":"'Total NF'!J15-Govt!J15","v":462.2},{"$f":"'Total NF'!K15-Govt!K15","v":461.59999999999997},{"$f":"'Total NF'!L15-Govt!L15","v":462.1},{"$f":"'Total NF'!M15-Govt!M15","v":460.50000000000006},{"$f":"'Total NF'!N15-Govt!N15","v":459.3},null,{"$f":"'Total NF'!P15-Govt!P15","v":459.79999999999995},{"$f":"'Total NF'!Q15-Govt!Q15","v":460.1},{"$f":"'Total NF'!R15-Govt!R15","v":459.79999999999995},{"$f":"'Total NF'!S15-Govt!S15","v":460.29999999999995},{"$f":"'Total NF'!T15-Govt!T15","v":461.19999999999993},{"$f":"'Total NF'!U15-Govt!U15","v":459.9},{"$f":"'Total NF'!V15-Govt!V15","v":460.3},{"$f":"'Total NF'!W15-Govt!W15","v":461.5},{"$f":"'Total NF'!X15-Govt!X15","v":462.59999999999997},{"$f":"'Total NF'!Y15-Govt!Y15","v":464.70000000000005},{"$f":"'Total NF'!Z15-Govt!Z15","v":464.6},{"$f":"'Total NF'!AA15-Govt!AA15","v":465.7},null,{"$f":"'Total NF'!AC15-Govt!AC15","v":464.59999999999997},{"$f":"'Total NF'!AD15-Govt!AD15","v":466.59999999999997},{"$f":"'Total NF'!AE15-Govt!AE15","v":468},{"$f":"'Total NF'!AF15-Govt!AF15","v":466.4},{"$f":"'Total NF'!AG15-Govt!AG15","v":466.20000000000005},{"$f":"'Total NF'!AH15-Govt!AH15","v":465.4},{"$f":"'Total NF'!AI15-Govt!AI15","v":468.59999999999997},{"$f":"'Total NF'!AJ15-Govt!AJ15","v":469.59999999999997},{"$f":"'Total NF'!AK15-Govt!AK15","v":471.4},{"$f":"'Total NF'!AL15-Govt!AL15","v":471.4},{"$f":"'Total NF'!AM15-Govt!AM15","v":473.5},{"$f":"'Total NF'!AN15-Govt!AN15","v":474.19999999999993},null,{"$f":"'Total NF'!AP15-Govt!AP15","v":473.7},{"$f":"'Total NF'!AQ15-Govt!AQ15","v":474.49999999999994},{"$f":"'Total NF'!AR15-Govt!AR15","v":474.5},{"$f":"'Total NF'!AS15-Govt!AS15","v":477.80000000000007},{"$f":"'Total NF'!AT15-Govt!AT15","v":479.6},{"$f":"'Total NF'!AU15-Govt!AU15","v":480},{"$f":"'Total NF'!AV15-Govt!AV15","v":481.1},{"$f":"'Total NF'!AW15-Govt!AW15","v":483},{"$f":"'Total NF'!AX15-Govt!AX15","v":484.1},{"$f":"'Total NF'!AY15-Govt!AY15","v":485.4},{"$f":"'Total NF'!AZ15-Govt!AZ15","v":487.9},{"$f":"'Total NF'!BA15-Govt!BA15","v":487.5},null,{"$f":"'Total NF'!BC15-Govt!BC15","v":488.69999999999993},{"$f":"'Total NF'!BD15-Govt!BD15","v":489.6},{"$f":"'Total NF'!BE15-Govt!BE15","v":490.4},{"$f":"'Total NF'!BF15-Govt!BF15","v":491.7},{"$f":"'Total NF'!BG15-Govt!BG15","v":491.40000000000003},{"$f":"'Total NF'!BH15-Govt!BH15","v":492},{"$f":"'Total NF'!BI15-Govt!BI15","v":494.1},{"$f":"'Total NF'!BJ15-Govt!BJ15","v":494},{"$f":"'Total NF'!BK15-Govt!BK15","v":494.09999999999997},{"$f":"'Total NF'!BL15-Govt!BL15","v":494.6},{"$f":"'Total NF'!BM15-Govt!BM15","v":496.49999999999994},{"$f":"'Total NF'!BN15-Govt!BN15","v":497.5},{"$f":"'Total NF'!BO15-Govt!BO15","v":0},{"$f":"'Total NF'!BP15-Govt!BP15","v":497.7},{"$f":"'Total NF'!BQ15-Govt!BQ15","v":497.59999999999997},{"$f":"'Total NF'!BR15-Govt!BR15","v":499.1},{"$f":"'Total NF'!BS15-Govt!BS15","v":498.40000000000003},{"$f":"'Total NF'!BT15-Govt!BT15","v":499.5},{"$f":"'Total NF'!BU15-Govt!BU15","v":498.8},{"$f":"'Total NF'!BV15-Govt!BV15","v":499.7},{"$f":"'Total NF'!BW15-Govt!BW15","v":499.6},{"$f":"'Total NF'!BX15-Govt!BX15","v":501.40000000000003},{"$f":"'Total NF'!BY15-Govt!BY15","v":500.20000000000005},{"$f":"'Total NF'!BZ15-Govt!BZ15","v":501.20000000000005},{"$f":"'Total NF'!CA15-Govt!CA15","v":501.2},{"$f":"'Total NF'!CB15-Govt!CB15","v":506.29999999999995},{"$f":"'Total NF'!CC15-Govt!CC15","v":507.5},{"$f":"'Total NF'!CD15-Govt!CD15","v":508.4},{"$f":"'Total NF'!CE15-Govt!CE15","v":507.79999999999995},{"$f":"'Total NF'!CF15-Govt!CF15","v":508.8},{"$f":"'Total NF'!CG15-Govt!CG15","v":510.00000000000006},{"$f":"'Total NF'!CH15-Govt!CH15","v":510.70000000000005},{"$f":"'Total NF'!CI15-Govt!CI15","v":511.3},{"$f":"'Total NF'!CJ15-Govt!CJ15","v":511.09999999999997},{"$f":"'Total NF'!CK15-Govt!CK15","v":513},{"$f":"'Total NF'!CL15-Govt!CL15","v":513.70000000000005},{"$f":"'Total NF'!CM15-Govt!CM15","v":515.1},{"$f":"'Total NF'!CN15-Govt!CN15","v":518},{"$f":"'Total NF'!CO15-Govt!CO15","v":519.6},{"$f":"'Total NF'!CP15-Govt!CP15","v":519.30000000000007},{"$f":"'Total NF'!CQ15-Govt!CQ15","v":520},{"$f":"'Total NF'!CR15-Govt!CR15","v":520.20000000000005},{"$f":"'Total NF'!CS15-Govt!CS15","v":519.19999999999993},{"$f":"'Total NF'!CT15-Govt!CT15","v":522.6},{"$f":"'Total NF'!CU15-Govt!CU15","v":523.9},{"$f":"'Total NF'!CV15-Govt!CV15","v":524},{"$f":"'Total NF'!CW15-Govt!CW15","v":524.09999999999991},{"$f":"'Total NF'!CX15-Govt!CX15","v":523.40000000000009},{"$f":"'Total NF'!CY15-Govt!CY15","v":525.69999999999993},{"$f":"'Total NF'!CZ15-Govt!CZ15","v":524.1},{"$f":"'Total NF'!DA15-Govt!DA15","v":523.59999999999991},{"$f":"'Total NF'!DB15-Govt!DB15","v":523.70000000000005},{"$f":"'Total NF'!DC15-Govt!DC15","v":526.6},{"$f":"'Total NF'!DD15-Govt!DD15","v":527.4},{"$f":"'Total NF'!DE15-Govt!DE15","v":528.69999999999993},{"$f":"'Total NF'!DF15-Govt!DF15","v":534.70000000000005},{"$f":"'Total NF'!DG15-Govt!DG15","v":531.59999999999991},{"$f":"'Total NF'!DH15-Govt!DH15","v":532.6},{"$f":"'Total NF'!DI15-Govt!DI15","v":532.5},{"$f":"'Total NF'!DJ15-Govt!DJ15","v":532.70000000000005},0.20000000000004547,3.7558685446017928E-4,35,34,9.2999999999999545,1.7768437141765289E-2,36,17,7.0000000000001137,1.3315579227696623E-2,38,27,69.700000000000045,0.15053995680345583,38,20]
["Idaho","SMS16000004000000001",{"$f":"'Total NF'!C16-Govt!C16","v":505.20000000000005},{"$f":"'Total NF'!D16-Govt!D16","v":501.70000000000005},{"$f":"'Total NF'!E16-Govt!E16","v":495.6},{"$f":"'Total NF'!F16-Govt!F16","v":489.90000000000003},{"$f":"'Total NF'!G16-Govt!G16","v":489.4},{"$f":"'Total NF'!H16-Govt!H16","v":488.4},{"$f":"'Total NF'!I16-Govt!I16","v":486.40000000000003},{"$f":"'Total NF'!J16-Govt!J16","v":485.7},{"$f":"'Total NF'!K16-Govt!K16","v":485.7},{"$f":"'Total NF'!L16-Govt!L16","v":485.6},{"$f":"'Total NF'!M16-Govt!M16","v":485.3},{"$f":"'Total NF'!N16-Govt!N16","v":484.40000000000003},null,{"$f":"'Total NF'!P16-Govt!P16","v":482.1},{"$f":"'Total NF'!Q16-Govt!Q16","v":482.99999999999994},{"$f":"'Total NF'!R16-Govt!R16","v":483.8},{"$f":"'Total NF'!S16-Govt!S16","v":484.3},{"$f":"'Total NF'!T16-Govt!T16","v":484.30000000000007},{"$f":"'Total NF'!U16-Govt!U16","v":483.4},{"$f":"'Total NF'!V16-Govt!V16","v":484.7},{"$f":"'Total NF'!W16-Govt!W16","v":485.6},{"$f":"'Total NF'!X16-Govt!X16","v":484.59999999999997},{"$f":"'Total NF'!Y16-Govt!Y16","v":487.90000000000003},{"$f":"'Total NF'!Z16-Govt!Z16","v":488.70000000000005},{"$f":"'Total NF'!AA16-Govt!AA16","v":488.1},null,{"$f":"'Total NF'!AC16-Govt!AC16","v":489.99999999999994},{"$f":"'Total NF'!AD16-Govt!AD16","v":489.40000000000003},{"$f":"'Total NF'!AE16-Govt!AE16","v":488.3},{"$f":"'Total NF'!AF16-Govt!AF16","v":491.1},{"$f":"'Total NF'!AG16-Govt!AG16","v":491.1},{"$f":"'Total NF'!AH16-Govt!AH16","v":491.19999999999993},{"$f":"'Total NF'!AI16-Govt!AI16","v":493.80000000000007},{"$f":"'Total NF'!AJ16-Govt!AJ16","v":495.20000000000005},{"$f":"'Total NF'!AK16-Govt!AK16","v":496.59999999999997},{"$f":"'Total NF'!AL16-Govt!AL16","v":497.1},{"$f":"'Total NF'!AM16-Govt!AM16","v":499.80000000000007},{"$f":"'Total NF'!AN16-Govt!AN16","v":500.69999999999993},null,{"$f":"'Total NF'!AP16-Govt!AP16","v":500.5},{"$f":"'Total NF'!AQ16-Govt!AQ16","v":501.3},{"$f":"'Total NF'!AR16-Govt!AR16","v":502.40000000000003},{"$f":"'Total NF'!AS16-Govt!AS16","v":501.3},{"$f":"'Total NF'!AT16-Govt!AT16","v":503.1},{"$f":"'Total NF'!AU16-Govt!AU16","v":503.6},{"$f":"'Total NF'!AV16-Govt!AV16","v":504.40000000000003},{"$f":"'Total NF'!AW16-Govt!AW16","v":505.2},{"$f":"'Total NF'!AX16-Govt!AX16","v":506.7},{"$f":"'Total NF'!AY16-Govt!AY16","v":509.2},{"$f":"'Total NF'!AZ16-Govt!AZ16","v":510.2},{"$f":"'Total NF'!BA16-Govt!BA16","v":511.50000000000006},null,{"$f":"'Total NF'!BC16-Govt!BC16","v":514.30000000000007},{"$f":"'Total NF'!BD16-Govt!BD16","v":516.70000000000005},{"$f":"'Total NF'!BE16-Govt!BE16","v":518.5},{"$f":"'Total NF'!BF16-Govt!BF16","v":520.69999999999993},{"$f":"'Total NF'!BG16-Govt!BG16","v":521.5},{"$f":"'Total NF'!BH16-Govt!BH16","v":522.20000000000005},{"$f":"'Total NF'!BI16-Govt!BI16","v":522.6},{"$f":"'Total NF'!BJ16-Govt!BJ16","v":522.70000000000005},{"$f":"'Total NF'!BK16-Govt!BK16","v":522},{"$f":"'Total NF'!BL16-Govt!BL16","v":521},{"$f":"'Total NF'!BM16-Govt!BM16","v":519.5},{"$f":"'Total NF'!BN16-Govt!BN16","v":518.70000000000005},{"$f":"'Total NF'!BO16-Govt!BO16","v":0},{"$f":"'Total NF'!BP16-Govt!BP16","v":530.40000000000009},{"$f":"'Total NF'!BQ16-Govt!BQ16","v":533},{"$f":"'Total NF'!BR16-Govt!BR16","v":534.1},{"$f":"'Total NF'!BS16-Govt!BS16","v":535.9},{"$f":"'Total NF'!BT16-Govt!BT16","v":536.1},{"$f":"'Total NF'!BU16-Govt!BU16","v":537},{"$f":"'Total NF'!BV16-Govt!BV16","v":537.59999999999991},{"$f":"'Total NF'!BW16-Govt!BW16","v":537.6},{"$f":"'Total NF'!BX16-Govt!BX16","v":537.30000000000007},{"$f":"'Total NF'!BY16-Govt!BY16","v":538.29999999999995},{"$f":"'Total NF'!BZ16-Govt!BZ16","v":538.70000000000005},{"$f":"'Total NF'!CA16-Govt!CA16","v":538.9},{"$f":"'Total NF'!CB16-Govt!CB16","v":545.4},{"$f":"'Total NF'!CC16-Govt!CC16","v":546.6},{"$f":"'Total NF'!CD16-Govt!CD16","v":549.29999999999995},{"$f":"'Total NF'!CE16-Govt!CE16","v":550.29999999999995},{"$f":"'Total NF'!CF16-Govt!CF16","v":551.20000000000005},{"$f":"'Total NF'!CG16-Govt!CG16","v":553},{"$f":"'Total NF'!CH16-Govt!CH16","v":554.1},{"$f":"'Total NF'!CI16-Govt!CI16","v":554.6},{"$f":"'Total NF'!CJ16-Govt!CJ16","v":555.9},{"$f":"'Total NF'!CK16-Govt!CK16","v":559.70000000000005},{"$f":"'Total NF'!CL16-Govt!CL16","v":562.9},{"$f":"'Total NF'!CM16-Govt!CM16","v":566.29999999999995},{"$f":"'Total NF'!CN16-Govt!CN16","v":565.19999999999993},{"$f":"'Total NF'!CO16-Govt!CO16","v":568.1},{"$f":"'Total NF'!CP16-Govt!CP16","v":569.9},{"$f":"'Total NF'!CQ16-Govt!CQ16","v":571.30000000000007},{"$f":"'Total NF'!CR16-Govt!CR16","v":571.29999999999995},{"$f":"'Total NF'!CS16-Govt!CS16","v":572.70000000000005},{"$f":"'Total NF'!CT16-Govt!CT16","v":575.5},{"$f":"'Total NF'!CU16-Govt!CU16","v":576.9},{"$f":"'Total NF'!CV16-Govt!CV16","v":577.79999999999995},{"$f":"'Total NF'!CW16-Govt!CW16","v":579.70000000000005},{"$f":"'Total NF'!CX16-Govt!CX16","v":582},{"$f":"'Total NF'!CY16-Govt!CY16","v":584.9},{"$f":"'Total NF'!CZ16-Govt!CZ16","v":588.79999999999995},{"$f":"'Total NF'!DA16-Govt!DA16","v":588.19999999999993},{"$f":"'Total NF'!DB16-Govt!DB16","v":585.30000000000007},{"$f":"'Total NF'!DC16-Govt!DC16","v":586.1},{"$f":"'Total NF'!DD16-Govt!DD16","v":584.79999999999995},{"$f":"'Total NF'!DE16-Govt!DE16","v":584.19999999999993},{"$f":"'Total NF'!DF16-Govt!DF16","v":586.5},{"$f":"'Total NF'!DG16-Govt!DG16","v":588.79999999999995},{"$f":"'Total NF'!DH16-Govt!DH16","v":589.19999999999993},{"$f":"'Total NF'!DI16-Govt!DI16","v":594.5},{"$f":"'Total NF'!DJ16-Govt!DJ16","v":594.9},0.39999999999997726,6.7283431455000386E-4,33,31,12.899999999999977,2.2164948453608207E-2,34,8,10,1.7096939647803042E-2,34,16,108.49999999999994,0.22306743421052619,31,5]
["Illinois","SMS17000004000000001",{"$f":"'Total NF'!C17-Govt!C17","v":4946.8},{"$f":"'Total NF'!D17-Govt!D17","v":4912.2},{"$f":"'Total NF'!E17-Govt!E17","v":4871.6000000000004},{"$f":"'Total NF'!F17-Govt!F17","v":4816.2},{"$f":"'Total NF'!G17-Govt!G17","v":4806.5999999999995},{"$f":"'Total NF'!H17-Govt!H17","v":4785},{"$f":"'Total NF'!I17-Govt!I17","v":4766.8},{"$f":"'Total NF'!J17-Govt!J17","v":4756.2},{"$f":"'Total NF'!K17-Govt!K17","v":4743.7999999999993},{"$f":"'Total NF'!L17-Govt!L17","v":4734.8},{"$f":"'Total NF'!M17-Govt!M17","v":4735.8},{"$f":"'Total NF'!N17-Govt!N17","v":4728.2},null,{"$f":"'Total NF'!P17-Govt!P17","v":4727.7999999999993},{"$f":"'Total NF'!Q17-Govt!Q17","v":4730.5},{"$f":"'Total NF'!R17-Govt!R17","v":4731.3},{"$f":"'Total NF'!S17-Govt!S17","v":4743.8999999999996},{"$f":"'Total NF'!T17-Govt!T17","v":4752.9000000000005},{"$f":"'Total NF'!U17-Govt!U17","v":4755.1000000000004},{"$f":"'Total NF'!V17-Govt!V17","v":4750.2999999999993},{"$f":"'Total NF'!W17-Govt!W17","v":4764.2999999999993},{"$f":"'Total NF'!X17-Govt!X17","v":4767.9000000000005},{"$f":"'Total NF'!Y17-Govt!Y17","v":4789.4000000000005},{"$f":"'Total NF'!Z17-Govt!Z17","v":4796.8999999999996},{"$f":"'Total NF'!AA17-Govt!AA17","v":4798.5},null,{"$f":"'Total NF'!AC17-Govt!AC17","v":4806.5},{"$f":"'Total NF'!AD17-Govt!AD17","v":4809.8},{"$f":"'Total NF'!AE17-Govt!AE17","v":4819.3},{"$f":"'Total NF'!AF17-Govt!AF17","v":4827.5},{"$f":"'Total NF'!AG17-Govt!AG17","v":4830.3999999999996},{"$f":"'Total NF'!AH17-Govt!AH17","v":4833.9000000000005},{"$f":"'Total NF'!AI17-Govt!AI17","v":4842.1000000000004},{"$f":"'Total NF'!AJ17-Govt!AJ17","v":4851.4000000000005},{"$f":"'Total NF'!AK17-Govt!AK17","v":4856.3},{"$f":"'Total NF'!AL17-Govt!AL17","v":4857.4000000000005},{"$f":"'Total NF'!AM17-Govt!AM17","v":4861.5},{"$f":"'Total NF'!AN17-Govt!AN17","v":4867},null,{"$f":"'Total NF'!AP17-Govt!AP17","v":4886.5},{"$f":"'Total NF'!AQ17-Govt!AQ17","v":4892.0999999999995},{"$f":"'Total NF'!AR17-Govt!AR17","v":4906.9000000000005},{"$f":"'Total NF'!AS17-Govt!AS17","v":4910},{"$f":"'Total NF'!AT17-Govt!AT17","v":4909.5},{"$f":"'Total NF'!AU17-Govt!AU17","v":4916.7000000000007},{"$f":"'Total NF'!AV17-Govt!AV17","v":4919.3},{"$f":"'Total NF'!AW17-Govt!AW17","v":4923},{"$f":"'Total NF'!AX17-Govt!AX17","v":4931.5},{"$f":"'Total NF'!AY17-Govt!AY17","v":4929.5999999999995},{"$f":"'Total NF'!AZ17-Govt!AZ17","v":4940.4000000000005},{"$f":"'Total NF'!BA17-Govt!BA17","v":4944.5999999999995},null,{"$f":"'Total NF'!BC17-Govt!BC17","v":4945.9000000000005},{"$f":"'Total NF'!BD17-Govt!BD17","v":4957.7},{"$f":"'Total NF'!BE17-Govt!BE17","v":4954.8},{"$f":"'Total NF'!BF17-Govt!BF17","v":4948.7000000000007},{"$f":"'Total NF'!BG17-Govt!BG17","v":4958.7},{"$f":"'Total NF'!BH17-Govt!BH17","v":4964.7000000000007},{"$f":"'Total NF'!BI17-Govt!BI17","v":4962.2},{"$f":"'Total NF'!BJ17-Govt!BJ17","v":4970},{"$f":"'Total NF'!BK17-Govt!BK17","v":4968.3},{"$f":"'Total NF'!BL17-Govt!BL17","v":4986.8999999999996},{"$f":"'Total NF'!BM17-Govt!BM17","v":4995.1000000000004},{"$f":"'Total NF'!BN17-Govt!BN17","v":4995.9000000000005},{"$f":"'Total NF'!BO17-Govt!BO17","v":0},{"$f":"'Total NF'!BP17-Govt!BP17","v":5008.3999999999996},{"$f":"'Total NF'!BQ17-Govt!BQ17","v":5011.8},{"$f":"'Total NF'!BR17-Govt!BR17","v":5019},{"$f":"'Total NF'!BS17-Govt!BS17","v":5030.5},{"$f":"'Total NF'!BT17-Govt!BT17","v":5040.7999999999993},{"$f":"'Total NF'!BU17-Govt!BU17","v":5044.8},{"$f":"'Total NF'!BV17-Govt!BV17","v":5046.5999999999995},{"$f":"'Total NF'!BW17-Govt!BW17","v":5050.8999999999996},{"$f":"'Total NF'!BX17-Govt!BX17","v":5053.7000000000007},{"$f":"'Total NF'!BY17-Govt!BY17","v":5054.2999999999993},{"$f":"'Total NF'!BZ17-Govt!BZ17","v":5060.1000000000004},{"$f":"'Total NF'!CA17-Govt!CA17","v":5075.8},{"$f":"'Total NF'!CB17-Govt!CB17","v":5090.5},{"$f":"'Total NF'!CC17-Govt!CC17","v":5099.8},{"$f":"'Total NF'!CD17-Govt!CD17","v":5100.8},{"$f":"'Total NF'!CE17-Govt!CE17","v":5115.9000000000005},{"$f":"'Total NF'!CF17-Govt!CF17","v":5130.2999999999993},{"$f":"'Total NF'!CG17-Govt!CG17","v":5133.5},{"$f":"'Total NF'!CH17-Govt!CH17","v":5141.3999999999996},{"$f":"'Total NF'!CI17-Govt!CI17","v":5139},{"$f":"'Total NF'!CJ17-Govt!CJ17","v":5143},{"$f":"'Total NF'!CK17-Govt!CK17","v":5159.1000000000004},{"$f":"'Total NF'!CL17-Govt!CL17","v":5150.2},{"$f":"'Total NF'!CM17-Govt!CM17","v":5141.5999999999995},{"$f":"'Total NF'!CN17-Govt!CN17","v":5178.3},{"$f":"'Total NF'!CO17-Govt!CO17","v":5180.3999999999996},{"$f":"'Total NF'!CP17-Govt!CP17","v":5181},{"$f":"'Total NF'!CQ17-Govt!CQ17","v":5180.8},{"$f":"'Total NF'!CR17-Govt!CR17","v":5172.5999999999995},{"$f":"'Total NF'!CS17-Govt!CS17","v":5169.5},{"$f":"'Total NF'!CT17-Govt!CT17","v":5188.6000000000004},{"$f":"'Total NF'!CU17-Govt!CU17","v":5191.5},{"$f":"'Total NF'!CV17-Govt!CV17","v":5197.5},{"$f":"'Total NF'!CW17-Govt!CW17","v":5189.8},{"$f":"'Total NF'!CX17-Govt!CX17","v":5187.7},{"$f":"'Total NF'!CY17-Govt!CY17","v":5189.7},{"$f":"'Total NF'!CZ17-Govt!CZ17","v":5199.8999999999996},{"$f":"'Total NF'!DA17-Govt!DA17","v":5217.3},{"$f":"'Total NF'!DB17-Govt!DB17","v":5211.7},{"$f":"'Total NF'!DC17-Govt!DC17","v":5203.8},{"$f":"'Total NF'!DD17-Govt!DD17","v":5218},{"$f":"'Total NF'!DE17-Govt!DE17","v":5223},{"$f":"'Total NF'!DF17-Govt!DF17","v":5222.6000000000004},{"$f":"'Total NF'!DG17-Govt!DG17","v":5219.2999999999993},{"$f":"'Total NF'!DH17-Govt!DH17","v":5211.8999999999996},{"$f":"'Total NF'!DI17-Govt!DI17","v":5219.9000000000005},{"$f":"'Total NF'!DJ17-Govt!DJ17","v":5221.5999999999995},1.6999999999989086,3.256767371020342E-4,26,35,33.899999999999636,6.5346878192647298E-3,21,40,31.899999999999636,6.1467907586179619E-3,20,40,454.79999999999927,9.5409918603675259E-2,10,35]
["Indiana","SMS18000004000000001",{"$f":"'Total NF'!C18-Govt!C18","v":2421.1999999999998},{"$f":"'Total NF'!D18-Govt!D18","v":2407.3000000000002},{"$f":"'Total NF'!E18-Govt!E18","v":2382},{"$f":"'Total NF'!F18-Govt!F18","v":2357.3999999999996},{"$f":"'Total NF'!G18-Govt!G18","v":2345.4},{"$f":"'Total NF'!H18-Govt!H18","v":2338},{"$f":"'Total NF'!I18-Govt!I18","v":2323.1999999999998},{"$f":"'Total NF'!J18-Govt!J18","v":2327.7000000000003},{"$f":"'Total NF'!K18-Govt!K18","v":2334.9},{"$f":"'Total NF'!L18-Govt!L18","v":2333},{"$f":"'Total NF'!M18-Govt!M18","v":2342.6999999999998},{"$f":"'Total NF'!N18-Govt!N18","v":2339.6999999999998},null,{"$f":"'Total NF'!P18-Govt!P18","v":2342.5},{"$f":"'Total NF'!Q18-Govt!Q18","v":2342},{"$f":"'Total NF'!R18-Govt!R18","v":2347.6000000000004},{"$f":"'Total NF'!S18-Govt!S18","v":2357},{"$f":"'Total NF'!T18-Govt!T18","v":2359.7999999999997},{"$f":"'Total NF'!U18-Govt!U18","v":2362.7999999999997},{"$f":"'Total NF'!V18-Govt!V18","v":2372.7999999999997},{"$f":"'Total NF'!W18-Govt!W18","v":2374.6},{"$f":"'Total NF'!X18-Govt!X18","v":2373.9},{"$f":"'Total NF'!Y18-Govt!Y18","v":2383.3000000000002},{"$f":"'Total NF'!Z18-Govt!Z18","v":2384.4},{"$f":"'Total NF'!AA18-Govt!AA18","v":2389.3999999999996},null,{"$f":"'Total NF'!AC18-Govt!AC18","v":2398.2000000000003},{"$f":"'Total NF'!AD18-Govt!AD18","v":2402.8000000000002},{"$f":"'Total NF'!AE18-Govt!AE18","v":2409.5},{"$f":"'Total NF'!AF18-Govt!AF18","v":2411.1},{"$f":"'Total NF'!AG18-Govt!AG18","v":2415.1999999999998},{"$f":"'Total NF'!AH18-Govt!AH18","v":2412.1000000000004},{"$f":"'Total NF'!AI18-Govt!AI18","v":2421.2999999999997},{"$f":"'Total NF'!AJ18-Govt!AJ18","v":2425.6},{"$f":"'Total NF'!AK18-Govt!AK18","v":2435},{"$f":"'Total NF'!AL18-Govt!AL18","v":2437.5},{"$f":"'Total NF'!AM18-Govt!AM18","v":2438.9},{"$f":"'Total NF'!AN18-Govt!AN18","v":2447.5},null,{"$f":"'Total NF'!AP18-Govt!AP18","v":2457.1999999999998},{"$f":"'Total NF'!AQ18-Govt!AQ18","v":2467.6},{"$f":"'Total NF'!AR18-Govt!AR18","v":2472.4},{"$f":"'Total NF'!AS18-Govt!AS18","v":2465.5},{"$f":"'Total NF'!AT18-Govt!AT18","v":2468.2000000000003},{"$f":"'Total NF'!AU18-Govt!AU18","v":2473.3000000000002},{"$f":"'Total NF'!AV18-Govt!AV18","v":2472.3000000000002},{"$f":"'Total NF'!AW18-Govt!AW18","v":2474},{"$f":"'Total NF'!AX18-Govt!AX18","v":2480.5},{"$f":"'Total NF'!AY18-Govt!AY18","v":2482.1999999999998},{"$f":"'Total NF'!AZ18-Govt!AZ18","v":2486.9},{"$f":"'Total NF'!BA18-Govt!BA18","v":2492.1},null,{"$f":"'Total NF'!BC18-Govt!BC18","v":2491.4},{"$f":"'Total NF'!BD18-Govt!BD18","v":2500},{"$f":"'Total NF'!BE18-Govt!BE18","v":2497.6},{"$f":"'Total NF'!BF18-Govt!BF18","v":2499.8999999999996},{"$f":"'Total NF'!BG18-Govt!BG18","v":2502},{"$f":"'Total NF'!BH18-Govt!BH18","v":2507.8000000000002},{"$f":"'Total NF'!BI18-Govt!BI18","v":2505.1},{"$f":"'Total NF'!BJ18-Govt!BJ18","v":2515},{"$f":"'Total NF'!BK18-Govt!BK18","v":2515.3000000000002},{"$f":"'Total NF'!BL18-Govt!BL18","v":2530},{"$f":"'Total NF'!BM18-Govt!BM18","v":2541.6},{"$f":"'Total NF'!BN18-Govt!BN18","v":2542.8999999999996},{"$f":"'Total NF'!BO18-Govt!BO18","v":0},{"$f":"'Total NF'!BP18-Govt!BP18","v":2534.5},{"$f":"'Total NF'!BQ18-Govt!BQ18","v":2535.9},{"$f":"'Total NF'!BR18-Govt!BR18","v":2538.5},{"$f":"'Total NF'!BS18-Govt!BS18","v":2547.5},{"$f":"'Total NF'!BT18-Govt!BT18","v":2553.4},{"$f":"'Total NF'!BU18-Govt!BU18","v":2555.4},{"$f":"'Total NF'!BV18-Govt!BV18","v":2555},{"$f":"'Total NF'!BW18-Govt!BW18","v":2554.8000000000002},{"$f":"'Total NF'!BX18-Govt!BX18","v":2558.6000000000004},{"$f":"'Total NF'!BY18-Govt!BY18","v":2571.2999999999997},{"$f":"'Total NF'!BZ18-Govt!BZ18","v":2577.6999999999998},{"$f":"'Total NF'!CA18-Govt!CA18","v":2582.9},{"$f":"'Total NF'!CB18-Govt!CB18","v":2590.3000000000002},{"$f":"'Total NF'!CC18-Govt!CC18","v":2596.4},{"$f":"'Total NF'!CD18-Govt!CD18","v":2594.9},{"$f":"'Total NF'!CE18-Govt!CE18","v":2598.4},{"$f":"'Total NF'!CF18-Govt!CF18","v":2602.4},{"$f":"'Total NF'!CG18-Govt!CG18","v":2604.7000000000003},{"$f":"'Total NF'!CH18-Govt!CH18","v":2613.3000000000002},{"$f":"'Total NF'!CI18-Govt!CI18","v":2613.2999999999997},{"$f":"'Total NF'!CJ18-Govt!CJ18","v":2613.3000000000002},{"$f":"'Total NF'!CK18-Govt!CK18","v":2622.2},{"$f":"'Total NF'!CL18-Govt!CL18","v":2624.4},{"$f":"'Total NF'!CM18-Govt!CM18","v":2633.1},{"$f":"'Total NF'!CN18-Govt!CN18","v":2639.9},{"$f":"'Total NF'!CO18-Govt!CO18","v":2646.8},{"$f":"'Total NF'!CP18-Govt!CP18","v":2645},{"$f":"'Total NF'!CQ18-Govt!CQ18","v":2647.5},{"$f":"'Total NF'!CR18-Govt!CR18","v":2644.7000000000003},{"$f":"'Total NF'!CS18-Govt!CS18","v":2646.9},{"$f":"'Total NF'!CT18-Govt!CT18","v":2661.5},{"$f":"'Total NF'!CU18-Govt!CU18","v":2658.2},{"$f":"'Total NF'!CV18-Govt!CV18","v":2668.7999999999997},{"$f":"'Total NF'!CW18-Govt!CW18","v":2669},{"$f":"'Total NF'!CX18-Govt!CX18","v":2676.9},{"$f":"'Total NF'!CY18-Govt!CY18","v":2673.3},{"$f":"'Total NF'!CZ18-Govt!CZ18","v":2675.6},{"$f":"'Total NF'!DA18-Govt!DA18","v":2685.8},{"$f":"'Total NF'!DB18-Govt!DB18","v":2685.5},{"$f":"'Total NF'!DC18-Govt!DC18","v":2678.3},{"$f":"'Total NF'!DD18-Govt!DD18","v":2682.5},{"$f":"'Total NF'!DE18-Govt!DE18","v":2686.2999999999997},{"$f":"'Total NF'!DF18-Govt!DF18","v":2688.5},{"$f":"'Total NF'!DG18-Govt!DG18","v":2685.5},{"$f":"'Total NF'!DH18-Govt!DH18","v":2689.1},{"$f":"'Total NF'!DI18-Govt!DI18","v":2694.8},{"$f":"'Total NF'!DJ18-Govt!DJ18","v":2690.6000000000004},-4.1999999999998181,-1.5585572213150578E-3,49,43,13.700000000000273,5.1178602114387061E-3,31,42,17.300000000000182,6.4714023865634915E-3,30,39,367.40000000000055,0.15814393939393964,15,19]
["Iowa","SMS19000004000000001",{"$f":"'Total NF'!C19-Govt!C19","v":1248.5},{"$f":"'Total NF'!D19-Govt!D19","v":1244.6999999999998},{"$f":"'Total NF'!E19-Govt!E19","v":1235.4000000000001},{"$f":"'Total NF'!F19-Govt!F19","v":1226.0999999999999},{"$f":"'Total NF'!G19-Govt!G19","v":1225},{"$f":"'Total NF'!H19-Govt!H19","v":1221.8},{"$f":"'Total NF'!I19-Govt!I19","v":1216.7},{"$f":"'Total NF'!J19-Govt!J19","v":1218},{"$f":"'Total NF'!K19-Govt!K19","v":1216.5999999999999},{"$f":"'Total NF'!L19-Govt!L19","v":1213.8},{"$f":"'Total NF'!M19-Govt!M19","v":1213.2},{"$f":"'Total NF'!N19-Govt!N19","v":1209.5999999999999},null,{"$f":"'Total NF'!P19-Govt!P19","v":1211.6999999999998},{"$f":"'Total NF'!Q19-Govt!Q19","v":1212},{"$f":"'Total NF'!R19-Govt!R19","v":1213.2},{"$f":"'Total NF'!S19-Govt!S19","v":1217.3},{"$f":"'Total NF'!T19-Govt!T19","v":1215.8},{"$f":"'Total NF'!U19-Govt!U19","v":1215.6000000000001},{"$f":"'Total NF'!V19-Govt!V19","v":1214.7},{"$f":"'Total NF'!W19-Govt!W19","v":1214.8},{"$f":"'Total NF'!X19-Govt!X19","v":1215},{"$f":"'Total NF'!Y19-Govt!Y19","v":1220.8},{"$f":"'Total NF'!Z19-Govt!Z19","v":1221.2},{"$f":"'Total NF'!AA19-Govt!AA19","v":1222.3000000000002},null,{"$f":"'Total NF'!AC19-Govt!AC19","v":1224},{"$f":"'Total NF'!AD19-Govt!AD19","v":1224.8},{"$f":"'Total NF'!AE19-Govt!AE19","v":1225.9000000000001},{"$f":"'Total NF'!AF19-Govt!AF19","v":1230},{"$f":"'Total NF'!AG19-Govt!AG19","v":1231.3},{"$f":"'Total NF'!AH19-Govt!AH19","v":1229.8},{"$f":"'Total NF'!AI19-Govt!AI19","v":1231.8},{"$f":"'Total NF'!AJ19-Govt!AJ19","v":1234.6000000000001},{"$f":"'Total NF'!AK19-Govt!AK19","v":1239.5},{"$f":"'Total NF'!AL19-Govt!AL19","v":1240.2},{"$f":"'Total NF'!AM19-Govt!AM19","v":1242.3},{"$f":"'Total NF'!AN19-Govt!AN19","v":1243.4000000000001},null,{"$f":"'Total NF'!AP19-Govt!AP19","v":1245.8},{"$f":"'Total NF'!AQ19-Govt!AQ19","v":1249.0999999999999},{"$f":"'Total NF'!AR19-Govt!AR19","v":1253.9000000000001},{"$f":"'Total NF'!AS19-Govt!AS19","v":1255.1000000000001},{"$f":"'Total NF'!AT19-Govt!AT19","v":1254.6000000000001},{"$f":"'Total NF'!AU19-Govt!AU19","v":1254.5999999999999},{"$f":"'Total NF'!AV19-Govt!AV19","v":1255},{"$f":"'Total NF'!AW19-Govt!AW19","v":1255.3999999999999},{"$f":"'Total NF'!AX19-Govt!AX19","v":1257.5999999999999},{"$f":"'Total NF'!AY19-Govt!AY19","v":1259},{"$f":"'Total NF'!AZ19-Govt!AZ19","v":1260.7},{"$f":"'Total NF'!BA19-Govt!BA19","v":1261.3999999999999},null,{"$f":"'Total NF'!BC19-Govt!BC19","v":1264.5},{"$f":"'Total NF'!BD19-Govt!BD19","v":1267.6000000000001},{"$f":"'Total NF'!BE19-Govt!BE19","v":1266.7},{"$f":"'Total NF'!BF19-Govt!BF19","v":1266.5},{"$f":"'Total NF'!BG19-Govt!BG19","v":1268.9000000000001},{"$f":"'Total NF'!BH19-Govt!BH19","v":1274},{"$f":"'Total NF'!BI19-Govt!BI19","v":1275.7},{"$f":"'Total NF'!BJ19-Govt!BJ19","v":1277.8},{"$f":"'Total NF'!BK19-Govt!BK19","v":1277.8999999999999},{"$f":"'Total NF'!BL19-Govt!BL19","v":1284.4000000000001},{"$f":"'Total NF'!BM19-Govt!BM19","v":1286.2},{"$f":"'Total NF'!BN19-Govt!BN19","v":1287.5999999999999},{"$f":"'Total NF'!BO19-Govt!BO19","v":0},{"$f":"'Total NF'!BP19-Govt!BP19","v":1283.2},{"$f":"'Total NF'!BQ19-Govt!BQ19","v":1285.4000000000001},{"$f":"'Total NF'!BR19-Govt!BR19","v":1286.3},{"$f":"'Total NF'!BS19-Govt!BS19","v":1291},{"$f":"'Total NF'!BT19-Govt!BT19","v":1292.7},{"$f":"'Total NF'!BU19-Govt!BU19","v":1294.5},{"$f":"'Total NF'!BV19-Govt!BV19","v":1291.9000000000001},{"$f":"'Total NF'!BW19-Govt!BW19","v":1293.0999999999999},{"$f":"'Total NF'!BX19-Govt!BX19","v":1293.1999999999998},{"$f":"'Total NF'!BY19-Govt!BY19","v":1296.7},{"$f":"'Total NF'!BZ19-Govt!BZ19","v":1299.3000000000002},{"$f":"'Total NF'!CA19-Govt!CA19","v":1301.3999999999999},{"$f":"'Total NF'!CB19-Govt!CB19","v":1302.5999999999999},{"$f":"'Total NF'!CC19-Govt!CC19","v":1303},{"$f":"'Total NF'!CD19-Govt!CD19","v":1304.6999999999998},{"$f":"'Total NF'!CE19-Govt!CE19","v":1305.5999999999999},{"$f":"'Total NF'!CF19-Govt!CF19","v":1305.3000000000002},{"$f":"'Total NF'!CG19-Govt!CG19","v":1306.8000000000002},{"$f":"'Total NF'!CH19-Govt!CH19","v":1307.3},{"$f":"'Total NF'!CI19-Govt!CI19","v":1305.4000000000001},{"$f":"'Total NF'!CJ19-Govt!CJ19","v":1304.2},{"$f":"'Total NF'!CK19-Govt!CK19","v":1310.2},{"$f":"'Total NF'!CL19-Govt!CL19","v":1314.3999999999999},{"$f":"'Total NF'!CM19-Govt!CM19","v":1319.1000000000001},{"$f":"'Total NF'!CN19-Govt!CN19","v":1311.3},{"$f":"'Total NF'!CO19-Govt!CO19","v":1312.5},{"$f":"'Total NF'!CP19-Govt!CP19","v":1315.4},{"$f":"'Total NF'!CQ19-Govt!CQ19","v":1314.1},{"$f":"'Total NF'!CR19-Govt!CR19","v":1310.7},{"$f":"'Total NF'!CS19-Govt!CS19","v":1308.0999999999999},{"$f":"'Total NF'!CT19-Govt!CT19","v":1314.1000000000001},{"$f":"'Total NF'!CU19-Govt!CU19","v":1314.1000000000001},{"$f":"'Total NF'!CV19-Govt!CV19","v":1313.4},{"$f":"'Total NF'!CW19-Govt!CW19","v":1314.5},{"$f":"'Total NF'!CX19-Govt!CX19","v":1312.3000000000002},{"$f":"'Total NF'!CY19-Govt!CY19","v":1313.3},{"$f":"'Total NF'!CZ19-Govt!CZ19","v":1319.1000000000001},{"$f":"'Total NF'!DA19-Govt!DA19","v":1324.1999999999998},{"$f":"'Total NF'!DB19-Govt!DB19","v":1323.4},{"$f":"'Total NF'!DC19-Govt!DC19","v":1321.8999999999999},{"$f":"'Total NF'!DD19-Govt!DD19","v":1325.8999999999999},{"$f":"'Total NF'!DE19-Govt!DE19","v":1330.3000000000002},{"$f":"'Total NF'!DF19-Govt!DF19","v":1331},{"$f":"'Total NF'!DG19-Govt!DG19","v":1332},{"$f":"'Total NF'!DH19-Govt!DH19","v":1329.2},{"$f":"'Total NF'!DI19-Govt!DI19","v":1327.8999999999999},{"$f":"'Total NF'!DJ19-Govt!DJ19","v":1334.6000000000001},6.7000000000002728,5.0455606596884351E-3,10,1,22.299999999999955,1.6993065609997676E-2,28,23,21.300000000000182,1.6218685753445657E-2,28,17,117.90000000000009,9.6901454754664329E-2,30,34]
["Kansas","SMS20000004000000001",{"$f":"'Total NF'!C20-Govt!C20","v":1116.7},{"$f":"'Total NF'!D20-Govt!D20","v":1108.5},{"$f":"'Total NF'!E20-Govt!E20","v":1100.0999999999999},{"$f":"'Total NF'!F20-Govt!F20","v":1088.0999999999999},{"$f":"'Total NF'!G20-Govt!G20","v":1081.8999999999999},{"$f":"'Total NF'!H20-Govt!H20","v":1078.2},{"$f":"'Total NF'!I20-Govt!I20","v":1074.9000000000001},{"$f":"'Total NF'!J20-Govt!J20","v":1072.5},{"$f":"'Total NF'!K20-Govt!K20","v":1069.5},{"$f":"'Total NF'!L20-Govt!L20","v":1064.2},{"$f":"'Total NF'!M20-Govt!M20","v":1064.8},{"$f":"'Total NF'!N20-Govt!N20","v":1062},null,{"$f":"'Total NF'!P20-Govt!P20","v":1060.8},{"$f":"'Total NF'!Q20-Govt!Q20","v":1059.5},{"$f":"'Total NF'!R20-Govt!R20","v":1059.9000000000001},{"$f":"'Total NF'!S20-Govt!S20","v":1064.8000000000002},{"$f":"'Total NF'!T20-Govt!T20","v":1064.8000000000002},{"$f":"'Total NF'!U20-Govt!U20","v":1065.1999999999998},{"$f":"'Total NF'!V20-Govt!V20","v":1067.8},{"$f":"'Total NF'!W20-Govt!W20","v":1068.0999999999999},{"$f":"'Total NF'!X20-Govt!X20","v":1065.4000000000001},{"$f":"'Total NF'!Y20-Govt!Y20","v":1073.4000000000001},{"$f":"'Total NF'!Z20-Govt!Z20","v":1072.2},{"$f":"'Total NF'!AA20-Govt!AA20","v":1072.4000000000001},null,{"$f":"'Total NF'!AC20-Govt!AC20","v":1074.2},{"$f":"'Total NF'!AD20-Govt!AD20","v":1072},{"$f":"'Total NF'!AE20-Govt!AE20","v":1073.8000000000002},{"$f":"'Total NF'!AF20-Govt!AF20","v":1078.9000000000001},{"$f":"'Total NF'!AG20-Govt!AG20","v":1079.5999999999999},{"$f":"'Total NF'!AH20-Govt!AH20","v":1075.0999999999999},{"$f":"'Total NF'!AI20-Govt!AI20","v":1080.2},{"$f":"'Total NF'!AJ20-Govt!AJ20","v":1081.9000000000001},{"$f":"'Total NF'!AK20-Govt!AK20","v":1082.5},{"$f":"'Total NF'!AL20-Govt!AL20","v":1084.8000000000002},{"$f":"'Total NF'!AM20-Govt!AM20","v":1085.5999999999999},{"$f":"'Total NF'!AN20-Govt!AN20","v":1084.7},null,{"$f":"'Total NF'!AP20-Govt!AP20","v":1094.7},{"$f":"'Total NF'!AQ20-Govt!AQ20","v":1095.9000000000001},{"$f":"'Total NF'!AR20-Govt!AR20","v":1099.8000000000002},{"$f":"'Total NF'!AS20-Govt!AS20","v":1096.3},{"$f":"'Total NF'!AT20-Govt!AT20","v":1097.3},{"$f":"'Total NF'!AU20-Govt!AU20","v":1100.6999999999998},{"$f":"'Total NF'!AV20-Govt!AV20","v":1096.1999999999998},{"$f":"'Total NF'!AW20-Govt!AW20","v":1097.8},{"$f":"'Total NF'!AX20-Govt!AX20","v":1099.4000000000001},{"$f":"'Total NF'!AY20-Govt!AY20","v":1101.8000000000002},{"$f":"'Total NF'!AZ20-Govt!AZ20","v":1103.5},{"$f":"'Total NF'!BA20-Govt!BA20","v":1104.4000000000001},null,{"$f":"'Total NF'!BC20-Govt!BC20","v":1106.3999999999999},{"$f":"'Total NF'!BD20-Govt!BD20","v":1108.9000000000001},{"$f":"'Total NF'!BE20-Govt!BE20","v":1108.4000000000001},{"$f":"'Total NF'!BF20-Govt!BF20","v":1111.0999999999999},{"$f":"'Total NF'!BG20-Govt!BG20","v":1112.8},{"$f":"'Total NF'!BH20-Govt!BH20","v":1114.3},{"$f":"'Total NF'!BI20-Govt!BI20","v":1117.5},{"$f":"'Total NF'!BJ20-Govt!BJ20","v":1119.5999999999999},{"$f":"'Total NF'!BK20-Govt!BK20","v":1121.2},{"$f":"'Total NF'!BL20-Govt!BL20","v":1123.9000000000001},{"$f":"'Total NF'!BM20-Govt!BM20","v":1126.4000000000001},{"$f":"'Total NF'!BN20-Govt!BN20","v":1124.4000000000001},{"$f":"'Total NF'!BO20-Govt!BO20","v":0},{"$f":"'Total NF'!BP20-Govt!BP20","v":1125.5999999999999},{"$f":"'Total NF'!BQ20-Govt!BQ20","v":1129.3999999999999},{"$f":"'Total NF'!BR20-Govt!BR20","v":1131.6000000000001},{"$f":"'Total NF'!BS20-Govt!BS20","v":1133.6000000000001},{"$f":"'Total NF'!BT20-Govt!BT20","v":1135.8},{"$f":"'Total NF'!BU20-Govt!BU20","v":1135.5},{"$f":"'Total NF'!BV20-Govt!BV20","v":1137.3},{"$f":"'Total NF'!BW20-Govt!BW20","v":1138.8000000000002},{"$f":"'Total NF'!BX20-Govt!BX20","v":1138.8},{"$f":"'Total NF'!BY20-Govt!BY20","v":1141.8999999999999},{"$f":"'Total NF'!BZ20-Govt!BZ20","v":1140.9000000000001},{"$f":"'Total NF'!CA20-Govt!CA20","v":1144.2},{"$f":"'Total NF'!CB20-Govt!CB20","v":1139.3},{"$f":"'Total NF'!CC20-Govt!CC20","v":1144.1999999999998},{"$f":"'Total NF'!CD20-Govt!CD20","v":1141.6999999999998},{"$f":"'Total NF'!CE20-Govt!CE20","v":1139},{"$f":"'Total NF'!CF20-Govt!CF20","v":1141.5999999999999},{"$f":"'Total NF'!CG20-Govt!CG20","v":1143.3},{"$f":"'Total NF'!CH20-Govt!CH20","v":1143.5},{"$f":"'Total NF'!CI20-Govt!CI20","v":1144.7},{"$f":"'Total NF'!CJ20-Govt!CJ20","v":1145.3000000000002},{"$f":"'Total NF'!CK20-Govt!CK20","v":1145.9000000000001},{"$f":"'Total NF'!CL20-Govt!CL20","v":1142.8},{"$f":"'Total NF'!CM20-Govt!CM20","v":1145.8},{"$f":"'Total NF'!CN20-Govt!CN20","v":1154.1000000000001},{"$f":"'Total NF'!CO20-Govt!CO20","v":1156.0999999999999},{"$f":"'Total NF'!CP20-Govt!CP20","v":1154.4000000000001},{"$f":"'Total NF'!CQ20-Govt!CQ20","v":1155.0999999999999},{"$f":"'Total NF'!CR20-Govt!CR20","v":1152.8999999999999},{"$f":"'Total NF'!CS20-Govt!CS20","v":1151.5},{"$f":"'Total NF'!CT20-Govt!CT20","v":1156.3000000000002},{"$f":"'Total NF'!CU20-Govt!CU20","v":1155.3000000000002},{"$f":"'Total NF'!CV20-Govt!CV20","v":1159.0999999999999},{"$f":"'Total NF'!CW20-Govt!CW20","v":1155.9000000000001},{"$f":"'Total NF'!CX20-Govt!CX20","v":1152.8},{"$f":"'Total NF'!CY20-Govt!CY20","v":1153.2},{"$f":"'Total NF'!CZ20-Govt!CZ20","v":1151.9000000000001},{"$f":"'Total NF'!DA20-Govt!DA20","v":1158.5},{"$f":"'Total NF'!DB20-Govt!DB20","v":1158.5999999999999},{"$f":"'Total NF'!DC20-Govt!DC20","v":1154.1999999999998},{"$f":"'Total NF'!DD20-Govt!DD20","v":1150.9000000000001},{"$f":"'Total NF'!DE20-Govt!DE20","v":1145.3999999999999},{"$f":"'Total NF'!DF20-Govt!DF20","v":1144.8999999999999},{"$f":"'Total NF'!DG20-Govt!DG20","v":1148.5999999999999},{"$f":"'Total NF'!DH20-Govt!DH20","v":1152.8999999999999},{"$f":"'Total NF'!DI20-Govt!DI20","v":1152.5999999999999},{"$f":"'Total NF'!DJ20-Govt!DJ20","v":1156.1999999999998},3.5999999999999091,3.1233732431024722E-3,16,12,3.3999999999998636,2.9493407356001593E-3,42,45,2.9999999999997726,2.6014568158166601E-3,43,45,81.299999999999727,7.5634942785375123E-2,35,45]
["Kentucky","SMS21000004000000001",{"$f":"'Total NF'!C21-Govt!C21","v":1475.7},{"$f":"'Total NF'!D21-Govt!D21","v":1467.1},{"$f":"'Total NF'!E21-Govt!E21","v":1456.6},{"$f":"'Total NF'!F21-Govt!F21","v":1445.5},{"$f":"'Total NF'!G21-Govt!G21","v":1443.3000000000002},{"$f":"'Total NF'!H21-Govt!H21","v":1439.3},{"$f":"'Total NF'!I21-Govt!I21","v":1437.1999999999998},{"$f":"'Total NF'!J21-Govt!J21","v":1434.6},{"$f":"'Total NF'!K21-Govt!K21","v":1434.7},{"$f":"'Total NF'!L21-Govt!L21","v":1433.1999999999998},{"$f":"'Total NF'!M21-Govt!M21","v":1434.4},{"$f":"'Total NF'!N21-Govt!N21","v":1432.4},null,{"$f":"'Total NF'!P21-Govt!P21","v":1429.1999999999998},{"$f":"'Total NF'!Q21-Govt!Q21","v":1421.3},{"$f":"'Total NF'!R21-Govt!R21","v":1429.4},{"$f":"'Total NF'!S21-Govt!S21","v":1434.7},{"$f":"'Total NF'!T21-Govt!T21","v":1437.3999999999999},{"$f":"'Total NF'!U21-Govt!U21","v":1440.4},{"$f":"'Total NF'!V21-Govt!V21","v":1439.2},{"$f":"'Total NF'!W21-Govt!W21","v":1440.6},{"$f":"'Total NF'!X21-Govt!X21","v":1441.6},{"$f":"'Total NF'!Y21-Govt!Y21","v":1448.5},{"$f":"'Total NF'!Z21-Govt!Z21","v":1447.3},{"$f":"'Total NF'!AA21-Govt!AA21","v":1454.1999999999998},null,{"$f":"'Total NF'!AC21-Govt!AC21","v":1447.7},{"$f":"'Total NF'!AD21-Govt!AD21","v":1450.8000000000002},{"$f":"'Total NF'!AE21-Govt!AE21","v":1453.4},{"$f":"'Total NF'!AF21-Govt!AF21","v":1453.8000000000002},{"$f":"'Total NF'!AG21-Govt!AG21","v":1452.5},{"$f":"'Total NF'!AH21-Govt!AH21","v":1453.8},{"$f":"'Total NF'!AI21-Govt!AI21","v":1459.8000000000002},{"$f":"'Total NF'!AJ21-Govt!AJ21","v":1463.2},{"$f":"'Total NF'!AK21-Govt!AK21","v":1465.3},{"$f":"'Total NF'!AL21-Govt!AL21","v":1464.5},{"$f":"'Total NF'!AM21-Govt!AM21","v":1468.6},{"$f":"'Total NF'!AN21-Govt!AN21","v":1469.4},null,{"$f":"'Total NF'!AP21-Govt!AP21","v":1475},{"$f":"'Total NF'!AQ21-Govt!AQ21","v":1477.8},{"$f":"'Total NF'!AR21-Govt!AR21","v":1480},{"$f":"'Total NF'!AS21-Govt!AS21","v":1479.5},{"$f":"'Total NF'!AT21-Govt!AT21","v":1482.1000000000001},{"$f":"'Total NF'!AU21-Govt!AU21","v":1483.6},{"$f":"'Total NF'!AV21-Govt!AV21","v":1487.6000000000001},{"$f":"'Total NF'!AW21-Govt!AW21","v":1484.9},{"$f":"'Total NF'!AX21-Govt!AX21","v":1485.5},{"$f":"'Total NF'!AY21-Govt!AY21","v":1487},{"$f":"'Total NF'!AZ21-Govt!AZ21","v":1490.8},{"$f":"'Total NF'!BA21-Govt!BA21","v":1491.6999999999998},null,{"$f":"'Total NF'!BC21-Govt!BC21","v":1495.8},{"$f":"'Total NF'!BD21-Govt!BD21","v":1497},{"$f":"'Total NF'!BE21-Govt!BE21","v":1496.5},{"$f":"'Total NF'!BF21-Govt!BF21","v":1498.2},{"$f":"'Total NF'!BG21-Govt!BG21","v":1497.3},{"$f":"'Total NF'!BH21-Govt!BH21","v":1497.5},{"$f":"'Total NF'!BI21-Govt!BI21","v":1500.5},{"$f":"'Total NF'!BJ21-Govt!BJ21","v":1504.1},{"$f":"'Total NF'!BK21-Govt!BK21","v":1505},{"$f":"'Total NF'!BL21-Govt!BL21","v":1498.6999999999998},{"$f":"'Total NF'!BM21-Govt!BM21","v":1502.5},{"$f":"'Total NF'!BN21-Govt!BN21","v":1508.2},{"$f":"'Total NF'!BO21-Govt!BO21","v":0},{"$f":"'Total NF'!BP21-Govt!BP21","v":1520.8000000000002},{"$f":"'Total NF'!BQ21-Govt!BQ21","v":1519.6},{"$f":"'Total NF'!BR21-Govt!BR21","v":1522.9},{"$f":"'Total NF'!BS21-Govt!BS21","v":1530.1000000000001},{"$f":"'Total NF'!BT21-Govt!BT21","v":1530.7},{"$f":"'Total NF'!BU21-Govt!BU21","v":1531},{"$f":"'Total NF'!BV21-Govt!BV21","v":1536.7},{"$f":"'Total NF'!BW21-Govt!BW21","v":1537},{"$f":"'Total NF'!BX21-Govt!BX21","v":1539.4},{"$f":"'Total NF'!BY21-Govt!BY21","v":1548.1},{"$f":"'Total NF'!BZ21-Govt!BZ21","v":1554.6999999999998},{"$f":"'Total NF'!CA21-Govt!CA21","v":1555.4},{"$f":"'Total NF'!CB21-Govt!CB21","v":1556.1},{"$f":"'Total NF'!CC21-Govt!CC21","v":1556.5},{"$f":"'Total NF'!CD21-Govt!CD21","v":1552.3000000000002},{"$f":"'Total NF'!CE21-Govt!CE21","v":1550.9},{"$f":"'Total NF'!CF21-Govt!CF21","v":1562.5},{"$f":"'Total NF'!CG21-Govt!CG21","v":1564.5},{"$f":"'Total NF'!CH21-Govt!CH21","v":1567.1999999999998},{"$f":"'Total NF'!CI21-Govt!CI21","v":1568.1},{"$f":"'Total NF'!CJ21-Govt!CJ21","v":1572.6999999999998},{"$f":"'Total NF'!CK21-Govt!CK21","v":1579.2},{"$f":"'Total NF'!CL21-Govt!CL21","v":1585.1000000000001},{"$f":"'Total NF'!CM21-Govt!CM21","v":1591.8000000000002},{"$f":"'Total NF'!CN21-Govt!CN21","v":1585.1},{"$f":"'Total NF'!CO21-Govt!CO21","v":1590.9},{"$f":"'Total NF'!CP21-Govt!CP21","v":1589.3},{"$f":"'Total NF'!CQ21-Govt!CQ21","v":1590.1999999999998},{"$f":"'Total NF'!CR21-Govt!CR21","v":1592.5},{"$f":"'Total NF'!CS21-Govt!CS21","v":1591},{"$f":"'Total NF'!CT21-Govt!CT21","v":1602.1},{"$f":"'Total NF'!CU21-Govt!CU21","v":1597.6999999999998},{"$f":"'Total NF'!CV21-Govt!CV21","v":1601.2},{"$f":"'Total NF'!CW21-Govt!CW21","v":1601.8},{"$f":"'Total NF'!CX21-Govt!CX21","v":1608.5},{"$f":"'Total NF'!CY21-Govt!CY21","v":1612.5},{"$f":"'Total NF'!CZ21-Govt!CZ21","v":1615.6999999999998},{"$f":"'Total NF'!DA21-Govt!DA21","v":1619.9},{"$f":"'Total NF'!DB21-Govt!DB21","v":1620.7},{"$f":"'Total NF'!DC21-Govt!DC21","v":1621.8},{"$f":"'Total NF'!DD21-Govt!DD21","v":1622.5},{"$f":"'Total NF'!DE21-Govt!DE21","v":1620},{"$f":"'Total NF'!DF21-Govt!DF21","v":1621.1},{"$f":"'Total NF'!DG21-Govt!DG21","v":1629.2},{"$f":"'Total NF'!DH21-Govt!DH21","v":1634.4},{"$f":"'Total NF'!DI21-Govt!DI21","v":1631.6},{"$f":"'Total NF'!DJ21-Govt!DJ21","v":1636.3},4.7000000000000455,2.8806079921549679E-3,13,14,27.799999999999955,1.7283183089835223E-2,27,20,23.799999999999955,1.4759689922480591E-2,27,24,199.10000000000014,0.13853325911494585,27,21]
["Louisiana","SMS22000004000000001",{"$f":"'Total NF'!C22-Govt!C22","v":1563.9},{"$f":"'Total NF'!D22-Govt!D22","v":1559.9},{"$f":"'Total NF'!E22-Govt!E22","v":1549},{"$f":"'Total NF'!F22-Govt!F22","v":1534.2},{"$f":"'Total NF'!G22-Govt!G22","v":1534.6000000000001},{"$f":"'Total NF'!H22-Govt!H22","v":1527.9},{"$f":"'Total NF'!I22-Govt!I22","v":1526.8},{"$f":"'Total NF'!J22-Govt!J22","v":1526.1},{"$f":"'Total NF'!K22-Govt!K22","v":1524},{"$f":"'Total NF'!L22-Govt!L22","v":1515.5},{"$f":"'Total NF'!M22-Govt!M22","v":1515.6},{"$f":"'Total NF'!N22-Govt!N22","v":1507.8999999999999},null,{"$f":"'Total NF'!P22-Govt!P22","v":1507.1},{"$f":"'Total NF'!Q22-Govt!Q22","v":1506.3},{"$f":"'Total NF'!R22-Govt!R22","v":1510},{"$f":"'Total NF'!S22-Govt!S22","v":1513.9},{"$f":"'Total NF'!T22-Govt!T22","v":1513.9},{"$f":"'Total NF'!U22-Govt!U22","v":1521.8},{"$f":"'Total NF'!V22-Govt!V22","v":1521.1999999999998},{"$f":"'Total NF'!W22-Govt!W22","v":1519.8},{"$f":"'Total NF'!X22-Govt!X22","v":1522},{"$f":"'Total NF'!Y22-Govt!Y22","v":1525.6},{"$f":"'Total NF'!Z22-Govt!Z22","v":1525.8},{"$f":"'Total NF'!AA22-Govt!AA22","v":1529.4},null,{"$f":"'Total NF'!AC22-Govt!AC22","v":1532.1},{"$f":"'Total NF'!AD22-Govt!AD22","v":1537.7},{"$f":"'Total NF'!AE22-Govt!AE22","v":1538.5},{"$f":"'Total NF'!AF22-Govt!AF22","v":1541},{"$f":"'Total NF'!AG22-Govt!AG22","v":1541.6},{"$f":"'Total NF'!AH22-Govt!AH22","v":1538.1},{"$f":"'Total NF'!AI22-Govt!AI22","v":1548.5},{"$f":"'Total NF'!AJ22-Govt!AJ22","v":1547.3000000000002},{"$f":"'Total NF'!AK22-Govt!AK22","v":1550},{"$f":"'Total NF'!AL22-Govt!AL22","v":1551.4},{"$f":"'Total NF'!AM22-Govt!AM22","v":1554.5},{"$f":"'Total NF'!AN22-Govt!AN22","v":1557.6000000000001},null,{"$f":"'Total NF'!AP22-Govt!AP22","v":1562},{"$f":"'Total NF'!AQ22-Govt!AQ22","v":1565.6000000000001},{"$f":"'Total NF'!AR22-Govt!AR22","v":1568.4},{"$f":"'Total NF'!AS22-Govt!AS22","v":1577.9},{"$f":"'Total NF'!AT22-Govt!AT22","v":1580},{"$f":"'Total NF'!AU22-Govt!AU22","v":1578.8},{"$f":"'Total NF'!AV22-Govt!AV22","v":1575.5},{"$f":"'Total NF'!AW22-Govt!AW22","v":1575.6999999999998},{"$f":"'Total NF'!AX22-Govt!AX22","v":1578.1},{"$f":"'Total NF'!AY22-Govt!AY22","v":1581.8},{"$f":"'Total NF'!AZ22-Govt!AZ22","v":1588.5},{"$f":"'Total NF'!BA22-Govt!BA22","v":1588.9},null,{"$f":"'Total NF'!BC22-Govt!BC22","v":1594.9},{"$f":"'Total NF'!BD22-Govt!BD22","v":1602.1999999999998},{"$f":"'Total NF'!BE22-Govt!BE22","v":1602.1},{"$f":"'Total NF'!BF22-Govt!BF22","v":1604.3},{"$f":"'Total NF'!BG22-Govt!BG22","v":1607.2},{"$f":"'Total NF'!BH22-Govt!BH22","v":1609.6},{"$f":"'Total NF'!BI22-Govt!BI22","v":1608.4},{"$f":"'Total NF'!BJ22-Govt!BJ22","v":1612.8999999999999},{"$f":"'Total NF'!BK22-Govt!BK22","v":1615.6999999999998},{"$f":"'Total NF'!BL22-Govt!BL22","v":1625.1000000000001},{"$f":"'Total NF'!BM22-Govt!BM22","v":1624.5},{"$f":"'Total NF'!BN22-Govt!BN22","v":1624.6},{"$f":"'Total NF'!BO22-Govt!BO22","v":0},{"$f":"'Total NF'!BP22-Govt!BP22","v":1632.9},{"$f":"'Total NF'!BQ22-Govt!BQ22","v":1636.1000000000001},{"$f":"'Total NF'!BR22-Govt!BR22","v":1639.5},{"$f":"'Total NF'!BS22-Govt!BS22","v":1642.1999999999998},{"$f":"'Total NF'!BT22-Govt!BT22","v":1648.4},{"$f":"'Total NF'!BU22-Govt!BU22","v":1651},{"$f":"'Total NF'!BV22-Govt!BV22","v":1655.1999999999998},{"$f":"'Total NF'!BW22-Govt!BW22","v":1657.6},{"$f":"'Total NF'!BX22-Govt!BX22","v":1659.5},{"$f":"'Total NF'!BY22-Govt!BY22","v":1664.6},{"$f":"'Total NF'!BZ22-Govt!BZ22","v":1667.3000000000002},{"$f":"'Total NF'!CA22-Govt!CA22","v":1669.5},{"$f":"'Total NF'!CB22-Govt!CB22","v":1670},{"$f":"'Total NF'!CC22-Govt!CC22","v":1668.8000000000002},{"$f":"'Total NF'!CD22-Govt!CD22","v":1664.1999999999998},{"$f":"'Total NF'!CE22-Govt!CE22","v":1663.1},{"$f":"'Total NF'!CF22-Govt!CF22","v":1666.4},{"$f":"'Total NF'!CG22-Govt!CG22","v":1665.4},{"$f":"'Total NF'!CH22-Govt!CH22","v":1664.7},{"$f":"'Total NF'!CI22-Govt!CI22","v":1662.5},{"$f":"'Total NF'!CJ22-Govt!CJ22","v":1659.5},{"$f":"'Total NF'!CK22-Govt!CK22","v":1656.6},{"$f":"'Total NF'!CL22-Govt!CL22","v":1655.4},{"$f":"'Total NF'!CM22-Govt!CM22","v":1654.7},{"$f":"'Total NF'!CN22-Govt!CN22","v":1655.9},{"$f":"'Total NF'!CO22-Govt!CO22","v":1653.1000000000001},{"$f":"'Total NF'!CP22-Govt!CP22","v":1651},{"$f":"'Total NF'!CQ22-Govt!CQ22","v":1649.9},{"$f":"'Total NF'!CR22-Govt!CR22","v":1646.5},{"$f":"'Total NF'!CS22-Govt!CS22","v":1642.6999999999998},{"$f":"'Total NF'!CT22-Govt!CT22","v":1646.1000000000001},{"$f":"'Total NF'!CU22-Govt!CU22","v":1637.2},{"$f":"'Total NF'!CV22-Govt!CV22","v":1638.9},{"$f":"'Total NF'!CW22-Govt!CW22","v":1645.1999999999998},{"$f":"'Total NF'!CX22-Govt!CX22","v":1642.3},{"$f":"'Total NF'!CY22-Govt!CY22","v":1645.9},{"$f":"'Total NF'!CZ22-Govt!CZ22","v":1651.4},{"$f":"'Total NF'!DA22-Govt!DA22","v":1660},{"$f":"'Total NF'!DB22-Govt!DB22","v":1650.7},{"$f":"'Total NF'!DC22-Govt!DC22","v":1650},{"$f":"'Total NF'!DD22-Govt!DD22","v":1660.3000000000002},{"$f":"'Total NF'!DE22-Govt!DE22","v":1664.3999999999999},{"$f":"'Total NF'!DF22-Govt!DF22","v":1661.1999999999998},{"$f":"'Total NF'!DG22-Govt!DG22","v":1661.8000000000002},{"$f":"'Total NF'!DH22-Govt!DH22","v":1659.6},{"$f":"'Total NF'!DI22-Govt!DI22","v":1658.1},{"$f":"'Total NF'!DJ22-Govt!DJ22","v":1655.6000000000001},-2.4999999999997726,-1.5077498341473812E-3,42,42,13.300000000000182,8.0983985873471238E-3,32,39,9.7000000000000455,5.8934321647731002E-3,35,41,128.80000000000018,8.4359444589992255E-2,29,41]
["Maine","SMS23000004000000001",{"$f":"'Total NF'!C23-Govt!C23","v":500.70000000000005},{"$f":"'Total NF'!D23-Govt!D23","v":498},{"$f":"'Total NF'!E23-Govt!E23","v":494.69999999999993},{"$f":"'Total NF'!F23-Govt!F23","v":493.9},{"$f":"'Total NF'!G23-Govt!G23","v":494.5},{"$f":"'Total NF'!H23-Govt!H23","v":490.7},{"$f":"'Total NF'!I23-Govt!I23","v":490.7},{"$f":"'Total NF'!J23-Govt!J23","v":490.1},{"$f":"'Total NF'!K23-Govt!K23","v":490.59999999999997},{"$f":"'Total NF'!L23-Govt!L23","v":488.7},{"$f":"'Total NF'!M23-Govt!M23","v":489},{"$f":"'Total NF'!N23-Govt!N23","v":489.1},null,{"$f":"'Total NF'!P23-Govt!P23","v":488.70000000000005},{"$f":"'Total NF'!Q23-Govt!Q23","v":488.2},{"$f":"'Total NF'!R23-Govt!R23","v":488.6},{"$f":"'Total NF'!S23-Govt!S23","v":489.1},{"$f":"'Total NF'!T23-Govt!T23","v":489.3},{"$f":"'Total NF'!U23-Govt!U23","v":487.90000000000003},{"$f":"'Total NF'!V23-Govt!V23","v":488.19999999999993},{"$f":"'Total NF'!W23-Govt!W23","v":488.4},{"$f":"'Total NF'!X23-Govt!X23","v":489.5},{"$f":"'Total NF'!Y23-Govt!Y23","v":490.20000000000005},{"$f":"'Total NF'!Z23-Govt!Z23","v":489.9},{"$f":"'Total NF'!AA23-Govt!AA23","v":489.8},null,{"$f":"'Total NF'!AC23-Govt!AC23","v":490},{"$f":"'Total NF'!AD23-Govt!AD23","v":491.09999999999997},{"$f":"'Total NF'!AE23-Govt!AE23","v":491.59999999999997},{"$f":"'Total NF'!AF23-Govt!AF23","v":490.80000000000007},{"$f":"'Total NF'!AG23-Govt!AG23","v":489.99999999999994},{"$f":"'Total NF'!AH23-Govt!AH23","v":490.6},{"$f":"'Total NF'!AI23-Govt!AI23","v":493.3},{"$f":"'Total NF'!AJ23-Govt!AJ23","v":493.40000000000003},{"$f":"'Total NF'!AK23-Govt!AK23","v":494.30000000000007},{"$f":"'Total NF'!AL23-Govt!AL23","v":494.69999999999993},{"$f":"'Total NF'!AM23-Govt!AM23","v":494.6},{"$f":"'Total NF'!AN23-Govt!AN23","v":494.6},null,{"$f":"'Total NF'!AP23-Govt!AP23","v":495.3},{"$f":"'Total NF'!AQ23-Govt!AQ23","v":496.4},{"$f":"'Total NF'!AR23-Govt!AR23","v":496.40000000000003},{"$f":"'Total NF'!AS23-Govt!AS23","v":497.50000000000006},{"$f":"'Total NF'!AT23-Govt!AT23","v":497.29999999999995},{"$f":"'Total NF'!AU23-Govt!AU23","v":498.1},{"$f":"'Total NF'!AV23-Govt!AV23","v":496.29999999999995},{"$f":"'Total NF'!AW23-Govt!AW23","v":495.9},{"$f":"'Total NF'!AX23-Govt!AX23","v":496.99999999999994},{"$f":"'Total NF'!AY23-Govt!AY23","v":497.40000000000003},{"$f":"'Total NF'!AZ23-Govt!AZ23","v":496.50000000000006},{"$f":"'Total NF'!BA23-Govt!BA23","v":496.99999999999994},null,{"$f":"'Total NF'!BC23-Govt!BC23","v":497.6},{"$f":"'Total NF'!BD23-Govt!BD23","v":498.40000000000003},{"$f":"'Total NF'!BE23-Govt!BE23","v":498.40000000000003},{"$f":"'Total NF'!BF23-Govt!BF23","v":498.8},{"$f":"'Total NF'!BG23-Govt!BG23","v":500.5},{"$f":"'Total NF'!BH23-Govt!BH23","v":503.09999999999997},{"$f":"'Total NF'!BI23-Govt!BI23","v":502.5},{"$f":"'Total NF'!BJ23-Govt!BJ23","v":502.70000000000005},{"$f":"'Total NF'!BK23-Govt!BK23","v":502.5},{"$f":"'Total NF'!BL23-Govt!BL23","v":504},{"$f":"'Total NF'!BM23-Govt!BM23","v":502.80000000000007},{"$f":"'Total NF'!BN23-Govt!BN23","v":504.1},{"$f":"'Total NF'!BO23-Govt!BO23","v":0},{"$f":"'Total NF'!BP23-Govt!BP23","v":502.5},{"$f":"'Total NF'!BQ23-Govt!BQ23","v":504},{"$f":"'Total NF'!BR23-Govt!BR23","v":503.90000000000003},{"$f":"'Total NF'!BS23-Govt!BS23","v":503.4},{"$f":"'Total NF'!BT23-Govt!BT23","v":505.5},{"$f":"'Total NF'!BU23-Govt!BU23","v":505.9},{"$f":"'Total NF'!BV23-Govt!BV23","v":505.49999999999994},{"$f":"'Total NF'!BW23-Govt!BW23","v":505.4},{"$f":"'Total NF'!BX23-Govt!BX23","v":505.59999999999997},{"$f":"'Total NF'!BY23-Govt!BY23","v":505.59999999999997},{"$f":"'Total NF'!BZ23-Govt!BZ23","v":504.79999999999995},{"$f":"'Total NF'!CA23-Govt!CA23","v":505.00000000000006},{"$f":"'Total NF'!CB23-Govt!CB23","v":509.1},{"$f":"'Total NF'!CC23-Govt!CC23","v":508.1},{"$f":"'Total NF'!CD23-Govt!CD23","v":509.1},{"$f":"'Total NF'!CE23-Govt!CE23","v":510.29999999999995},{"$f":"'Total NF'!CF23-Govt!CF23","v":511.20000000000005},{"$f":"'Total NF'!CG23-Govt!CG23","v":511.3},{"$f":"'Total NF'!CH23-Govt!CH23","v":511.50000000000006},{"$f":"'Total NF'!CI23-Govt!CI23","v":510.9},{"$f":"'Total NF'!CJ23-Govt!CJ23","v":510.69999999999993},{"$f":"'Total NF'!CK23-Govt!CK23","v":510.50000000000006},{"$f":"'Total NF'!CL23-Govt!CL23","v":510.40000000000003},{"$f":"'Total NF'!CM23-Govt!CM23","v":511.5},{"$f":"'Total NF'!CN23-Govt!CN23","v":516.6},{"$f":"'Total NF'!CO23-Govt!CO23","v":517.59999999999991},{"$f":"'Total NF'!CP23-Govt!CP23","v":517.90000000000009},{"$f":"'Total NF'!CQ23-Govt!CQ23","v":518.1},{"$f":"'Total NF'!CR23-Govt!CR23","v":516.30000000000007},{"$f":"'Total NF'!CS23-Govt!CS23","v":516},{"$f":"'Total NF'!CT23-Govt!CT23","v":517.80000000000007},{"$f":"'Total NF'!CU23-Govt!CU23","v":517.70000000000005},{"$f":"'Total NF'!CV23-Govt!CV23","v":517.5},{"$f":"'Total NF'!CW23-Govt!CW23","v":515.79999999999995},{"$f":"'Total NF'!CX23-Govt!CX23","v":517.30000000000007},{"$f":"'Total NF'!CY23-Govt!CY23","v":518.1},{"$f":"'Total NF'!CZ23-Govt!CZ23","v":522.5},{"$f":"'Total NF'!DA23-Govt!DA23","v":520.20000000000005},{"$f":"'Total NF'!DB23-Govt!DB23","v":523.1},{"$f":"'Total NF'!DC23-Govt!DC23","v":521.6},{"$f":"'Total NF'!DD23-Govt!DD23","v":520.6},{"$f":"'Total NF'!DE23-Govt!DE23","v":522.19999999999993},{"$f":"'Total NF'!DF23-Govt!DF23","v":522.6},{"$f":"'Total NF'!DG23-Govt!DG23","v":520.29999999999995},{"$f":"'Total NF'!DH23-Govt!DH23","v":520.6},{"$f":"'Total NF'!DI23-Govt!DI23","v":519.5},{"$f":"'Total NF'!DJ23-Govt!DJ23","v":519.80000000000007},0.30000000000006821,5.7747834456221023E-4,34,32,2.5,4.832785617630001E-3,45,43,1.7000000000000455,3.2812198417294836E-3,46,44,29.10000000000008,5.9303036478500264E-2,46,46]
["Maryland","SMS24000004000000001",{"$f":"'Total NF'!C24-Govt!C24","v":2064.1},{"$f":"'Total NF'!D24-Govt!D24","v":2053.9},{"$f":"'Total NF'!E24-Govt!E24","v":2041.3},{"$f":"'Total NF'!F24-Govt!F24","v":2032.3999999999999},{"$f":"'Total NF'!G24-Govt!G24","v":2033.8},{"$f":"'Total NF'!H24-Govt!H24","v":2031.3000000000002},{"$f":"'Total NF'!I24-Govt!I24","v":2022.6},{"$f":"'Total NF'!J24-Govt!J24","v":2018.9},{"$f":"'Total NF'!K24-Govt!K24","v":2015.7999999999997},{"$f":"'Total NF'!L24-Govt!L24","v":2010.7000000000003},{"$f":"'Total NF'!M24-Govt!M24","v":2010.3999999999999},{"$f":"'Total NF'!N24-Govt!N24","v":2005.6000000000001},null,{"$f":"'Total NF'!P24-Govt!P24","v":2004.6999999999998},{"$f":"'Total NF'!Q24-Govt!Q24","v":1973.2},{"$f":"'Total NF'!R24-Govt!R24","v":2002.6000000000001},{"$f":"'Total NF'!S24-Govt!S24","v":2016.1999999999998},{"$f":"'Total NF'!T24-Govt!T24","v":2018.3000000000002},{"$f":"'Total NF'!U24-Govt!U24","v":2019.9999999999998},{"$f":"'Total NF'!V24-Govt!V24","v":2021.3},{"$f":"'Total NF'!W24-Govt!W24","v":2020.8},{"$f":"'Total NF'!X24-Govt!X24","v":2022.8},{"$f":"'Total NF'!Y24-Govt!Y24","v":2030.2},{"$f":"'Total NF'!Z24-Govt!Z24","v":2025.6},{"$f":"'Total NF'!AA24-Govt!AA24","v":2029.4},null,{"$f":"'Total NF'!AC24-Govt!AC24","v":2026},{"$f":"'Total NF'!AD24-Govt!AD24","v":2029.7},{"$f":"'Total NF'!AE24-Govt!AE24","v":2030.8},{"$f":"'Total NF'!AF24-Govt!AF24","v":2034.7},{"$f":"'Total NF'!AG24-Govt!AG24","v":2034.1},{"$f":"'Total NF'!AH24-Govt!AH24","v":2033.2999999999997},{"$f":"'Total NF'!AI24-Govt!AI24","v":2041.8000000000002},{"$f":"'Total NF'!AJ24-Govt!AJ24","v":2039.3000000000002},{"$f":"'Total NF'!AK24-Govt!AK24","v":2044.4},{"$f":"'Total NF'!AL24-Govt!AL24","v":2044.5000000000002},{"$f":"'Total NF'!AM24-Govt!AM24","v":2049.5},{"$f":"'Total NF'!AN24-Govt!AN24","v":2051.5},null,{"$f":"'Total NF'!AP24-Govt!AP24","v":2058.5},{"$f":"'Total NF'!AQ24-Govt!AQ24","v":2060.6},{"$f":"'Total NF'!AR24-Govt!AR24","v":2065.5},{"$f":"'Total NF'!AS24-Govt!AS24","v":2062.1},{"$f":"'Total NF'!AT24-Govt!AT24","v":2064.7000000000003},{"$f":"'Total NF'!AU24-Govt!AU24","v":2069.6999999999998},{"$f":"'Total NF'!AV24-Govt!AV24","v":2069.1999999999998},{"$f":"'Total NF'!AW24-Govt!AW24","v":2071.3000000000002},{"$f":"'Total NF'!AX24-Govt!AX24","v":2074.9},{"$f":"'Total NF'!AY24-Govt!AY24","v":2077.5},{"$f":"'Total NF'!AZ24-Govt!AZ24","v":2080.6},{"$f":"'Total NF'!BA24-Govt!BA24","v":2081.7000000000003},null,{"$f":"'Total NF'!BC24-Govt!BC24","v":2086},{"$f":"'Total NF'!BD24-Govt!BD24","v":2090.5},{"$f":"'Total NF'!BE24-Govt!BE24","v":2088.4},{"$f":"'Total NF'!BF24-Govt!BF24","v":2086.9},{"$f":"'Total NF'!BG24-Govt!BG24","v":2089.2000000000003},{"$f":"'Total NF'!BH24-Govt!BH24","v":2090.1},{"$f":"'Total NF'!BI24-Govt!BI24","v":2091.9},{"$f":"'Total NF'!BJ24-Govt!BJ24","v":2093.3000000000002},{"$f":"'Total NF'!BK24-Govt!BK24","v":2092.5},{"$f":"'Total NF'!BL24-Govt!BL24","v":2095.7999999999997},{"$f":"'Total NF'!BM24-Govt!BM24","v":2102},{"$f":"'Total NF'!BN24-Govt!BN24","v":2105.7000000000003},{"$f":"'Total NF'!BO24-Govt!BO24","v":0},{"$f":"'Total NF'!BP24-Govt!BP24","v":2100.3000000000002},{"$f":"'Total NF'!BQ24-Govt!BQ24","v":2099.1999999999998},{"$f":"'Total NF'!BR24-Govt!BR24","v":2100.5},{"$f":"'Total NF'!BS24-Govt!BS24","v":2110.2000000000003},{"$f":"'Total NF'!BT24-Govt!BT24","v":2116.8000000000002},{"$f":"'Total NF'!BU24-Govt!BU24","v":2114.3999999999996},{"$f":"'Total NF'!BV24-Govt!BV24","v":2115.5},{"$f":"'Total NF'!BW24-Govt!BW24","v":2118.3000000000002},{"$f":"'Total NF'!BX24-Govt!BX24","v":2119.2999999999997},{"$f":"'Total NF'!BY24-Govt!BY24","v":2125.8000000000002},{"$f":"'Total NF'!BZ24-Govt!BZ24","v":2129.4},{"$f":"'Total NF'!CA24-Govt!CA24","v":2134.6000000000004},{"$f":"'Total NF'!CB24-Govt!CB24","v":2137.2000000000003},{"$f":"'Total NF'!CC24-Govt!CC24","v":2141.1},{"$f":"'Total NF'!CD24-Govt!CD24","v":2138.2999999999997},{"$f":"'Total NF'!CE24-Govt!CE24","v":2145.7000000000003},{"$f":"'Total NF'!CF24-Govt!CF24","v":2155.4},{"$f":"'Total NF'!CG24-Govt!CG24","v":2152.6},{"$f":"'Total NF'!CH24-Govt!CH24","v":2161.2000000000003},{"$f":"'Total NF'!CI24-Govt!CI24","v":2162.6},{"$f":"'Total NF'!CJ24-Govt!CJ24","v":2160.9},{"$f":"'Total NF'!CK24-Govt!CK24","v":2174.1999999999998},{"$f":"'Total NF'!CL24-Govt!CL24","v":2176.4},{"$f":"'Total NF'!CM24-Govt!CM24","v":2180.6000000000004},{"$f":"'Total NF'!CN24-Govt!CN24","v":2194.6},{"$f":"'Total NF'!CO24-Govt!CO24","v":2196.1},{"$f":"'Total NF'!CP24-Govt!CP24","v":2198.6},{"$f":"'Total NF'!CQ24-Govt!CQ24","v":2201.1},{"$f":"'Total NF'!CR24-Govt!CR24","v":2197.3000000000002},{"$f":"'Total NF'!CS24-Govt!CS24","v":2196.2000000000003},{"$f":"'Total NF'!CT24-Govt!CT24","v":2205.8000000000002},{"$f":"'Total NF'!CU24-Govt!CU24","v":2208.6999999999998},{"$f":"'Total NF'!CV24-Govt!CV24","v":2212.5},{"$f":"'Total NF'!CW24-Govt!CW24","v":2217.2000000000003},{"$f":"'Total NF'!CX24-Govt!CX24","v":2216.3999999999996},{"$f":"'Total NF'!CY24-Govt!CY24","v":2224.7000000000003},{"$f":"'Total NF'!CZ24-Govt!CZ24","v":2234.6},{"$f":"'Total NF'!DA24-Govt!DA24","v":2242.1999999999998},{"$f":"'Total NF'!DB24-Govt!DB24","v":2234.9},{"$f":"'Total NF'!DC24-Govt!DC24","v":2233.3000000000002},{"$f":"'Total NF'!DD24-Govt!DD24","v":2232.4},{"$f":"'Total NF'!DE24-Govt!DE24","v":2242.7999999999997},{"$f":"'Total NF'!DF24-Govt!DF24","v":2256.9},{"$f":"'Total NF'!DG24-Govt!DG24","v":2266.6},{"$f":"'Total NF'!DH24-Govt!DH24","v":2269.1999999999998},{"$f":"'Total NF'!DI24-Govt!DI24","v":2264.1},{"$f":"'Total NF'!DJ24-Govt!DJ24","v":2267.9},3.8000000000001819,1.6783710966830892E-3,15,23,51.500000000000455,2.3235878000361154E-2,10,6,43.199999999999818,1.9418348541376283E-2,11,9,245.30000000000018,0.12127954118461395,24,25]
["Massachusetts","SMS25000004000000001",{"$f":"'Total NF'!C25-Govt!C25","v":2807.4},{"$f":"'Total NF'!D25-Govt!D25","v":2798},{"$f":"'Total NF'!E25-Govt!E25","v":2786.6},{"$f":"'Total NF'!F25-Govt!F25","v":2769.4},{"$f":"'Total NF'!G25-Govt!G25","v":2767.7000000000003},{"$f":"'Total NF'!H25-Govt!H25","v":2759.3},{"$f":"'Total NF'!I25-Govt!I25","v":2750.5},{"$f":"'Total NF'!J25-Govt!J25","v":2750},{"$f":"'Total NF'!K25-Govt!K25","v":2751.7},{"$f":"'Total NF'!L25-Govt!L25","v":2746.8999999999996},{"$f":"'Total NF'!M25-Govt!M25","v":2751.5},{"$f":"'Total NF'!N25-Govt!N25","v":2755.5},null,{"$f":"'Total NF'!P25-Govt!P25","v":2763.6000000000004},{"$f":"'Total NF'!Q25-Govt!Q25","v":2763.6},{"$f":"'Total NF'!R25-Govt!R25","v":2766},{"$f":"'Total NF'!S25-Govt!S25","v":2771.7000000000003},{"$f":"'Total NF'!T25-Govt!T25","v":2777.5},{"$f":"'Total NF'!U25-Govt!U25","v":2771.3},{"$f":"'Total NF'!V25-Govt!V25","v":2780.1},{"$f":"'Total NF'!W25-Govt!W25","v":2781.6},{"$f":"'Total NF'!X25-Govt!X25","v":2779.9},{"$f":"'Total NF'!Y25-Govt!Y25","v":2792.6},{"$f":"'Total NF'!Z25-Govt!Z25","v":2792.7000000000003},{"$f":"'Total NF'!AA25-Govt!AA25","v":2796.8},null,{"$f":"'Total NF'!AC25-Govt!AC25","v":2799.5},{"$f":"'Total NF'!AD25-Govt!AD25","v":2798.5},{"$f":"'Total NF'!AE25-Govt!AE25","v":2803.4},{"$f":"'Total NF'!AF25-Govt!AF25","v":2816},{"$f":"'Total NF'!AG25-Govt!AG25","v":2813.3},{"$f":"'Total NF'!AH25-Govt!AH25","v":2807.6000000000004},{"$f":"'Total NF'!AI25-Govt!AI25","v":2830.5},{"$f":"'Total NF'!AJ25-Govt!AJ25","v":2831},{"$f":"'Total NF'!AK25-Govt!AK25","v":2837.2},{"$f":"'Total NF'!AL25-Govt!AL25","v":2838.9},{"$f":"'Total NF'!AM25-Govt!AM25","v":2842},{"$f":"'Total NF'!AN25-Govt!AN25","v":2844.1},null,{"$f":"'Total NF'!AP25-Govt!AP25","v":2853.8},{"$f":"'Total NF'!AQ25-Govt!AQ25","v":2858.2000000000003},{"$f":"'Total NF'!AR25-Govt!AR25","v":2865.2999999999997},{"$f":"'Total NF'!AS25-Govt!AS25","v":2863.4},{"$f":"'Total NF'!AT25-Govt!AT25","v":2864},{"$f":"'Total NF'!AU25-Govt!AU25","v":2874.8},{"$f":"'Total NF'!AV25-Govt!AV25","v":2873.7},{"$f":"'Total NF'!AW25-Govt!AW25","v":2874.1},{"$f":"'Total NF'!AX25-Govt!AX25","v":2878.2999999999997},{"$f":"'Total NF'!AY25-Govt!AY25","v":2884},{"$f":"'Total NF'!AZ25-Govt!AZ25","v":2888.7999999999997},{"$f":"'Total NF'!BA25-Govt!BA25","v":2891.7},null,{"$f":"'Total NF'!BC25-Govt!BC25","v":2894.6},{"$f":"'Total NF'!BD25-Govt!BD25","v":2898},{"$f":"'Total NF'!BE25-Govt!BE25","v":2904.1},{"$f":"'Total NF'!BF25-Govt!BF25","v":2906.7},{"$f":"'Total NF'!BG25-Govt!BG25","v":2913.2000000000003},{"$f":"'Total NF'!BH25-Govt!BH25","v":2919.1},{"$f":"'Total NF'!BI25-Govt!BI25","v":2916.9},{"$f":"'Total NF'!BJ25-Govt!BJ25","v":2921.7000000000003},{"$f":"'Total NF'!BK25-Govt!BK25","v":2923},{"$f":"'Total NF'!BL25-Govt!BL25","v":2933.3},{"$f":"'Total NF'!BM25-Govt!BM25","v":2940.1},{"$f":"'Total NF'!BN25-Govt!BN25","v":2946.1},{"$f":"'Total NF'!BO25-Govt!BO25","v":0},{"$f":"'Total NF'!BP25-Govt!BP25","v":2933.5},{"$f":"'Total NF'!BQ25-Govt!BQ25","v":2941.3},{"$f":"'Total NF'!BR25-Govt!BR25","v":2948.5},{"$f":"'Total NF'!BS25-Govt!BS25","v":2951.2},{"$f":"'Total NF'!BT25-Govt!BT25","v":2958},{"$f":"'Total NF'!BU25-Govt!BU25","v":2962.7000000000003},{"$f":"'Total NF'!BV25-Govt!BV25","v":2972.1000000000004},{"$f":"'Total NF'!BW25-Govt!BW25","v":2961.3999999999996},{"$f":"'Total NF'!BX25-Govt!BX25","v":2972},{"$f":"'Total NF'!BY25-Govt!BY25","v":2972.4},{"$f":"'Total NF'!BZ25-Govt!BZ25","v":2980.9},{"$f":"'Total NF'!CA25-Govt!CA25","v":2989.3},{"$f":"'Total NF'!CB25-Govt!CB25","v":3015.5},{"$f":"'Total NF'!CC25-Govt!CC25","v":3013.4},{"$f":"'Total NF'!CD25-Govt!CD25","v":3023.5},{"$f":"'Total NF'!CE25-Govt!CE25","v":3026.4},{"$f":"'Total NF'!CF25-Govt!CF25","v":3042.5},{"$f":"'Total NF'!CG25-Govt!CG25","v":3043.5},{"$f":"'Total NF'!CH25-Govt!CH25","v":3054.5},{"$f":"'Total NF'!CI25-Govt!CI25","v":3057.3},{"$f":"'Total NF'!CJ25-Govt!CJ25","v":3051.1},{"$f":"'Total NF'!CK25-Govt!CK25","v":3054.3},{"$f":"'Total NF'!CL25-Govt!CL25","v":3060.9},{"$f":"'Total NF'!CM25-Govt!CM25","v":3063.4},{"$f":"'Total NF'!CN25-Govt!CN25","v":3083.4},{"$f":"'Total NF'!CO25-Govt!CO25","v":3094.4},{"$f":"'Total NF'!CP25-Govt!CP25","v":3099.2000000000003},{"$f":"'Total NF'!CQ25-Govt!CQ25","v":3100.1},{"$f":"'Total NF'!CR25-Govt!CR25","v":3096.2999999999997},{"$f":"'Total NF'!CS25-Govt!CS25","v":3097.5},{"$f":"'Total NF'!CT25-Govt!CT25","v":3117.4},{"$f":"'Total NF'!CU25-Govt!CU25","v":3117.7000000000003},{"$f":"'Total NF'!CV25-Govt!CV25","v":3119.3},{"$f":"'Total NF'!CW25-Govt!CW25","v":3115.1},{"$f":"'Total NF'!CX25-Govt!CX25","v":3120.7000000000003},{"$f":"'Total NF'!CY25-Govt!CY25","v":3128.9},{"$f":"'Total NF'!CZ25-Govt!CZ25","v":3133.1},{"$f":"'Total NF'!DA25-Govt!DA25","v":3145.8999999999996},{"$f":"'Total NF'!DB25-Govt!DB25","v":3146.1000000000004},{"$f":"'Total NF'!DC25-Govt!DC25","v":3146.3},{"$f":"'Total NF'!DD25-Govt!DD25","v":3148.3},{"$f":"'Total NF'!DE25-Govt!DE25","v":3158.8},{"$f":"'Total NF'!DF25-Govt!DF25","v":3163},{"$f":"'Total NF'!DG25-Govt!DG25","v":3170.1},{"$f":"'Total NF'!DH25-Govt!DH25","v":3179.6},{"$f":"'Total NF'!DI25-Govt!DI25","v":3182.1},{"$f":"'Total NF'!DJ25-Govt!DJ25","v":3189.4},7.3000000000001819,2.2940825241193497E-3,8,16,68.699999999999818,2.2014291665331438E-2,6,10,60.5,1.9335868835693056E-2,7,10,438.90000000000009,0.15957098709325582,12,17]
["Michigan","SMS26000004000000001",{"$f":"'Total NF'!C26-Govt!C26","v":3300.1},{"$f":"'Total NF'!D26-Govt!D26","v":3302},{"$f":"'Total NF'!E26-Govt!E26","v":3274},{"$f":"'Total NF'!F26-Govt!F26","v":3254.3},{"$f":"'Total NF'!G26-Govt!G26","v":3223.3},{"$f":"'Total NF'!H26-Govt!H26","v":3190.5},{"$f":"'Total NF'!I26-Govt!I26","v":3186.6000000000004},{"$f":"'Total NF'!J26-Govt!J26","v":3186.7999999999997},{"$f":"'Total NF'!K26-Govt!K26","v":3190.7},{"$f":"'Total NF'!L26-Govt!L26","v":3193.8},{"$f":"'Total NF'!M26-Govt!M26","v":3191.7999999999997},{"$f":"'Total NF'!N26-Govt!N26","v":3194.3999999999996},null,{"$f":"'Total NF'!P26-Govt!P26","v":3195},{"$f":"'Total NF'!Q26-Govt!Q26","v":3195.7},{"$f":"'Total NF'!R26-Govt!R26","v":3190.6000000000004},{"$f":"'Total NF'!S26-Govt!S26","v":3207.4},{"$f":"'Total NF'!T26-Govt!T26","v":3211.1},{"$f":"'Total NF'!U26-Govt!U26","v":3222.1},{"$f":"'Total NF'!V26-Govt!V26","v":3242.1000000000004},{"$f":"'Total NF'!W26-Govt!W26","v":3234.7},{"$f":"'Total NF'!X26-Govt!X26","v":3245.8},{"$f":"'Total NF'!Y26-Govt!Y26","v":3261.3},{"$f":"'Total NF'!Z26-Govt!Z26","v":3265.1000000000004},{"$f":"'Total NF'!AA26-Govt!AA26","v":3266.4},null,{"$f":"'Total NF'!AC26-Govt!AC26","v":3285.7},{"$f":"'Total NF'!AD26-Govt!AD26","v":3292},{"$f":"'Total NF'!AE26-Govt!AE26","v":3299.2999999999997},{"$f":"'Total NF'!AF26-Govt!AF26","v":3315.4},{"$f":"'Total NF'!AG26-Govt!AG26","v":3320.2},{"$f":"'Total NF'!AH26-Govt!AH26","v":3324.1},{"$f":"'Total NF'!AI26-Govt!AI26","v":3345.6},{"$f":"'Total NF'!AJ26-Govt!AJ26","v":3350.5},{"$f":"'Total NF'!AK26-Govt!AK26","v":3358},{"$f":"'Total NF'!AL26-Govt!AL26","v":3369.5},{"$f":"'Total NF'!AM26-Govt!AM26","v":3376.3},{"$f":"'Total NF'!AN26-Govt!AN26","v":3376.6},null,{"$f":"'Total NF'!AP26-Govt!AP26","v":3391.6},{"$f":"'Total NF'!AQ26-Govt!AQ26","v":3400.3},{"$f":"'Total NF'!AR26-Govt!AR26","v":3409.2},{"$f":"'Total NF'!AS26-Govt!AS26","v":3423.3999999999996},{"$f":"'Total NF'!AT26-Govt!AT26","v":3414.2},{"$f":"'Total NF'!AU26-Govt!AU26","v":3418.2999999999997},{"$f":"'Total NF'!AV26-Govt!AV26","v":3432.1},{"$f":"'Total NF'!AW26-Govt!AW26","v":3429.1},{"$f":"'Total NF'!AX26-Govt!AX26","v":3432.6000000000004},{"$f":"'Total NF'!AY26-Govt!AY26","v":3442.4},{"$f":"'Total NF'!AZ26-Govt!AZ26","v":3452.2},{"$f":"'Total NF'!BA26-Govt!BA26","v":3461.5},null,{"$f":"'Total NF'!BC26-Govt!BC26","v":3479.1000000000004},{"$f":"'Total NF'!BD26-Govt!BD26","v":3492.1000000000004},{"$f":"'Total NF'!BE26-Govt!BE26","v":3495},{"$f":"'Total NF'!BF26-Govt!BF26","v":3491.1},{"$f":"'Total NF'!BG26-Govt!BG26","v":3500.2000000000003},{"$f":"'Total NF'!BH26-Govt!BH26","v":3509.5},{"$f":"'Total NF'!BI26-Govt!BI26","v":3503.7000000000003},{"$f":"'Total NF'!BJ26-Govt!BJ26","v":3514.9},{"$f":"'Total NF'!BK26-Govt!BK26","v":3514.1},{"$f":"'Total NF'!BL26-Govt!BL26","v":3524.8999999999996},{"$f":"'Total NF'!BM26-Govt!BM26","v":3524.8999999999996},{"$f":"'Total NF'!BN26-Govt!BN26","v":3525.8},{"$f":"'Total NF'!BO26-Govt!BO26","v":0},{"$f":"'Total NF'!BP26-Govt!BP26","v":3548},{"$f":"'Total NF'!BQ26-Govt!BQ26","v":3562.2},{"$f":"'Total NF'!BR26-Govt!BR26","v":3562.3999999999996},{"$f":"'Total NF'!BS26-Govt!BS26","v":3560.9},{"$f":"'Total NF'!BT26-Govt!BT26","v":3575.9000000000005},{"$f":"'Total NF'!BU26-Govt!BU26","v":3592.1000000000004},{"$f":"'Total NF'!BV26-Govt!BV26","v":3586.8},{"$f":"'Total NF'!BW26-Govt!BW26","v":3591.2},{"$f":"'Total NF'!BX26-Govt!BX26","v":3592.5999999999995},{"$f":"'Total NF'!BY26-Govt!BY26","v":3600.4},{"$f":"'Total NF'!BZ26-Govt!BZ26","v":3612.7000000000003},{"$f":"'Total NF'!CA26-Govt!CA26","v":3622.4000000000005},{"$f":"'Total NF'!CB26-Govt!CB26","v":3626.7000000000003},{"$f":"'Total NF'!CC26-Govt!CC26","v":3628.0000000000005},{"$f":"'Total NF'!CD26-Govt!CD26","v":3629.2},{"$f":"'Total NF'!CE26-Govt!CE26","v":3632.1},{"$f":"'Total NF'!CF26-Govt!CF26","v":3644.5},{"$f":"'Total NF'!CG26-Govt!CG26","v":3646.3999999999996},{"$f":"'Total NF'!CH26-Govt!CH26","v":3647.8},{"$f":"'Total NF'!CI26-Govt!CI26","v":3653},{"$f":"'Total NF'!CJ26-Govt!CJ26","v":3655.8999999999996},{"$f":"'Total NF'!CK26-Govt!CK26","v":3668.9},{"$f":"'Total NF'!CL26-Govt!CL26","v":3678.3},{"$f":"'Total NF'!CM26-Govt!CM26","v":3690.0000000000005},{"$f":"'Total NF'!CN26-Govt!CN26","v":3694.9999999999995},{"$f":"'Total NF'!CO26-Govt!CO26","v":3698.8999999999996},{"$f":"'Total NF'!CP26-Govt!CP26","v":3701},{"$f":"'Total NF'!CQ26-Govt!CQ26","v":3719.4},{"$f":"'Total NF'!CR26-Govt!CR26","v":3715.7},{"$f":"'Total NF'!CS26-Govt!CS26","v":3720.1},{"$f":"'Total NF'!CT26-Govt!CT26","v":3730.2},{"$f":"'Total NF'!CU26-Govt!CU26","v":3730.4},{"$f":"'Total NF'!CV26-Govt!CV26","v":3737.5},{"$f":"'Total NF'!CW26-Govt!CW26","v":3756.5999999999995},{"$f":"'Total NF'!CX26-Govt!CX26","v":3758.8},{"$f":"'Total NF'!CY26-Govt!CY26","v":3758.9999999999995},{"$f":"'Total NF'!CZ26-Govt!CZ26","v":3769.1000000000004},{"$f":"'Total NF'!DA26-Govt!DA26","v":3767.1},{"$f":"'Total NF'!DB26-Govt!DB26","v":3770.1},{"$f":"'Total NF'!DC26-Govt!DC26","v":3780.9},{"$f":"'Total NF'!DD26-Govt!DD26","v":3776.1000000000004},{"$f":"'Total NF'!DE26-Govt!DE26","v":3774.0000000000005},{"$f":"'Total NF'!DF26-Govt!DF26","v":3775.6000000000004},{"$f":"'Total NF'!DG26-Govt!DG26","v":3775.5999999999995},{"$f":"'Total NF'!DH26-Govt!DH26","v":3788.3},{"$f":"'Total NF'!DI26-Govt!DI26","v":3791.2000000000003},{"$f":"'Total NF'!DJ26-Govt!DJ26","v":3801.9},10.699999999999818,2.8223253851022939E-3,6,15,43.099999999999909,1.1466425454932401E-2,14,34,42.900000000000546,1.141260973663223E-2,12,29,615.29999999999973,0.19308981359442656,6,14]
["Minnesota","SMS27000004000000001",{"$f":"'Total NF'!C27-Govt!C27","v":2293.6},{"$f":"'Total NF'!D27-Govt!D27","v":2276.2000000000003},{"$f":"'Total NF'!E27-Govt!E27","v":2261.6},{"$f":"'Total NF'!F27-Govt!F27","v":2243.4},{"$f":"'Total NF'!G27-Govt!G27","v":2242.1999999999998},{"$f":"'Total NF'!H27-Govt!H27","v":2229.6},{"$f":"'Total NF'!I27-Govt!I27","v":2223.7999999999997},{"$f":"'Total NF'!J27-Govt!J27","v":2219.1999999999998},{"$f":"'Total NF'!K27-Govt!K27","v":2210.9},{"$f":"'Total NF'!L27-Govt!L27","v":2215},{"$f":"'Total NF'!M27-Govt!M27","v":2216.3000000000002},{"$f":"'Total NF'!N27-Govt!N27","v":2217.4},null,{"$f":"'Total NF'!P27-Govt!P27","v":2209.9},{"$f":"'Total NF'!Q27-Govt!Q27","v":2208.6},{"$f":"'Total NF'!R27-Govt!R27","v":2210.4},{"$f":"'Total NF'!S27-Govt!S27","v":2218.8000000000002},{"$f":"'Total NF'!T27-Govt!T27","v":2219.5},{"$f":"'Total NF'!U27-Govt!U27","v":2222.6999999999998},{"$f":"'Total NF'!V27-Govt!V27","v":2226.6999999999998},{"$f":"'Total NF'!W27-Govt!W27","v":2228.3000000000002},{"$f":"'Total NF'!X27-Govt!X27","v":2225.7000000000003},{"$f":"'Total NF'!Y27-Govt!Y27","v":2240.1},{"$f":"'Total NF'!Z27-Govt!Z27","v":2241},{"$f":"'Total NF'!AA27-Govt!AA27","v":2241.1},null,{"$f":"'Total NF'!AC27-Govt!AC27","v":2249.2999999999997},{"$f":"'Total NF'!AD27-Govt!AD27","v":2254.1},{"$f":"'Total NF'!AE27-Govt!AE27","v":2257.7000000000003},{"$f":"'Total NF'!AF27-Govt!AF27","v":2266.8000000000002},{"$f":"'Total NF'!AG27-Govt!AG27","v":2274.8000000000002},{"$f":"'Total NF'!AH27-Govt!AH27","v":2275.7000000000003},{"$f":"'Total NF'!AI27-Govt!AI27","v":2283.1999999999998},{"$f":"'Total NF'!AJ27-Govt!AJ27","v":2288.1000000000004},{"$f":"'Total NF'!AK27-Govt!AK27","v":2296.1999999999998},{"$f":"'Total NF'!AL27-Govt!AL27","v":2291.1999999999998},{"$f":"'Total NF'!AM27-Govt!AM27","v":2293.2000000000003},{"$f":"'Total NF'!AN27-Govt!AN27","v":2297.9},null,{"$f":"'Total NF'!AP27-Govt!AP27","v":2298.9},{"$f":"'Total NF'!AQ27-Govt!AQ27","v":2302.5},{"$f":"'Total NF'!AR27-Govt!AR27","v":2310.8000000000002},{"$f":"'Total NF'!AS27-Govt!AS27","v":2324.2000000000003},{"$f":"'Total NF'!AT27-Govt!AT27","v":2311.8000000000002},{"$f":"'Total NF'!AU27-Govt!AU27","v":2313.7999999999997},{"$f":"'Total NF'!AV27-Govt!AV27","v":2316.5},{"$f":"'Total NF'!AW27-Govt!AW27","v":2319.2999999999997},{"$f":"'Total NF'!AX27-Govt!AX27","v":2326.5},{"$f":"'Total NF'!AY27-Govt!AY27","v":2330},{"$f":"'Total NF'!AZ27-Govt!AZ27","v":2332.4},{"$f":"'Total NF'!BA27-Govt!BA27","v":2337.8000000000002},null,{"$f":"'Total NF'!BC27-Govt!BC27","v":2345.8000000000002},{"$f":"'Total NF'!BD27-Govt!BD27","v":2353.8000000000002},{"$f":"'Total NF'!BE27-Govt!BE27","v":2356.3000000000002},{"$f":"'Total NF'!BF27-Govt!BF27","v":2353.9},{"$f":"'Total NF'!BG27-Govt!BG27","v":2358.6},{"$f":"'Total NF'!BH27-Govt!BH27","v":2363.9},{"$f":"'Total NF'!BI27-Govt!BI27","v":2362.8000000000002},{"$f":"'Total NF'!BJ27-Govt!BJ27","v":2367.7999999999997},{"$f":"'Total NF'!BK27-Govt!BK27","v":2370.1},{"$f":"'Total NF'!BL27-Govt!BL27","v":2381.6},{"$f":"'Total NF'!BM27-Govt!BM27","v":2385.2000000000003},{"$f":"'Total NF'!BN27-Govt!BN27","v":2395.1},{"$f":"'Total NF'!BO27-Govt!BO27","v":0},{"$f":"'Total NF'!BP27-Govt!BP27","v":2377.3999999999996},{"$f":"'Total NF'!BQ27-Govt!BQ27","v":2378.4},{"$f":"'Total NF'!BR27-Govt!BR27","v":2377.4},{"$f":"'Total NF'!BS27-Govt!BS27","v":2387.2000000000003},{"$f":"'Total NF'!BT27-Govt!BT27","v":2391.8000000000002},{"$f":"'Total NF'!BU27-Govt!BU27","v":2397},{"$f":"'Total NF'!BV27-Govt!BV27","v":2401.1999999999998},{"$f":"'Total NF'!BW27-Govt!BW27","v":2403.7000000000003},{"$f":"'Total NF'!BX27-Govt!BX27","v":2397.5},{"$f":"'Total NF'!BY27-Govt!BY27","v":2410.1},{"$f":"'Total NF'!BZ27-Govt!BZ27","v":2409.9},{"$f":"'Total NF'!CA27-Govt!CA27","v":2412.8000000000002},{"$f":"'Total NF'!CB27-Govt!CB27","v":2417},{"$f":"'Total NF'!CC27-Govt!CC27","v":2422.4},{"$f":"'Total NF'!CD27-Govt!CD27","v":2426.1},{"$f":"'Total NF'!CE27-Govt!CE27","v":2431.1},{"$f":"'Total NF'!CF27-Govt!CF27","v":2437},{"$f":"'Total NF'!CG27-Govt!CG27","v":2437.6999999999998},{"$f":"'Total NF'!CH27-Govt!CH27","v":2439.4},{"$f":"'Total NF'!CI27-Govt!CI27","v":2439.3999999999996},{"$f":"'Total NF'!CJ27-Govt!CJ27","v":2437.1999999999998},{"$f":"'Total NF'!CK27-Govt!CK27","v":2439.6999999999998},{"$f":"'Total NF'!CL27-Govt!CL27","v":2446.3000000000002},{"$f":"'Total NF'!CM27-Govt!CM27","v":2450.8999999999996},{"$f":"'Total NF'!CN27-Govt!CN27","v":2458.2000000000003},{"$f":"'Total NF'!CO27-Govt!CO27","v":2463.3000000000002},{"$f":"'Total NF'!CP27-Govt!CP27","v":2461.7999999999997},{"$f":"'Total NF'!CQ27-Govt!CQ27","v":2472.1},{"$f":"'Total NF'!CR27-Govt!CR27","v":2467.6000000000004},{"$f":"'Total NF'!CS27-Govt!CS27","v":2461.1},{"$f":"'Total NF'!CT27-Govt!CT27","v":2476.2000000000003},{"$f":"'Total NF'!CU27-Govt!CU27","v":2478.4},{"$f":"'Total NF'!CV27-Govt!CV27","v":2477.5},{"$f":"'Total NF'!CW27-Govt!CW27","v":2479.3000000000002},{"$f":"'Total NF'!CX27-Govt!CX27","v":2486.9},{"$f":"'Total NF'!CY27-Govt!CY27","v":2491.7000000000003},{"$f":"'Total NF'!CZ27-Govt!CZ27","v":2490.5},{"$f":"'Total NF'!DA27-Govt!DA27","v":2499.1},{"$f":"'Total NF'!DB27-Govt!DB27","v":2504.7000000000003},{"$f":"'Total NF'!DC27-Govt!DC27","v":2518.1},{"$f":"'Total NF'!DD27-Govt!DD27","v":2517.8000000000002},{"$f":"'Total NF'!DE27-Govt!DE27","v":2525.6},{"$f":"'Total NF'!DF27-Govt!DF27","v":2526.6},{"$f":"'Total NF'!DG27-Govt!DG27","v":2520},{"$f":"'Total NF'!DH27-Govt!DH27","v":2524.9},{"$f":"'Total NF'!DI27-Govt!DI27","v":2522},{"$f":"'Total NF'!DJ27-Govt!DJ27","v":2518.6},-3.4000000000000909,-1.3481363996828274E-3,48,40,31.699999999999818,1.2746793196348794E-2,23,31,26.899999999999636,1.0795842196090874E-2,24,31,294.80000000000018,0.13256587822645932,19,23]
["Mississippi","SMS28000004000000001",{"$f":"'Total NF'!C28-Govt!C28","v":871.2},{"$f":"'Total NF'!D28-Govt!D28","v":865.89999999999986},{"$f":"'Total NF'!E28-Govt!E28","v":857.40000000000009},{"$f":"'Total NF'!F28-Govt!F28","v":850.30000000000007},{"$f":"'Total NF'!G28-Govt!G28","v":848.5},{"$f":"'Total NF'!H28-Govt!H28","v":845.59999999999991},{"$f":"'Total NF'!I28-Govt!I28","v":843.90000000000009},{"$f":"'Total NF'!J28-Govt!J28","v":842.39999999999986},{"$f":"'Total NF'!K28-Govt!K28","v":839.3},{"$f":"'Total NF'!L28-Govt!L28","v":837.09999999999991},{"$f":"'Total NF'!M28-Govt!M28","v":837.40000000000009},{"$f":"'Total NF'!N28-Govt!N28","v":835.9},null,{"$f":"'Total NF'!P28-Govt!P28","v":835.40000000000009},{"$f":"'Total NF'!Q28-Govt!Q28","v":835},{"$f":"'Total NF'!R28-Govt!R28","v":835.89999999999986},{"$f":"'Total NF'!S28-Govt!S28","v":842.6},{"$f":"'Total NF'!T28-Govt!T28","v":845.00000000000011},{"$f":"'Total NF'!U28-Govt!U28","v":846.69999999999993},{"$f":"'Total NF'!V28-Govt!V28","v":847.7},{"$f":"'Total NF'!W28-Govt!W28","v":846.5},{"$f":"'Total NF'!X28-Govt!X28","v":846.6},{"$f":"'Total NF'!Y28-Govt!Y28","v":848.3},{"$f":"'Total NF'!Z28-Govt!Z28","v":846},{"$f":"'Total NF'!AA28-Govt!AA28","v":846.3},null,{"$f":"'Total NF'!AC28-Govt!AC28","v":845.2},{"$f":"'Total NF'!AD28-Govt!AD28","v":845.30000000000007},{"$f":"'Total NF'!AE28-Govt!AE28","v":847.3},{"$f":"'Total NF'!AF28-Govt!AF28","v":847.59999999999991},{"$f":"'Total NF'!AG28-Govt!AG28","v":847.4},{"$f":"'Total NF'!AH28-Govt!AH28","v":847.6},{"$f":"'Total NF'!AI28-Govt!AI28","v":846.8},{"$f":"'Total NF'!AJ28-Govt!AJ28","v":846},{"$f":"'Total NF'!AK28-Govt!AK28","v":847.90000000000009},{"$f":"'Total NF'!AL28-Govt!AL28","v":848.69999999999993},{"$f":"'Total NF'!AM28-Govt!AM28","v":849},{"$f":"'Total NF'!AN28-Govt!AN28","v":848.9},null,{"$f":"'Total NF'!AP28-Govt!AP28","v":852},{"$f":"'Total NF'!AQ28-Govt!AQ28","v":854.60000000000014},{"$f":"'Total NF'!AR28-Govt!AR28","v":855.2},{"$f":"'Total NF'!AS28-Govt!AS28","v":856},{"$f":"'Total NF'!AT28-Govt!AT28","v":854.80000000000007},{"$f":"'Total NF'!AU28-Govt!AU28","v":854.7},{"$f":"'Total NF'!AV28-Govt!AV28","v":856.49999999999989},{"$f":"'Total NF'!AW28-Govt!AW28","v":857.3},{"$f":"'Total NF'!AX28-Govt!AX28","v":856.69999999999993},{"$f":"'Total NF'!AY28-Govt!AY28","v":857.8},{"$f":"'Total NF'!AZ28-Govt!AZ28","v":859},{"$f":"'Total NF'!BA28-Govt!BA28","v":860.40000000000009},null,{"$f":"'Total NF'!BC28-Govt!BC28","v":860.49999999999989},{"$f":"'Total NF'!BD28-Govt!BD28","v":863.7},{"$f":"'Total NF'!BE28-Govt!BE28","v":861.9},{"$f":"'Total NF'!BF28-Govt!BF28","v":862.8},{"$f":"'Total NF'!BG28-Govt!BG28","v":862.40000000000009},{"$f":"'Total NF'!BH28-Govt!BH28","v":863.40000000000009},{"$f":"'Total NF'!BI28-Govt!BI28","v":864.50000000000011},{"$f":"'Total NF'!BJ28-Govt!BJ28","v":864.7},{"$f":"'Total NF'!BK28-Govt!BK28","v":866.69999999999993},{"$f":"'Total NF'!BL28-Govt!BL28","v":874.6},{"$f":"'Total NF'!BM28-Govt!BM28","v":874.5},{"$f":"'Total NF'!BN28-Govt!BN28","v":874.39999999999986},{"$f":"'Total NF'!BO28-Govt!BO28","v":0},{"$f":"'Total NF'!BP28-Govt!BP28","v":875.49999999999989},{"$f":"'Total NF'!BQ28-Govt!BQ28","v":872.4},{"$f":"'Total NF'!BR28-Govt!BR28","v":871.19999999999993},{"$f":"'Total NF'!BS28-Govt!BS28","v":872.6},{"$f":"'Total NF'!BT28-Govt!BT28","v":872.69999999999993},{"$f":"'Total NF'!BU28-Govt!BU28","v":871.8},{"$f":"'Total NF'!BV28-Govt!BV28","v":873.59999999999991},{"$f":"'Total NF'!BW28-Govt!BW28","v":874.2},{"$f":"'Total NF'!BX28-Govt!BX28","v":874.9},{"$f":"'Total NF'!BY28-Govt!BY28","v":877.30000000000007},{"$f":"'Total NF'!BZ28-Govt!BZ28","v":877.09999999999991},{"$f":"'Total NF'!CA28-Govt!CA28","v":879},{"$f":"'Total NF'!CB28-Govt!CB28","v":883.40000000000009},{"$f":"'Total NF'!CC28-Govt!CC28","v":885.09999999999991},{"$f":"'Total NF'!CD28-Govt!CD28","v":882.30000000000007},{"$f":"'Total NF'!CE28-Govt!CE28","v":885.59999999999991},{"$f":"'Total NF'!CF28-Govt!CF28","v":888.80000000000007},{"$f":"'Total NF'!CG28-Govt!CG28","v":888.09999999999991},{"$f":"'Total NF'!CH28-Govt!CH28","v":889.50000000000011},{"$f":"'Total NF'!CI28-Govt!CI28","v":891.2},{"$f":"'Total NF'!CJ28-Govt!CJ28","v":892.5},{"$f":"'Total NF'!CK28-Govt!CK28","v":895.2},{"$f":"'Total NF'!CL28-Govt!CL28","v":896.19999999999993},{"$f":"'Total NF'!CM28-Govt!CM28","v":898.80000000000007},{"$f":"'Total NF'!CN28-Govt!CN28","v":901.5},{"$f":"'Total NF'!CO28-Govt!CO28","v":902.8},{"$f":"'Total NF'!CP28-Govt!CP28","v":901.8},{"$f":"'Total NF'!CQ28-Govt!CQ28","v":899.2},{"$f":"'Total NF'!CR28-Govt!CR28","v":897.80000000000007},{"$f":"'Total NF'!CS28-Govt!CS28","v":898.3},{"$f":"'Total NF'!CT28-Govt!CT28","v":902.8},{"$f":"'Total NF'!CU28-Govt!CU28","v":902.19999999999993},{"$f":"'Total NF'!CV28-Govt!CV28","v":902.4},{"$f":"'Total NF'!CW28-Govt!CW28","v":901.8},{"$f":"'Total NF'!CX28-Govt!CX28","v":901.59999999999991},{"$f":"'Total NF'!CY28-Govt!CY28","v":900.1},{"$f":"'Total NF'!CZ28-Govt!CZ28","v":901.3},{"$f":"'Total NF'!DA28-Govt!DA28","v":900.80000000000007},{"$f":"'Total NF'!DB28-Govt!DB28","v":899.5},{"$f":"'Total NF'!DC28-Govt!DC28","v":899.59999999999991},{"$f":"'Total NF'!DD28-Govt!DD28","v":898.99999999999989},{"$f":"'Total NF'!DE28-Govt!DE28","v":906.09999999999991},{"$f":"'Total NF'!DF28-Govt!DF28","v":905.9},{"$f":"'Total NF'!DG28-Govt!DG28","v":907.39999999999986},{"$f":"'Total NF'!DH28-Govt!DH28","v":906.2},{"$f":"'Total NF'!DI28-Govt!DI28","v":910.99999999999989},{"$f":"'Total NF'!DJ28-Govt!DJ28","v":914.1},3.1000000000001364,3.402854006586319E-3,19,7,12.500000000000114,1.3864241348713526E-2,35,27,14,1.5553827352516387E-2,32,20,70.199999999999932,8.3185211517952273E-2,37,43]
["Missouri","SMS29000004000000001",{"$f":"'Total NF'!C29-Govt!C29","v":2293.5},{"$f":"'Total NF'!D29-Govt!D29","v":2280.9},{"$f":"'Total NF'!E29-Govt!E29","v":2264.9},{"$f":"'Total NF'!F29-Govt!F29","v":2243.8000000000002},{"$f":"'Total NF'!G29-Govt!G29","v":2239.7999999999997},{"$f":"'Total NF'!H29-Govt!H29","v":2232.7000000000003},{"$f":"'Total NF'!I29-Govt!I29","v":2229.6},{"$f":"'Total NF'!J29-Govt!J29","v":2224.6999999999998},{"$f":"'Total NF'!K29-Govt!K29","v":2217},{"$f":"'Total NF'!L29-Govt!L29","v":2211.1000000000004},{"$f":"'Total NF'!M29-Govt!M29","v":2210.8000000000002},{"$f":"'Total NF'!N29-Govt!N29","v":2207},null,{"$f":"'Total NF'!P29-Govt!P29","v":2202.2999999999997},{"$f":"'Total NF'!Q29-Govt!Q29","v":2203.9},{"$f":"'Total NF'!R29-Govt!R29","v":2203.9},{"$f":"'Total NF'!S29-Govt!S29","v":2205.5},{"$f":"'Total NF'!T29-Govt!T29","v":2204.4},{"$f":"'Total NF'!U29-Govt!U29","v":2206.4},{"$f":"'Total NF'!V29-Govt!V29","v":2215},{"$f":"'Total NF'!W29-Govt!W29","v":2214.3999999999996},{"$f":"'Total NF'!X29-Govt!X29","v":2215.8999999999996},{"$f":"'Total NF'!Y29-Govt!Y29","v":2221},{"$f":"'Total NF'!Z29-Govt!Z29","v":2220.9},{"$f":"'Total NF'!AA29-Govt!AA29","v":2222.6},null,{"$f":"'Total NF'!AC29-Govt!AC29","v":2217},{"$f":"'Total NF'!AD29-Govt!AD29","v":2218.1999999999998},{"$f":"'Total NF'!AE29-Govt!AE29","v":2223.1},{"$f":"'Total NF'!AF29-Govt!AF29","v":2227.9},{"$f":"'Total NF'!AG29-Govt!AG29","v":2226.8000000000002},{"$f":"'Total NF'!AH29-Govt!AH29","v":2225.7000000000003},{"$f":"'Total NF'!AI29-Govt!AI29","v":2231.6999999999998},{"$f":"'Total NF'!AJ29-Govt!AJ29","v":2229.3000000000002},{"$f":"'Total NF'!AK29-Govt!AK29","v":2233.5},{"$f":"'Total NF'!AL29-Govt!AL29","v":2231.7000000000003},{"$f":"'Total NF'!AM29-Govt!AM29","v":2234},{"$f":"'Total NF'!AN29-Govt!AN29","v":2237.6999999999998},null,{"$f":"'Total NF'!AP29-Govt!AP29","v":2240.8000000000002},{"$f":"'Total NF'!AQ29-Govt!AQ29","v":2239.9},{"$f":"'Total NF'!AR29-Govt!AR29","v":2243.7999999999997},{"$f":"'Total NF'!AS29-Govt!AS29","v":2243},{"$f":"'Total NF'!AT29-Govt!AT29","v":2242.2999999999997},{"$f":"'Total NF'!AU29-Govt!AU29","v":2244.6999999999998},{"$f":"'Total NF'!AV29-Govt!AV29","v":2245.9},{"$f":"'Total NF'!AW29-Govt!AW29","v":2244.6},{"$f":"'Total NF'!AX29-Govt!AX29","v":2246.6},{"$f":"'Total NF'!AY29-Govt!AY29","v":2254.1},{"$f":"'Total NF'!AZ29-Govt!AZ29","v":2257.9},{"$f":"'Total NF'!BA29-Govt!BA29","v":2259.6999999999998},null,{"$f":"'Total NF'!BC29-Govt!BC29","v":2261.5},{"$f":"'Total NF'!BD29-Govt!BD29","v":2267.9},{"$f":"'Total NF'!BE29-Govt!BE29","v":2261.7999999999997},{"$f":"'Total NF'!BF29-Govt!BF29","v":2272.8000000000002},{"$f":"'Total NF'!BG29-Govt!BG29","v":2273},{"$f":"'Total NF'!BH29-Govt!BH29","v":2274.9},{"$f":"'Total NF'!BI29-Govt!BI29","v":2279.4},{"$f":"'Total NF'!BJ29-Govt!BJ29","v":2281},{"$f":"'Total NF'!BK29-Govt!BK29","v":2283.8000000000002},{"$f":"'Total NF'!BL29-Govt!BL29","v":2289.6},{"$f":"'Total NF'!BM29-Govt!BM29","v":2299},{"$f":"'Total NF'!BN29-Govt!BN29","v":2297.6000000000004},{"$f":"'Total NF'!BO29-Govt!BO29","v":0},{"$f":"'Total NF'!BP29-Govt!BP29","v":2283.3999999999996},{"$f":"'Total NF'!BQ29-Govt!BQ29","v":2291.6000000000004},{"$f":"'Total NF'!BR29-Govt!BR29","v":2289.6999999999998},{"$f":"'Total NF'!BS29-Govt!BS29","v":2300.8000000000002},{"$f":"'Total NF'!BT29-Govt!BT29","v":2302.6},{"$f":"'Total NF'!BU29-Govt!BU29","v":2302.6999999999998},{"$f":"'Total NF'!BV29-Govt!BV29","v":2305.6},{"$f":"'Total NF'!BW29-Govt!BW29","v":2308.4},{"$f":"'Total NF'!BX29-Govt!BX29","v":2307.7999999999997},{"$f":"'Total NF'!BY29-Govt!BY29","v":2307.9},{"$f":"'Total NF'!BZ29-Govt!BZ29","v":2308.1},{"$f":"'Total NF'!CA29-Govt!CA29","v":2313.1},{"$f":"'Total NF'!CB29-Govt!CB29","v":2340.8999999999996},{"$f":"'Total NF'!CC29-Govt!CC29","v":2344},{"$f":"'Total NF'!CD29-Govt!CD29","v":2339},{"$f":"'Total NF'!CE29-Govt!CE29","v":2345.1},{"$f":"'Total NF'!CF29-Govt!CF29","v":2351.1000000000004},{"$f":"'Total NF'!CG29-Govt!CG29","v":2351.5},{"$f":"'Total NF'!CH29-Govt!CH29","v":2359.1999999999998},{"$f":"'Total NF'!CI29-Govt!CI29","v":2358.7000000000003},{"$f":"'Total NF'!CJ29-Govt!CJ29","v":2362.7999999999997},{"$f":"'Total NF'!CK29-Govt!CK29","v":2355.4},{"$f":"'Total NF'!CL29-Govt!CL29","v":2353.1},{"$f":"'Total NF'!CM29-Govt!CM29","v":2351.7000000000003},{"$f":"'Total NF'!CN29-Govt!CN29","v":2391.4},{"$f":"'Total NF'!CO29-Govt!CO29","v":2397.5},{"$f":"'Total NF'!CP29-Govt!CP29","v":2398.6999999999998},{"$f":"'Total NF'!CQ29-Govt!CQ29","v":2403},{"$f":"'Total NF'!CR29-Govt!CR29","v":2399.7000000000003},{"$f":"'Total NF'!CS29-Govt!CS29","v":2402.6},{"$f":"'Total NF'!CT29-Govt!CT29","v":2407.7000000000003},{"$f":"'Total NF'!CU29-Govt!CU29","v":2410},{"$f":"'Total NF'!CV29-Govt!CV29","v":2414},{"$f":"'Total NF'!CW29-Govt!CW29","v":2424.2000000000003},{"$f":"'Total NF'!CX29-Govt!CX29","v":2428.5},{"$f":"'Total NF'!CY29-Govt!CY29","v":2435.7999999999997},{"$f":"'Total NF'!CZ29-Govt!CZ29","v":2441.8000000000002},{"$f":"'Total NF'!DA29-Govt!DA29","v":2447.7999999999997},{"$f":"'Total NF'!DB29-Govt!DB29","v":2433.3000000000002},{"$f":"'Total NF'!DC29-Govt!DC29","v":2438.4},{"$f":"'Total NF'!DD29-Govt!DD29","v":2444.1},{"$f":"'Total NF'!DE29-Govt!DE29","v":2450.1},{"$f":"'Total NF'!DF29-Govt!DF29","v":2449.2000000000003},{"$f":"'Total NF'!DG29-Govt!DG29","v":2450.2000000000003},{"$f":"'Total NF'!DH29-Govt!DH29","v":2451.1},{"$f":"'Total NF'!DI29-Govt!DI29","v":2456.4},{"$f":"'Total NF'!DJ29-Govt!DJ29","v":2459.9},3.5,1.4248493730662757E-3,18,24,31.400000000000091,1.2929792052707469E-2,24,30,24.100000000000364,9.8940799737254146E-3,26,36,230.30000000000018,0.10329207032651605,25,33]
["Montana","SMS30000004000000001",{"$f":"'Total NF'!C30-Govt!C30","v":346.2},{"$f":"'Total NF'!D30-Govt!D30","v":343.8},{"$f":"'Total NF'!E30-Govt!E30","v":339.79999999999995},{"$f":"'Total NF'!F30-Govt!F30","v":339.8},{"$f":"'Total NF'!G30-Govt!G30","v":339.2},{"$f":"'Total NF'!H30-Govt!H30","v":339.3},{"$f":"'Total NF'!I30-Govt!I30","v":338.5},{"$f":"'Total NF'!J30-Govt!J30","v":337.6},{"$f":"'Total NF'!K30-Govt!K30","v":337.1},{"$f":"'Total NF'!L30-Govt!L30","v":337.1},{"$f":"'Total NF'!M30-Govt!M30","v":336.9},{"$f":"'Total NF'!N30-Govt!N30","v":335.3},null,{"$f":"'Total NF'!P30-Govt!P30","v":335.9},{"$f":"'Total NF'!Q30-Govt!Q30","v":335.4},{"$f":"'Total NF'!R30-Govt!R30","v":335.5},{"$f":"'Total NF'!S30-Govt!S30","v":335.70000000000005},{"$f":"'Total NF'!T30-Govt!T30","v":335.7},{"$f":"'Total NF'!U30-Govt!U30","v":336.2},{"$f":"'Total NF'!V30-Govt!V30","v":336.4},{"$f":"'Total NF'!W30-Govt!W30","v":336.6},{"$f":"'Total NF'!X30-Govt!X30","v":336.79999999999995},{"$f":"'Total NF'!Y30-Govt!Y30","v":337.1},{"$f":"'Total NF'!Z30-Govt!Z30","v":336.1},{"$f":"'Total NF'!AA30-Govt!AA30","v":336.5},null,{"$f":"'Total NF'!AC30-Govt!AC30","v":336.9},{"$f":"'Total NF'!AD30-Govt!AD30","v":337.70000000000005},{"$f":"'Total NF'!AE30-Govt!AE30","v":338},{"$f":"'Total NF'!AF30-Govt!AF30","v":338.5},{"$f":"'Total NF'!AG30-Govt!AG30","v":339.6},{"$f":"'Total NF'!AH30-Govt!AH30","v":339},{"$f":"'Total NF'!AI30-Govt!AI30","v":341.5},{"$f":"'Total NF'!AJ30-Govt!AJ30","v":342.29999999999995},{"$f":"'Total NF'!AK30-Govt!AK30","v":343.40000000000003},{"$f":"'Total NF'!AL30-Govt!AL30","v":344.29999999999995},{"$f":"'Total NF'!AM30-Govt!AM30","v":345},{"$f":"'Total NF'!AN30-Govt!AN30","v":346.09999999999997},null,{"$f":"'Total NF'!AP30-Govt!AP30","v":346.9},{"$f":"'Total NF'!AQ30-Govt!AQ30","v":347.29999999999995},{"$f":"'Total NF'!AR30-Govt!AR30","v":347.7},{"$f":"'Total NF'!AS30-Govt!AS30","v":349.7},{"$f":"'Total NF'!AT30-Govt!AT30","v":350.09999999999997},{"$f":"'Total NF'!AU30-Govt!AU30","v":350.5},{"$f":"'Total NF'!AV30-Govt!AV30","v":350.7},{"$f":"'Total NF'!AW30-Govt!AW30","v":351.6},{"$f":"'Total NF'!AX30-Govt!AX30","v":352.20000000000005},{"$f":"'Total NF'!AY30-Govt!AY30","v":353.5},{"$f":"'Total NF'!AZ30-Govt!AZ30","v":354.1},{"$f":"'Total NF'!BA30-Govt!BA30","v":354.9},null,{"$f":"'Total NF'!BC30-Govt!BC30","v":354.9},{"$f":"'Total NF'!BD30-Govt!BD30","v":357.2},{"$f":"'Total NF'!BE30-Govt!BE30","v":357.3},{"$f":"'Total NF'!BF30-Govt!BF30","v":358.8},{"$f":"'Total NF'!BG30-Govt!BG30","v":359.1},{"$f":"'Total NF'!BH30-Govt!BH30","v":359.1},{"$f":"'Total NF'!BI30-Govt!BI30","v":359.3},{"$f":"'Total NF'!BJ30-Govt!BJ30","v":359.20000000000005},{"$f":"'Total NF'!BK30-Govt!BK30","v":359.4},{"$f":"'Total NF'!BL30-Govt!BL30","v":359.20000000000005},{"$f":"'Total NF'!BM30-Govt!BM30","v":360.59999999999997},{"$f":"'Total NF'!BN30-Govt!BN30","v":361.40000000000003},{"$f":"'Total NF'!BO30-Govt!BO30","v":0},{"$f":"'Total NF'!BP30-Govt!BP30","v":363.7},{"$f":"'Total NF'!BQ30-Govt!BQ30","v":363.9},{"$f":"'Total NF'!BR30-Govt!BR30","v":362.8},{"$f":"'Total NF'!BS30-Govt!BS30","v":364.4},{"$f":"'Total NF'!BT30-Govt!BT30","v":364},{"$f":"'Total NF'!BU30-Govt!BU30","v":365},{"$f":"'Total NF'!BV30-Govt!BV30","v":365.1},{"$f":"'Total NF'!BW30-Govt!BW30","v":365.3},{"$f":"'Total NF'!BX30-Govt!BX30","v":364.7},{"$f":"'Total NF'!BY30-Govt!BY30","v":365.70000000000005},{"$f":"'Total NF'!BZ30-Govt!BZ30","v":365.9},{"$f":"'Total NF'!CA30-Govt!CA30","v":367.1},{"$f":"'Total NF'!CB30-Govt!CB30","v":368.9},{"$f":"'Total NF'!CC30-Govt!CC30","v":369.70000000000005},{"$f":"'Total NF'!CD30-Govt!CD30","v":371},{"$f":"'Total NF'!CE30-Govt!CE30","v":370.2},{"$f":"'Total NF'!CF30-Govt!CF30","v":370.59999999999997},{"$f":"'Total NF'!CG30-Govt!CG30","v":371},{"$f":"'Total NF'!CH30-Govt!CH30","v":370.70000000000005},{"$f":"'Total NF'!CI30-Govt!CI30","v":370.8},{"$f":"'Total NF'!CJ30-Govt!CJ30","v":370.79999999999995},{"$f":"'Total NF'!CK30-Govt!CK30","v":370.6},{"$f":"'Total NF'!CL30-Govt!CL30","v":370.7},{"$f":"'Total NF'!CM30-Govt!CM30","v":371.1},{"$f":"'Total NF'!CN30-Govt!CN30","v":374.79999999999995},{"$f":"'Total NF'!CO30-Govt!CO30","v":375.4},{"$f":"'Total NF'!CP30-Govt!CP30","v":375.7},{"$f":"'Total NF'!CQ30-Govt!CQ30","v":376.5},{"$f":"'Total NF'!CR30-Govt!CR30","v":376.1},{"$f":"'Total NF'!CS30-Govt!CS30","v":375.6},{"$f":"'Total NF'!CT30-Govt!CT30","v":376.20000000000005},{"$f":"'Total NF'!CU30-Govt!CU30","v":376.1},{"$f":"'Total NF'!CV30-Govt!CV30","v":377.1},{"$f":"'Total NF'!CW30-Govt!CW30","v":377.5},{"$f":"'Total NF'!CX30-Govt!CX30","v":380.20000000000005},{"$f":"'Total NF'!CY30-Govt!CY30","v":379.79999999999995},{"$f":"'Total NF'!CZ30-Govt!CZ30","v":382.8},{"$f":"'Total NF'!DA30-Govt!DA30","v":385.3},{"$f":"'Total NF'!DB30-Govt!DB30","v":384.79999999999995},{"$f":"'Total NF'!DC30-Govt!DC30","v":383.4},{"$f":"'Total NF'!DD30-Govt!DD30","v":382.09999999999997},{"$f":"'Total NF'!DE30-Govt!DE30","v":381.2},{"$f":"'Total NF'!DF30-Govt!DF30","v":380.9},{"$f":"'Total NF'!DG30-Govt!DG30","v":382},{"$f":"'Total NF'!DH30-Govt!DH30","v":381.40000000000003},{"$f":"'Total NF'!DI30-Govt!DI30","v":383.3},{"$f":"'Total NF'!DJ30-Govt!DJ30","v":383.5},0.19999999999998863,5.2178450300023117E-4,36,33,3.2999999999999545,8.6796422935296012E-3,43,38,3.7000000000000455,9.7419694576093892E-3,41,37,45,0.13293943870014771,42,22]
["Nebraska","SMS31000004000000001",{"$f":"'Total NF'!C31-Govt!C31","v":796.1},{"$f":"'Total NF'!D31-Govt!D31","v":792.5},{"$f":"'Total NF'!E31-Govt!E31","v":788.8},{"$f":"'Total NF'!F31-Govt!F31","v":781.8},{"$f":"'Total NF'!G31-Govt!G31","v":781.9},{"$f":"'Total NF'!H31-Govt!H31","v":779.6},{"$f":"'Total NF'!I31-Govt!I31","v":778.09999999999991},{"$f":"'Total NF'!J31-Govt!J31","v":776.5},{"$f":"'Total NF'!K31-Govt!K31","v":775.5},{"$f":"'Total NF'!L31-Govt!L31","v":773.5},{"$f":"'Total NF'!M31-Govt!M31","v":774},{"$f":"'Total NF'!N31-Govt!N31","v":771.2},null,{"$f":"'Total NF'!P31-Govt!P31","v":771.6},{"$f":"'Total NF'!Q31-Govt!Q31","v":772.1},{"$f":"'Total NF'!R31-Govt!R31","v":770.6},{"$f":"'Total NF'!S31-Govt!S31","v":773.5},{"$f":"'Total NF'!T31-Govt!T31","v":774.2},{"$f":"'Total NF'!U31-Govt!U31","v":776.59999999999991},{"$f":"'Total NF'!V31-Govt!V31","v":778.5},{"$f":"'Total NF'!W31-Govt!W31","v":778.3},{"$f":"'Total NF'!X31-Govt!X31","v":776.80000000000007},{"$f":"'Total NF'!Y31-Govt!Y31","v":778.69999999999993},{"$f":"'Total NF'!Z31-Govt!Z31","v":777.1},{"$f":"'Total NF'!AA31-Govt!AA31","v":778.9},null,{"$f":"'Total NF'!AC31-Govt!AC31","v":778.59999999999991},{"$f":"'Total NF'!AD31-Govt!AD31","v":778.9},{"$f":"'Total NF'!AE31-Govt!AE31","v":779.8},{"$f":"'Total NF'!AF31-Govt!AF31","v":782.7},{"$f":"'Total NF'!AG31-Govt!AG31","v":783.5},{"$f":"'Total NF'!AH31-Govt!AH31","v":782.59999999999991},{"$f":"'Total NF'!AI31-Govt!AI31","v":784.8},{"$f":"'Total NF'!AJ31-Govt!AJ31","v":785.7},{"$f":"'Total NF'!AK31-Govt!AK31","v":787.90000000000009},{"$f":"'Total NF'!AL31-Govt!AL31","v":788},{"$f":"'Total NF'!AM31-Govt!AM31","v":789.80000000000007},{"$f":"'Total NF'!AN31-Govt!AN31","v":791.2},null,{"$f":"'Total NF'!AP31-Govt!AP31","v":794.9},{"$f":"'Total NF'!AQ31-Govt!AQ31","v":794.40000000000009},{"$f":"'Total NF'!AR31-Govt!AR31","v":798.6},{"$f":"'Total NF'!AS31-Govt!AS31","v":799.09999999999991},{"$f":"'Total NF'!AT31-Govt!AT31","v":798.8},{"$f":"'Total NF'!AU31-Govt!AU31","v":800.7},{"$f":"'Total NF'!AV31-Govt!AV31","v":800.5},{"$f":"'Total NF'!AW31-Govt!AW31","v":800.2},{"$f":"'Total NF'!AX31-Govt!AX31","v":801.8},{"$f":"'Total NF'!AY31-Govt!AY31","v":803.40000000000009},{"$f":"'Total NF'!AZ31-Govt!AZ31","v":804.4},{"$f":"'Total NF'!BA31-Govt!BA31","v":807.1},null,{"$f":"'Total NF'!BC31-Govt!BC31","v":806.1},{"$f":"'Total NF'!BD31-Govt!BD31","v":806.9},{"$f":"'Total NF'!BE31-Govt!BE31","v":807.2},{"$f":"'Total NF'!BF31-Govt!BF31","v":806.19999999999993},{"$f":"'Total NF'!BG31-Govt!BG31","v":808.30000000000007},{"$f":"'Total NF'!BH31-Govt!BH31","v":809.2},{"$f":"'Total NF'!BI31-Govt!BI31","v":810.2},{"$f":"'Total NF'!BJ31-Govt!BJ31","v":812.2},{"$f":"'Total NF'!BK31-Govt!BK31","v":813.09999999999991},{"$f":"'Total NF'!BL31-Govt!BL31","v":814.3},{"$f":"'Total NF'!BM31-Govt!BM31","v":813.9},{"$f":"'Total NF'!BN31-Govt!BN31","v":813.5},{"$f":"'Total NF'!BO31-Govt!BO31","v":0},{"$f":"'Total NF'!BP31-Govt!BP31","v":820},{"$f":"'Total NF'!BQ31-Govt!BQ31","v":821.40000000000009},{"$f":"'Total NF'!BR31-Govt!BR31","v":821.6},{"$f":"'Total NF'!BS31-Govt!BS31","v":823.1},{"$f":"'Total NF'!BT31-Govt!BT31","v":823},{"$f":"'Total NF'!BU31-Govt!BU31","v":823.5},{"$f":"'Total NF'!BV31-Govt!BV31","v":823.4},{"$f":"'Total NF'!BW31-Govt!BW31","v":824.1},{"$f":"'Total NF'!BX31-Govt!BX31","v":823.69999999999993},{"$f":"'Total NF'!BY31-Govt!BY31","v":824.09999999999991},{"$f":"'Total NF'!BZ31-Govt!BZ31","v":824.4},{"$f":"'Total NF'!CA31-Govt!CA31","v":825.09999999999991},{"$f":"'Total NF'!CB31-Govt!CB31","v":829.69999999999993},{"$f":"'Total NF'!CC31-Govt!CC31","v":831.09999999999991},{"$f":"'Total NF'!CD31-Govt!CD31","v":831.8},{"$f":"'Total NF'!CE31-Govt!CE31","v":831.1},{"$f":"'Total NF'!CF31-Govt!CF31","v":832.4},{"$f":"'Total NF'!CG31-Govt!CG31","v":834.1},{"$f":"'Total NF'!CH31-Govt!CH31","v":835.8},{"$f":"'Total NF'!CI31-Govt!CI31","v":836.59999999999991},{"$f":"'Total NF'!CJ31-Govt!CJ31","v":836.9},{"$f":"'Total NF'!CK31-Govt!CK31","v":840.9},{"$f":"'Total NF'!CL31-Govt!CL31","v":842.3},{"$f":"'Total NF'!CM31-Govt!CM31","v":842},{"$f":"'Total NF'!CN31-Govt!CN31","v":838.8},{"$f":"'Total NF'!CO31-Govt!CO31","v":839.40000000000009},{"$f":"'Total NF'!CP31-Govt!CP31","v":841.8},{"$f":"'Total NF'!CQ31-Govt!CQ31","v":840.1},{"$f":"'Total NF'!CR31-Govt!CR31","v":841.5},{"$f":"'Total NF'!CS31-Govt!CS31","v":840},{"$f":"'Total NF'!CT31-Govt!CT31","v":842.4},{"$f":"'Total NF'!CU31-Govt!CU31","v":843.1},{"$f":"'Total NF'!CV31-Govt!CV31","v":844.09999999999991},{"$f":"'Total NF'!CW31-Govt!CW31","v":846},{"$f":"'Total NF'!CX31-Govt!CX31","v":850.4},{"$f":"'Total NF'!CY31-Govt!CY31","v":850.9},{"$f":"'Total NF'!CZ31-Govt!CZ31","v":847.59999999999991},{"$f":"'Total NF'!DA31-Govt!DA31","v":854.1},{"$f":"'Total NF'!DB31-Govt!DB31","v":851.5},{"$f":"'Total NF'!DC31-Govt!DC31","v":853.1},{"$f":"'Total NF'!DD31-Govt!DD31","v":853.8},{"$f":"'Total NF'!DE31-Govt!DE31","v":856.4},{"$f":"'Total NF'!DF31-Govt!DF31","v":858.19999999999993},{"$f":"'Total NF'!DG31-Govt!DG31","v":856.8},{"$f":"'Total NF'!DH31-Govt!DH31","v":860.8},{"$f":"'Total NF'!DI31-Govt!DI31","v":856.5},{"$f":"'Total NF'!DJ31-Govt!DJ31","v":859.40000000000009},2.9000000000000909,3.3858727378868548E-3,21,8,9.0000000000001137,1.0583254938852439E-2,38,36,8.5000000000001137,9.9894229639206893E-3,37,35,81.300000000000182,0.10448528466778073,34,32]
["Nevada","SMS32000004000000001",{"$f":"'Total NF'!C32-Govt!C32","v":1038.2},{"$f":"'Total NF'!D32-Govt!D32","v":1025.3},{"$f":"'Total NF'!E32-Govt!E32","v":1011.4999999999999},{"$f":"'Total NF'!F32-Govt!F32","v":997.40000000000009},{"$f":"'Total NF'!G32-Govt!G32","v":991.8},{"$f":"'Total NF'!H32-Govt!H32","v":986.39999999999986},{"$f":"'Total NF'!I32-Govt!I32","v":979.1},{"$f":"'Total NF'!J32-Govt!J32","v":974.80000000000007},{"$f":"'Total NF'!K32-Govt!K32","v":972.2},{"$f":"'Total NF'!L32-Govt!L32","v":970.90000000000009},{"$f":"'Total NF'!M32-Govt!M32","v":970.2},{"$f":"'Total NF'!N32-Govt!N32","v":972.3},null,{"$f":"'Total NF'!P32-Govt!P32","v":966.6},{"$f":"'Total NF'!Q32-Govt!Q32","v":964.30000000000007},{"$f":"'Total NF'!R32-Govt!R32","v":961.89999999999986},{"$f":"'Total NF'!S32-Govt!S32","v":963.50000000000011},{"$f":"'Total NF'!T32-Govt!T32","v":963.89999999999986},{"$f":"'Total NF'!U32-Govt!U32","v":965.1},{"$f":"'Total NF'!V32-Govt!V32","v":964.80000000000007},{"$f":"'Total NF'!W32-Govt!W32","v":964.80000000000007},{"$f":"'Total NF'!X32-Govt!X32","v":959},{"$f":"'Total NF'!Y32-Govt!Y32","v":963.40000000000009},{"$f":"'Total NF'!Z32-Govt!Z32","v":965.2},{"$f":"'Total NF'!AA32-Govt!AA32","v":968.40000000000009},null,{"$f":"'Total NF'!AC32-Govt!AC32","v":971.1},{"$f":"'Total NF'!AD32-Govt!AD32","v":970.19999999999993},{"$f":"'Total NF'!AE32-Govt!AE32","v":970.8},{"$f":"'Total NF'!AF32-Govt!AF32","v":971.89999999999986},{"$f":"'Total NF'!AG32-Govt!AG32","v":972.8},{"$f":"'Total NF'!AH32-Govt!AH32","v":972.80000000000007},{"$f":"'Total NF'!AI32-Govt!AI32","v":975.59999999999991},{"$f":"'Total NF'!AJ32-Govt!AJ32","v":975.7},{"$f":"'Total NF'!AK32-Govt!AK32","v":979.09999999999991},{"$f":"'Total NF'!AL32-Govt!AL32","v":980.49999999999989},{"$f":"'Total NF'!AM32-Govt!AM32","v":981.80000000000007},{"$f":"'Total NF'!AN32-Govt!AN32","v":982.6},null,{"$f":"'Total NF'!AP32-Govt!AP32","v":988},{"$f":"'Total NF'!AQ32-Govt!AQ32","v":988.19999999999993},{"$f":"'Total NF'!AR32-Govt!AR32","v":989.60000000000014},{"$f":"'Total NF'!AS32-Govt!AS32","v":991.40000000000009},{"$f":"'Total NF'!AT32-Govt!AT32","v":992.5},{"$f":"'Total NF'!AU32-Govt!AU32","v":994.3},{"$f":"'Total NF'!AV32-Govt!AV32","v":992.10000000000014},{"$f":"'Total NF'!AW32-Govt!AW32","v":995.5},{"$f":"'Total NF'!AX32-Govt!AX32","v":998.6},{"$f":"'Total NF'!AY32-Govt!AY32","v":1002.2},{"$f":"'Total NF'!AZ32-Govt!AZ32","v":1006.5},{"$f":"'Total NF'!BA32-Govt!BA32","v":1003.5999999999999},null,{"$f":"'Total NF'!BC32-Govt!BC32","v":1010.3000000000001},{"$f":"'Total NF'!BD32-Govt!BD32","v":1011.7},{"$f":"'Total NF'!BE32-Govt!BE32","v":1015.3},{"$f":"'Total NF'!BF32-Govt!BF32","v":1018.2},{"$f":"'Total NF'!BG32-Govt!BG32","v":1019.2},{"$f":"'Total NF'!BH32-Govt!BH32","v":1022.6},{"$f":"'Total NF'!BI32-Govt!BI32","v":1023},{"$f":"'Total NF'!BJ32-Govt!BJ32","v":1026.3000000000002},{"$f":"'Total NF'!BK32-Govt!BK32","v":1027.6000000000001},{"$f":"'Total NF'!BL32-Govt!BL32","v":1034.2},{"$f":"'Total NF'!BM32-Govt!BM32","v":1038.7},{"$f":"'Total NF'!BN32-Govt!BN32","v":1042},{"$f":"'Total NF'!BO32-Govt!BO32","v":0},{"$f":"'Total NF'!BP32-Govt!BP32","v":1041.8},{"$f":"'Total NF'!BQ32-Govt!BQ32","v":1046.8},{"$f":"'Total NF'!BR32-Govt!BR32","v":1051.1999999999998},{"$f":"'Total NF'!BS32-Govt!BS32","v":1055.5999999999999},{"$f":"'Total NF'!BT32-Govt!BT32","v":1060.5999999999999},{"$f":"'Total NF'!BU32-Govt!BU32","v":1062.3},{"$f":"'Total NF'!BV32-Govt!BV32","v":1063.3},{"$f":"'Total NF'!BW32-Govt!BW32","v":1070.1000000000001},{"$f":"'Total NF'!BX32-Govt!BX32","v":1072.8999999999999},{"$f":"'Total NF'!BY32-Govt!BY32","v":1071.3999999999999},{"$f":"'Total NF'!BZ32-Govt!BZ32","v":1075.7},{"$f":"'Total NF'!CA32-Govt!CA32","v":1078},{"$f":"'Total NF'!CB32-Govt!CB32","v":1087.8999999999999},{"$f":"'Total NF'!CC32-Govt!CC32","v":1092.8},{"$f":"'Total NF'!CD32-Govt!CD32","v":1093.8},{"$f":"'Total NF'!CE32-Govt!CE32","v":1095.9000000000001},{"$f":"'Total NF'!CF32-Govt!CF32","v":1098.9000000000001},{"$f":"'Total NF'!CG32-Govt!CG32","v":1099.7},{"$f":"'Total NF'!CH32-Govt!CH32","v":1103.3},{"$f":"'Total NF'!CI32-Govt!CI32","v":1108.5},{"$f":"'Total NF'!CJ32-Govt!CJ32","v":1109.7},{"$f":"'Total NF'!CK32-Govt!CK32","v":1115},{"$f":"'Total NF'!CL32-Govt!CL32","v":1110.8999999999999},{"$f":"'Total NF'!CM32-Govt!CM32","v":1111},{"$f":"'Total NF'!CN32-Govt!CN32","v":1122},{"$f":"'Total NF'!CO32-Govt!CO32","v":1127},{"$f":"'Total NF'!CP32-Govt!CP32","v":1128.5999999999999},{"$f":"'Total NF'!CQ32-Govt!CQ32","v":1134.3},{"$f":"'Total NF'!CR32-Govt!CR32","v":1135},{"$f":"'Total NF'!CS32-Govt!CS32","v":1138.7},{"$f":"'Total NF'!CT32-Govt!CT32","v":1147.8},{"$f":"'Total NF'!CU32-Govt!CU32","v":1149.5},{"$f":"'Total NF'!CV32-Govt!CV32","v":1156.7},{"$f":"'Total NF'!CW32-Govt!CW32","v":1156},{"$f":"'Total NF'!CX32-Govt!CX32","v":1159.5999999999999},{"$f":"'Total NF'!CY32-Govt!CY32","v":1162.3},{"$f":"'Total NF'!CZ32-Govt!CZ32","v":1161.9000000000001},{"$f":"'Total NF'!DA32-Govt!DA32","v":1166},{"$f":"'Total NF'!DB32-Govt!DB32","v":1165.9000000000001},{"$f":"'Total NF'!DC32-Govt!DC32","v":1175.3999999999999},{"$f":"'Total NF'!DD32-Govt!DD32","v":1172},{"$f":"'Total NF'!DE32-Govt!DE32","v":1178.1000000000001},{"$f":"'Total NF'!DF32-Govt!DF32","v":1182.8},{"$f":"'Total NF'!DG32-Govt!DG32","v":1183.8},{"$f":"'Total NF'!DH32-Govt!DH32","v":1184.8999999999999},{"$f":"'Total NF'!DI32-Govt!DI32","v":1188.1999999999998},{"$f":"'Total NF'!DJ32-Govt!DJ32","v":1189.1000000000001},0.90000000000031832,7.5744824103713055E-4,29,29,29.500000000000227,2.5439806829941559E-2,26,3,26.800000000000182,2.3057730362213012E-2,25,4,210.00000000000011,0.21448268818302535,26,7]
["New Hampshire","SMS33000004000000001",{"$f":"'Total NF'!C33-Govt!C33","v":543.70000000000005},{"$f":"'Total NF'!D33-Govt!D33","v":540.30000000000007},{"$f":"'Total NF'!E33-Govt!E33","v":535.9},{"$f":"'Total NF'!F33-Govt!F33","v":532.69999999999993},{"$f":"'Total NF'!G33-Govt!G33","v":533.6},{"$f":"'Total NF'!H33-Govt!H33","v":530.6},{"$f":"'Total NF'!I33-Govt!I33","v":528.5},{"$f":"'Total NF'!J33-Govt!J33","v":528},{"$f":"'Total NF'!K33-Govt!K33","v":528.9},{"$f":"'Total NF'!L33-Govt!L33","v":527.70000000000005},{"$f":"'Total NF'!M33-Govt!M33","v":526.9},{"$f":"'Total NF'!N33-Govt!N33","v":528},null,{"$f":"'Total NF'!P33-Govt!P33","v":526},{"$f":"'Total NF'!Q33-Govt!Q33","v":526.20000000000005},{"$f":"'Total NF'!R33-Govt!R33","v":526.70000000000005},{"$f":"'Total NF'!S33-Govt!S33","v":527.70000000000005},{"$f":"'Total NF'!T33-Govt!T33","v":528.5},{"$f":"'Total NF'!U33-Govt!U33","v":528.79999999999995},{"$f":"'Total NF'!V33-Govt!V33","v":529.90000000000009},{"$f":"'Total NF'!W33-Govt!W33","v":529.70000000000005},{"$f":"'Total NF'!X33-Govt!X33","v":530.1},{"$f":"'Total NF'!Y33-Govt!Y33","v":531.9},{"$f":"'Total NF'!Z33-Govt!Z33","v":531},{"$f":"'Total NF'!AA33-Govt!AA33","v":532.5},null,{"$f":"'Total NF'!AC33-Govt!AC33","v":533.20000000000005},{"$f":"'Total NF'!AD33-Govt!AD33","v":533.9},{"$f":"'Total NF'!AE33-Govt!AE33","v":534.80000000000007},{"$f":"'Total NF'!AF33-Govt!AF33","v":536.69999999999993},{"$f":"'Total NF'!AG33-Govt!AG33","v":534.9},{"$f":"'Total NF'!AH33-Govt!AH33","v":533.5},{"$f":"'Total NF'!AI33-Govt!AI33","v":536.19999999999993},{"$f":"'Total NF'!AJ33-Govt!AJ33","v":537.19999999999993},{"$f":"'Total NF'!AK33-Govt!AK33","v":538.20000000000005},{"$f":"'Total NF'!AL33-Govt!AL33","v":538.1},{"$f":"'Total NF'!AM33-Govt!AM33","v":539.5},{"$f":"'Total NF'!AN33-Govt!AN33","v":539.6},null,{"$f":"'Total NF'!AP33-Govt!AP33","v":540.6},{"$f":"'Total NF'!AQ33-Govt!AQ33","v":540.29999999999995},{"$f":"'Total NF'!AR33-Govt!AR33","v":541.80000000000007},{"$f":"'Total NF'!AS33-Govt!AS33","v":541.70000000000005},{"$f":"'Total NF'!AT33-Govt!AT33","v":541.4},{"$f":"'Total NF'!AU33-Govt!AU33","v":543.4},{"$f":"'Total NF'!AV33-Govt!AV33","v":542.59999999999991},{"$f":"'Total NF'!AW33-Govt!AW33","v":543.9},{"$f":"'Total NF'!AX33-Govt!AX33","v":544.4},{"$f":"'Total NF'!AY33-Govt!AY33","v":545.5},{"$f":"'Total NF'!AZ33-Govt!AZ33","v":545.6},{"$f":"'Total NF'!BA33-Govt!BA33","v":545.9},null,{"$f":"'Total NF'!BC33-Govt!BC33","v":547},{"$f":"'Total NF'!BD33-Govt!BD33","v":547.79999999999995},{"$f":"'Total NF'!BE33-Govt!BE33","v":547.80000000000007},{"$f":"'Total NF'!BF33-Govt!BF33","v":548.5},{"$f":"'Total NF'!BG33-Govt!BG33","v":549.80000000000007},{"$f":"'Total NF'!BH33-Govt!BH33","v":550.69999999999993},{"$f":"'Total NF'!BI33-Govt!BI33","v":549.90000000000009},{"$f":"'Total NF'!BJ33-Govt!BJ33","v":550},{"$f":"'Total NF'!BK33-Govt!BK33","v":549.69999999999993},{"$f":"'Total NF'!BL33-Govt!BL33","v":552.4},{"$f":"'Total NF'!BM33-Govt!BM33","v":553.79999999999995},{"$f":"'Total NF'!BN33-Govt!BN33","v":554.29999999999995},{"$f":"'Total NF'!BO33-Govt!BO33","v":0},{"$f":"'Total NF'!BP33-Govt!BP33","v":555.1},{"$f":"'Total NF'!BQ33-Govt!BQ33","v":556},{"$f":"'Total NF'!BR33-Govt!BR33","v":555.79999999999995},{"$f":"'Total NF'!BS33-Govt!BS33","v":556.19999999999993},{"$f":"'Total NF'!BT33-Govt!BT33","v":557.20000000000005},{"$f":"'Total NF'!BU33-Govt!BU33","v":557.70000000000005},{"$f":"'Total NF'!BV33-Govt!BV33","v":558.70000000000005},{"$f":"'Total NF'!BW33-Govt!BW33","v":551.80000000000007},{"$f":"'Total NF'!BX33-Govt!BX33","v":559},{"$f":"'Total NF'!BY33-Govt!BY33","v":560.5},{"$f":"'Total NF'!BZ33-Govt!BZ33","v":561},{"$f":"'Total NF'!CA33-Govt!CA33","v":562.70000000000005},{"$f":"'Total NF'!CB33-Govt!CB33","v":561.80000000000007},{"$f":"'Total NF'!CC33-Govt!CC33","v":561.09999999999991},{"$f":"'Total NF'!CD33-Govt!CD33","v":562.9},{"$f":"'Total NF'!CE33-Govt!CE33","v":563.79999999999995},{"$f":"'Total NF'!CF33-Govt!CF33","v":565.9},{"$f":"'Total NF'!CG33-Govt!CG33","v":566.4},{"$f":"'Total NF'!CH33-Govt!CH33","v":567.70000000000005},{"$f":"'Total NF'!CI33-Govt!CI33","v":567.79999999999995},{"$f":"'Total NF'!CJ33-Govt!CJ33","v":567.6},{"$f":"'Total NF'!CK33-Govt!CK33","v":569.90000000000009},{"$f":"'Total NF'!CL33-Govt!CL33","v":570.80000000000007},{"$f":"'Total NF'!CM33-Govt!CM33","v":571.70000000000005},{"$f":"'Total NF'!CN33-Govt!CN33","v":573.6},{"$f":"'Total NF'!CO33-Govt!CO33","v":575.1},{"$f":"'Total NF'!CP33-Govt!CP33","v":574.6},{"$f":"'Total NF'!CQ33-Govt!CQ33","v":575.6},{"$f":"'Total NF'!CR33-Govt!CR33","v":575.1},{"$f":"'Total NF'!CS33-Govt!CS33","v":575.40000000000009},{"$f":"'Total NF'!CT33-Govt!CT33","v":577.9},{"$f":"'Total NF'!CU33-Govt!CU33","v":578.09999999999991},{"$f":"'Total NF'!CV33-Govt!CV33","v":579.20000000000005},{"$f":"'Total NF'!CW33-Govt!CW33","v":582.79999999999995},{"$f":"'Total NF'!CX33-Govt!CX33","v":583},{"$f":"'Total NF'!CY33-Govt!CY33","v":583},{"$f":"'Total NF'!CZ33-Govt!CZ33","v":589.29999999999995},{"$f":"'Total NF'!DA33-Govt!DA33","v":587},{"$f":"'Total NF'!DB33-Govt!DB33","v":584.59999999999991},{"$f":"'Total NF'!DC33-Govt!DC33","v":587.6},{"$f":"'Total NF'!DD33-Govt!DD33","v":584.90000000000009},{"$f":"'Total NF'!DE33-Govt!DE33","v":586.4},{"$f":"'Total NF'!DF33-Govt!DF33","v":589},{"$f":"'Total NF'!DG33-Govt!DG33","v":590.4},{"$f":"'Total NF'!DH33-Govt!DH33","v":587.4},{"$f":"'Total NF'!DI33-Govt!DI33","v":590.30000000000007},{"$f":"'Total NF'!DJ33-Govt!DJ33","v":592.20000000000005},1.8999999999999773,3.2187023547348417E-3,23,11,9.2000000000000455,1.5780445969125291E-2,37,24,9.2000000000000455,1.5780445969125291E-2,36,19,63.700000000000045,0.1205298013245034,40,26]
["New Jersey","SMS34000004000000001",{"$f":"'Total NF'!C34-Govt!C34","v":3305.3},{"$f":"'Total NF'!D34-Govt!D34","v":3289.6000000000004},{"$f":"'Total NF'!E34-Govt!E34","v":3267.3999999999996},{"$f":"'Total NF'!F34-Govt!F34","v":3244.7},{"$f":"'Total NF'!G34-Govt!G34","v":3247.8999999999996},{"$f":"'Total NF'!H34-Govt!H34","v":3237.1},{"$f":"'Total NF'!I34-Govt!I34","v":3227.4},{"$f":"'Total NF'!J34-Govt!J34","v":3220.8},{"$f":"'Total NF'!K34-Govt!K34","v":3217.7},{"$f":"'Total NF'!L34-Govt!L34","v":3211.6},{"$f":"'Total NF'!M34-Govt!M34","v":3211.3},{"$f":"'Total NF'!N34-Govt!N34","v":3211.2000000000003},null,{"$f":"'Total NF'!P34-Govt!P34","v":3202.1000000000004},{"$f":"'Total NF'!Q34-Govt!Q34","v":3191.6},{"$f":"'Total NF'!R34-Govt!R34","v":3195.5},{"$f":"'Total NF'!S34-Govt!S34","v":3208.7},{"$f":"'Total NF'!T34-Govt!T34","v":3208},{"$f":"'Total NF'!U34-Govt!U34","v":3210.5},{"$f":"'Total NF'!V34-Govt!V34","v":3208.6},{"$f":"'Total NF'!W34-Govt!W34","v":3209.3},{"$f":"'Total NF'!X34-Govt!X34","v":3209.1},{"$f":"'Total NF'!Y34-Govt!Y34","v":3218.3},{"$f":"'Total NF'!Z34-Govt!Z34","v":3217.3},{"$f":"'Total NF'!AA34-Govt!AA34","v":3219.4},null,{"$f":"'Total NF'!AC34-Govt!AC34","v":3215},{"$f":"'Total NF'!AD34-Govt!AD34","v":3214.5},{"$f":"'Total NF'!AE34-Govt!AE34","v":3217.2000000000003},{"$f":"'Total NF'!AF34-Govt!AF34","v":3221.8},{"$f":"'Total NF'!AG34-Govt!AG34","v":3220},{"$f":"'Total NF'!AH34-Govt!AH34","v":3220.5},{"$f":"'Total NF'!AI34-Govt!AI34","v":3231.8},{"$f":"'Total NF'!AJ34-Govt!AJ34","v":3229.8},{"$f":"'Total NF'!AK34-Govt!AK34","v":3238.7},{"$f":"'Total NF'!AL34-Govt!AL34","v":3237},{"$f":"'Total NF'!AM34-Govt!AM34","v":3244.1},{"$f":"'Total NF'!AN34-Govt!AN34","v":3248.2},null,{"$f":"'Total NF'!AP34-Govt!AP34","v":3260.3},{"$f":"'Total NF'!AQ34-Govt!AQ34","v":3265.9},{"$f":"'Total NF'!AR34-Govt!AR34","v":3273.7999999999997},{"$f":"'Total NF'!AS34-Govt!AS34","v":3261.9},{"$f":"'Total NF'!AT34-Govt!AT34","v":3268.7000000000003},{"$f":"'Total NF'!AU34-Govt!AU34","v":3274.2},{"$f":"'Total NF'!AV34-Govt!AV34","v":3269.1},{"$f":"'Total NF'!AW34-Govt!AW34","v":3275.2},{"$f":"'Total NF'!AX34-Govt!AX34","v":3282.9},{"$f":"'Total NF'!AY34-Govt!AY34","v":3285.3999999999996},{"$f":"'Total NF'!AZ34-Govt!AZ34","v":3280.9},{"$f":"'Total NF'!BA34-Govt!BA34","v":3293.6},null,{"$f":"'Total NF'!BC34-Govt!BC34","v":3301.2000000000003},{"$f":"'Total NF'!BD34-Govt!BD34","v":3304.3999999999996},{"$f":"'Total NF'!BE34-Govt!BE34","v":3310.8},{"$f":"'Total NF'!BF34-Govt!BF34","v":3318.2},{"$f":"'Total NF'!BG34-Govt!BG34","v":3323.7},{"$f":"'Total NF'!BH34-Govt!BH34","v":3325},{"$f":"'Total NF'!BI34-Govt!BI34","v":3324.1},{"$f":"'Total NF'!BJ34-Govt!BJ34","v":3328.7},{"$f":"'Total NF'!BK34-Govt!BK34","v":3330.6},{"$f":"'Total NF'!BL34-Govt!BL34","v":3326.9},{"$f":"'Total NF'!BM34-Govt!BM34","v":3332.1000000000004},{"$f":"'Total NF'!BN34-Govt!BN34","v":3313.4},{"$f":"'Total NF'!BO34-Govt!BO34","v":0},{"$f":"'Total NF'!BP34-Govt!BP34","v":3327.6},{"$f":"'Total NF'!BQ34-Govt!BQ34","v":3321.1},{"$f":"'Total NF'!BR34-Govt!BR34","v":3323.5},{"$f":"'Total NF'!BS34-Govt!BS34","v":3337.1000000000004},{"$f":"'Total NF'!BT34-Govt!BT34","v":3346.4},{"$f":"'Total NF'!BU34-Govt!BU34","v":3343.6},{"$f":"'Total NF'!BV34-Govt!BV34","v":3345.8},{"$f":"'Total NF'!BW34-Govt!BW34","v":3345.2},{"$f":"'Total NF'!BX34-Govt!BX34","v":3348.2999999999997},{"$f":"'Total NF'!BY34-Govt!BY34","v":3352.1000000000004},{"$f":"'Total NF'!BZ34-Govt!BZ34","v":3359.5},{"$f":"'Total NF'!CA34-Govt!CA34","v":3359.8},{"$f":"'Total NF'!CB34-Govt!CB34","v":3374.5},{"$f":"'Total NF'!CC34-Govt!CC34","v":3375.2999999999997},{"$f":"'Total NF'!CD34-Govt!CD34","v":3377.5},{"$f":"'Total NF'!CE34-Govt!CE34","v":3389.3},{"$f":"'Total NF'!CF34-Govt!CF34","v":3401.7},{"$f":"'Total NF'!CG34-Govt!CG34","v":3405},{"$f":"'Total NF'!CH34-Govt!CH34","v":3409.7},{"$f":"'Total NF'!CI34-Govt!CI34","v":3411.7},{"$f":"'Total NF'!CJ34-Govt!CJ34","v":3416.5},{"$f":"'Total NF'!CK34-Govt!CK34","v":3437.7},{"$f":"'Total NF'!CL34-Govt!CL34","v":3446},{"$f":"'Total NF'!CM34-Govt!CM34","v":3458.2000000000003},{"$f":"'Total NF'!CN34-Govt!CN34","v":3433.3999999999996},{"$f":"'Total NF'!CO34-Govt!CO34","v":3442.8},{"$f":"'Total NF'!CP34-Govt!CP34","v":3446.2000000000003},{"$f":"'Total NF'!CQ34-Govt!CQ34","v":3451.3},{"$f":"'Total NF'!CR34-Govt!CR34","v":3446.1},{"$f":"'Total NF'!CS34-Govt!CS34","v":3456},{"$f":"'Total NF'!CT34-Govt!CT34","v":3469.3},{"$f":"'Total NF'!CU34-Govt!CU34","v":3474.2000000000003},{"$f":"'Total NF'!CV34-Govt!CV34","v":3480.3999999999996},{"$f":"'Total NF'!CW34-Govt!CW34","v":3483.3999999999996},{"$f":"'Total NF'!CX34-Govt!CX34","v":3482.8},{"$f":"'Total NF'!CY34-Govt!CY34","v":3492.2999999999997},{"$f":"'Total NF'!CZ34-Govt!CZ34","v":3508.2000000000003},{"$f":"'Total NF'!DA34-Govt!DA34","v":3519.4},{"$f":"'Total NF'!DB34-Govt!DB34","v":3505.3},{"$f":"'Total NF'!DC34-Govt!DC34","v":3508.2},{"$f":"'Total NF'!DD34-Govt!DD34","v":3497.7000000000003},{"$f":"'Total NF'!DE34-Govt!DE34","v":3512.2},{"$f":"'Total NF'!DF34-Govt!DF34","v":3517.2999999999997},{"$f":"'Total NF'!DG34-Govt!DG34","v":3517.5},{"$f":"'Total NF'!DH34-Govt!DH34","v":3514.9},{"$f":"'Total NF'!DI34-Govt!DI34","v":3521.9},{"$f":"'Total NF'!DJ34-Govt!DJ34","v":3528.2},6.2999999999997272,1.788807177943646E-3,11,20,45.399999999999636,1.3035488687263017E-2,12,29,35.900000000000091,1.0279758325458894E-2,16,33,300.79999999999973,9.3201958232632998E-2,18,38]
["New Mexico","SMS35000004000000001",{"$f":"'Total NF'!C35-Govt!C35","v":630.20000000000005},{"$f":"'Total NF'!D35-Govt!D35","v":626},{"$f":"'Total NF'!E35-Govt!E35","v":620.19999999999993},{"$f":"'Total NF'!F35-Govt!F35","v":614.70000000000005},{"$f":"'Total NF'!G35-Govt!G35","v":614.29999999999995},{"$f":"'Total NF'!H35-Govt!H35","v":611.70000000000005},{"$f":"'Total NF'!I35-Govt!I35","v":609.69999999999993},{"$f":"'Total NF'!J35-Govt!J35","v":610.19999999999993},{"$f":"'Total NF'!K35-Govt!K35","v":609.4},{"$f":"'Total NF'!L35-Govt!L35","v":606.1},{"$f":"'Total NF'!M35-Govt!M35","v":605},{"$f":"'Total NF'!N35-Govt!N35","v":603.9},null,{"$f":"'Total NF'!P35-Govt!P35","v":603.70000000000005},{"$f":"'Total NF'!Q35-Govt!Q35","v":603.70000000000005},{"$f":"'Total NF'!R35-Govt!R35","v":603},{"$f":"'Total NF'!S35-Govt!S35","v":603.40000000000009},{"$f":"'Total NF'!T35-Govt!T35","v":603.5},{"$f":"'Total NF'!U35-Govt!U35","v":604.4},{"$f":"'Total NF'!V35-Govt!V35","v":603.79999999999995},{"$f":"'Total NF'!W35-Govt!W35","v":603.29999999999995},{"$f":"'Total NF'!X35-Govt!X35","v":601.80000000000007},{"$f":"'Total NF'!Y35-Govt!Y35","v":603},{"$f":"'Total NF'!Z35-Govt!Z35","v":603.4},{"$f":"'Total NF'!AA35-Govt!AA35","v":604.9},null,{"$f":"'Total NF'!AC35-Govt!AC35","v":604.5},{"$f":"'Total NF'!AD35-Govt!AD35","v":606},{"$f":"'Total NF'!AE35-Govt!AE35","v":605.79999999999995},{"$f":"'Total NF'!AF35-Govt!AF35","v":608.09999999999991},{"$f":"'Total NF'!AG35-Govt!AG35","v":608.5},{"$f":"'Total NF'!AH35-Govt!AH35","v":607.40000000000009},{"$f":"'Total NF'!AI35-Govt!AI35","v":609.09999999999991},{"$f":"'Total NF'!AJ35-Govt!AJ35","v":607.80000000000007},{"$f":"'Total NF'!AK35-Govt!AK35","v":608.9},{"$f":"'Total NF'!AL35-Govt!AL35","v":606.70000000000005},{"$f":"'Total NF'!AM35-Govt!AM35","v":607.80000000000007},{"$f":"'Total NF'!AN35-Govt!AN35","v":606.70000000000005},null,{"$f":"'Total NF'!AP35-Govt!AP35","v":607.40000000000009},{"$f":"'Total NF'!AQ35-Govt!AQ35","v":609.20000000000005},{"$f":"'Total NF'!AR35-Govt!AR35","v":610.79999999999995},{"$f":"'Total NF'!AS35-Govt!AS35","v":610.5},{"$f":"'Total NF'!AT35-Govt!AT35","v":610},{"$f":"'Total NF'!AU35-Govt!AU35","v":611.30000000000007},{"$f":"'Total NF'!AV35-Govt!AV35","v":610.09999999999991},{"$f":"'Total NF'!AW35-Govt!AW35","v":609.4},{"$f":"'Total NF'!AX35-Govt!AX35","v":611.29999999999995},{"$f":"'Total NF'!AY35-Govt!AY35","v":619.5},{"$f":"'Total NF'!AZ35-Govt!AZ35","v":619.4},{"$f":"'Total NF'!BA35-Govt!BA35","v":617.80000000000007},null,{"$f":"'Total NF'!BC35-Govt!BC35","v":618.70000000000005},{"$f":"'Total NF'!BD35-Govt!BD35","v":619.40000000000009},{"$f":"'Total NF'!BE35-Govt!BE35","v":617.1},{"$f":"'Total NF'!BF35-Govt!BF35","v":619.20000000000005},{"$f":"'Total NF'!BG35-Govt!BG35","v":619.19999999999993},{"$f":"'Total NF'!BH35-Govt!BH35","v":617.69999999999993},{"$f":"'Total NF'!BI35-Govt!BI35","v":619.4},{"$f":"'Total NF'!BJ35-Govt!BJ35","v":619},{"$f":"'Total NF'!BK35-Govt!BK35","v":616.9},{"$f":"'Total NF'!BL35-Govt!BL35","v":617.79999999999995},{"$f":"'Total NF'!BM35-Govt!BM35","v":618.29999999999995},{"$f":"'Total NF'!BN35-Govt!BN35","v":618.79999999999995},{"$f":"'Total NF'!BO35-Govt!BO35","v":0},{"$f":"'Total NF'!BP35-Govt!BP35","v":623.79999999999995},{"$f":"'Total NF'!BQ35-Govt!BQ35","v":624},{"$f":"'Total NF'!BR35-Govt!BR35","v":623.70000000000005},{"$f":"'Total NF'!BS35-Govt!BS35","v":625},{"$f":"'Total NF'!BT35-Govt!BT35","v":627.6},{"$f":"'Total NF'!BU35-Govt!BU35","v":626.29999999999995},{"$f":"'Total NF'!BV35-Govt!BV35","v":629.4},{"$f":"'Total NF'!BW35-Govt!BW35","v":629.6},{"$f":"'Total NF'!BX35-Govt!BX35","v":629.29999999999995},{"$f":"'Total NF'!BY35-Govt!BY35","v":632.6},{"$f":"'Total NF'!BZ35-Govt!BZ35","v":637},{"$f":"'Total NF'!CA35-Govt!CA35","v":635.79999999999995},{"$f":"'Total NF'!CB35-Govt!CB35","v":635.1},{"$f":"'Total NF'!CC35-Govt!CC35","v":636.20000000000005},{"$f":"'Total NF'!CD35-Govt!CD35","v":636.29999999999995},{"$f":"'Total NF'!CE35-Govt!CE35","v":635.79999999999995},{"$f":"'Total NF'!CF35-Govt!CF35","v":636.30000000000007},{"$f":"'Total NF'!CG35-Govt!CG35","v":635},{"$f":"'Total NF'!CH35-Govt!CH35","v":636.70000000000005},{"$f":"'Total NF'!CI35-Govt!CI35","v":636.09999999999991},{"$f":"'Total NF'!CJ35-Govt!CJ35","v":635.1},{"$f":"'Total NF'!CK35-Govt!CK35","v":636.30000000000007},{"$f":"'Total NF'!CL35-Govt!CL35","v":638.20000000000005},{"$f":"'Total NF'!CM35-Govt!CM35","v":637.29999999999995},{"$f":"'Total NF'!CN35-Govt!CN35","v":637.1},{"$f":"'Total NF'!CO35-Govt!CO35","v":639.90000000000009},{"$f":"'Total NF'!CP35-Govt!CP35","v":638.1},{"$f":"'Total NF'!CQ35-Govt!CQ35","v":638.79999999999995},{"$f":"'Total NF'!CR35-Govt!CR35","v":638.20000000000005},{"$f":"'Total NF'!CS35-Govt!CS35","v":637.1},{"$f":"'Total NF'!CT35-Govt!CT35","v":639.30000000000007},{"$f":"'Total NF'!CU35-Govt!CU35","v":639.29999999999995},{"$f":"'Total NF'!CV35-Govt!CV35","v":639.70000000000005},{"$f":"'Total NF'!CW35-Govt!CW35","v":639.79999999999995},{"$f":"'Total NF'!CX35-Govt!CX35","v":643.09999999999991},{"$f":"'Total NF'!CY35-Govt!CY35","v":645},{"$f":"'Total NF'!CZ35-Govt!CZ35","v":644},{"$f":"'Total NF'!DA35-Govt!DA35","v":645.4},{"$f":"'Total NF'!DB35-Govt!DB35","v":645.9},{"$f":"'Total NF'!DC35-Govt!DC35","v":648.9},{"$f":"'Total NF'!DD35-Govt!DD35","v":648.5},{"$f":"'Total NF'!DE35-Govt!DE35","v":649.79999999999995},{"$f":"'Total NF'!DF35-Govt!DF35","v":647.70000000000005},{"$f":"'Total NF'!DG35-Govt!DG35","v":650.70000000000005},{"$f":"'Total NF'!DH35-Govt!DH35","v":653.20000000000005},{"$f":"'Total NF'!DI35-Govt!DI35","v":654.69999999999993},{"$f":"'Total NF'!DJ35-Govt!DJ35","v":656.2},1.5000000000001137,2.2911257064306E-3,28,17,13.100000000000136,2.0370082413310741E-2,33,13,11.200000000000045,1.7364341085271389E-2,33,14,46.500000000000114,7.6267016565524218E-2,41,44]
["New York","SMS36000004000000001",{"$f":"'Total NF'!C36-Govt!C36","v":7146.2},{"$f":"'Total NF'!D36-Govt!D36","v":7114.3000000000011},{"$f":"'Total NF'!E36-Govt!E36","v":7076.9000000000005},{"$f":"'Total NF'!F36-Govt!F36","v":7006.7},{"$f":"'Total NF'!G36-Govt!G36","v":7017.7000000000007},{"$f":"'Total NF'!H36-Govt!H36","v":7004.4000000000005},{"$f":"'Total NF'!I36-Govt!I36","v":6984.9},{"$f":"'Total NF'!J36-Govt!J36","v":6977.9000000000005},{"$f":"'Total NF'!K36-Govt!K36","v":6992.2999999999993},{"$f":"'Total NF'!L36-Govt!L36","v":6976.6999999999989},{"$f":"'Total NF'!M36-Govt!M36","v":6976.5999999999995},{"$f":"'Total NF'!N36-Govt!N36","v":6977.7999999999993},null,{"$f":"'Total NF'!P36-Govt!P36","v":6986.9},{"$f":"'Total NF'!Q36-Govt!Q36","v":6984.9999999999991},{"$f":"'Total NF'!R36-Govt!R36","v":7000.5000000000009},{"$f":"'Total NF'!S36-Govt!S36","v":7031.4000000000005},{"$f":"'Total NF'!T36-Govt!T36","v":7031.5},{"$f":"'Total NF'!U36-Govt!U36","v":7040.2000000000007},{"$f":"'Total NF'!V36-Govt!V36","v":7047.6},{"$f":"'Total NF'!W36-Govt!W36","v":7061.2},{"$f":"'Total NF'!X36-Govt!X36","v":7058.4},{"$f":"'Total NF'!Y36-Govt!Y36","v":7086.6999999999989},{"$f":"'Total NF'!Z36-Govt!Z36","v":7097.0000000000009},{"$f":"'Total NF'!AA36-Govt!AA36","v":7102.5999999999995},null,{"$f":"'Total NF'!AC36-Govt!AC36","v":7127.5},{"$f":"'Total NF'!AD36-Govt!AD36","v":7140.5},{"$f":"'Total NF'!AE36-Govt!AE36","v":7146.8000000000011},{"$f":"'Total NF'!AF36-Govt!AF36","v":7174},{"$f":"'Total NF'!AG36-Govt!AG36","v":7178.5000000000009},{"$f":"'Total NF'!AH36-Govt!AH36","v":7184.6},{"$f":"'Total NF'!AI36-Govt!AI36","v":7211.2},{"$f":"'Total NF'!AJ36-Govt!AJ36","v":7201.5999999999995},{"$f":"'Total NF'!AK36-Govt!AK36","v":7230.4000000000005},{"$f":"'Total NF'!AL36-Govt!AL36","v":7227.5},{"$f":"'Total NF'!AM36-Govt!AM36","v":7245.4000000000005},{"$f":"'Total NF'!AN36-Govt!AN36","v":7255.8000000000011},null,{"$f":"'Total NF'!AP36-Govt!AP36","v":7284.7999999999993},{"$f":"'Total NF'!AQ36-Govt!AQ36","v":7301.7000000000007},{"$f":"'Total NF'!AR36-Govt!AR36","v":7317},{"$f":"'Total NF'!AS36-Govt!AS36","v":7312.1},{"$f":"'Total NF'!AT36-Govt!AT36","v":7327.4},{"$f":"'Total NF'!AU36-Govt!AU36","v":7332.9000000000005},{"$f":"'Total NF'!AV36-Govt!AV36","v":7329.4},{"$f":"'Total NF'!AW36-Govt!AW36","v":7351.5},{"$f":"'Total NF'!AX36-Govt!AX36","v":7369.0999999999995},{"$f":"'Total NF'!AY36-Govt!AY36","v":7383.6},{"$f":"'Total NF'!AZ36-Govt!AZ36","v":7364.0000000000009},{"$f":"'Total NF'!BA36-Govt!BA36","v":7398.5},null,{"$f":"'Total NF'!BC36-Govt!BC36","v":7403.8},{"$f":"'Total NF'!BD36-Govt!BD36","v":7413.5999999999995},{"$f":"'Total NF'!BE36-Govt!BE36","v":7431.2},{"$f":"'Total NF'!BF36-Govt!BF36","v":7459.4},{"$f":"'Total NF'!BG36-Govt!BG36","v":7465.5},{"$f":"'Total NF'!BH36-Govt!BH36","v":7469.8},{"$f":"'Total NF'!BI36-Govt!BI36","v":7484.4},{"$f":"'Total NF'!BJ36-Govt!BJ36","v":7488.4000000000005},{"$f":"'Total NF'!BK36-Govt!BK36","v":7500.2},{"$f":"'Total NF'!BL36-Govt!BL36","v":7502.1},{"$f":"'Total NF'!BM36-Govt!BM36","v":7516.8},{"$f":"'Total NF'!BN36-Govt!BN36","v":7523.7999999999993},{"$f":"'Total NF'!BO36-Govt!BO36","v":0},{"$f":"'Total NF'!BP36-Govt!BP36","v":7580.5},{"$f":"'Total NF'!BQ36-Govt!BQ36","v":7594},{"$f":"'Total NF'!BR36-Govt!BR36","v":7607.2999999999993},{"$f":"'Total NF'!BS36-Govt!BS36","v":7626.5999999999995},{"$f":"'Total NF'!BT36-Govt!BT36","v":7649.8000000000011},{"$f":"'Total NF'!BU36-Govt!BU36","v":7651.7},{"$f":"'Total NF'!BV36-Govt!BV36","v":7668.2},{"$f":"'Total NF'!BW36-Govt!BW36","v":7680.0000000000009},{"$f":"'Total NF'!BX36-Govt!BX36","v":7695.5999999999995},{"$f":"'Total NF'!BY36-Govt!BY36","v":7690.9},{"$f":"'Total NF'!BZ36-Govt!BZ36","v":7694.4},{"$f":"'Total NF'!CA36-Govt!CA36","v":7716.9999999999991},{"$f":"'Total NF'!CB36-Govt!CB36","v":7753.0000000000009},{"$f":"'Total NF'!CC36-Govt!CC36","v":7759.4999999999991},{"$f":"'Total NF'!CD36-Govt!CD36","v":7767.6},{"$f":"'Total NF'!CE36-Govt!CE36","v":7775.2999999999993},{"$f":"'Total NF'!CF36-Govt!CF36","v":7805.8000000000011},{"$f":"'Total NF'!CG36-Govt!CG36","v":7821.7000000000007},{"$f":"'Total NF'!CH36-Govt!CH36","v":7839.2999999999993},{"$f":"'Total NF'!CI36-Govt!CI36","v":7840.5},{"$f":"'Total NF'!CJ36-Govt!CJ36","v":7835.9000000000005},{"$f":"'Total NF'!CK36-Govt!CK36","v":7837.2999999999993},{"$f":"'Total NF'!CL36-Govt!CL36","v":7848.9},{"$f":"'Total NF'!CM36-Govt!CM36","v":7853.5},{"$f":"'Total NF'!CN36-Govt!CN36","v":7903.7000000000007},{"$f":"'Total NF'!CO36-Govt!CO36","v":7918.9000000000005},{"$f":"'Total NF'!CP36-Govt!CP36","v":7935},{"$f":"'Total NF'!CQ36-Govt!CQ36","v":7945},{"$f":"'Total NF'!CR36-Govt!CR36","v":7923.3},{"$f":"'Total NF'!CS36-Govt!CS36","v":7939.7},{"$f":"'Total NF'!CT36-Govt!CT36","v":7970.6},{"$f":"'Total NF'!CU36-Govt!CU36","v":7975.4},{"$f":"'Total NF'!CV36-Govt!CV36","v":7977.4},{"$f":"'Total NF'!CW36-Govt!CW36","v":7969.9999999999991},{"$f":"'Total NF'!CX36-Govt!CX36","v":7984.7999999999993},{"$f":"'Total NF'!CY36-Govt!CY36","v":8007.0999999999995},{"$f":"'Total NF'!CZ36-Govt!CZ36","v":8033.1},{"$f":"'Total NF'!DA36-Govt!DA36","v":8046.3},{"$f":"'Total NF'!DB36-Govt!DB36","v":8027.6},{"$f":"'Total NF'!DC36-Govt!DC36","v":8031.1},{"$f":"'Total NF'!DD36-Govt!DD36","v":8055.2999999999993},{"$f":"'Total NF'!DE36-Govt!DE36","v":8081.6},{"$f":"'Total NF'!DF36-Govt!DF36","v":8092.7999999999993},{"$f":"'Total NF'!DG36-Govt!DG36","v":8098.1},{"$f":"'Total NF'!DH36-Govt!DH36","v":8080},{"$f":"'Total NF'!DI36-Govt!DI36","v":8072.4000000000005},{"$f":"'Total NF'!DJ36-Govt!DJ36","v":8098.4000000000005},26,3.2208512957732516E-3,3,10,113.60000000000127,1.4227031359583369E-2,4,25,91.300000000001091,1.1402380387406314E-2,4,30,1113.5000000000009,0.15941531016907914,4,18]
["North Carolina","SMS37000004000000001",{"$f":"'Total NF'!C37-Govt!C37","v":3271.3},{"$f":"'Total NF'!D37-Govt!D37","v":3253.1},{"$f":"'Total NF'!E37-Govt!E37","v":3220.4},{"$f":"'Total NF'!F37-Govt!F37","v":3189.2},{"$f":"'Total NF'!G37-Govt!G37","v":3185.1000000000004},{"$f":"'Total NF'!H37-Govt!H37","v":3170.8},{"$f":"'Total NF'!I37-Govt!I37","v":3156.8999999999996},{"$f":"'Total NF'!J37-Govt!J37","v":3150.3},{"$f":"'Total NF'!K37-Govt!K37","v":3143.8999999999996},{"$f":"'Total NF'!L37-Govt!L37","v":3138.7},{"$f":"'Total NF'!M37-Govt!M37","v":3138.3},{"$f":"'Total NF'!N37-Govt!N37","v":3129.7000000000003},null,{"$f":"'Total NF'!P37-Govt!P37","v":3125.9},{"$f":"'Total NF'!Q37-Govt!Q37","v":3122.1},{"$f":"'Total NF'!R37-Govt!R37","v":3130.5},{"$f":"'Total NF'!S37-Govt!S37","v":3136.3999999999996},{"$f":"'Total NF'!T37-Govt!T37","v":3139.7},{"$f":"'Total NF'!U37-Govt!U37","v":3143},{"$f":"'Total NF'!V37-Govt!V37","v":3153.1},{"$f":"'Total NF'!W37-Govt!W37","v":3155.8999999999996},{"$f":"'Total NF'!X37-Govt!X37","v":3156.1},{"$f":"'Total NF'!Y37-Govt!Y37","v":3170.9},{"$f":"'Total NF'!Z37-Govt!Z37","v":3174.3999999999996},{"$f":"'Total NF'!AA37-Govt!AA37","v":3175.2000000000003},null,{"$f":"'Total NF'!AC37-Govt!AC37","v":3170.1000000000004},{"$f":"'Total NF'!AD37-Govt!AD37","v":3185.5},{"$f":"'Total NF'!AE37-Govt!AE37","v":3189.7999999999997},{"$f":"'Total NF'!AF37-Govt!AF37","v":3195.6000000000004},{"$f":"'Total NF'!AG37-Govt!AG37","v":3197.3},{"$f":"'Total NF'!AH37-Govt!AH37","v":3202.2000000000003},{"$f":"'Total NF'!AI37-Govt!AI37","v":3207.7000000000003},{"$f":"'Total NF'!AJ37-Govt!AJ37","v":3211.7999999999997},{"$f":"'Total NF'!AK37-Govt!AK37","v":3218.2999999999997},{"$f":"'Total NF'!AL37-Govt!AL37","v":3218},{"$f":"'Total NF'!AM37-Govt!AM37","v":3224.8999999999996},{"$f":"'Total NF'!AN37-Govt!AN37","v":3232.4},null,{"$f":"'Total NF'!AP37-Govt!AP37","v":3248.2999999999997},{"$f":"'Total NF'!AQ37-Govt!AQ37","v":3252.2},{"$f":"'Total NF'!AR37-Govt!AR37","v":3259.1},{"$f":"'Total NF'!AS37-Govt!AS37","v":3265},{"$f":"'Total NF'!AT37-Govt!AT37","v":3269.5},{"$f":"'Total NF'!AU37-Govt!AU37","v":3272},{"$f":"'Total NF'!AV37-Govt!AV37","v":3274.7},{"$f":"'Total NF'!AW37-Govt!AW37","v":3276.3},{"$f":"'Total NF'!AX37-Govt!AX37","v":3280.2},{"$f":"'Total NF'!AY37-Govt!AY37","v":3289.2},{"$f":"'Total NF'!AZ37-Govt!AZ37","v":3295},{"$f":"'Total NF'!BA37-Govt!BA37","v":3300.3999999999996},null,{"$f":"'Total NF'!BC37-Govt!BC37","v":3308.6000000000004},{"$f":"'Total NF'!BD37-Govt!BD37","v":3315.9},{"$f":"'Total NF'!BE37-Govt!BE37","v":3318},{"$f":"'Total NF'!BF37-Govt!BF37","v":3326.7000000000003},{"$f":"'Total NF'!BG37-Govt!BG37","v":3330.1},{"$f":"'Total NF'!BH37-Govt!BH37","v":3337.1},{"$f":"'Total NF'!BI37-Govt!BI37","v":3340.7000000000003},{"$f":"'Total NF'!BJ37-Govt!BJ37","v":3346},{"$f":"'Total NF'!BK37-Govt!BK37","v":3351.6},{"$f":"'Total NF'!BL37-Govt!BL37","v":3380},{"$f":"'Total NF'!BM37-Govt!BM37","v":3376.8},{"$f":"'Total NF'!BN37-Govt!BN37","v":3384.5},{"$f":"'Total NF'!BO37-Govt!BO37","v":0},{"$f":"'Total NF'!BP37-Govt!BP37","v":3379.9},{"$f":"'Total NF'!BQ37-Govt!BQ37","v":3372.7},{"$f":"'Total NF'!BR37-Govt!BR37","v":3391.7},{"$f":"'Total NF'!BS37-Govt!BS37","v":3408.7999999999997},{"$f":"'Total NF'!BT37-Govt!BT37","v":3417.7999999999997},{"$f":"'Total NF'!BU37-Govt!BU37","v":3423.8},{"$f":"'Total NF'!BV37-Govt!BV37","v":3430.5},{"$f":"'Total NF'!BW37-Govt!BW37","v":3434.2999999999997},{"$f":"'Total NF'!BX37-Govt!BX37","v":3437.9},{"$f":"'Total NF'!BY37-Govt!BY37","v":3459.5},{"$f":"'Total NF'!BZ37-Govt!BZ37","v":3473.6000000000004},{"$f":"'Total NF'!CA37-Govt!CA37","v":3487.3},{"$f":"'Total NF'!CB37-Govt!CB37","v":3474.7},{"$f":"'Total NF'!CC37-Govt!CC37","v":3489.4},{"$f":"'Total NF'!CD37-Govt!CD37","v":3485.4999999999995},{"$f":"'Total NF'!CE37-Govt!CE37","v":3496.0999999999995},{"$f":"'Total NF'!CF37-Govt!CF37","v":3509.1000000000004},{"$f":"'Total NF'!CG37-Govt!CG37","v":3518.0000000000005},{"$f":"'Total NF'!CH37-Govt!CH37","v":3524.4},{"$f":"'Total NF'!CI37-Govt!CI37","v":3530.9999999999995},{"$f":"'Total NF'!CJ37-Govt!CJ37","v":3534},{"$f":"'Total NF'!CK37-Govt!CK37","v":3540.7},{"$f":"'Total NF'!CL37-Govt!CL37","v":3552.5999999999995},{"$f":"'Total NF'!CM37-Govt!CM37","v":3556.4},{"$f":"'Total NF'!CN37-Govt!CN37","v":3577.7},{"$f":"'Total NF'!CO37-Govt!CO37","v":3587.2000000000003},{"$f":"'Total NF'!CP37-Govt!CP37","v":3592.2},{"$f":"'Total NF'!CQ37-Govt!CQ37","v":3604.3999999999996},{"$f":"'Total NF'!CR37-Govt!CR37","v":3604.7},{"$f":"'Total NF'!CS37-Govt!CS37","v":3605.8999999999996},{"$f":"'Total NF'!CT37-Govt!CT37","v":3619.8},{"$f":"'Total NF'!CU37-Govt!CU37","v":3624},{"$f":"'Total NF'!CV37-Govt!CV37","v":3628.7000000000003},{"$f":"'Total NF'!CW37-Govt!CW37","v":3633.0000000000005},{"$f":"'Total NF'!CX37-Govt!CX37","v":3644.1},{"$f":"'Total NF'!CY37-Govt!CY37","v":3650.2999999999997},{"$f":"'Total NF'!CZ37-Govt!CZ37","v":3649.8},{"$f":"'Total NF'!DA37-Govt!DA37","v":3659.0000000000005},{"$f":"'Total NF'!DB37-Govt!DB37","v":3654.5},{"$f":"'Total NF'!DC37-Govt!DC37","v":3649.9000000000005},{"$f":"'Total NF'!DD37-Govt!DD37","v":3665.7000000000003},{"$f":"'Total NF'!DE37-Govt!DE37","v":3667.9000000000005},{"$f":"'Total NF'!DF37-Govt!DF37","v":3675.0000000000005},{"$f":"'Total NF'!DG37-Govt!DG37","v":3685.4},{"$f":"'Total NF'!DH37-Govt!DH37","v":3687.0999999999995},{"$f":"'Total NF'!DI37-Govt!DI37","v":3703.5000000000005},{"$f":"'Total NF'!DJ37-Govt!DJ37","v":3706.5},2.9999999999995453,8.1004455245026186E-4,{"$f":"RANK(DK37,($DK$5:$DK$54))","v":20},{"$f":"RANK(DL37,($DL$5:$DL$54))","v":28},62.400000000000091,1.7123569605663976E-2,{"$f":"RANK(DO37,($DO$5:$DO$54))","v":8},{"$f":"RANK(DP37,($DP$5:$DP$54))","v":21},56.200000000000273,{"$f":"DS37/CY37","v":1.5395994849738453E-2},{"$f":"RANK(DS37,DS$5:DS$54)","v":8},{"$f":"RANK(DT37,DT$5:DT$54)","v":21},549.60000000000036,0.17409483987456062,{"$f":"RANK(DW37,($DW$5:$DW$54))","v":7},{"$f":"RANK(DX37,($DX$5:$DX$54))","v":16}]
["North Dakota","SMS38000004000000001",{"$f":"'Total NF'!C38-Govt!C38","v":289.60000000000002},{"$f":"'Total NF'!D38-Govt!D38","v":289.79999999999995},{"$f":"'Total NF'!E38-Govt!E38","v":288.60000000000002},{"$f":"'Total NF'!F38-Govt!F38","v":285.60000000000002},{"$f":"'Total NF'!G38-Govt!G38","v":288.3},{"$f":"'Total NF'!H38-Govt!H38","v":288.7},{"$f":"'Total NF'!I38-Govt!I38","v":288},{"$f":"'Total NF'!J38-Govt!J38","v":288},{"$f":"'Total NF'!K38-Govt!K38","v":289.3},{"$f":"'Total NF'!L38-Govt!L38","v":289.39999999999998},{"$f":"'Total NF'!M38-Govt!M38","v":289.10000000000002},{"$f":"'Total NF'!N38-Govt!N38","v":289.5},null,{"$f":"'Total NF'!P38-Govt!P38","v":289.20000000000005},{"$f":"'Total NF'!Q38-Govt!Q38","v":290.5},{"$f":"'Total NF'!R38-Govt!R38","v":291.39999999999998},{"$f":"'Total NF'!S38-Govt!S38","v":294.59999999999997},{"$f":"'Total NF'!T38-Govt!T38","v":294.39999999999998},{"$f":"'Total NF'!U38-Govt!U38","v":294.39999999999998},{"$f":"'Total NF'!V38-Govt!V38","v":295.39999999999998},{"$f":"'Total NF'!W38-Govt!W38","v":297},{"$f":"'Total NF'!X38-Govt!X38","v":298.60000000000002},{"$f":"'Total NF'!Y38-Govt!Y38","v":302},{"$f":"'Total NF'!Z38-Govt!Z38","v":303},{"$f":"'Total NF'!AA38-Govt!AA38","v":304.60000000000002},null,{"$f":"'Total NF'!AC38-Govt!AC38","v":305.89999999999998},{"$f":"'Total NF'!AD38-Govt!AD38","v":306.89999999999998},{"$f":"'Total NF'!AE38-Govt!AE38","v":308.89999999999998},{"$f":"'Total NF'!AF38-Govt!AF38","v":310},{"$f":"'Total NF'!AG38-Govt!AG38","v":312.39999999999998},{"$f":"'Total NF'!AH38-Govt!AH38","v":313.29999999999995},{"$f":"'Total NF'!AI38-Govt!AI38","v":317.5},{"$f":"'Total NF'!AJ38-Govt!AJ38","v":319.89999999999998},{"$f":"'Total NF'!AK38-Govt!AK38","v":324.10000000000002},{"$f":"'Total NF'!AL38-Govt!AL38","v":326.2},{"$f":"'Total NF'!AM38-Govt!AM38","v":330},{"$f":"'Total NF'!AN38-Govt!AN38","v":333.1},null,{"$f":"'Total NF'!AP38-Govt!AP38","v":337.6},{"$f":"'Total NF'!AQ38-Govt!AQ38","v":340.40000000000003},{"$f":"'Total NF'!AR38-Govt!AR38","v":342.9},{"$f":"'Total NF'!AS38-Govt!AS38","v":346.5},{"$f":"'Total NF'!AT38-Govt!AT38","v":348.5},{"$f":"'Total NF'!AU38-Govt!AU38","v":351.2},{"$f":"'Total NF'!AV38-Govt!AV38","v":353.29999999999995},{"$f":"'Total NF'!AW38-Govt!AW38","v":354.5},{"$f":"'Total NF'!AX38-Govt!AX38","v":354.1},{"$f":"'Total NF'!AY38-Govt!AY38","v":355.1},{"$f":"'Total NF'!AZ38-Govt!AZ38","v":355.1},{"$f":"'Total NF'!BA38-Govt!BA38","v":355.9},null,{"$f":"'Total NF'!BC38-Govt!BC38","v":356.9},{"$f":"'Total NF'!BD38-Govt!BD38","v":359.5},{"$f":"'Total NF'!BE38-Govt!BE38","v":360},{"$f":"'Total NF'!BF38-Govt!BF38","v":358.5},{"$f":"'Total NF'!BG38-Govt!BG38","v":362},{"$f":"'Total NF'!BH38-Govt!BH38","v":363.1},{"$f":"'Total NF'!BI38-Govt!BI38","v":365.1},{"$f":"'Total NF'!BJ38-Govt!BJ38","v":366.90000000000003},{"$f":"'Total NF'!BK38-Govt!BK38","v":367.70000000000005},{"$f":"'Total NF'!BL38-Govt!BL38","v":368.9},{"$f":"'Total NF'!BM38-Govt!BM38","v":371.40000000000003},{"$f":"'Total NF'!BN38-Govt!BN38","v":371.5},{"$f":"'Total NF'!BO38-Govt!BO38","v":0},{"$f":"'Total NF'!BP38-Govt!BP38","v":371},{"$f":"'Total NF'!BQ38-Govt!BQ38","v":373},{"$f":"'Total NF'!BR38-Govt!BR38","v":374.20000000000005},{"$f":"'Total NF'!BS38-Govt!BS38","v":376.79999999999995},{"$f":"'Total NF'!BT38-Govt!BT38","v":378.7},{"$f":"'Total NF'!BU38-Govt!BU38","v":380.2},{"$f":"'Total NF'!BV38-Govt!BV38","v":382.20000000000005},{"$f":"'Total NF'!BW38-Govt!BW38","v":383.40000000000003},{"$f":"'Total NF'!BX38-Govt!BX38","v":385.2},{"$f":"'Total NF'!BY38-Govt!BY38","v":387.2},{"$f":"'Total NF'!BZ38-Govt!BZ38","v":389.2},{"$f":"'Total NF'!CA38-Govt!CA38","v":389.20000000000005},{"$f":"'Total NF'!CB38-Govt!CB38","v":386.20000000000005},{"$f":"'Total NF'!CC38-Govt!CC38","v":383.6},{"$f":"'Total NF'!CD38-Govt!CD38","v":380.4},{"$f":"'Total NF'!CE38-Govt!CE38","v":376.8},{"$f":"'Total NF'!CF38-Govt!CF38","v":374.29999999999995},{"$f":"'Total NF'!CG38-Govt!CG38","v":372.29999999999995},{"$f":"'Total NF'!CH38-Govt!CH38","v":370.1},{"$f":"'Total NF'!CI38-Govt!CI38","v":368.1},{"$f":"'Total NF'!CJ38-Govt!CJ38","v":367.1},{"$f":"'Total NF'!CK38-Govt!CK38","v":367.8},{"$f":"'Total NF'!CL38-Govt!CL38","v":365.40000000000003},{"$f":"'Total NF'!CM38-Govt!CM38","v":362.29999999999995},{"$f":"'Total NF'!CN38-Govt!CN38","v":355.20000000000005},{"$f":"'Total NF'!CO38-Govt!CO38","v":353.6},{"$f":"'Total NF'!CP38-Govt!CP38","v":352.4},{"$f":"'Total NF'!CQ38-Govt!CQ38","v":352.3},{"$f":"'Total NF'!CR38-Govt!CR38","v":350.4},{"$f":"'Total NF'!CS38-Govt!CS38","v":349.9},{"$f":"'Total NF'!CT38-Govt!CT38","v":351.20000000000005},{"$f":"'Total NF'!CU38-Govt!CU38","v":351.40000000000003},{"$f":"'Total NF'!CV38-Govt!CV38","v":350.9},{"$f":"'Total NF'!CW38-Govt!CW38","v":352.4},{"$f":"'Total NF'!CX38-Govt!CX38","v":350.9},{"$f":"'Total NF'!CY38-Govt!CY38","v":350.4},{"$f":"'Total NF'!CZ38-Govt!CZ38","v":350.9},{"$f":"'Total NF'!DA38-Govt!DA38","v":349.9},{"$f":"'Total NF'!DB38-Govt!DB38","v":351},{"$f":"'Total NF'!DC38-Govt!DC38","v":353.3},{"$f":"'Total NF'!DD38-Govt!DD38","v":355.8},{"$f":"'Total NF'!DE38-Govt!DE38","v":356.1},{"$f":"'Total NF'!DF38-Govt!DF38","v":358.20000000000005},{"$f":"'Total NF'!DG38-Govt!DG38","v":357.6},{"$f":"'Total NF'!DH38-Govt!DH38","v":356.9},{"$f":"'Total NF'!DI38-Govt!DI38","v":355},{"$f":"'Total NF'!DJ38-Govt!DJ38","v":352.4},-2.6000000000000227,-7.3239436619718951E-3,43,49,1.5,4.2747221430607012E-3,46,44,2,5.7077625570776261E-3,45,42,64.399999999999977,0.22361111111111104,39,4]
["Ohio","SMS39000004000000001",{"$f":"'Total NF'!C39-Govt!C39","v":4409.5999999999995},{"$f":"'Total NF'!D39-Govt!D39","v":4382},{"$f":"'Total NF'!E39-Govt!E39","v":4343.8},{"$f":"'Total NF'!F39-Govt!F39","v":4296.8},{"$f":"'Total NF'!G39-Govt!G39","v":4282.6000000000004},{"$f":"'Total NF'!H39-Govt!H39","v":4254.5},{"$f":"'Total NF'!I39-Govt!I39","v":4243.6000000000004},{"$f":"'Total NF'!J39-Govt!J39","v":4237.2},{"$f":"'Total NF'!K39-Govt!K39","v":4236.5},{"$f":"'Total NF'!L39-Govt!L39","v":4226.8},{"$f":"'Total NF'!M39-Govt!M39","v":4225.0999999999995},{"$f":"'Total NF'!N39-Govt!N39","v":4224.3999999999996},null,{"$f":"'Total NF'!P39-Govt!P39","v":4222.7999999999993},{"$f":"'Total NF'!Q39-Govt!Q39","v":4218.7999999999993},{"$f":"'Total NF'!R39-Govt!R39","v":4221.5},{"$f":"'Total NF'!S39-Govt!S39","v":4233.2},{"$f":"'Total NF'!T39-Govt!T39","v":4235.8},{"$f":"'Total NF'!U39-Govt!U39","v":4240.3},{"$f":"'Total NF'!V39-Govt!V39","v":4256.9000000000005},{"$f":"'Total NF'!W39-Govt!W39","v":4259},{"$f":"'Total NF'!X39-Govt!X39","v":4264.8999999999996},{"$f":"'Total NF'!Y39-Govt!Y39","v":4279.6000000000004},{"$f":"'Total NF'!Z39-Govt!Z39","v":4283.7},{"$f":"'Total NF'!AA39-Govt!AA39","v":4286.3999999999996},null,{"$f":"'Total NF'!AC39-Govt!AC39","v":4290.8999999999996},{"$f":"'Total NF'!AD39-Govt!AD39","v":4300.3999999999996},{"$f":"'Total NF'!AE39-Govt!AE39","v":4302.3},{"$f":"'Total NF'!AF39-Govt!AF39","v":4314.5},{"$f":"'Total NF'!AG39-Govt!AG39","v":4317.9000000000005},{"$f":"'Total NF'!AH39-Govt!AH39","v":4313.1000000000004},{"$f":"'Total NF'!AI39-Govt!AI39","v":4343.5},{"$f":"'Total NF'!AJ39-Govt!AJ39","v":4349.5},{"$f":"'Total NF'!AK39-Govt!AK39","v":4355.6000000000004},{"$f":"'Total NF'!AL39-Govt!AL39","v":4356.5},{"$f":"'Total NF'!AM39-Govt!AM39","v":4371.5999999999995},{"$f":"'Total NF'!AN39-Govt!AN39","v":4380.7000000000007},null,{"$f":"'Total NF'!AP39-Govt!AP39","v":4394.2},{"$f":"'Total NF'!AQ39-Govt!AQ39","v":4405.8999999999996},{"$f":"'Total NF'!AR39-Govt!AR39","v":4421.8},{"$f":"'Total NF'!AS39-Govt!AS39","v":4419.1000000000004},{"$f":"'Total NF'!AT39-Govt!AT39","v":4423.2000000000007},{"$f":"'Total NF'!AU39-Govt!AU39","v":4430.7000000000007},{"$f":"'Total NF'!AV39-Govt!AV39","v":4428.7999999999993},{"$f":"'Total NF'!AW39-Govt!AW39","v":4429.3},{"$f":"'Total NF'!AX39-Govt!AX39","v":4434.5},{"$f":"'Total NF'!AY39-Govt!AY39","v":4449.5},{"$f":"'Total NF'!AZ39-Govt!AZ39","v":4452.6000000000004},{"$f":"'Total NF'!BA39-Govt!BA39","v":4458.7999999999993},null,{"$f":"'Total NF'!BC39-Govt!BC39","v":4458.3},{"$f":"'Total NF'!BD39-Govt!BD39","v":4470.8},{"$f":"'Total NF'!BE39-Govt!BE39","v":4472.5},{"$f":"'Total NF'!BF39-Govt!BF39","v":4483},{"$f":"'Total NF'!BG39-Govt!BG39","v":4493.7},{"$f":"'Total NF'!BH39-Govt!BH39","v":4500.8999999999996},{"$f":"'Total NF'!BI39-Govt!BI39","v":4506},{"$f":"'Total NF'!BJ39-Govt!BJ39","v":4511.3},{"$f":"'Total NF'!BK39-Govt!BK39","v":4510.8},{"$f":"'Total NF'!BL39-Govt!BL39","v":4510.7},{"$f":"'Total NF'!BM39-Govt!BM39","v":4507.3999999999996},{"$f":"'Total NF'!BN39-Govt!BN39","v":4514.8999999999996},{"$f":"'Total NF'!BO39-Govt!BO39","v":0},{"$f":"'Total NF'!BP39-Govt!BP39","v":4538.2},{"$f":"'Total NF'!BQ39-Govt!BQ39","v":4544},{"$f":"'Total NF'!BR39-Govt!BR39","v":4550.3},{"$f":"'Total NF'!BS39-Govt!BS39","v":4561.5},{"$f":"'Total NF'!BT39-Govt!BT39","v":4569.9000000000005},{"$f":"'Total NF'!BU39-Govt!BU39","v":4574.5},{"$f":"'Total NF'!BV39-Govt!BV39","v":4581.2},{"$f":"'Total NF'!BW39-Govt!BW39","v":4590.1000000000004},{"$f":"'Total NF'!BX39-Govt!BX39","v":4589.2000000000007},{"$f":"'Total NF'!BY39-Govt!BY39","v":4591},{"$f":"'Total NF'!BZ39-Govt!BZ39","v":4605.3999999999996},{"$f":"'Total NF'!CA39-Govt!CA39","v":4609.7},{"$f":"'Total NF'!CB39-Govt!CB39","v":4628.5},{"$f":"'Total NF'!CC39-Govt!CC39","v":4630.3},{"$f":"'Total NF'!CD39-Govt!CD39","v":4630.6000000000004},{"$f":"'Total NF'!CE39-Govt!CE39","v":4637.5999999999995},{"$f":"'Total NF'!CF39-Govt!CF39","v":4647.7999999999993},{"$f":"'Total NF'!CG39-Govt!CG39","v":4647.2},{"$f":"'Total NF'!CH39-Govt!CH39","v":4659.8},{"$f":"'Total NF'!CI39-Govt!CI39","v":4656.9000000000005},{"$f":"'Total NF'!CJ39-Govt!CJ39","v":4656.7},{"$f":"'Total NF'!CK39-Govt!CK39","v":4679},{"$f":"'Total NF'!CL39-Govt!CL39","v":4687.7000000000007},{"$f":"'Total NF'!CM39-Govt!CM39","v":4699.7999999999993},{"$f":"'Total NF'!CN39-Govt!CN39","v":4695.7},{"$f":"'Total NF'!CO39-Govt!CO39","v":4700.3},{"$f":"'Total NF'!CP39-Govt!CP39","v":4705.2},{"$f":"'Total NF'!CQ39-Govt!CQ39","v":4700.5999999999995},{"$f":"'Total NF'!CR39-Govt!CR39","v":4698.6000000000004},{"$f":"'Total NF'!CS39-Govt!CS39","v":4694.5},{"$f":"'Total NF'!CT39-Govt!CT39","v":4712.3},{"$f":"'Total NF'!CU39-Govt!CU39","v":4708.1000000000004},{"$f":"'Total NF'!CV39-Govt!CV39","v":4716},{"$f":"'Total NF'!CW39-Govt!CW39","v":4717.1000000000004},{"$f":"'Total NF'!CX39-Govt!CX39","v":4726.0999999999995},{"$f":"'Total NF'!CY39-Govt!CY39","v":4732.0999999999995},{"$f":"'Total NF'!CZ39-Govt!CZ39","v":4734.1000000000004},{"$f":"'Total NF'!DA39-Govt!DA39","v":4753.3},{"$f":"'Total NF'!DB39-Govt!DB39","v":4749.5},{"$f":"'Total NF'!DC39-Govt!DC39","v":4742.2000000000007},{"$f":"'Total NF'!DD39-Govt!DD39","v":4743.8},{"$f":"'Total NF'!DE39-Govt!DE39","v":4757.5},{"$f":"'Total NF'!DF39-Govt!DF39","v":4758.3},{"$f":"'Total NF'!DG39-Govt!DG39","v":4770.2},{"$f":"'Total NF'!DH39-Govt!DH39","v":4777.3},{"$f":"'Total NF'!DI39-Govt!DI39","v":4777.7},{"$f":"'Total NF'!DJ39-Govt!DJ39","v":4774.4000000000005},-3.2999999999992724,-6.9070891851712591E-4,45,38,48.300000000001091,1.0219842999513572E-2,11,37,42.300000000001091,8.9389488810467013E-3,13,38,530.80000000000018,0.12508247714204923,8,24]
["Oklahoma","SMS40000004000000001",{"$f":"'Total NF'!C40-Govt!C40","v":1260.1999999999998},{"$f":"'Total NF'!D40-Govt!D40","v":1253},{"$f":"'Total NF'!E40-Govt!E40","v":1241.2},{"$f":"'Total NF'!F40-Govt!F40","v":1226.5},{"$f":"'Total NF'!G40-Govt!G40","v":1222.0999999999999},{"$f":"'Total NF'!H40-Govt!H40","v":1218.5},{"$f":"'Total NF'!I40-Govt!I40","v":1212.4000000000001},{"$f":"'Total NF'!J40-Govt!J40","v":1206.6000000000001},{"$f":"'Total NF'!K40-Govt!K40","v":1203.2},{"$f":"'Total NF'!L40-Govt!L40","v":1198.5999999999999},{"$f":"'Total NF'!M40-Govt!M40","v":1196.2},{"$f":"'Total NF'!N40-Govt!N40","v":1194.4000000000001},null,{"$f":"'Total NF'!P40-Govt!P40","v":1193.6000000000001},{"$f":"'Total NF'!Q40-Govt!Q40","v":1194},{"$f":"'Total NF'!R40-Govt!R40","v":1195.5},{"$f":"'Total NF'!S40-Govt!S40","v":1200.9000000000001},{"$f":"'Total NF'!T40-Govt!T40","v":1205.3000000000002},{"$f":"'Total NF'!U40-Govt!U40","v":1207.3},{"$f":"'Total NF'!V40-Govt!V40","v":1209.7},{"$f":"'Total NF'!W40-Govt!W40","v":1211},{"$f":"'Total NF'!X40-Govt!X40","v":1210.3},{"$f":"'Total NF'!Y40-Govt!Y40","v":1217.5999999999999},{"$f":"'Total NF'!Z40-Govt!Z40","v":1219.5999999999999},{"$f":"'Total NF'!AA40-Govt!AA40","v":1222.8999999999999},null,{"$f":"'Total NF'!AC40-Govt!AC40","v":1219.3},{"$f":"'Total NF'!AD40-Govt!AD40","v":1213},{"$f":"'Total NF'!AE40-Govt!AE40","v":1223.6999999999998},{"$f":"'Total NF'!AF40-Govt!AF40","v":1229.5999999999999},{"$f":"'Total NF'!AG40-Govt!AG40","v":1230.6999999999998},{"$f":"'Total NF'!AH40-Govt!AH40","v":1231.4000000000001},{"$f":"'Total NF'!AI40-Govt!AI40","v":1239.2},{"$f":"'Total NF'!AJ40-Govt!AJ40","v":1239.8999999999999},{"$f":"'Total NF'!AK40-Govt!AK40","v":1243.1999999999998},{"$f":"'Total NF'!AL40-Govt!AL40","v":1243},{"$f":"'Total NF'!AM40-Govt!AM40","v":1244.5999999999999},{"$f":"'Total NF'!AN40-Govt!AN40","v":1247.0999999999999},null,{"$f":"'Total NF'!AP40-Govt!AP40","v":1251.3000000000002},{"$f":"'Total NF'!AQ40-Govt!AQ40","v":1255.2},{"$f":"'Total NF'!AR40-Govt!AR40","v":1257.9000000000001},{"$f":"'Total NF'!AS40-Govt!AS40","v":1263.5999999999999},{"$f":"'Total NF'!AT40-Govt!AT40","v":1266.0999999999999},{"$f":"'Total NF'!AU40-Govt!AU40","v":1268.7},{"$f":"'Total NF'!AV40-Govt!AV40","v":1266.5999999999999},{"$f":"'Total NF'!AW40-Govt!AW40","v":1267.5},{"$f":"'Total NF'!AX40-Govt!AX40","v":1268.9000000000001},{"$f":"'Total NF'!AY40-Govt!AY40","v":1275.7},{"$f":"'Total NF'!AZ40-Govt!AZ40","v":1278.1999999999998},{"$f":"'Total NF'!BA40-Govt!BA40","v":1281.5999999999999},null,{"$f":"'Total NF'!BC40-Govt!BC40","v":1275},{"$f":"'Total NF'!BD40-Govt!BD40","v":1277},{"$f":"'Total NF'!BE40-Govt!BE40","v":1278.8000000000002},{"$f":"'Total NF'!BF40-Govt!BF40","v":1279},{"$f":"'Total NF'!BG40-Govt!BG40","v":1281.2},{"$f":"'Total NF'!BH40-Govt!BH40","v":1283.4000000000001},{"$f":"'Total NF'!BI40-Govt!BI40","v":1285.5},{"$f":"'Total NF'!BJ40-Govt!BJ40","v":1287.5},{"$f":"'Total NF'!BK40-Govt!BK40","v":1289.3999999999999},{"$f":"'Total NF'!BL40-Govt!BL40","v":1290.3},{"$f":"'Total NF'!BM40-Govt!BM40","v":1296},{"$f":"'Total NF'!BN40-Govt!BN40","v":1297.5999999999999},{"$f":"'Total NF'!BO40-Govt!BO40","v":0},{"$f":"'Total NF'!BP40-Govt!BP40","v":1297.2},{"$f":"'Total NF'!BQ40-Govt!BQ40","v":1299.6000000000001},{"$f":"'Total NF'!BR40-Govt!BR40","v":1298.0999999999999},{"$f":"'Total NF'!BS40-Govt!BS40","v":1298.4000000000001},{"$f":"'Total NF'!BT40-Govt!BT40","v":1299.2},{"$f":"'Total NF'!BU40-Govt!BU40","v":1302.0999999999999},{"$f":"'Total NF'!BV40-Govt!BV40","v":1308},{"$f":"'Total NF'!BW40-Govt!BW40","v":1309},{"$f":"'Total NF'!BX40-Govt!BX40","v":1309.6999999999998},{"$f":"'Total NF'!BY40-Govt!BY40","v":1315.1},{"$f":"'Total NF'!BZ40-Govt!BZ40","v":1317.5},{"$f":"'Total NF'!CA40-Govt!CA40","v":1320.3},{"$f":"'Total NF'!CB40-Govt!CB40","v":1325.3},{"$f":"'Total NF'!CC40-Govt!CC40","v":1325.2},{"$f":"'Total NF'!CD40-Govt!CD40","v":1320.1999999999998},{"$f":"'Total NF'!CE40-Govt!CE40","v":1315},{"$f":"'Total NF'!CF40-Govt!CF40","v":1315.5},{"$f":"'Total NF'!CG40-Govt!CG40","v":1315.9},{"$f":"'Total NF'!CH40-Govt!CH40","v":1316.4},{"$f":"'Total NF'!CI40-Govt!CI40","v":1314.8},{"$f":"'Total NF'!CJ40-Govt!CJ40","v":1313.3},{"$f":"'Total NF'!CK40-Govt!CK40","v":1315.8},{"$f":"'Total NF'!CL40-Govt!CL40","v":1314.3},{"$f":"'Total NF'!CM40-Govt!CM40","v":1310.6999999999998},{"$f":"'Total NF'!CN40-Govt!CN40","v":1308},{"$f":"'Total NF'!CO40-Govt!CO40","v":1308.8},{"$f":"'Total NF'!CP40-Govt!CP40","v":1303.4000000000001},{"$f":"'Total NF'!CQ40-Govt!CQ40","v":1300.5999999999999},{"$f":"'Total NF'!CR40-Govt!CR40","v":1297.4000000000001},{"$f":"'Total NF'!CS40-Govt!CS40","v":1293.2},{"$f":"'Total NF'!CT40-Govt!CT40","v":1295.1999999999998},{"$f":"'Total NF'!CU40-Govt!CU40","v":1295.1999999999998},{"$f":"'Total NF'!CV40-Govt!CV40","v":1294.9000000000001},{"$f":"'Total NF'!CW40-Govt!CW40","v":1298.5999999999999},{"$f":"'Total NF'!CX40-Govt!CX40","v":1295.9000000000001},{"$f":"'Total NF'!CY40-Govt!CY40","v":1296.7},{"$f":"'Total NF'!CZ40-Govt!CZ40","v":1298.3000000000002},{"$f":"'Total NF'!DA40-Govt!DA40","v":1301.4000000000001},{"$f":"'Total NF'!DB40-Govt!DB40","v":1300.8000000000002},{"$f":"'Total NF'!DC40-Govt!DC40","v":1297.7},{"$f":"'Total NF'!DD40-Govt!DD40","v":1298.1999999999998},{"$f":"'Total NF'!DE40-Govt!DE40","v":1302.8},{"$f":"'Total NF'!DF40-Govt!DF40","v":1310.5999999999999},{"$f":"'Total NF'!DG40-Govt!DG40","v":1314.9},{"$f":"'Total NF'!DH40-Govt!DH40","v":1313.9},{"$f":"'Total NF'!DI40-Govt!DI40","v":1317.3},{"$f":"'Total NF'!DJ40-Govt!DJ40","v":1314},-3.2999999999999545,-2.5051241175130605E-3,46,47,18.099999999999909,1.3967127093139832E-2,30,26,17.299999999999955,1.3341559342947446E-2,31,26,101.59999999999991,8.3800725833058309E-2,32,42]
["Oregon","SMS41000004000000001",{"$f":"'Total NF'!C41-Govt!C41","v":1355.9},{"$f":"'Total NF'!D41-Govt!D41","v":1341.5},{"$f":"'Total NF'!E41-Govt!E41","v":1327},{"$f":"'Total NF'!F41-Govt!F41","v":1316},{"$f":"'Total NF'!G41-Govt!G41","v":1313.3000000000002},{"$f":"'Total NF'!H41-Govt!H41","v":1310},{"$f":"'Total NF'!I41-Govt!I41","v":1305.1000000000001},{"$f":"'Total NF'!J41-Govt!J41","v":1300.0999999999999},{"$f":"'Total NF'!K41-Govt!K41","v":1300},{"$f":"'Total NF'!L41-Govt!L41","v":1295.5},{"$f":"'Total NF'!M41-Govt!M41","v":1294.8000000000002},{"$f":"'Total NF'!N41-Govt!N41","v":1294.3},null,{"$f":"'Total NF'!P41-Govt!P41","v":1294},{"$f":"'Total NF'!Q41-Govt!Q41","v":1292.8000000000002},{"$f":"'Total NF'!R41-Govt!R41","v":1294.9000000000001},{"$f":"'Total NF'!S41-Govt!S41","v":1297.5},{"$f":"'Total NF'!T41-Govt!T41","v":1299.5999999999999},{"$f":"'Total NF'!U41-Govt!U41","v":1302.1999999999998},{"$f":"'Total NF'!V41-Govt!V41","v":1301.4000000000001},{"$f":"'Total NF'!W41-Govt!W41","v":1303.5},{"$f":"'Total NF'!X41-Govt!X41","v":1304.8000000000002},{"$f":"'Total NF'!Y41-Govt!Y41","v":1310.8999999999999},{"$f":"'Total NF'!Z41-Govt!Z41","v":1310.5999999999999},{"$f":"'Total NF'!AA41-Govt!AA41","v":1312},null,{"$f":"'Total NF'!AC41-Govt!AC41","v":1316.3000000000002},{"$f":"'Total NF'!AD41-Govt!AD41","v":1318.3999999999999},{"$f":"'Total NF'!AE41-Govt!AE41","v":1320.4},{"$f":"'Total NF'!AF41-Govt!AF41","v":1321.2},{"$f":"'Total NF'!AG41-Govt!AG41","v":1320.9},{"$f":"'Total NF'!AH41-Govt!AH41","v":1321.2},{"$f":"'Total NF'!AI41-Govt!AI41","v":1324.9},{"$f":"'Total NF'!AJ41-Govt!AJ41","v":1328.3},{"$f":"'Total NF'!AK41-Govt!AK41","v":1331.1},{"$f":"'Total NF'!AL41-Govt!AL41","v":1328.7},{"$f":"'Total NF'!AM41-Govt!AM41","v":1332.9},{"$f":"'Total NF'!AN41-Govt!AN41","v":1334.9},null,{"$f":"'Total NF'!AP41-Govt!AP41","v":1339.6},{"$f":"'Total NF'!AQ41-Govt!AQ41","v":1340.8999999999999},{"$f":"'Total NF'!AR41-Govt!AR41","v":1343},{"$f":"'Total NF'!AS41-Govt!AS41","v":1344.5},{"$f":"'Total NF'!AT41-Govt!AT41","v":1347.1},{"$f":"'Total NF'!AU41-Govt!AU41","v":1346.4},{"$f":"'Total NF'!AV41-Govt!AV41","v":1349.2},{"$f":"'Total NF'!AW41-Govt!AW41","v":1351.5},{"$f":"'Total NF'!AX41-Govt!AX41","v":1351.5},{"$f":"'Total NF'!AY41-Govt!AY41","v":1355.5},{"$f":"'Total NF'!AZ41-Govt!AZ41","v":1358.8},{"$f":"'Total NF'!BA41-Govt!BA41","v":1360.8000000000002},null,{"$f":"'Total NF'!BC41-Govt!BC41","v":1365.5},{"$f":"'Total NF'!BD41-Govt!BD41","v":1370.1},{"$f":"'Total NF'!BE41-Govt!BE41","v":1373.8999999999999},{"$f":"'Total NF'!BF41-Govt!BF41","v":1378.6},{"$f":"'Total NF'!BG41-Govt!BG41","v":1382.5},{"$f":"'Total NF'!BH41-Govt!BH41","v":1382.6},{"$f":"'Total NF'!BI41-Govt!BI41","v":1386.3000000000002},{"$f":"'Total NF'!BJ41-Govt!BJ41","v":1388.7},{"$f":"'Total NF'!BK41-Govt!BK41","v":1391.8000000000002},{"$f":"'Total NF'!BL41-Govt!BL41","v":1395.7},{"$f":"'Total NF'!BM41-Govt!BM41","v":1400.9},{"$f":"'Total NF'!BN41-Govt!BN41","v":1404.8},{"$f":"'Total NF'!BO41-Govt!BO41","v":0},{"$f":"'Total NF'!BP41-Govt!BP41","v":1406.3000000000002},{"$f":"'Total NF'!BQ41-Govt!BQ41","v":1407.2},{"$f":"'Total NF'!BR41-Govt!BR41","v":1412.3000000000002},{"$f":"'Total NF'!BS41-Govt!BS41","v":1419.8999999999999},{"$f":"'Total NF'!BT41-Govt!BT41","v":1421.8},{"$f":"'Total NF'!BU41-Govt!BU41","v":1423.3000000000002},{"$f":"'Total NF'!BV41-Govt!BV41","v":1427.3},{"$f":"'Total NF'!BW41-Govt!BW41","v":1428.8999999999999},{"$f":"'Total NF'!BX41-Govt!BX41","v":1433},{"$f":"'Total NF'!BY41-Govt!BY41","v":1440.3000000000002},{"$f":"'Total NF'!BZ41-Govt!BZ41","v":1449.9},{"$f":"'Total NF'!CA41-Govt!CA41","v":1453},{"$f":"'Total NF'!CB41-Govt!CB41","v":1456},{"$f":"'Total NF'!CC41-Govt!CC41","v":1463.7},{"$f":"'Total NF'!CD41-Govt!CD41","v":1465.7},{"$f":"'Total NF'!CE41-Govt!CE41","v":1467.5},{"$f":"'Total NF'!CF41-Govt!CF41","v":1471.6999999999998},{"$f":"'Total NF'!CG41-Govt!CG41","v":1476.3000000000002},{"$f":"'Total NF'!CH41-Govt!CH41","v":1479.2},{"$f":"'Total NF'!CI41-Govt!CI41","v":1483.3},{"$f":"'Total NF'!CJ41-Govt!CJ41","v":1484},{"$f":"'Total NF'!CK41-Govt!CK41","v":1492.8},{"$f":"'Total NF'!CL41-Govt!CL41","v":1500},{"$f":"'Total NF'!CM41-Govt!CM41","v":1500.3000000000002},{"$f":"'Total NF'!CN41-Govt!CN41","v":1508.1000000000001},{"$f":"'Total NF'!CO41-Govt!CO41","v":1516.8},{"$f":"'Total NF'!CP41-Govt!CP41","v":1518.3000000000002},{"$f":"'Total NF'!CQ41-Govt!CQ41","v":1520.4},{"$f":"'Total NF'!CR41-Govt!CR41","v":1521.6},{"$f":"'Total NF'!CS41-Govt!CS41","v":1522.8},{"$f":"'Total NF'!CT41-Govt!CT41","v":1524.3000000000002},{"$f":"'Total NF'!CU41-Govt!CU41","v":1530.8},{"$f":"'Total NF'!CV41-Govt!CV41","v":1532.4},{"$f":"'Total NF'!CW41-Govt!CW41","v":1536.8},{"$f":"'Total NF'!CX41-Govt!CX41","v":1540.8},{"$f":"'Total NF'!CY41-Govt!CY41","v":1544},{"$f":"'Total NF'!CZ41-Govt!CZ41","v":1548.1},{"$f":"'Total NF'!DA41-Govt!DA41","v":1552.1},{"$f":"'Total NF'!DB41-Govt!DB41","v":1552.3999999999999},{"$f":"'Total NF'!DC41-Govt!DC41","v":1559.6000000000001},{"$f":"'Total NF'!DD41-Govt!DD41","v":1561.9},{"$f":"'Total NF'!DE41-Govt!DE41","v":1569.6},{"$f":"'Total NF'!DF41-Govt!DF41","v":1574.8},{"$f":"'Total NF'!DG41-Govt!DG41","v":1571.1999999999998},{"$f":"'Total NF'!DH41-Govt!DH41","v":1567.2},{"$f":"'Total NF'!DI41-Govt!DI41","v":1576.9},{"$f":"'Total NF'!DJ41-Govt!DJ41","v":1574.8},-2.1000000000001364,-1.3317268057582196E-3,41,39,34,2.2066458982346833E-2,20,9,30.799999999999955,1.9948186528497381E-2,21,8,269.69999999999982,0.20665083135391907,22,9]
["Pennsylvania","SMS42000004000000001",{"$f":"'Total NF'!C42-Govt!C42","v":4945.5},{"$f":"'Total NF'!D42-Govt!D42","v":4924.5999999999995},{"$f":"'Total NF'!E42-Govt!E42","v":4889.6000000000004},{"$f":"'Total NF'!F42-Govt!F42","v":4856.1000000000004},{"$f":"'Total NF'!G42-Govt!G42","v":4853.4000000000005},{"$f":"'Total NF'!H42-Govt!H42","v":4835.3},{"$f":"'Total NF'!I42-Govt!I42","v":4822.5},{"$f":"'Total NF'!J42-Govt!J42","v":4815.7},{"$f":"'Total NF'!K42-Govt!K42","v":4811.5},{"$f":"'Total NF'!L42-Govt!L42","v":4811.2},{"$f":"'Total NF'!M42-Govt!M42","v":4813.7},{"$f":"'Total NF'!N42-Govt!N42","v":4810.3},null,{"$f":"'Total NF'!P42-Govt!P42","v":4815.2},{"$f":"'Total NF'!Q42-Govt!Q42","v":4798.6000000000004},{"$f":"'Total NF'!R42-Govt!R42","v":4818},{"$f":"'Total NF'!S42-Govt!S42","v":4838.3},{"$f":"'Total NF'!T42-Govt!T42","v":4848.1000000000004},{"$f":"'Total NF'!U42-Govt!U42","v":4852.1000000000004},{"$f":"'Total NF'!V42-Govt!V42","v":4859.5},{"$f":"'Total NF'!W42-Govt!W42","v":4866.7999999999993},{"$f":"'Total NF'!X42-Govt!X42","v":4865.7999999999993},{"$f":"'Total NF'!Y42-Govt!Y42","v":4882.7},{"$f":"'Total NF'!Z42-Govt!Z42","v":4888.3999999999996},{"$f":"'Total NF'!AA42-Govt!AA42","v":4895.3},null,{"$f":"'Total NF'!AC42-Govt!AC42","v":4899.5999999999995},{"$f":"'Total NF'!AD42-Govt!AD42","v":4905.1000000000004},{"$f":"'Total NF'!AE42-Govt!AE42","v":4912.7},{"$f":"'Total NF'!AF42-Govt!AF42","v":4926.3},{"$f":"'Total NF'!AG42-Govt!AG42","v":4931.2},{"$f":"'Total NF'!AH42-Govt!AH42","v":4932.0999999999995},{"$f":"'Total NF'!AI42-Govt!AI42","v":4938.7000000000007},{"$f":"'Total NF'!AJ42-Govt!AJ42","v":4940.2},{"$f":"'Total NF'!AK42-Govt!AK42","v":4951.7999999999993},{"$f":"'Total NF'!AL42-Govt!AL42","v":4955.3},{"$f":"'Total NF'!AM42-Govt!AM42","v":4964.8},{"$f":"'Total NF'!AN42-Govt!AN42","v":4966.7},null,{"$f":"'Total NF'!AP42-Govt!AP42","v":4977.8},{"$f":"'Total NF'!AQ42-Govt!AQ42","v":4988.3999999999996},{"$f":"'Total NF'!AR42-Govt!AR42","v":5007.0999999999995},{"$f":"'Total NF'!AS42-Govt!AS42","v":4995.8},{"$f":"'Total NF'!AT42-Govt!AT42","v":4993},{"$f":"'Total NF'!AU42-Govt!AU42","v":4989.0999999999995},{"$f":"'Total NF'!AV42-Govt!AV42","v":4987.7},{"$f":"'Total NF'!AW42-Govt!AW42","v":4988.3},{"$f":"'Total NF'!AX42-Govt!AX42","v":4998.3},{"$f":"'Total NF'!AY42-Govt!AY42","v":4999.1000000000004},{"$f":"'Total NF'!AZ42-Govt!AZ42","v":5004.5},{"$f":"'Total NF'!BA42-Govt!BA42","v":5001.8},null,{"$f":"'Total NF'!BC42-Govt!BC42","v":5005.2},{"$f":"'Total NF'!BD42-Govt!BD42","v":5016.2999999999993},{"$f":"'Total NF'!BE42-Govt!BE42","v":5018.8999999999996},{"$f":"'Total NF'!BF42-Govt!BF42","v":5011.5},{"$f":"'Total NF'!BG42-Govt!BG42","v":5011.1000000000004},{"$f":"'Total NF'!BH42-Govt!BH42","v":5016.8999999999996},{"$f":"'Total NF'!BI42-Govt!BI42","v":5019.3999999999996},{"$f":"'Total NF'!BJ42-Govt!BJ42","v":5022.2},{"$f":"'Total NF'!BK42-Govt!BK42","v":5028.3},{"$f":"'Total NF'!BL42-Govt!BL42","v":5036.9000000000005},{"$f":"'Total NF'!BM42-Govt!BM42","v":5047.9000000000005},{"$f":"'Total NF'!BN42-Govt!BN42","v":5040.6000000000004},{"$f":"'Total NF'!BO42-Govt!BO42","v":0},{"$f":"'Total NF'!BP42-Govt!BP42","v":5043.1000000000004},{"$f":"'Total NF'!BQ42-Govt!BQ42","v":5042.2000000000007},{"$f":"'Total NF'!BR42-Govt!BR42","v":5052.7000000000007},{"$f":"'Total NF'!BS42-Govt!BS42","v":5068.7999999999993},{"$f":"'Total NF'!BT42-Govt!BT42","v":5077.4000000000005},{"$f":"'Total NF'!BU42-Govt!BU42","v":5078.5999999999995},{"$f":"'Total NF'!BV42-Govt!BV42","v":5079},{"$f":"'Total NF'!BW42-Govt!BW42","v":5088.0999999999995},{"$f":"'Total NF'!BX42-Govt!BX42","v":5090.4000000000005},{"$f":"'Total NF'!BY42-Govt!BY42","v":5099.6000000000004},{"$f":"'Total NF'!BZ42-Govt!BZ42","v":5107.0999999999995},{"$f":"'Total NF'!CA42-Govt!CA42","v":5117.1000000000004},{"$f":"'Total NF'!CB42-Govt!CB42","v":5113.5},{"$f":"'Total NF'!CC42-Govt!CC42","v":5117.5},{"$f":"'Total NF'!CD42-Govt!CD42","v":5106.3},{"$f":"'Total NF'!CE42-Govt!CE42","v":5118.0999999999995},{"$f":"'Total NF'!CF42-Govt!CF42","v":5127.3},{"$f":"'Total NF'!CG42-Govt!CG42","v":5128.5999999999995},{"$f":"'Total NF'!CH42-Govt!CH42","v":5131},{"$f":"'Total NF'!CI42-Govt!CI42","v":5134.8999999999996},{"$f":"'Total NF'!CJ42-Govt!CJ42","v":5138.5},{"$f":"'Total NF'!CK42-Govt!CK42","v":5155.8},{"$f":"'Total NF'!CL42-Govt!CL42","v":5150.3999999999996},{"$f":"'Total NF'!CM42-Govt!CM42","v":5161.3},{"$f":"'Total NF'!CN42-Govt!CN42","v":5159.1000000000004},{"$f":"'Total NF'!CO42-Govt!CO42","v":5165.5},{"$f":"'Total NF'!CP42-Govt!CP42","v":5170.8},{"$f":"'Total NF'!CQ42-Govt!CQ42","v":5178.2000000000007},{"$f":"'Total NF'!CR42-Govt!CR42","v":5167},{"$f":"'Total NF'!CS42-Govt!CS42","v":5160.7},{"$f":"'Total NF'!CT42-Govt!CT42","v":5181.3},{"$f":"'Total NF'!CU42-Govt!CU42","v":5183.4000000000005},{"$f":"'Total NF'!CV42-Govt!CV42","v":5192.1000000000004},{"$f":"'Total NF'!CW42-Govt!CW42","v":5203.5},{"$f":"'Total NF'!CX42-Govt!CX42","v":5209.7999999999993},{"$f":"'Total NF'!CY42-Govt!CY42","v":5213.2},{"$f":"'Total NF'!CZ42-Govt!CZ42","v":5228.7000000000007},{"$f":"'Total NF'!DA42-Govt!DA42","v":5248.5},{"$f":"'Total NF'!DB42-Govt!DB42","v":5229},{"$f":"'Total NF'!DC42-Govt!DC42","v":5225.5999999999995},{"$f":"'Total NF'!DD42-Govt!DD42","v":5229.6000000000004},{"$f":"'Total NF'!DE42-Govt!DE42","v":5229.9000000000005},{"$f":"'Total NF'!DF42-Govt!DF42","v":5256},{"$f":"'Total NF'!DG42-Govt!DG42","v":5254.3},{"$f":"'Total NF'!DH42-Govt!DH42","v":5273.5},{"$f":"'Total NF'!DI42-Govt!DI42","v":5274.0999999999995},{"$f":"'Total NF'!DJ42-Govt!DJ42","v":5275.8},1.7000000000007276,3.2232987618754439E-4,25,36,66.000000000000909,1.2668432569388637E-2,7,32,62.600000000000364,1.2007979743727531E-2,6,28,453.30000000000018,9.3996889580093348E-2,11,37]
["Rhode Island","SMS44000004000000001",{"$f":"'Total NF'!C43-Govt!C43","v":405.4},{"$f":"'Total NF'!D43-Govt!D43","v":403.4},{"$f":"'Total NF'!E43-Govt!E43","v":400.9},{"$f":"'Total NF'!F43-Govt!F43","v":397.2},{"$f":"'Total NF'!G43-Govt!G43","v":397.7},{"$f":"'Total NF'!H43-Govt!H43","v":396.5},{"$f":"'Total NF'!I43-Govt!I43","v":394.29999999999995},{"$f":"'Total NF'!J43-Govt!J43","v":394.5},{"$f":"'Total NF'!K43-Govt!K43","v":394.20000000000005},{"$f":"'Total NF'!L43-Govt!L43","v":394},{"$f":"'Total NF'!M43-Govt!M43","v":394.5},{"$f":"'Total NF'!N43-Govt!N43","v":394.5},null,{"$f":"'Total NF'!P43-Govt!P43","v":395.3},{"$f":"'Total NF'!Q43-Govt!Q43","v":394.5},{"$f":"'Total NF'!R43-Govt!R43","v":395.5},{"$f":"'Total NF'!S43-Govt!S43","v":395.2},{"$f":"'Total NF'!T43-Govt!T43","v":395},{"$f":"'Total NF'!U43-Govt!U43","v":394.8},{"$f":"'Total NF'!V43-Govt!V43","v":396.5},{"$f":"'Total NF'!W43-Govt!W43","v":397.7},{"$f":"'Total NF'!X43-Govt!X43","v":397.4},{"$f":"'Total NF'!Y43-Govt!Y43","v":397.20000000000005},{"$f":"'Total NF'!Z43-Govt!Z43","v":397.7},{"$f":"'Total NF'!AA43-Govt!AA43","v":397.5},null,{"$f":"'Total NF'!AC43-Govt!AC43","v":397.40000000000003},{"$f":"'Total NF'!AD43-Govt!AD43","v":397.5},{"$f":"'Total NF'!AE43-Govt!AE43","v":398.1},{"$f":"'Total NF'!AF43-Govt!AF43","v":400.3},{"$f":"'Total NF'!AG43-Govt!AG43","v":400},{"$f":"'Total NF'!AH43-Govt!AH43","v":400.3},{"$f":"'Total NF'!AI43-Govt!AI43","v":402.3},{"$f":"'Total NF'!AJ43-Govt!AJ43","v":400.3},{"$f":"'Total NF'!AK43-Govt!AK43","v":400.4},{"$f":"'Total NF'!AL43-Govt!AL43","v":401.09999999999997},{"$f":"'Total NF'!AM43-Govt!AM43","v":401.4},{"$f":"'Total NF'!AN43-Govt!AN43","v":400.9},null,{"$f":"'Total NF'!AP43-Govt!AP43","v":402.5},{"$f":"'Total NF'!AQ43-Govt!AQ43","v":404.7},{"$f":"'Total NF'!AR43-Govt!AR43","v":405.3},{"$f":"'Total NF'!AS43-Govt!AS43","v":404},{"$f":"'Total NF'!AT43-Govt!AT43","v":404.6},{"$f":"'Total NF'!AU43-Govt!AU43","v":405.40000000000003},{"$f":"'Total NF'!AV43-Govt!AV43","v":405.1},{"$f":"'Total NF'!AW43-Govt!AW43","v":406.3},{"$f":"'Total NF'!AX43-Govt!AX43","v":407.4},{"$f":"'Total NF'!AY43-Govt!AY43","v":406},{"$f":"'Total NF'!AZ43-Govt!AZ43","v":406.4},{"$f":"'Total NF'!BA43-Govt!BA43","v":408},null,{"$f":"'Total NF'!BC43-Govt!BC43","v":408.9},{"$f":"'Total NF'!BD43-Govt!BD43","v":408.5},{"$f":"'Total NF'!BE43-Govt!BE43","v":409.4},{"$f":"'Total NF'!BF43-Govt!BF43","v":409.2},{"$f":"'Total NF'!BG43-Govt!BG43","v":410},{"$f":"'Total NF'!BH43-Govt!BH43","v":412.29999999999995},{"$f":"'Total NF'!BI43-Govt!BI43","v":411.5},{"$f":"'Total NF'!BJ43-Govt!BJ43","v":411.8},{"$f":"'Total NF'!BK43-Govt!BK43","v":412.6},{"$f":"'Total NF'!BL43-Govt!BL43","v":412.7},{"$f":"'Total NF'!BM43-Govt!BM43","v":413.79999999999995},{"$f":"'Total NF'!BN43-Govt!BN43","v":411.2},{"$f":"'Total NF'!BO43-Govt!BO43","v":0},{"$f":"'Total NF'!BP43-Govt!BP43","v":414.90000000000003},{"$f":"'Total NF'!BQ43-Govt!BQ43","v":415},{"$f":"'Total NF'!BR43-Govt!BR43","v":415},{"$f":"'Total NF'!BS43-Govt!BS43","v":416.90000000000003},{"$f":"'Total NF'!BT43-Govt!BT43","v":417.7},{"$f":"'Total NF'!BU43-Govt!BU43","v":417.5},{"$f":"'Total NF'!BV43-Govt!BV43","v":419.6},{"$f":"'Total NF'!BW43-Govt!BW43","v":419.59999999999997},{"$f":"'Total NF'!BX43-Govt!BX43","v":418.90000000000003},{"$f":"'Total NF'!BY43-Govt!BY43","v":417.79999999999995},{"$f":"'Total NF'!BZ43-Govt!BZ43","v":418.7},{"$f":"'Total NF'!CA43-Govt!CA43","v":419.2},{"$f":"'Total NF'!CB43-Govt!CB43","v":423.1},{"$f":"'Total NF'!CC43-Govt!CC43","v":420.2},{"$f":"'Total NF'!CD43-Govt!CD43","v":421.70000000000005},{"$f":"'Total NF'!CE43-Govt!CE43","v":423.5},{"$f":"'Total NF'!CF43-Govt!CF43","v":425.1},{"$f":"'Total NF'!CG43-Govt!CG43","v":424.40000000000003},{"$f":"'Total NF'!CH43-Govt!CH43","v":425.59999999999997},{"$f":"'Total NF'!CI43-Govt!CI43","v":424.7},{"$f":"'Total NF'!CJ43-Govt!CJ43","v":424.59999999999997},{"$f":"'Total NF'!CK43-Govt!CK43","v":425.40000000000003},{"$f":"'Total NF'!CL43-Govt!CL43","v":427},{"$f":"'Total NF'!CM43-Govt!CM43","v":428.5},{"$f":"'Total NF'!CN43-Govt!CN43","v":427.90000000000003},{"$f":"'Total NF'!CO43-Govt!CO43","v":428.90000000000003},{"$f":"'Total NF'!CP43-Govt!CP43","v":430.3},{"$f":"'Total NF'!CQ43-Govt!CQ43","v":429.3},{"$f":"'Total NF'!CR43-Govt!CR43","v":428.2},{"$f":"'Total NF'!CS43-Govt!CS43","v":429.29999999999995},{"$f":"'Total NF'!CT43-Govt!CT43","v":429.9},{"$f":"'Total NF'!CU43-Govt!CU43","v":429.4},{"$f":"'Total NF'!CV43-Govt!CV43","v":429.6},{"$f":"'Total NF'!CW43-Govt!CW43","v":430.5},{"$f":"'Total NF'!CX43-Govt!CX43","v":431.4},{"$f":"'Total NF'!CY43-Govt!CY43","v":430.6},{"$f":"'Total NF'!CZ43-Govt!CZ43","v":432.5},{"$f":"'Total NF'!DA43-Govt!DA43","v":434.7},{"$f":"'Total NF'!DB43-Govt!DB43","v":434.3},{"$f":"'Total NF'!DC43-Govt!DC43","v":434.2},{"$f":"'Total NF'!DD43-Govt!DD43","v":435.79999999999995},{"$f":"'Total NF'!DE43-Govt!DE43","v":435.5},{"$f":"'Total NF'!DF43-Govt!DF43","v":438.8},{"$f":"'Total NF'!DG43-Govt!DG43","v":438.40000000000003},{"$f":"'Total NF'!DH43-Govt!DH43","v":435.2},{"$f":"'Total NF'!DI43-Govt!DI43","v":436.40000000000003},{"$f":"'Total NF'!DJ43-Govt!DJ43","v":437.2},0.79999999999995453,1.8331805682858719E-3,31,19,5.8000000000000114,1.3444598980064932E-2,39,28,6.5999999999999659,1.5327450069670148E-2,39,22,42.900000000000034,0.10880040578239929,43,27]
["South Carolina","SMS45000004000000001",{"$f":"'Total NF'!C44-Govt!C44","v":1509.1},{"$f":"'Total NF'!D44-Govt!D44","v":1495.7},{"$f":"'Total NF'!E44-Govt!E44","v":1482},{"$f":"'Total NF'!F44-Govt!F44","v":1467.9},{"$f":"'Total NF'!G44-Govt!G44","v":1465.1999999999998},{"$f":"'Total NF'!H44-Govt!H44","v":1457.1999999999998},{"$f":"'Total NF'!I44-Govt!I44","v":1452.5},{"$f":"'Total NF'!J44-Govt!J44","v":1449.8000000000002},{"$f":"'Total NF'!K44-Govt!K44","v":1444.8999999999999},{"$f":"'Total NF'!L44-Govt!L44","v":1443.8000000000002},{"$f":"'Total NF'!M44-Govt!M44","v":1442.1},{"$f":"'Total NF'!N44-Govt!N44","v":1437.8999999999999},null,{"$f":"'Total NF'!P44-Govt!P44","v":1443.7},{"$f":"'Total NF'!Q44-Govt!Q44","v":1444.8999999999999},{"$f":"'Total NF'!R44-Govt!R44","v":1443.9},{"$f":"'Total NF'!S44-Govt!S44","v":1454},{"$f":"'Total NF'!T44-Govt!T44","v":1457.4},{"$f":"'Total NF'!U44-Govt!U44","v":1458.2},{"$f":"'Total NF'!V44-Govt!V44","v":1462.5},{"$f":"'Total NF'!W44-Govt!W44","v":1464.3},{"$f":"'Total NF'!X44-Govt!X44","v":1467.6},{"$f":"'Total NF'!Y44-Govt!Y44","v":1469},{"$f":"'Total NF'!Z44-Govt!Z44","v":1469.6},{"$f":"'Total NF'!AA44-Govt!AA44","v":1475.6},null,{"$f":"'Total NF'!AC44-Govt!AC44","v":1468.6},{"$f":"'Total NF'!AD44-Govt!AD44","v":1478},{"$f":"'Total NF'!AE44-Govt!AE44","v":1479.5},{"$f":"'Total NF'!AF44-Govt!AF44","v":1484},{"$f":"'Total NF'!AG44-Govt!AG44","v":1486.3000000000002},{"$f":"'Total NF'!AH44-Govt!AH44","v":1487.8},{"$f":"'Total NF'!AI44-Govt!AI44","v":1489.2},{"$f":"'Total NF'!AJ44-Govt!AJ44","v":1489.5},{"$f":"'Total NF'!AK44-Govt!AK44","v":1491.4},{"$f":"'Total NF'!AL44-Govt!AL44","v":1487.9},{"$f":"'Total NF'!AM44-Govt!AM44","v":1491.2},{"$f":"'Total NF'!AN44-Govt!AN44","v":1496.6},null,{"$f":"'Total NF'!AP44-Govt!AP44","v":1503.3000000000002},{"$f":"'Total NF'!AQ44-Govt!AQ44","v":1504.3},{"$f":"'Total NF'!AR44-Govt!AR44","v":1509},{"$f":"'Total NF'!AS44-Govt!AS44","v":1509.1},{"$f":"'Total NF'!AT44-Govt!AT44","v":1508.8000000000002},{"$f":"'Total NF'!AU44-Govt!AU44","v":1511.5},{"$f":"'Total NF'!AV44-Govt!AV44","v":1508.1000000000001},{"$f":"'Total NF'!AW44-Govt!AW44","v":1510.8},{"$f":"'Total NF'!AX44-Govt!AX44","v":1510.6999999999998},{"$f":"'Total NF'!AY44-Govt!AY44","v":1516},{"$f":"'Total NF'!AZ44-Govt!AZ44","v":1527},{"$f":"'Total NF'!BA44-Govt!BA44","v":1527.3},null,{"$f":"'Total NF'!BC44-Govt!BC44","v":1530},{"$f":"'Total NF'!BD44-Govt!BD44","v":1531.8000000000002},{"$f":"'Total NF'!BE44-Govt!BE44","v":1531.6},{"$f":"'Total NF'!BF44-Govt!BF44","v":1535.3},{"$f":"'Total NF'!BG44-Govt!BG44","v":1537.3999999999999},{"$f":"'Total NF'!BH44-Govt!BH44","v":1540.3},{"$f":"'Total NF'!BI44-Govt!BI44","v":1545.6},{"$f":"'Total NF'!BJ44-Govt!BJ44","v":1548},{"$f":"'Total NF'!BK44-Govt!BK44","v":1550},{"$f":"'Total NF'!BL44-Govt!BL44","v":1560.3000000000002},{"$f":"'Total NF'!BM44-Govt!BM44","v":1563.8},{"$f":"'Total NF'!BN44-Govt!BN44","v":1568.7},{"$f":"'Total NF'!BO44-Govt!BO44","v":0},{"$f":"'Total NF'!BP44-Govt!BP44","v":1574.4},{"$f":"'Total NF'!BQ44-Govt!BQ44","v":1571.1},{"$f":"'Total NF'!BR44-Govt!BR44","v":1581.2},{"$f":"'Total NF'!BS44-Govt!BS44","v":1586.9},{"$f":"'Total NF'!BT44-Govt!BT44","v":1589.3},{"$f":"'Total NF'!BU44-Govt!BU44","v":1590.3},{"$f":"'Total NF'!BV44-Govt!BV44","v":1590.6999999999998},{"$f":"'Total NF'!BW44-Govt!BW44","v":1592.1},{"$f":"'Total NF'!BX44-Govt!BX44","v":1595.1999999999998},{"$f":"'Total NF'!BY44-Govt!BY44","v":1606.8},{"$f":"'Total NF'!BZ44-Govt!BZ44","v":1613.6},{"$f":"'Total NF'!CA44-Govt!CA44","v":1615.2},{"$f":"'Total NF'!CB44-Govt!CB44","v":1623.6000000000001},{"$f":"'Total NF'!CC44-Govt!CC44","v":1629.2},{"$f":"'Total NF'!CD44-Govt!CD44","v":1628.3000000000002},{"$f":"'Total NF'!CE44-Govt!CE44","v":1628},{"$f":"'Total NF'!CF44-Govt!CF44","v":1636.6000000000001},{"$f":"'Total NF'!CG44-Govt!CG44","v":1638.9},{"$f":"'Total NF'!CH44-Govt!CH44","v":1646.6},{"$f":"'Total NF'!CI44-Govt!CI44","v":1651.1999999999998},{"$f":"'Total NF'!CJ44-Govt!CJ44","v":1653.4},{"$f":"'Total NF'!CK44-Govt!CK44","v":1658.6},{"$f":"'Total NF'!CL44-Govt!CL44","v":1663.5},{"$f":"'Total NF'!CM44-Govt!CM44","v":1672.7},{"$f":"'Total NF'!CN44-Govt!CN44","v":1673.4},{"$f":"'Total NF'!CO44-Govt!CO44","v":1680},{"$f":"'Total NF'!CP44-Govt!CP44","v":1679.2},{"$f":"'Total NF'!CQ44-Govt!CQ44","v":1684.9},{"$f":"'Total NF'!CR44-Govt!CR44","v":1685.6999999999998},{"$f":"'Total NF'!CS44-Govt!CS44","v":1687.1000000000001},{"$f":"'Total NF'!CT44-Govt!CT44","v":1694.7999999999997},{"$f":"'Total NF'!CU44-Govt!CU44","v":1694.7000000000003},{"$f":"'Total NF'!CV44-Govt!CV44","v":1699.3000000000002},{"$f":"'Total NF'!CW44-Govt!CW44","v":1696.3},{"$f":"'Total NF'!CX44-Govt!CX44","v":1703.7000000000003},{"$f":"'Total NF'!CY44-Govt!CY44","v":1705.6},{"$f":"'Total NF'!CZ44-Govt!CZ44","v":1711.3999999999999},{"$f":"'Total NF'!DA44-Govt!DA44","v":1712.1000000000001},{"$f":"'Total NF'!DB44-Govt!DB44","v":1709.3000000000002},{"$f":"'Total NF'!DC44-Govt!DC44","v":1707.5000000000002},{"$f":"'Total NF'!DD44-Govt!DD44","v":1713.9},{"$f":"'Total NF'!DE44-Govt!DE44","v":1718.3000000000002},{"$f":"'Total NF'!DF44-Govt!DF44","v":1720.1999999999998},{"$f":"'Total NF'!DG44-Govt!DG44","v":1724.9},{"$f":"'Total NF'!DH44-Govt!DH44","v":1723.7},{"$f":"'Total NF'!DI44-Govt!DI44","v":1735.8999999999999},{"$f":"'Total NF'!DJ44-Govt!DJ44","v":1744.3999999999999},8.5,4.8965954260038027E-3,7,3,40.699999999999591,2.3889182367787511E-2,17,5,38.799999999999955,2.2748592870544065E-2,15,5,291.89999999999986,0.20096385542168665,20,12]
["South Dakota","SMS46000004000000001",{"$f":"'Total NF'!C45-Govt!C45","v":332.2},{"$f":"'Total NF'!D45-Govt!D45","v":330.79999999999995},{"$f":"'Total NF'!E45-Govt!E45","v":328.8},{"$f":"'Total NF'!F45-Govt!F45","v":323.89999999999998},{"$f":"'Total NF'!G45-Govt!G45","v":326.3},{"$f":"'Total NF'!H45-Govt!H45","v":325.79999999999995},{"$f":"'Total NF'!I45-Govt!I45","v":325.10000000000002},{"$f":"'Total NF'!J45-Govt!J45","v":323.7},{"$f":"'Total NF'!K45-Govt!K45","v":324},{"$f":"'Total NF'!L45-Govt!L45","v":323.10000000000002},{"$f":"'Total NF'!M45-Govt!M45","v":323.5},{"$f":"'Total NF'!N45-Govt!N45","v":323},null,{"$f":"'Total NF'!P45-Govt!P45","v":321.8},{"$f":"'Total NF'!Q45-Govt!Q45","v":321.5},{"$f":"'Total NF'!R45-Govt!R45","v":321.89999999999998},{"$f":"'Total NF'!S45-Govt!S45","v":323.10000000000002},{"$f":"'Total NF'!T45-Govt!T45","v":323.70000000000005},{"$f":"'Total NF'!U45-Govt!U45","v":324.40000000000003},{"$f":"'Total NF'!V45-Govt!V45","v":325.10000000000002},{"$f":"'Total NF'!W45-Govt!W45","v":325.5},{"$f":"'Total NF'!X45-Govt!X45","v":325.70000000000005},{"$f":"'Total NF'!Y45-Govt!Y45","v":326.7},{"$f":"'Total NF'!Z45-Govt!Z45","v":326.89999999999998},{"$f":"'Total NF'!AA45-Govt!AA45","v":326.5},null,{"$f":"'Total NF'!AC45-Govt!AC45","v":326},{"$f":"'Total NF'!AD45-Govt!AD45","v":326.5},{"$f":"'Total NF'!AE45-Govt!AE45","v":327},{"$f":"'Total NF'!AF45-Govt!AF45","v":327.40000000000003},{"$f":"'Total NF'!AG45-Govt!AG45","v":328.40000000000003},{"$f":"'Total NF'!AH45-Govt!AH45","v":328.7},{"$f":"'Total NF'!AI45-Govt!AI45","v":329.4},{"$f":"'Total NF'!AJ45-Govt!AJ45","v":330.5},{"$f":"'Total NF'!AK45-Govt!AK45","v":331.4},{"$f":"'Total NF'!AL45-Govt!AL45","v":332},{"$f":"'Total NF'!AM45-Govt!AM45","v":332.3},{"$f":"'Total NF'!AN45-Govt!AN45","v":333},null,{"$f":"'Total NF'!AP45-Govt!AP45","v":334},{"$f":"'Total NF'!AQ45-Govt!AQ45","v":334.5},{"$f":"'Total NF'!AR45-Govt!AR45","v":335.79999999999995},{"$f":"'Total NF'!AS45-Govt!AS45","v":337.70000000000005},{"$f":"'Total NF'!AT45-Govt!AT45","v":336.7},{"$f":"'Total NF'!AU45-Govt!AU45","v":337.20000000000005},{"$f":"'Total NF'!AV45-Govt!AV45","v":336.8},{"$f":"'Total NF'!AW45-Govt!AW45","v":336.7},{"$f":"'Total NF'!AX45-Govt!AX45","v":337},{"$f":"'Total NF'!AY45-Govt!AY45","v":337.09999999999997},{"$f":"'Total NF'!AZ45-Govt!AZ45","v":337.8},{"$f":"'Total NF'!BA45-Govt!BA45","v":338.5},null,{"$f":"'Total NF'!BC45-Govt!BC45","v":338.6},{"$f":"'Total NF'!BD45-Govt!BD45","v":339.4},{"$f":"'Total NF'!BE45-Govt!BE45","v":339.4},{"$f":"'Total NF'!BF45-Govt!BF45","v":338.4},{"$f":"'Total NF'!BG45-Govt!BG45","v":340.1},{"$f":"'Total NF'!BH45-Govt!BH45","v":340.5},{"$f":"'Total NF'!BI45-Govt!BI45","v":340.5},{"$f":"'Total NF'!BJ45-Govt!BJ45","v":340.3},{"$f":"'Total NF'!BK45-Govt!BK45","v":340.2},{"$f":"'Total NF'!BL45-Govt!BL45","v":339.2},{"$f":"'Total NF'!BM45-Govt!BM45","v":340.6},{"$f":"'Total NF'!BN45-Govt!BN45","v":340.90000000000003},{"$f":"'Total NF'!BO45-Govt!BO45","v":0},{"$f":"'Total NF'!BP45-Govt!BP45","v":344.5},{"$f":"'Total NF'!BQ45-Govt!BQ45","v":344.7},{"$f":"'Total NF'!BR45-Govt!BR45","v":344.6},{"$f":"'Total NF'!BS45-Govt!BS45","v":345.20000000000005},{"$f":"'Total NF'!BT45-Govt!BT45","v":345.2},{"$f":"'Total NF'!BU45-Govt!BU45","v":345.3},{"$f":"'Total NF'!BV45-Govt!BV45","v":346.1},{"$f":"'Total NF'!BW45-Govt!BW45","v":346.1},{"$f":"'Total NF'!BX45-Govt!BX45","v":346.29999999999995},{"$f":"'Total NF'!BY45-Govt!BY45","v":346.5},{"$f":"'Total NF'!BZ45-Govt!BZ45","v":345.7},{"$f":"'Total NF'!CA45-Govt!CA45","v":346.7},{"$f":"'Total NF'!CB45-Govt!CB45","v":348.9},{"$f":"'Total NF'!CC45-Govt!CC45","v":349.1},{"$f":"'Total NF'!CD45-Govt!CD45","v":350.2},{"$f":"'Total NF'!CE45-Govt!CE45","v":350.2},{"$f":"'Total NF'!CF45-Govt!CF45","v":350.2},{"$f":"'Total NF'!CG45-Govt!CG45","v":349.8},{"$f":"'Total NF'!CH45-Govt!CH45","v":349.4},{"$f":"'Total NF'!CI45-Govt!CI45","v":350.1},{"$f":"'Total NF'!CJ45-Govt!CJ45","v":350.5},{"$f":"'Total NF'!CK45-Govt!CK45","v":350.5},{"$f":"'Total NF'!CL45-Govt!CL45","v":351.8},{"$f":"'Total NF'!CM45-Govt!CM45","v":353},{"$f":"'Total NF'!CN45-Govt!CN45","v":352.4},{"$f":"'Total NF'!CO45-Govt!CO45","v":352.4},{"$f":"'Total NF'!CP45-Govt!CP45","v":352.9},{"$f":"'Total NF'!CQ45-Govt!CQ45","v":353.40000000000003},{"$f":"'Total NF'!CR45-Govt!CR45","v":353.1},{"$f":"'Total NF'!CS45-Govt!CS45","v":353.79999999999995},{"$f":"'Total NF'!CT45-Govt!CT45","v":354.70000000000005},{"$f":"'Total NF'!CU45-Govt!CU45","v":354.5},{"$f":"'Total NF'!CV45-Govt!CV45","v":354.8},{"$f":"'Total NF'!CW45-Govt!CW45","v":355.70000000000005},{"$f":"'Total NF'!CX45-Govt!CX45","v":356.1},{"$f":"'Total NF'!CY45-Govt!CY45","v":356.4},{"$f":"'Total NF'!CZ45-Govt!CZ45","v":355.1},{"$f":"'Total NF'!DA45-Govt!DA45","v":357},{"$f":"'Total NF'!DB45-Govt!DB45","v":358.29999999999995},{"$f":"'Total NF'!DC45-Govt!DC45","v":359},{"$f":"'Total NF'!DD45-Govt!DD45","v":356.6},{"$f":"'Total NF'!DE45-Govt!DE45","v":355.09999999999997},{"$f":"'Total NF'!DF45-Govt!DF45","v":355.2},{"$f":"'Total NF'!DG45-Govt!DG45","v":355.5},{"$f":"'Total NF'!DH45-Govt!DH45","v":356.70000000000005},{"$f":"'Total NF'!DI45-Govt!DI45","v":355.2},{"$f":"'Total NF'!DJ45-Govt!DJ45","v":355.8},0.60000000000002274,1.6891891891892533E-3,32,22,-0.30000000000001137,-8.4245998315083217E-4,48,48,-0.59999999999996589,-1.683501683501588E-3,49,48,30.699999999999989,9.4432482313134378E-2,45,36]
["Tennessee","SMS47000004000000001",{"$f":"'Total NF'!C46-Govt!C46","v":2258.8999999999996},{"$f":"'Total NF'!D46-Govt!D46","v":2239.6000000000004},{"$f":"'Total NF'!E46-Govt!E46","v":2218.5},{"$f":"'Total NF'!F46-Govt!F46","v":2194.8000000000002},{"$f":"'Total NF'!G46-Govt!G46","v":2191.1},{"$f":"'Total NF'!H46-Govt!H46","v":2178.5},{"$f":"'Total NF'!I46-Govt!I46","v":2172.5},{"$f":"'Total NF'!J46-Govt!J46","v":2169.1},{"$f":"'Total NF'!K46-Govt!K46","v":2165.5},{"$f":"'Total NF'!L46-Govt!L46","v":2166.2000000000003},{"$f":"'Total NF'!M46-Govt!M46","v":2168.9},{"$f":"'Total NF'!N46-Govt!N46","v":2163},null,{"$f":"'Total NF'!P46-Govt!P46","v":2164.4},{"$f":"'Total NF'!Q46-Govt!Q46","v":2161.4},{"$f":"'Total NF'!R46-Govt!R46","v":2166.6999999999998},{"$f":"'Total NF'!S46-Govt!S46","v":2174.4},{"$f":"'Total NF'!T46-Govt!T46","v":2183.2999999999997},{"$f":"'Total NF'!U46-Govt!U46","v":2183},{"$f":"'Total NF'!V46-Govt!V46","v":2185.9},{"$f":"'Total NF'!W46-Govt!W46","v":2185.4},{"$f":"'Total NF'!X46-Govt!X46","v":2186.3000000000002},{"$f":"'Total NF'!Y46-Govt!Y46","v":2196.3000000000002},{"$f":"'Total NF'!Z46-Govt!Z46","v":2196.5},{"$f":"'Total NF'!AA46-Govt!AA46","v":2200.6},null,{"$f":"'Total NF'!AC46-Govt!AC46","v":2198.6999999999998},{"$f":"'Total NF'!AD46-Govt!AD46","v":2207.6999999999998},{"$f":"'Total NF'!AE46-Govt!AE46","v":2213},{"$f":"'Total NF'!AF46-Govt!AF46","v":2222.8000000000002},{"$f":"'Total NF'!AG46-Govt!AG46","v":2228.2000000000003},{"$f":"'Total NF'!AH46-Govt!AH46","v":2229.3000000000002},{"$f":"'Total NF'!AI46-Govt!AI46","v":2242.6999999999998},{"$f":"'Total NF'!AJ46-Govt!AJ46","v":2241.6},{"$f":"'Total NF'!AK46-Govt!AK46","v":2246.6},{"$f":"'Total NF'!AL46-Govt!AL46","v":2252.2999999999997},{"$f":"'Total NF'!AM46-Govt!AM46","v":2259.6999999999998},{"$f":"'Total NF'!AN46-Govt!AN46","v":2264.5},null,{"$f":"'Total NF'!AP46-Govt!AP46","v":2268.3999999999996},{"$f":"'Total NF'!AQ46-Govt!AQ46","v":2273.9},{"$f":"'Total NF'!AR46-Govt!AR46","v":2281.5},{"$f":"'Total NF'!AS46-Govt!AS46","v":2285},{"$f":"'Total NF'!AT46-Govt!AT46","v":2288.6999999999998},{"$f":"'Total NF'!AU46-Govt!AU46","v":2292.3000000000002},{"$f":"'Total NF'!AV46-Govt!AV46","v":2290.2000000000003},{"$f":"'Total NF'!AW46-Govt!AW46","v":2291.1999999999998},{"$f":"'Total NF'!AX46-Govt!AX46","v":2294.6},{"$f":"'Total NF'!AY46-Govt!AY46","v":2301.5},{"$f":"'Total NF'!AZ46-Govt!AZ46","v":2307.9},{"$f":"'Total NF'!BA46-Govt!BA46","v":2310.1},null,{"$f":"'Total NF'!BC46-Govt!BC46","v":2312.8000000000002},{"$f":"'Total NF'!BD46-Govt!BD46","v":2318.1},{"$f":"'Total NF'!BE46-Govt!BE46","v":2317.4},{"$f":"'Total NF'!BF46-Govt!BF46","v":2319.9},{"$f":"'Total NF'!BG46-Govt!BG46","v":2321.8000000000002},{"$f":"'Total NF'!BH46-Govt!BH46","v":2324.5},{"$f":"'Total NF'!BI46-Govt!BI46","v":2328.5},{"$f":"'Total NF'!BJ46-Govt!BJ46","v":2331.1999999999998},{"$f":"'Total NF'!BK46-Govt!BK46","v":2335.6999999999998},{"$f":"'Total NF'!BL46-Govt!BL46","v":2346.2999999999997},{"$f":"'Total NF'!BM46-Govt!BM46","v":2354},{"$f":"'Total NF'!BN46-Govt!BN46","v":2355.6},{"$f":"'Total NF'!BO46-Govt!BO46","v":0},{"$f":"'Total NF'!BP46-Govt!BP46","v":2361.9},{"$f":"'Total NF'!BQ46-Govt!BQ46","v":2363.1999999999998},{"$f":"'Total NF'!BR46-Govt!BR46","v":2369.9},{"$f":"'Total NF'!BS46-Govt!BS46","v":2379.4},{"$f":"'Total NF'!BT46-Govt!BT46","v":2381.8000000000002},{"$f":"'Total NF'!BU46-Govt!BU46","v":2382.3000000000002},{"$f":"'Total NF'!BV46-Govt!BV46","v":2392.6},{"$f":"'Total NF'!BW46-Govt!BW46","v":2400.8000000000002},{"$f":"'Total NF'!BX46-Govt!BX46","v":2405.6000000000004},{"$f":"'Total NF'!BY46-Govt!BY46","v":2412.7999999999997},{"$f":"'Total NF'!BZ46-Govt!BZ46","v":2415},{"$f":"'Total NF'!CA46-Govt!CA46","v":2424},{"$f":"'Total NF'!CB46-Govt!CB46","v":2433.6000000000004},{"$f":"'Total NF'!CC46-Govt!CC46","v":2437.1999999999998},{"$f":"'Total NF'!CD46-Govt!CD46","v":2435.4},{"$f":"'Total NF'!CE46-Govt!CE46","v":2445.7999999999997},{"$f":"'Total NF'!CF46-Govt!CF46","v":2456.4},{"$f":"'Total NF'!CG46-Govt!CG46","v":2463.2000000000003},{"$f":"'Total NF'!CH46-Govt!CH46","v":2474.6999999999998},{"$f":"'Total NF'!CI46-Govt!CI46","v":2478.8000000000002},{"$f":"'Total NF'!CJ46-Govt!CJ46","v":2484.2000000000003},{"$f":"'Total NF'!CK46-Govt!CK46","v":2491.3000000000002},{"$f":"'Total NF'!CL46-Govt!CL46","v":2500.1},{"$f":"'Total NF'!CM46-Govt!CM46","v":2513.6},{"$f":"'Total NF'!CN46-Govt!CN46","v":2511},{"$f":"'Total NF'!CO46-Govt!CO46","v":2518.7000000000003},{"$f":"'Total NF'!CP46-Govt!CP46","v":2521.1999999999998},{"$f":"'Total NF'!CQ46-Govt!CQ46","v":2527},{"$f":"'Total NF'!CR46-Govt!CR46","v":2527.5},{"$f":"'Total NF'!CS46-Govt!CS46","v":2534.4},{"$f":"'Total NF'!CT46-Govt!CT46","v":2544.7000000000003},{"$f":"'Total NF'!CU46-Govt!CU46","v":2547.9},{"$f":"'Total NF'!CV46-Govt!CV46","v":2554.9},{"$f":"'Total NF'!CW46-Govt!CW46","v":2556.9},{"$f":"'Total NF'!CX46-Govt!CX46","v":2561.6999999999998},{"$f":"'Total NF'!CY46-Govt!CY46","v":2565.7999999999997},{"$f":"'Total NF'!CZ46-Govt!CZ46","v":2570.1},{"$f":"'Total NF'!DA46-Govt!DA46","v":2576.1999999999998},{"$f":"'Total NF'!DB46-Govt!DB46","v":2581.5},{"$f":"'Total NF'!DC46-Govt!DC46","v":2581.9},{"$f":"'Total NF'!DD46-Govt!DD46","v":2579.2000000000003},{"$f":"'Total NF'!DE46-Govt!DE46","v":2582.6999999999998},{"$f":"'Total NF'!DF46-Govt!DF46","v":2585.1},{"$f":"'Total NF'!DG46-Govt!DG46","v":2592.6000000000004},{"$f":"'Total NF'!DH46-Govt!DH46","v":2591.8999999999996},{"$f":"'Total NF'!DI46-Govt!DI46","v":2588.9},{"$f":"'Total NF'!DJ46-Govt!DJ46","v":2593.4},4.5,1.7381899648499363E-3,14,21,31.700000000000273,1.23745949955109E-2,22,33,27.600000000000364,1.0756878946137799E-2,23,32,420.90000000000009,0.19373993095512088,13,13]
["Texas","SMS48000004000000001",{"$f":"'Total NF'!C47-Govt!C47","v":8716.9},{"$f":"'Total NF'!D47-Govt!D47","v":8662.6999999999989},{"$f":"'Total NF'!E47-Govt!E47","v":8595.7999999999993},{"$f":"'Total NF'!F47-Govt!F47","v":8512.9},{"$f":"'Total NF'!G47-Govt!G47","v":8497.7000000000007},{"$f":"'Total NF'!H47-Govt!H47","v":8465.6},{"$f":"'Total NF'!I47-Govt!I47","v":8433.1},{"$f":"'Total NF'!J47-Govt!J47","v":8412.9},{"$f":"'Total NF'!K47-Govt!K47","v":8403.7000000000007},{"$f":"'Total NF'!L47-Govt!L47","v":8380.1999999999989},{"$f":"'Total NF'!M47-Govt!M47","v":8379.3000000000011},{"$f":"'Total NF'!N47-Govt!N47","v":8372.8000000000011},null,{"$f":"'Total NF'!P47-Govt!P47","v":8395.3000000000011},{"$f":"'Total NF'!Q47-Govt!Q47","v":8401.1},{"$f":"'Total NF'!R47-Govt!R47","v":8422.5999999999985},{"$f":"'Total NF'!S47-Govt!S47","v":8426.4},{"$f":"'Total NF'!T47-Govt!T47","v":8457},{"$f":"'Total NF'!U47-Govt!U47","v":8471.6},{"$f":"'Total NF'!V47-Govt!V47","v":8478.9},{"$f":"'Total NF'!W47-Govt!W47","v":8496.0999999999985},{"$f":"'Total NF'!X47-Govt!X47","v":8506.5},{"$f":"'Total NF'!Y47-Govt!Y47","v":8550.7000000000007},{"$f":"'Total NF'!Z47-Govt!Z47","v":8561.6999999999989},{"$f":"'Total NF'!AA47-Govt!AA47","v":8584.6},null,{"$f":"'Total NF'!AC47-Govt!AC47","v":8601},{"$f":"'Total NF'!AD47-Govt!AD47","v":8614.2000000000007},{"$f":"'Total NF'!AE47-Govt!AE47","v":8653.6},{"$f":"'Total NF'!AF47-Govt!AF47","v":8688.3000000000011},{"$f":"'Total NF'!AG47-Govt!AG47","v":8705.5},{"$f":"'Total NF'!AH47-Govt!AH47","v":8724.7999999999993},{"$f":"'Total NF'!AI47-Govt!AI47","v":8770.4},{"$f":"'Total NF'!AJ47-Govt!AJ47","v":8793.9},{"$f":"'Total NF'!AK47-Govt!AK47","v":8823.2000000000007},{"$f":"'Total NF'!AL47-Govt!AL47","v":8832.5},{"$f":"'Total NF'!AM47-Govt!AM47","v":8861.5},{"$f":"'Total NF'!AN47-Govt!AN47","v":8884.5},null,{"$f":"'Total NF'!AP47-Govt!AP47","v":8926.4},{"$f":"'Total NF'!AQ47-Govt!AQ47","v":8946.1},{"$f":"'Total NF'!AR47-Govt!AR47","v":8981.9},{"$f":"'Total NF'!AS47-Govt!AS47","v":9016.2000000000007},{"$f":"'Total NF'!AT47-Govt!AT47","v":9042.7000000000007},{"$f":"'Total NF'!AU47-Govt!AU47","v":9071.6},{"$f":"'Total NF'!AV47-Govt!AV47","v":9084.4},{"$f":"'Total NF'!AW47-Govt!AW47","v":9121.3000000000011},{"$f":"'Total NF'!AX47-Govt!AX47","v":9152.6},{"$f":"'Total NF'!AY47-Govt!AY47","v":9177.4},{"$f":"'Total NF'!AZ47-Govt!AZ47","v":9212.5999999999985},{"$f":"'Total NF'!BA47-Govt!BA47","v":9226.9},null,{"$f":"'Total NF'!BC47-Govt!BC47","v":9240.2999999999993},{"$f":"'Total NF'!BD47-Govt!BD47","v":9290.5999999999985},{"$f":"'Total NF'!BE47-Govt!BE47","v":9304.3000000000011},{"$f":"'Total NF'!BF47-Govt!BF47","v":9325.2000000000007},{"$f":"'Total NF'!BG47-Govt!BG47","v":9343.9000000000015},{"$f":"'Total NF'!BH47-Govt!BH47","v":9371.2999999999993},{"$f":"'Total NF'!BI47-Govt!BI47","v":9391},{"$f":"'Total NF'!BJ47-Govt!BJ47","v":9413.8000000000011},{"$f":"'Total NF'!BK47-Govt!BK47","v":9441.2000000000007},{"$f":"'Total NF'!BL47-Govt!BL47","v":9467.2000000000007},{"$f":"'Total NF'!BM47-Govt!BM47","v":9478.2999999999993},{"$f":"'Total NF'!BN47-Govt!BN47","v":9500.5},{"$f":"'Total NF'!BO47-Govt!BO47","v":0},{"$f":"'Total NF'!BP47-Govt!BP47","v":9557.6},{"$f":"'Total NF'!BQ47-Govt!BQ47","v":9592.6999999999989},{"$f":"'Total NF'!BR47-Govt!BR47","v":9605.5},{"$f":"'Total NF'!BS47-Govt!BS47","v":9646},{"$f":"'Total NF'!BT47-Govt!BT47","v":9678.5},{"$f":"'Total NF'!BU47-Govt!BU47","v":9703.4000000000015},{"$f":"'Total NF'!BV47-Govt!BV47","v":9737.1999999999989},{"$f":"'Total NF'!BW47-Govt!BW47","v":9761.0999999999985},{"$f":"'Total NF'!BX47-Govt!BX47","v":9790.2000000000007},{"$f":"'Total NF'!BY47-Govt!BY47","v":9832},{"$f":"'Total NF'!BZ47-Govt!BZ47","v":9867},{"$f":"'Total NF'!CA47-Govt!CA47","v":9908.2000000000007},{"$f":"'Total NF'!CB47-Govt!CB47","v":9935.8000000000011},{"$f":"'Total NF'!CC47-Govt!CC47","v":9951},{"$f":"'Total NF'!CD47-Govt!CD47","v":9930.5},{"$f":"'Total NF'!CE47-Govt!CE47","v":9936.4},{"$f":"'Total NF'!CF47-Govt!CF47","v":9950.1999999999989},{"$f":"'Total NF'!CG47-Govt!CG47","v":9967.9000000000015},{"$f":"'Total NF'!CH47-Govt!CH47","v":9991.9},{"$f":"'Total NF'!CI47-Govt!CI47","v":10004},{"$f":"'Total NF'!CJ47-Govt!CJ47","v":10015.9},{"$f":"'Total NF'!CK47-Govt!CK47","v":10031.9},{"$f":"'Total NF'!CL47-Govt!CL47","v":10052.299999999999},{"$f":"'Total NF'!CM47-Govt!CM47","v":10064.1},{"$f":"'Total NF'!CN47-Govt!CN47","v":10060.199999999999},{"$f":"'Total NF'!CO47-Govt!CO47","v":10070.4},{"$f":"'Total NF'!CP47-Govt!CP47","v":10057.6},{"$f":"'Total NF'!CQ47-Govt!CQ47","v":10074.300000000001},{"$f":"'Total NF'!CR47-Govt!CR47","v":10075.1},{"$f":"'Total NF'!CS47-Govt!CS47","v":10063.200000000001},{"$f":"'Total NF'!CT47-Govt!CT47","v":10102},{"$f":"'Total NF'!CU47-Govt!CU47","v":10103.9},{"$f":"'Total NF'!CV47-Govt!CV47","v":10130.700000000001},{"$f":"'Total NF'!CW47-Govt!CW47","v":10144.599999999999},{"$f":"'Total NF'!CX47-Govt!CX47","v":10177.1},{"$f":"'Total NF'!CY47-Govt!CY47","v":10197.4},{"$f":"'Total NF'!CZ47-Govt!CZ47","v":10247.299999999999},{"$f":"'Total NF'!DA47-Govt!DA47","v":10261.1},{"$f":"'Total NF'!DB47-Govt!DB47","v":10270.700000000001},{"$f":"'Total NF'!DC47-Govt!DC47","v":10297.200000000001},{"$f":"'Total NF'!DD47-Govt!DD47","v":10312.9},{"$f":"'Total NF'!DE47-Govt!DE47","v":10347.5},{"$f":"'Total NF'!DF47-Govt!DF47","v":10370.299999999999},{"$f":"'Total NF'!DG47-Govt!DG47","v":10369.199999999999},{"$f":"'Total NF'!DH47-Govt!DH47","v":10359.799999999999},{"$f":"'Total NF'!DI47-Govt!DI47","v":10419.700000000001},{"$f":"'Total NF'!DJ47-Govt!DJ47","v":10471.700000000001},52,4.9905467527855884E-3,1,2,294.60000000000036,2.8947342563205664E-2,1,2,274.30000000000109,2.6899013474022897E-2,1,2,2038.6000000000004,0.24173791369721695,2,3]
["Utah","SMS49000004000000001",{"$f":"'Total NF'!C48-Govt!C48","v":1005.0999999999999},{"$f":"'Total NF'!D48-Govt!D48","v":997},{"$f":"'Total NF'!E48-Govt!E48","v":989.30000000000007},{"$f":"'Total NF'!F48-Govt!F48","v":976.59999999999991},{"$f":"'Total NF'!G48-Govt!G48","v":975.2},{"$f":"'Total NF'!H48-Govt!H48","v":971.80000000000007},{"$f":"'Total NF'!I48-Govt!I48","v":967.1},{"$f":"'Total NF'!J48-Govt!J48","v":964.30000000000007},{"$f":"'Total NF'!K48-Govt!K48","v":963.19999999999993},{"$f":"'Total NF'!L48-Govt!L48","v":961.8},{"$f":"'Total NF'!M48-Govt!M48","v":960.4},{"$f":"'Total NF'!N48-Govt!N48","v":958.6},null,{"$f":"'Total NF'!P48-Govt!P48","v":958.7},{"$f":"'Total NF'!Q48-Govt!Q48","v":957.50000000000011},{"$f":"'Total NF'!R48-Govt!R48","v":959.5},{"$f":"'Total NF'!S48-Govt!S48","v":962.5},{"$f":"'Total NF'!T48-Govt!T48","v":962.8},{"$f":"'Total NF'!U48-Govt!U48","v":964.80000000000007},{"$f":"'Total NF'!V48-Govt!V48","v":966.99999999999989},{"$f":"'Total NF'!W48-Govt!W48","v":966.10000000000014},{"$f":"'Total NF'!X48-Govt!X48","v":966.5},{"$f":"'Total NF'!Y48-Govt!Y48","v":969.9},{"$f":"'Total NF'!Z48-Govt!Z48","v":970.90000000000009},{"$f":"'Total NF'!AA48-Govt!AA48","v":973.19999999999993},null,{"$f":"'Total NF'!AC48-Govt!AC48","v":974.6},{"$f":"'Total NF'!AD48-Govt!AD48","v":976.50000000000011},{"$f":"'Total NF'!AE48-Govt!AE48","v":977.40000000000009},{"$f":"'Total NF'!AF48-Govt!AF48","v":980.99999999999989},{"$f":"'Total NF'!AG48-Govt!AG48","v":981.6},{"$f":"'Total NF'!AH48-Govt!AH48","v":983.89999999999986},{"$f":"'Total NF'!AI48-Govt!AI48","v":989.69999999999993},{"$f":"'Total NF'!AJ48-Govt!AJ48","v":991.90000000000009},{"$f":"'Total NF'!AK48-Govt!AK48","v":995.40000000000009},{"$f":"'Total NF'!AL48-Govt!AL48","v":997.40000000000009},{"$f":"'Total NF'!AM48-Govt!AM48","v":999.2},{"$f":"'Total NF'!AN48-Govt!AN48","v":1002.9},null,{"$f":"'Total NF'!AP48-Govt!AP48","v":1006.8000000000001},{"$f":"'Total NF'!AQ48-Govt!AQ48","v":1009.6},{"$f":"'Total NF'!AR48-Govt!AR48","v":1013.7},{"$f":"'Total NF'!AS48-Govt!AS48","v":1019.6},{"$f":"'Total NF'!AT48-Govt!AT48","v":1026.2},{"$f":"'Total NF'!AU48-Govt!AU48","v":1028},{"$f":"'Total NF'!AV48-Govt!AV48","v":1026.1000000000001},{"$f":"'Total NF'!AW48-Govt!AW48","v":1030.3},{"$f":"'Total NF'!AX48-Govt!AX48","v":1034.1999999999998},{"$f":"'Total NF'!AY48-Govt!AY48","v":1038.6999999999998},{"$f":"'Total NF'!AZ48-Govt!AZ48","v":1042.5},{"$f":"'Total NF'!BA48-Govt!BA48","v":1044.5999999999999},null,{"$f":"'Total NF'!BC48-Govt!BC48","v":1050.8999999999999},{"$f":"'Total NF'!BD48-Govt!BD48","v":1054.5},{"$f":"'Total NF'!BE48-Govt!BE48","v":1058},{"$f":"'Total NF'!BF48-Govt!BF48","v":1059},{"$f":"'Total NF'!BG48-Govt!BG48","v":1061},{"$f":"'Total NF'!BH48-Govt!BH48","v":1062.0999999999999},{"$f":"'Total NF'!BI48-Govt!BI48","v":1064.8999999999999},{"$f":"'Total NF'!BJ48-Govt!BJ48","v":1066.3},{"$f":"'Total NF'!BK48-Govt!BK48","v":1067.8},{"$f":"'Total NF'!BL48-Govt!BL48","v":1074},{"$f":"'Total NF'!BM48-Govt!BM48","v":1076.4000000000001},{"$f":"'Total NF'!BN48-Govt!BN48","v":1076.5999999999999},{"$f":"'Total NF'!BO48-Govt!BO48","v":0},{"$f":"'Total NF'!BP48-Govt!BP48","v":1083.3},{"$f":"'Total NF'!BQ48-Govt!BQ48","v":1086.0999999999999},{"$f":"'Total NF'!BR48-Govt!BR48","v":1088.7},{"$f":"'Total NF'!BS48-Govt!BS48","v":1087.7},{"$f":"'Total NF'!BT48-Govt!BT48","v":1091.6000000000001},{"$f":"'Total NF'!BU48-Govt!BU48","v":1094.3},{"$f":"'Total NF'!BV48-Govt!BV48","v":1096.0999999999999},{"$f":"'Total NF'!BW48-Govt!BW48","v":1101.5},{"$f":"'Total NF'!BX48-Govt!BX48","v":1105.2},{"$f":"'Total NF'!BY48-Govt!BY48","v":1110.7},{"$f":"'Total NF'!BZ48-Govt!BZ48","v":1114.5999999999999},{"$f":"'Total NF'!CA48-Govt!CA48","v":1123.5},{"$f":"'Total NF'!CB48-Govt!CB48","v":1125.3999999999999},{"$f":"'Total NF'!CC48-Govt!CC48","v":1129.7},{"$f":"'Total NF'!CD48-Govt!CD48","v":1133},{"$f":"'Total NF'!CE48-Govt!CE48","v":1134.0999999999999},{"$f":"'Total NF'!CF48-Govt!CF48","v":1138.0999999999999},{"$f":"'Total NF'!CG48-Govt!CG48","v":1142.3},{"$f":"'Total NF'!CH48-Govt!CH48","v":1147.5999999999999},{"$f":"'Total NF'!CI48-Govt!CI48","v":1150.6999999999998},{"$f":"'Total NF'!CJ48-Govt!CJ48","v":1153.9000000000001},{"$f":"'Total NF'!CK48-Govt!CK48","v":1155.6000000000001},{"$f":"'Total NF'!CL48-Govt!CL48","v":1158.3999999999999},{"$f":"'Total NF'!CM48-Govt!CM48","v":1162.3999999999999},{"$f":"'Total NF'!CN48-Govt!CN48","v":1170.3999999999999},{"$f":"'Total NF'!CO48-Govt!CO48","v":1175.4000000000001},{"$f":"'Total NF'!CP48-Govt!CP48","v":1178.8},{"$f":"'Total NF'!CQ48-Govt!CQ48","v":1182.4000000000001},{"$f":"'Total NF'!CR48-Govt!CR48","v":1184.3999999999999},{"$f":"'Total NF'!CS48-Govt!CS48","v":1186.9000000000001},{"$f":"'Total NF'!CT48-Govt!CT48","v":1193.5},{"$f":"'Total NF'!CU48-Govt!CU48","v":1195.9000000000001},{"$f":"'Total NF'!CV48-Govt!CV48","v":1199.2},{"$f":"'Total NF'!CW48-Govt!CW48","v":1202.3},{"$f":"'Total NF'!CX48-Govt!CX48","v":1206.2},{"$f":"'Total NF'!CY48-Govt!CY48","v":1208.7},{"$f":"'Total NF'!CZ48-Govt!CZ48","v":1211.8},{"$f":"'Total NF'!DA48-Govt!DA48","v":1215.5},{"$f":"'Total NF'!DB48-Govt!DB48","v":1217.8},{"$f":"'Total NF'!DC48-Govt!DC48","v":1221.7},{"$f":"'Total NF'!DD48-Govt!DD48","v":1225.6000000000001},{"$f":"'Total NF'!DE48-Govt!DE48","v":1226.6000000000001},{"$f":"'Total NF'!DF48-Govt!DF48","v":1225.3000000000002},{"$f":"'Total NF'!DG48-Govt!DG48","v":1230.2},{"$f":"'Total NF'!DH48-Govt!DH48","v":1234.9000000000001},{"$f":"'Total NF'!DI48-Govt!DI48","v":1237.5},{"$f":"'Total NF'!DJ48-Govt!DJ48","v":1242.5999999999999},5.0999999999999091,4.1212121212120473E-3,12,5,36.399999999999864,3.017741668048405E-2,18,1,33.899999999999864,2.8046661702655632E-2,17,1,275.49999999999989,0.28487229862475427,21,1]
["Vermont","SMS50000004000000001",{"$f":"'Total NF'!C49-Govt!C49","v":247.09999999999997},{"$f":"'Total NF'!D49-Govt!D49","v":246.2},{"$f":"'Total NF'!E49-Govt!E49","v":244.8},{"$f":"'Total NF'!F49-Govt!F49","v":242},{"$f":"'Total NF'!G49-Govt!G49","v":243},{"$f":"'Total NF'!H49-Govt!H49","v":241.89999999999998},{"$f":"'Total NF'!I49-Govt!I49","v":240.59999999999997},{"$f":"'Total NF'!J49-Govt!J49","v":241.8},{"$f":"'Total NF'!K49-Govt!K49","v":241},{"$f":"'Total NF'!L49-Govt!L49","v":241.00000000000003},{"$f":"'Total NF'!M49-Govt!M49","v":241.39999999999998},{"$f":"'Total NF'!N49-Govt!N49","v":241.29999999999998},null,{"$f":"'Total NF'!P49-Govt!P49","v":241.4},{"$f":"'Total NF'!Q49-Govt!Q49","v":241.39999999999998},{"$f":"'Total NF'!R49-Govt!R49","v":241.3},{"$f":"'Total NF'!S49-Govt!S49","v":243.7},{"$f":"'Total NF'!T49-Govt!T49","v":241.89999999999998},{"$f":"'Total NF'!U49-Govt!U49","v":241.7},{"$f":"'Total NF'!V49-Govt!V49","v":244.70000000000002},{"$f":"'Total NF'!W49-Govt!W49","v":243.4},{"$f":"'Total NF'!X49-Govt!X49","v":244},{"$f":"'Total NF'!Y49-Govt!Y49","v":246.10000000000002},{"$f":"'Total NF'!Z49-Govt!Z49","v":244.70000000000002},{"$f":"'Total NF'!AA49-Govt!AA49","v":244.2},null,{"$f":"'Total NF'!AC49-Govt!AC49","v":244.59999999999997},{"$f":"'Total NF'!AD49-Govt!AD49","v":245.10000000000002},{"$f":"'Total NF'!AE49-Govt!AE49","v":245.1},{"$f":"'Total NF'!AF49-Govt!AF49","v":244.3},{"$f":"'Total NF'!AG49-Govt!AG49","v":244.7},{"$f":"'Total NF'!AH49-Govt!AH49","v":245},{"$f":"'Total NF'!AI49-Govt!AI49","v":245.7},{"$f":"'Total NF'!AJ49-Govt!AJ49","v":246.5},{"$f":"'Total NF'!AK49-Govt!AK49","v":247.10000000000002},{"$f":"'Total NF'!AL49-Govt!AL49","v":247.4},{"$f":"'Total NF'!AM49-Govt!AM49","v":247.60000000000002},{"$f":"'Total NF'!AN49-Govt!AN49","v":248.1},null,{"$f":"'Total NF'!AP49-Govt!AP49","v":248.3},{"$f":"'Total NF'!AQ49-Govt!AQ49","v":248.60000000000002},{"$f":"'Total NF'!AR49-Govt!AR49","v":249.29999999999998},{"$f":"'Total NF'!AS49-Govt!AS49","v":247.20000000000002},{"$f":"'Total NF'!AT49-Govt!AT49","v":249.49999999999997},{"$f":"'Total NF'!AU49-Govt!AU49","v":249.89999999999998},{"$f":"'Total NF'!AV49-Govt!AV49","v":250.2},{"$f":"'Total NF'!AW49-Govt!AW49","v":249.8},{"$f":"'Total NF'!AX49-Govt!AX49","v":250},{"$f":"'Total NF'!AY49-Govt!AY49","v":249},{"$f":"'Total NF'!AZ49-Govt!AZ49","v":249.60000000000002},{"$f":"'Total NF'!BA49-Govt!BA49","v":250.3},null,{"$f":"'Total NF'!BC49-Govt!BC49","v":250.5},{"$f":"'Total NF'!BD49-Govt!BD49","v":250.6},{"$f":"'Total NF'!BE49-Govt!BE49","v":251.3},{"$f":"'Total NF'!BF49-Govt!BF49","v":250.79999999999998},{"$f":"'Total NF'!BG49-Govt!BG49","v":250.99999999999997},{"$f":"'Total NF'!BH49-Govt!BH49","v":251.5},{"$f":"'Total NF'!BI49-Govt!BI49","v":250.5},{"$f":"'Total NF'!BJ49-Govt!BJ49","v":250.59999999999997},{"$f":"'Total NF'!BK49-Govt!BK49","v":250.60000000000002},{"$f":"'Total NF'!BL49-Govt!BL49","v":250.99999999999997},{"$f":"'Total NF'!BM49-Govt!BM49","v":252.70000000000002},{"$f":"'Total NF'!BN49-Govt!BN49","v":252.4},{"$f":"'Total NF'!BO49-Govt!BO49","v":0},{"$f":"'Total NF'!BP49-Govt!BP49","v":253.2},{"$f":"'Total NF'!BQ49-Govt!BQ49","v":252.70000000000002},{"$f":"'Total NF'!BR49-Govt!BR49","v":253.5},{"$f":"'Total NF'!BS49-Govt!BS49","v":252.8},{"$f":"'Total NF'!BT49-Govt!BT49","v":253.59999999999997},{"$f":"'Total NF'!BU49-Govt!BU49","v":254.1},{"$f":"'Total NF'!BV49-Govt!BV49","v":253.5},{"$f":"'Total NF'!BW49-Govt!BW49","v":253.89999999999998},{"$f":"'Total NF'!BX49-Govt!BX49","v":253.89999999999998},{"$f":"'Total NF'!BY49-Govt!BY49","v":254.70000000000002},{"$f":"'Total NF'!BZ49-Govt!BZ49","v":256.7},{"$f":"'Total NF'!CA49-Govt!CA49","v":255.7},{"$f":"'Total NF'!CB49-Govt!CB49","v":256},{"$f":"'Total NF'!CC49-Govt!CC49","v":255.39999999999998},{"$f":"'Total NF'!CD49-Govt!CD49","v":255.79999999999998},{"$f":"'Total NF'!CE49-Govt!CE49","v":255.39999999999998},{"$f":"'Total NF'!CF49-Govt!CF49","v":256.3},{"$f":"'Total NF'!CG49-Govt!CG49","v":256},{"$f":"'Total NF'!CH49-Govt!CH49","v":255.9},{"$f":"'Total NF'!CI49-Govt!CI49","v":255.79999999999998},{"$f":"'Total NF'!CJ49-Govt!CJ49","v":255.8},{"$f":"'Total NF'!CK49-Govt!CK49","v":257.5},{"$f":"'Total NF'!CL49-Govt!CL49","v":258.40000000000003},{"$f":"'Total NF'!CM49-Govt!CM49","v":257.60000000000002},{"$f":"'Total NF'!CN49-Govt!CN49","v":256.8},{"$f":"'Total NF'!CO49-Govt!CO49","v":256.89999999999998},{"$f":"'Total NF'!CP49-Govt!CP49","v":256.2},{"$f":"'Total NF'!CQ49-Govt!CQ49","v":256.2},{"$f":"'Total NF'!CR49-Govt!CR49","v":257},{"$f":"'Total NF'!CS49-Govt!CS49","v":256.90000000000003},{"$f":"'Total NF'!CT49-Govt!CT49","v":258.29999999999995},{"$f":"'Total NF'!CU49-Govt!CU49","v":257.90000000000003},{"$f":"'Total NF'!CV49-Govt!CV49","v":258.2},{"$f":"'Total NF'!CW49-Govt!CW49","v":258.39999999999998},{"$f":"'Total NF'!CX49-Govt!CX49","v":257.20000000000005},{"$f":"'Total NF'!CY49-Govt!CY49","v":258.2},{"$f":"'Total NF'!CZ49-Govt!CZ49","v":260.2},{"$f":"'Total NF'!DA49-Govt!DA49","v":260},{"$f":"'Total NF'!DB49-Govt!DB49","v":258.89999999999998},{"$f":"'Total NF'!DC49-Govt!DC49","v":259.39999999999998},{"$f":"'Total NF'!DD49-Govt!DD49","v":258.09999999999997},{"$f":"'Total NF'!DE49-Govt!DE49","v":259},{"$f":"'Total NF'!DF49-Govt!DF49","v":260.70000000000005},{"$f":"'Total NF'!DG49-Govt!DG49","v":260.3},{"$f":"'Total NF'!DH49-Govt!DH49","v":260.90000000000003},{"$f":"'Total NF'!DI49-Govt!DI49","v":261.2},{"$f":"'Total NF'!DJ49-Govt!DJ49","v":262.10000000000002},0.90000000000003411,3.4456355283309118E-3,30,6,4.8999999999999773,1.9051321928460249E-2,40,15,3.9000000000000341,1.5104570100697266E-2,40,23,21.500000000000057,8.9359933499584626E-2,47,40]
["Virginia","SMS51000004000000001",{"$f":"'Total NF'!C50-Govt!C50","v":3011.2},{"$f":"'Total NF'!D50-Govt!D50","v":2992.9},{"$f":"'Total NF'!E50-Govt!E50","v":2975},{"$f":"'Total NF'!F50-Govt!F50","v":2953.3},{"$f":"'Total NF'!G50-Govt!G50","v":2957.8999999999996},{"$f":"'Total NF'!H50-Govt!H50","v":2952.1000000000004},{"$f":"'Total NF'!I50-Govt!I50","v":2940.7},{"$f":"'Total NF'!J50-Govt!J50","v":2935.2000000000003},{"$f":"'Total NF'!K50-Govt!K50","v":2929.6},{"$f":"'Total NF'!L50-Govt!L50","v":2927.3},{"$f":"'Total NF'!M50-Govt!M50","v":2926.8999999999996},{"$f":"'Total NF'!N50-Govt!N50","v":2925.4},null,{"$f":"'Total NF'!P50-Govt!P50","v":2920},{"$f":"'Total NF'!Q50-Govt!Q50","v":2900.2},{"$f":"'Total NF'!R50-Govt!R50","v":2917.5},{"$f":"'Total NF'!S50-Govt!S50","v":2936.9},{"$f":"'Total NF'!T50-Govt!T50","v":2947.1000000000004},{"$f":"'Total NF'!U50-Govt!U50","v":2949.4},{"$f":"'Total NF'!V50-Govt!V50","v":2956.5},{"$f":"'Total NF'!W50-Govt!W50","v":2955.2},{"$f":"'Total NF'!X50-Govt!X50","v":2952.8},{"$f":"'Total NF'!Y50-Govt!Y50","v":2964.2},{"$f":"'Total NF'!Z50-Govt!Z50","v":2964.5},{"$f":"'Total NF'!AA50-Govt!AA50","v":2965},null,{"$f":"'Total NF'!AC50-Govt!AC50","v":2966.9},{"$f":"'Total NF'!AD50-Govt!AD50","v":2971.3},{"$f":"'Total NF'!AE50-Govt!AE50","v":2974.4},{"$f":"'Total NF'!AF50-Govt!AF50","v":2978.2000000000003},{"$f":"'Total NF'!AG50-Govt!AG50","v":2975.6},{"$f":"'Total NF'!AH50-Govt!AH50","v":2977},{"$f":"'Total NF'!AI50-Govt!AI50","v":2993.2},{"$f":"'Total NF'!AJ50-Govt!AJ50","v":2990.2},{"$f":"'Total NF'!AK50-Govt!AK50","v":2998.4},{"$f":"'Total NF'!AL50-Govt!AL50","v":2994.1},{"$f":"'Total NF'!AM50-Govt!AM50","v":3000.3},{"$f":"'Total NF'!AN50-Govt!AN50","v":2993.9},null,{"$f":"'Total NF'!AP50-Govt!AP50","v":3010.3},{"$f":"'Total NF'!AQ50-Govt!AQ50","v":3016.2999999999997},{"$f":"'Total NF'!AR50-Govt!AR50","v":3020},{"$f":"'Total NF'!AS50-Govt!AS50","v":3021.4},{"$f":"'Total NF'!AT50-Govt!AT50","v":3015.3},{"$f":"'Total NF'!AU50-Govt!AU50","v":3017.8},{"$f":"'Total NF'!AV50-Govt!AV50","v":3022.5},{"$f":"'Total NF'!AW50-Govt!AW50","v":3029.3999999999996},{"$f":"'Total NF'!AX50-Govt!AX50","v":3033.9},{"$f":"'Total NF'!AY50-Govt!AY50","v":3044},{"$f":"'Total NF'!AZ50-Govt!AZ50","v":3048.7},{"$f":"'Total NF'!BA50-Govt!BA50","v":3045.8999999999996},null,{"$f":"'Total NF'!BC50-Govt!BC50","v":3051.8},{"$f":"'Total NF'!BD50-Govt!BD50","v":3058.5},{"$f":"'Total NF'!BE50-Govt!BE50","v":3055.2},{"$f":"'Total NF'!BF50-Govt!BF50","v":3058.3},{"$f":"'Total NF'!BG50-Govt!BG50","v":3053.2},{"$f":"'Total NF'!BH50-Govt!BH50","v":3051.7},{"$f":"'Total NF'!BI50-Govt!BI50","v":3054.2},{"$f":"'Total NF'!BJ50-Govt!BJ50","v":3057.4},{"$f":"'Total NF'!BK50-Govt!BK50","v":3055.7000000000003},{"$f":"'Total NF'!BL50-Govt!BL50","v":3053.5},{"$f":"'Total NF'!BM50-Govt!BM50","v":3059.2999999999997},{"$f":"'Total NF'!BN50-Govt!BN50","v":3058.4},{"$f":"'Total NF'!BO50-Govt!BO50","v":0},{"$f":"'Total NF'!BP50-Govt!BP50","v":3054.8999999999996},{"$f":"'Total NF'!BQ50-Govt!BQ50","v":3051},{"$f":"'Total NF'!BR50-Govt!BR50","v":3054},{"$f":"'Total NF'!BS50-Govt!BS50","v":3066},{"$f":"'Total NF'!BT50-Govt!BT50","v":3072.7999999999997},{"$f":"'Total NF'!BU50-Govt!BU50","v":3070.2},{"$f":"'Total NF'!BV50-Govt!BV50","v":3069.3},{"$f":"'Total NF'!BW50-Govt!BW50","v":3069.7000000000003},{"$f":"'Total NF'!BX50-Govt!BX50","v":3070.1},{"$f":"'Total NF'!BY50-Govt!BY50","v":3071.4},{"$f":"'Total NF'!BZ50-Govt!BZ50","v":3088.5},{"$f":"'Total NF'!CA50-Govt!CA50","v":3089.2},{"$f":"'Total NF'!CB50-Govt!CB50","v":3105},{"$f":"'Total NF'!CC50-Govt!CC50","v":3106.1000000000004},{"$f":"'Total NF'!CD50-Govt!CD50","v":3103.6},{"$f":"'Total NF'!CE50-Govt!CE50","v":3112.3999999999996},{"$f":"'Total NF'!CF50-Govt!CF50","v":3122.1},{"$f":"'Total NF'!CG50-Govt!CG50","v":3126.4},{"$f":"'Total NF'!CH50-Govt!CH50","v":3143.1},{"$f":"'Total NF'!CI50-Govt!CI50","v":3147.3999999999996},{"$f":"'Total NF'!CJ50-Govt!CJ50","v":3152.3999999999996},{"$f":"'Total NF'!CK50-Govt!CK50","v":3170.3},{"$f":"'Total NF'!CL50-Govt!CL50","v":3185.5},{"$f":"'Total NF'!CM50-Govt!CM50","v":3191.7},{"$f":"'Total NF'!CN50-Govt!CN50","v":3183.3999999999996},{"$f":"'Total NF'!CO50-Govt!CO50","v":3191.1},{"$f":"'Total NF'!CP50-Govt!CP50","v":3195.2},{"$f":"'Total NF'!CQ50-Govt!CQ50","v":3196},{"$f":"'Total NF'!CR50-Govt!CR50","v":3193.2},{"$f":"'Total NF'!CS50-Govt!CS50","v":3198.4},{"$f":"'Total NF'!CT50-Govt!CT50","v":3201.2},{"$f":"'Total NF'!CU50-Govt!CU50","v":3206.5},{"$f":"'Total NF'!CV50-Govt!CV50","v":3214.7999999999997},{"$f":"'Total NF'!CW50-Govt!CW50","v":3222.9},{"$f":"'Total NF'!CX50-Govt!CX50","v":3218.3},{"$f":"'Total NF'!CY50-Govt!CY50","v":3221.2000000000003},{"$f":"'Total NF'!CZ50-Govt!CZ50","v":3232.9},{"$f":"'Total NF'!DA50-Govt!DA50","v":3242.5},{"$f":"'Total NF'!DB50-Govt!DB50","v":3241.3},{"$f":"'Total NF'!DC50-Govt!DC50","v":3238.3},{"$f":"'Total NF'!DD50-Govt!DD50","v":3238},{"$f":"'Total NF'!DE50-Govt!DE50","v":3252.8999999999996},{"$f":"'Total NF'!DF50-Govt!DF50","v":3264.4},{"$f":"'Total NF'!DG50-Govt!DG50","v":3263.3},{"$f":"'Total NF'!DH50-Govt!DH50","v":3263.3},{"$f":"'Total NF'!DI50-Govt!DI50","v":3259},{"$f":"'Total NF'!DJ50-Govt!DJ50","v":3254.2},-4.8000000000001819,-1.4728444308070518E-3,50,41,35.899999999999636,1.1154957586303214E-2,19,35,32.999999999999545,1.0244629330684075E-2,19,34,313.5,0.10660727037780121,17,30]
["Washington","SMS53000004000000001",{"$f":"'Total NF'!C51-Govt!C51","v":2386.3000000000002},{"$f":"'Total NF'!D51-Govt!D51","v":2368.6000000000004},{"$f":"'Total NF'!E51-Govt!E51","v":2345.4},{"$f":"'Total NF'!F51-Govt!F51","v":2318.3000000000002},{"$f":"'Total NF'!G51-Govt!G51","v":2316.6000000000004},{"$f":"'Total NF'!H51-Govt!H51","v":2310.1},{"$f":"'Total NF'!I51-Govt!I51","v":2299.6},{"$f":"'Total NF'!J51-Govt!J51","v":2293.8000000000002},{"$f":"'Total NF'!K51-Govt!K51","v":2289.5},{"$f":"'Total NF'!L51-Govt!L51","v":2283.1},{"$f":"'Total NF'!M51-Govt!M51","v":2278.2999999999997},{"$f":"'Total NF'!N51-Govt!N51","v":2277.6999999999998},null,{"$f":"'Total NF'!P51-Govt!P51","v":2276.7000000000003},{"$f":"'Total NF'!Q51-Govt!Q51","v":2275.3000000000002},{"$f":"'Total NF'!R51-Govt!R51","v":2278.6},{"$f":"'Total NF'!S51-Govt!S51","v":2282.1999999999998},{"$f":"'Total NF'!T51-Govt!T51","v":2282.3000000000002},{"$f":"'Total NF'!U51-Govt!U51","v":2284.1999999999998},{"$f":"'Total NF'!V51-Govt!V51","v":2285.9},{"$f":"'Total NF'!W51-Govt!W51","v":2285.5},{"$f":"'Total NF'!X51-Govt!X51","v":2288.1999999999998},{"$f":"'Total NF'!Y51-Govt!Y51","v":2299.5},{"$f":"'Total NF'!Z51-Govt!Z51","v":2300.6999999999998},{"$f":"'Total NF'!AA51-Govt!AA51","v":2303.8000000000002},null,{"$f":"'Total NF'!AC51-Govt!AC51","v":2310.7999999999997},{"$f":"'Total NF'!AD51-Govt!AD51","v":2313.2000000000003},{"$f":"'Total NF'!AE51-Govt!AE51","v":2312.6000000000004},{"$f":"'Total NF'!AF51-Govt!AF51","v":2323.3000000000002},{"$f":"'Total NF'!AG51-Govt!AG51","v":2323.6},{"$f":"'Total NF'!AH51-Govt!AH51","v":2325.4},{"$f":"'Total NF'!AI51-Govt!AI51","v":2335.6},{"$f":"'Total NF'!AJ51-Govt!AJ51","v":2338.5},{"$f":"'Total NF'!AK51-Govt!AK51","v":2342.4},{"$f":"'Total NF'!AL51-Govt!AL51","v":2339.8000000000002},{"$f":"'Total NF'!AM51-Govt!AM51","v":2345.8000000000002},{"$f":"'Total NF'!AN51-Govt!AN51","v":2347.5},null,{"$f":"'Total NF'!AP51-Govt!AP51","v":2351.1999999999998},{"$f":"'Total NF'!AQ51-Govt!AQ51","v":2355},{"$f":"'Total NF'!AR51-Govt!AR51","v":2362.6},{"$f":"'Total NF'!AS51-Govt!AS51","v":2367.8000000000002},{"$f":"'Total NF'!AT51-Govt!AT51","v":2374.1999999999998},{"$f":"'Total NF'!AU51-Govt!AU51","v":2380.8999999999996},{"$f":"'Total NF'!AV51-Govt!AV51","v":2382.6},{"$f":"'Total NF'!AW51-Govt!AW51","v":2387.4},{"$f":"'Total NF'!AX51-Govt!AX51","v":2389.6999999999998},{"$f":"'Total NF'!AY51-Govt!AY51","v":2399},{"$f":"'Total NF'!AZ51-Govt!AZ51","v":2404.6},{"$f":"'Total NF'!BA51-Govt!BA51","v":2410.7000000000003},null,{"$f":"'Total NF'!BC51-Govt!BC51","v":2419},{"$f":"'Total NF'!BD51-Govt!BD51","v":2425.1},{"$f":"'Total NF'!BE51-Govt!BE51","v":2427.6},{"$f":"'Total NF'!BF51-Govt!BF51","v":2432.1000000000004},{"$f":"'Total NF'!BG51-Govt!BG51","v":2438.6999999999998},{"$f":"'Total NF'!BH51-Govt!BH51","v":2442},{"$f":"'Total NF'!BI51-Govt!BI51","v":2451.1999999999998},{"$f":"'Total NF'!BJ51-Govt!BJ51","v":2456},{"$f":"'Total NF'!BK51-Govt!BK51","v":2460.1},{"$f":"'Total NF'!BL51-Govt!BL51","v":2457.3999999999996},{"$f":"'Total NF'!BM51-Govt!BM51","v":2460.1},{"$f":"'Total NF'!BN51-Govt!BN51","v":2466.6000000000004},{"$f":"'Total NF'!BO51-Govt!BO51","v":0},{"$f":"'Total NF'!BP51-Govt!BP51","v":2495.2000000000003},{"$f":"'Total NF'!BQ51-Govt!BQ51","v":2497.3999999999996},{"$f":"'Total NF'!BR51-Govt!BR51","v":2502.1999999999998},{"$f":"'Total NF'!BS51-Govt!BS51","v":2504.3999999999996},{"$f":"'Total NF'!BT51-Govt!BT51","v":2508.3999999999996},{"$f":"'Total NF'!BU51-Govt!BU51","v":2516.6999999999998},{"$f":"'Total NF'!BV51-Govt!BV51","v":2528.9},{"$f":"'Total NF'!BW51-Govt!BW51","v":2535},{"$f":"'Total NF'!BX51-Govt!BX51","v":2539.7000000000003},{"$f":"'Total NF'!BY51-Govt!BY51","v":2549.1000000000004},{"$f":"'Total NF'!BZ51-Govt!BZ51","v":2559.1999999999998},{"$f":"'Total NF'!CA51-Govt!CA51","v":2565.6},{"$f":"'Total NF'!CB51-Govt!CB51","v":2559},{"$f":"'Total NF'!CC51-Govt!CC51","v":2566.1000000000004},{"$f":"'Total NF'!CD51-Govt!CD51","v":2573.3000000000002},{"$f":"'Total NF'!CE51-Govt!CE51","v":2577.3000000000002},{"$f":"'Total NF'!CF51-Govt!CF51","v":2584.8000000000002},{"$f":"'Total NF'!CG51-Govt!CG51","v":2593.6},{"$f":"'Total NF'!CH51-Govt!CH51","v":2592.5},{"$f":"'Total NF'!CI51-Govt!CI51","v":2598.6999999999998},{"$f":"'Total NF'!CJ51-Govt!CJ51","v":2601.5},{"$f":"'Total NF'!CK51-Govt!CK51","v":2610.5},{"$f":"'Total NF'!CL51-Govt!CL51","v":2622.6},{"$f":"'Total NF'!CM51-Govt!CM51","v":2628.5},{"$f":"'Total NF'!CN51-Govt!CN51","v":2627.4},{"$f":"'Total NF'!CO51-Govt!CO51","v":2639.1},{"$f":"'Total NF'!CP51-Govt!CP51","v":2645.1},{"$f":"'Total NF'!CQ51-Govt!CQ51","v":2657.3},{"$f":"'Total NF'!CR51-Govt!CR51","v":2663.8},{"$f":"'Total NF'!CS51-Govt!CS51","v":2667.8},{"$f":"'Total NF'!CT51-Govt!CT51","v":2673.8999999999996},{"$f":"'Total NF'!CU51-Govt!CU51","v":2682.5},{"$f":"'Total NF'!CV51-Govt!CV51","v":2688.2999999999997},{"$f":"'Total NF'!CW51-Govt!CW51","v":2696.7},{"$f":"'Total NF'!CX51-Govt!CX51","v":2704.8},{"$f":"'Total NF'!CY51-Govt!CY51","v":2711.2},{"$f":"'Total NF'!CZ51-Govt!CZ51","v":2710.4},{"$f":"'Total NF'!DA51-Govt!DA51","v":2714.8},{"$f":"'Total NF'!DB51-Govt!DB51","v":2726.3},{"$f":"'Total NF'!DC51-Govt!DC51","v":2727.1},{"$f":"'Total NF'!DD51-Govt!DD51","v":2730.5},{"$f":"'Total NF'!DE51-Govt!DE51","v":2732.3},{"$f":"'Total NF'!DF51-Govt!DF51","v":2730.6},{"$f":"'Total NF'!DG51-Govt!DG51","v":2738.2999999999997},{"$f":"'Total NF'!DH51-Govt!DH51","v":2745.4},{"$f":"'Total NF'!DI51-Govt!DI51","v":2752.4},{"$f":"'Total NF'!DJ51-Govt!DJ51","v":2765.5},13.099999999999909,4.7594826333381447E-3,5,4,60.699999999999818,2.244158532978402E-2,9,7,54.300000000000182,2.0028031867807682E-2,9,7,465.90000000000009,0.2026004522525657,9,10]
["West Virginia","SMS54000004000000001",{"$f":"'Total NF'!C52-Govt!C52","v":608.5},{"$f":"'Total NF'!D52-Govt!D52","v":605.90000000000009},{"$f":"'Total NF'!E52-Govt!E52","v":602.30000000000007},{"$f":"'Total NF'!F52-Govt!F52","v":597.59999999999991},{"$f":"'Total NF'!G52-Govt!G52","v":597.5},{"$f":"'Total NF'!H52-Govt!H52","v":594.79999999999995},{"$f":"'Total NF'!I52-Govt!I52","v":591.20000000000005},{"$f":"'Total NF'!J52-Govt!J52","v":590.59999999999991},{"$f":"'Total NF'!K52-Govt!K52","v":589.90000000000009},{"$f":"'Total NF'!L52-Govt!L52","v":589.5},{"$f":"'Total NF'!M52-Govt!M52","v":589.9},{"$f":"'Total NF'!N52-Govt!N52","v":591.70000000000005},null,{"$f":"'Total NF'!P52-Govt!P52","v":589.29999999999995},{"$f":"'Total NF'!Q52-Govt!Q52","v":587.9},{"$f":"'Total NF'!R52-Govt!R52","v":591.29999999999995},{"$f":"'Total NF'!S52-Govt!S52","v":591.79999999999995},{"$f":"'Total NF'!T52-Govt!T52","v":591.4},{"$f":"'Total NF'!U52-Govt!U52","v":595.5},{"$f":"'Total NF'!V52-Govt!V52","v":596.70000000000005},{"$f":"'Total NF'!W52-Govt!W52","v":596.6},{"$f":"'Total NF'!X52-Govt!X52","v":597},{"$f":"'Total NF'!Y52-Govt!Y52","v":598.19999999999993},{"$f":"'Total NF'!Z52-Govt!Z52","v":598.29999999999995},{"$f":"'Total NF'!AA52-Govt!AA52","v":596.5},null,{"$f":"'Total NF'!AC52-Govt!AC52","v":596.70000000000005},{"$f":"'Total NF'!AD52-Govt!AD52","v":599},{"$f":"'Total NF'!AE52-Govt!AE52","v":599.70000000000005},{"$f":"'Total NF'!AF52-Govt!AF52","v":600.90000000000009},{"$f":"'Total NF'!AG52-Govt!AG52","v":601.79999999999995},{"$f":"'Total NF'!AH52-Govt!AH52","v":601.90000000000009},{"$f":"'Total NF'!AI52-Govt!AI52","v":604.70000000000005},{"$f":"'Total NF'!AJ52-Govt!AJ52","v":606.09999999999991},{"$f":"'Total NF'!AK52-Govt!AK52","v":606.1},{"$f":"'Total NF'!AL52-Govt!AL52","v":607.69999999999993},{"$f":"'Total NF'!AM52-Govt!AM52","v":610.20000000000005},{"$f":"'Total NF'!AN52-Govt!AN52","v":611.09999999999991},null,{"$f":"'Total NF'!AP52-Govt!AP52","v":611.59999999999991},{"$f":"'Total NF'!AQ52-Govt!AQ52","v":612.90000000000009},{"$f":"'Total NF'!AR52-Govt!AR52","v":613.9},{"$f":"'Total NF'!AS52-Govt!AS52","v":613.79999999999995},{"$f":"'Total NF'!AT52-Govt!AT52","v":612.70000000000005},{"$f":"'Total NF'!AU52-Govt!AU52","v":611.4},{"$f":"'Total NF'!AV52-Govt!AV52","v":610.59999999999991},{"$f":"'Total NF'!AW52-Govt!AW52","v":610.29999999999995},{"$f":"'Total NF'!AX52-Govt!AX52","v":611.20000000000005},{"$f":"'Total NF'!AY52-Govt!AY52","v":611.09999999999991},{"$f":"'Total NF'!AZ52-Govt!AZ52","v":609.09999999999991},{"$f":"'Total NF'!BA52-Govt!BA52","v":609.59999999999991},null,{"$f":"'Total NF'!BC52-Govt!BC52","v":610.5},{"$f":"'Total NF'!BD52-Govt!BD52","v":611},{"$f":"'Total NF'!BE52-Govt!BE52","v":610.59999999999991},{"$f":"'Total NF'!BF52-Govt!BF52","v":610.29999999999995},{"$f":"'Total NF'!BG52-Govt!BG52","v":610.30000000000007},{"$f":"'Total NF'!BH52-Govt!BH52","v":609.1},{"$f":"'Total NF'!BI52-Govt!BI52","v":609.20000000000005},{"$f":"'Total NF'!BJ52-Govt!BJ52","v":608.5},{"$f":"'Total NF'!BK52-Govt!BK52","v":607.4},{"$f":"'Total NF'!BL52-Govt!BL52","v":608.9},{"$f":"'Total NF'!BM52-Govt!BM52","v":609.9},{"$f":"'Total NF'!BN52-Govt!BN52","v":609.9},{"$f":"'Total NF'!BO52-Govt!BO52","v":0},{"$f":"'Total NF'!BP52-Govt!BP52","v":609.09999999999991},{"$f":"'Total NF'!BQ52-Govt!BQ52","v":608.20000000000005},{"$f":"'Total NF'!BR52-Govt!BR52","v":608.40000000000009},{"$f":"'Total NF'!BS52-Govt!BS52","v":609.70000000000005},{"$f":"'Total NF'!BT52-Govt!BT52","v":610.1},{"$f":"'Total NF'!BU52-Govt!BU52","v":610.1},{"$f":"'Total NF'!BV52-Govt!BV52","v":608.9},{"$f":"'Total NF'!BW52-Govt!BW52","v":609.40000000000009},{"$f":"'Total NF'!BX52-Govt!BX52","v":609.29999999999995},{"$f":"'Total NF'!BY52-Govt!BY52","v":610.4},{"$f":"'Total NF'!BZ52-Govt!BZ52","v":607.70000000000005},{"$f":"'Total NF'!CA52-Govt!CA52","v":609.29999999999995},{"$f":"'Total NF'!CB52-Govt!CB52","v":619.4},{"$f":"'Total NF'!CC52-Govt!CC52","v":617.20000000000005},{"$f":"'Total NF'!CD52-Govt!CD52","v":614.80000000000007},{"$f":"'Total NF'!CE52-Govt!CE52","v":613.70000000000005},{"$f":"'Total NF'!CF52-Govt!CF52","v":614.20000000000005},{"$f":"'Total NF'!CG52-Govt!CG52","v":612.4},{"$f":"'Total NF'!CH52-Govt!CH52","v":610.59999999999991},{"$f":"'Total NF'!CI52-Govt!CI52","v":609},{"$f":"'Total NF'!CJ52-Govt!CJ52","v":608.59999999999991},{"$f":"'Total NF'!CK52-Govt!CK52","v":608.70000000000005},{"$f":"'Total NF'!CL52-Govt!CL52","v":609},{"$f":"'Total NF'!CM52-Govt!CM52","v":609},{"$f":"'Total NF'!CN52-Govt!CN52","v":597.20000000000005},{"$f":"'Total NF'!CO52-Govt!CO52","v":596.70000000000005},{"$f":"'Total NF'!CP52-Govt!CP52","v":597},{"$f":"'Total NF'!CQ52-Govt!CQ52","v":594.4},{"$f":"'Total NF'!CR52-Govt!CR52","v":591.69999999999993},{"$f":"'Total NF'!CS52-Govt!CS52","v":589.90000000000009},{"$f":"'Total NF'!CT52-Govt!CT52","v":590.1},{"$f":"'Total NF'!CU52-Govt!CU52","v":588.79999999999995},{"$f":"'Total NF'!CV52-Govt!CV52","v":589.59999999999991},{"$f":"'Total NF'!CW52-Govt!CW52","v":589.79999999999995},{"$f":"'Total NF'!CX52-Govt!CX52","v":589.70000000000005},{"$f":"'Total NF'!CY52-Govt!CY52","v":591},{"$f":"'Total NF'!CZ52-Govt!CZ52","v":591},{"$f":"'Total NF'!DA52-Govt!DA52","v":592.29999999999995},{"$f":"'Total NF'!DB52-Govt!DB52","v":591.79999999999995},{"$f":"'Total NF'!DC52-Govt!DC52","v":592.5},{"$f":"'Total NF'!DD52-Govt!DD52","v":588.70000000000005},{"$f":"'Total NF'!DE52-Govt!DE52","v":592.6},{"$f":"'Total NF'!DF52-Govt!DF52","v":593.79999999999995},{"$f":"'Total NF'!DG52-Govt!DG52","v":591.79999999999995},{"$f":"'Total NF'!DH52-Govt!DH52","v":592.59999999999991},{"$f":"'Total NF'!DI52-Govt!DI52","v":593.5},{"$f":"'Total NF'!DJ52-Govt!DJ52","v":593.20000000000005},-0.29999999999995453,-5.0547598989040361E-4,37,37,3.5,5.9352212989655755E-3,41,41,2.2000000000000455,3.7225042301185203E-3,44,43,2,3.382949932341001E-3,49,49]
["Wisconsin","SMS55000004000000001",{"$f":"'Total NF'!C53-Govt!C53","v":2389},{"$f":"'Total NF'!D53-Govt!D53","v":2371.6999999999998},{"$f":"'Total NF'!E53-Govt!E53","v":2351.4},{"$f":"'Total NF'!F53-Govt!F53","v":2328.6999999999998},{"$f":"'Total NF'!G53-Govt!G53","v":2327.5},{"$f":"'Total NF'!H53-Govt!H53","v":2317.4},{"$f":"'Total NF'!I53-Govt!I53","v":2305.6000000000004},{"$f":"'Total NF'!J53-Govt!J53","v":2300.5},{"$f":"'Total NF'!K53-Govt!K53","v":2300.9},{"$f":"'Total NF'!L53-Govt!L53","v":2298},{"$f":"'Total NF'!M53-Govt!M53","v":2296.2999999999997},{"$f":"'Total NF'!N53-Govt!N53","v":2292.7999999999997},null,{"$f":"'Total NF'!P53-Govt!P53","v":2294},{"$f":"'Total NF'!Q53-Govt!Q53","v":2296.2999999999997},{"$f":"'Total NF'!R53-Govt!R53","v":2296.9},{"$f":"'Total NF'!S53-Govt!S53","v":2303.2999999999997},{"$f":"'Total NF'!T53-Govt!T53","v":2304.1999999999998},{"$f":"'Total NF'!U53-Govt!U53","v":2305.7000000000003},{"$f":"'Total NF'!V53-Govt!V53","v":2312},{"$f":"'Total NF'!W53-Govt!W53","v":2315.5},{"$f":"'Total NF'!X53-Govt!X53","v":2312.3000000000002},{"$f":"'Total NF'!Y53-Govt!Y53","v":2322.1999999999998},{"$f":"'Total NF'!Z53-Govt!Z53","v":2323.1999999999998},{"$f":"'Total NF'!AA53-Govt!AA53","v":2325.3000000000002},null,{"$f":"'Total NF'!AC53-Govt!AC53","v":2327.3000000000002},{"$f":"'Total NF'!AD53-Govt!AD53","v":2330},{"$f":"'Total NF'!AE53-Govt!AE53","v":2331.3000000000002},{"$f":"'Total NF'!AF53-Govt!AF53","v":2337.1},{"$f":"'Total NF'!AG53-Govt!AG53","v":2339.5},{"$f":"'Total NF'!AH53-Govt!AH53","v":2338.6999999999998},{"$f":"'Total NF'!AI53-Govt!AI53","v":2348.6},{"$f":"'Total NF'!AJ53-Govt!AJ53","v":2349.2999999999997},{"$f":"'Total NF'!AK53-Govt!AK53","v":2353.6999999999998},{"$f":"'Total NF'!AL53-Govt!AL53","v":2353.6999999999998},{"$f":"'Total NF'!AM53-Govt!AM53","v":2356.4},{"$f":"'Total NF'!AN53-Govt!AN53","v":2357.5},null,{"$f":"'Total NF'!AP53-Govt!AP53","v":2361.6},{"$f":"'Total NF'!AQ53-Govt!AQ53","v":2367.5},{"$f":"'Total NF'!AR53-Govt!AR53","v":2375.4},{"$f":"'Total NF'!AS53-Govt!AS53","v":2382.1999999999998},{"$f":"'Total NF'!AT53-Govt!AT53","v":2376.5},{"$f":"'Total NF'!AU53-Govt!AU53","v":2378.5},{"$f":"'Total NF'!AV53-Govt!AV53","v":2375.7999999999997},{"$f":"'Total NF'!AW53-Govt!AW53","v":2376},{"$f":"'Total NF'!AX53-Govt!AX53","v":2382.4},{"$f":"'Total NF'!AY53-Govt!AY53","v":2385.1},{"$f":"'Total NF'!AZ53-Govt!AZ53","v":2388.7000000000003},{"$f":"'Total NF'!BA53-Govt!BA53","v":2391.6999999999998},null,{"$f":"'Total NF'!BC53-Govt!BC53","v":2390.5},{"$f":"'Total NF'!BD53-Govt!BD53","v":2400.7000000000003},{"$f":"'Total NF'!BE53-Govt!BE53","v":2402.4},{"$f":"'Total NF'!BF53-Govt!BF53","v":2396.7999999999997},{"$f":"'Total NF'!BG53-Govt!BG53","v":2403.5},{"$f":"'Total NF'!BH53-Govt!BH53","v":2406.1},{"$f":"'Total NF'!BI53-Govt!BI53","v":2406.3000000000002},{"$f":"'Total NF'!BJ53-Govt!BJ53","v":2410.6},{"$f":"'Total NF'!BK53-Govt!BK53","v":2411.8999999999996},{"$f":"'Total NF'!BL53-Govt!BL53","v":2422},{"$f":"'Total NF'!BM53-Govt!BM53","v":2425.4},{"$f":"'Total NF'!BN53-Govt!BN53","v":2431.4},{"$f":"'Total NF'!BO53-Govt!BO53","v":0},{"$f":"'Total NF'!BP53-Govt!BP53","v":2419.2000000000003},{"$f":"'Total NF'!BQ53-Govt!BQ53","v":2423.1},{"$f":"'Total NF'!BR53-Govt!BR53","v":2422.8000000000002},{"$f":"'Total NF'!BS53-Govt!BS53","v":2427.9},{"$f":"'Total NF'!BT53-Govt!BT53","v":2428.6999999999998},{"$f":"'Total NF'!BU53-Govt!BU53","v":2433},{"$f":"'Total NF'!BV53-Govt!BV53","v":2432.7999999999997},{"$f":"'Total NF'!BW53-Govt!BW53","v":2433.4},{"$f":"'Total NF'!BX53-Govt!BX53","v":2435.3000000000002},{"$f":"'Total NF'!BY53-Govt!BY53","v":2446.4},{"$f":"'Total NF'!BZ53-Govt!BZ53","v":2454.3000000000002},{"$f":"'Total NF'!CA53-Govt!CA53","v":2459.6999999999998},{"$f":"'Total NF'!CB53-Govt!CB53","v":2466.9},{"$f":"'Total NF'!CC53-Govt!CC53","v":2469.7000000000003},{"$f":"'Total NF'!CD53-Govt!CD53","v":2473.1},{"$f":"'Total NF'!CE53-Govt!CE53","v":2471.1},{"$f":"'Total NF'!CF53-Govt!CF53","v":2474.5},{"$f":"'Total NF'!CG53-Govt!CG53","v":2475.1},{"$f":"'Total NF'!CH53-Govt!CH53","v":2479},{"$f":"'Total NF'!CI53-Govt!CI53","v":2481.1999999999998},{"$f":"'Total NF'!CJ53-Govt!CJ53","v":2479},{"$f":"'Total NF'!CK53-Govt!CK53","v":2494.4},{"$f":"'Total NF'!CL53-Govt!CL53","v":2492.4},{"$f":"'Total NF'!CM53-Govt!CM53","v":2491.1999999999998},{"$f":"'Total NF'!CN53-Govt!CN53","v":2508.3000000000002},{"$f":"'Total NF'!CO53-Govt!CO53","v":2512.6},{"$f":"'Total NF'!CP53-Govt!CP53","v":2513.1999999999998},{"$f":"'Total NF'!CQ53-Govt!CQ53","v":2513.8000000000002},{"$f":"'Total NF'!CR53-Govt!CR53","v":2509.1999999999998},{"$f":"'Total NF'!CS53-Govt!CS53","v":2506.9},{"$f":"'Total NF'!CT53-Govt!CT53","v":2515.3999999999996},{"$f":"'Total NF'!CU53-Govt!CU53","v":2514.5},{"$f":"'Total NF'!CV53-Govt!CV53","v":2514.4},{"$f":"'Total NF'!CW53-Govt!CW53","v":2514.5},{"$f":"'Total NF'!CX53-Govt!CX53","v":2513.3000000000002},{"$f":"'Total NF'!CY53-Govt!CY53","v":2516.1000000000004},{"$f":"'Total NF'!CZ53-Govt!CZ53","v":2526.5},{"$f":"'Total NF'!DA53-Govt!DA53","v":2534.8000000000002},{"$f":"'Total NF'!DB53-Govt!DB53","v":2535.6},{"$f":"'Total NF'!DC53-Govt!DC53","v":2541.6},{"$f":"'Total NF'!DD53-Govt!DD53","v":2539},{"$f":"'Total NF'!DE53-Govt!DE53","v":2540.2999999999997},{"$f":"'Total NF'!DF53-Govt!DF53","v":2539.8000000000002},{"$f":"'Total NF'!DG53-Govt!DG53","v":2537.3000000000002},{"$f":"'Total NF'!DH53-Govt!DH53","v":2544.4},{"$f":"'Total NF'!DI53-Govt!DI53","v":2553.4},{"$f":"'Total NF'!DJ53-Govt!DJ53","v":2556.2000000000003},2.8000000000001819,1.0965771128691869E-3,22,26,42.900000000000091,1.706919189909684E-2,15,22,40.099999999999909,1.5937363379833831E-2,14,18,250.59999999999991,0.10869188063844547,23,28]
["Wyoming","SMS56000004000000001",{"$f":"'Total NF'!C54-Govt!C54","v":225.20000000000002},{"$f":"'Total NF'!D54-Govt!D54","v":222.20000000000002},{"$f":"'Total NF'!E54-Govt!E54","v":220.5},{"$f":"'Total NF'!F54-Govt!F54","v":216.2},{"$f":"'Total NF'!G54-Govt!G54","v":217.1},{"$f":"'Total NF'!H54-Govt!H54","v":214.39999999999998},{"$f":"'Total NF'!I54-Govt!I54","v":213},{"$f":"'Total NF'!J54-Govt!J54","v":211.8},{"$f":"'Total NF'!K54-Govt!K54","v":211.40000000000003},{"$f":"'Total NF'!L54-Govt!L54","v":209.3},{"$f":"'Total NF'!M54-Govt!M54","v":209},{"$f":"'Total NF'!N54-Govt!N54","v":208.4},null,{"$f":"'Total NF'!P54-Govt!P54","v":208.2},{"$f":"'Total NF'!Q54-Govt!Q54","v":208.60000000000002},{"$f":"'Total NF'!R54-Govt!R54","v":208.3},{"$f":"'Total NF'!S54-Govt!S54","v":209.99999999999997},{"$f":"'Total NF'!T54-Govt!T54","v":209.9},{"$f":"'Total NF'!U54-Govt!U54","v":210.20000000000002},{"$f":"'Total NF'!V54-Govt!V54","v":210.49999999999997},{"$f":"'Total NF'!W54-Govt!W54","v":211.7},{"$f":"'Total NF'!X54-Govt!X54","v":211.9},{"$f":"'Total NF'!Y54-Govt!Y54","v":212.50000000000003},{"$f":"'Total NF'!Z54-Govt!Z54","v":211.4},{"$f":"'Total NF'!AA54-Govt!AA54","v":211.60000000000002},null,{"$f":"'Total NF'!AC54-Govt!AC54","v":211.20000000000002},{"$f":"'Total NF'!AD54-Govt!AD54","v":211.4},{"$f":"'Total NF'!AE54-Govt!AE54","v":212},{"$f":"'Total NF'!AF54-Govt!AF54","v":211.70000000000002},{"$f":"'Total NF'!AG54-Govt!AG54","v":212.6},{"$f":"'Total NF'!AH54-Govt!AH54","v":212.9},{"$f":"'Total NF'!AI54-Govt!AI54","v":213.89999999999998},{"$f":"'Total NF'!AJ54-Govt!AJ54","v":215.2},{"$f":"'Total NF'!AK54-Govt!AK54","v":216.40000000000003},{"$f":"'Total NF'!AL54-Govt!AL54","v":216.3},{"$f":"'Total NF'!AM54-Govt!AM54","v":216.60000000000002},{"$f":"'Total NF'!AN54-Govt!AN54","v":217.79999999999998},null,{"$f":"'Total NF'!AP54-Govt!AP54","v":217.3},{"$f":"'Total NF'!AQ54-Govt!AQ54","v":217.60000000000002},{"$f":"'Total NF'!AR54-Govt!AR54","v":217.5},{"$f":"'Total NF'!AS54-Govt!AS54","v":218.79999999999998},{"$f":"'Total NF'!AT54-Govt!AT54","v":217.39999999999998},{"$f":"'Total NF'!AU54-Govt!AU54","v":216.5},{"$f":"'Total NF'!AV54-Govt!AV54","v":215.5},{"$f":"'Total NF'!AW54-Govt!AW54","v":216.29999999999998},{"$f":"'Total NF'!AX54-Govt!AX54","v":216.1},{"$f":"'Total NF'!AY54-Govt!AY54","v":216.7},{"$f":"'Total NF'!AZ54-Govt!AZ54","v":217},{"$f":"'Total NF'!BA54-Govt!BA54","v":217.39999999999998},null,{"$f":"'Total NF'!BC54-Govt!BC54","v":217.60000000000002},{"$f":"'Total NF'!BD54-Govt!BD54","v":217.5},{"$f":"'Total NF'!BE54-Govt!BE54","v":217.7},{"$f":"'Total NF'!BF54-Govt!BF54","v":217.79999999999998},{"$f":"'Total NF'!BG54-Govt!BG54","v":217.8},{"$f":"'Total NF'!BH54-Govt!BH54","v":218.6},{"$f":"'Total NF'!BI54-Govt!BI54","v":218.2},{"$f":"'Total NF'!BJ54-Govt!BJ54","v":217.9},{"$f":"'Total NF'!BK54-Govt!BK54","v":216.99999999999997},{"$f":"'Total NF'!BL54-Govt!BL54","v":220.29999999999998},{"$f":"'Total NF'!BM54-Govt!BM54","v":221.20000000000002},{"$f":"'Total NF'!BN54-Govt!BN54","v":220.99999999999997},{"$f":"'Total NF'!BO54-Govt!BO54","v":0},{"$f":"'Total NF'!BP54-Govt!BP54","v":219.6},{"$f":"'Total NF'!BQ54-Govt!BQ54","v":219.89999999999998},{"$f":"'Total NF'!BR54-Govt!BR54","v":219.7},{"$f":"'Total NF'!BS54-Govt!BS54","v":220.8},{"$f":"'Total NF'!BT54-Govt!BT54","v":221.29999999999998},{"$f":"'Total NF'!BU54-Govt!BU54","v":222.10000000000002},{"$f":"'Total NF'!BV54-Govt!BV54","v":222},{"$f":"'Total NF'!BW54-Govt!BW54","v":221.1},{"$f":"'Total NF'!BX54-Govt!BX54","v":221.7},{"$f":"'Total NF'!BY54-Govt!BY54","v":222.00000000000003},{"$f":"'Total NF'!BZ54-Govt!BZ54","v":221.5},{"$f":"'Total NF'!CA54-Govt!CA54","v":223.7},{"$f":"'Total NF'!CB54-Govt!CB54","v":223.9},{"$f":"'Total NF'!CC54-Govt!CC54","v":223.29999999999998},{"$f":"'Total NF'!CD54-Govt!CD54","v":222.50000000000003},{"$f":"'Total NF'!CE54-Govt!CE54","v":221.4},{"$f":"'Total NF'!CF54-Govt!CF54","v":219.60000000000002},{"$f":"'Total NF'!CG54-Govt!CG54","v":218.09999999999997},{"$f":"'Total NF'!CH54-Govt!CH54","v":218.4},{"$f":"'Total NF'!CI54-Govt!CI54","v":217.7},{"$f":"'Total NF'!CJ54-Govt!CJ54","v":217.40000000000003},{"$f":"'Total NF'!CK54-Govt!CK54","v":217.3},{"$f":"'Total NF'!CL54-Govt!CL54","v":216.1},{"$f":"'Total NF'!CM54-Govt!CM54","v":214.70000000000002},{"$f":"'Total NF'!CN54-Govt!CN54","v":215.3},{"$f":"'Total NF'!CO54-Govt!CO54","v":213.90000000000003},{"$f":"'Total NF'!CP54-Govt!CP54","v":212.90000000000003},{"$f":"'Total NF'!CQ54-Govt!CQ54","v":211.40000000000003},{"$f":"'Total NF'!CR54-Govt!CR54","v":210.10000000000002},{"$f":"'Total NF'!CS54-Govt!CS54","v":209.10000000000002},{"$f":"'Total NF'!CT54-Govt!CT54","v":208.6},{"$f":"'Total NF'!CU54-Govt!CU54","v":208.1},{"$f":"'Total NF'!CV54-Govt!CV54","v":207.10000000000002},{"$f":"'Total NF'!CW54-Govt!CW54","v":206.1},{"$f":"'Total NF'!CX54-Govt!CX54","v":205.8},{"$f":"'Total NF'!CY54-Govt!CY54","v":205.9},{"$f":"'Total NF'!CZ54-Govt!CZ54","v":207.49999999999997},{"$f":"'Total NF'!DA54-Govt!DA54","v":207.29999999999998},{"$f":"'Total NF'!DB54-Govt!DB54","v":207.60000000000002},{"$f":"'Total NF'!DC54-Govt!DC54","v":208.89999999999998},{"$f":"'Total NF'!DD54-Govt!DD54","v":208.6},{"$f":"'Total NF'!DE54-Govt!DE54","v":207},{"$f":"'Total NF'!DF54-Govt!DF54","v":207.2},{"$f":"'Total NF'!DG54-Govt!DG54","v":207.79999999999998},{"$f":"'Total NF'!DH54-Govt!DH54","v":205.9},{"$f":"'Total NF'!DI54-Govt!DI54","v":205.79999999999998},{"$f":"'Total NF'!DJ54-Govt!DJ54","v":205.39999999999998},-0.40000000000000568,-1.9436345966958491E-3,38,45,-0.40000000000003411,-1.9436345966959867E-3,49,49,-0.50000000000002842,-2.4283632831472966E-3,48,49,-7.6000000000000227,-3.568075117370903E-2,50,50]

{"sheet":"Construction","index":2,"n_rows":48,"n_cols":130,"rows_kept":48,"cut":false,"hidden":false,"merged":[[0,1,0,13],[2,2,2,13]]}
[]
["Construction"]
[]
["State Name","Series ID","Jan\n2009","Feb\n2009","Mar\n2009","Apr\n2009","May\n2009","Jun\n2009","2009-07-01","Aug\n2009","Sep\n2009","Oct\n2009","Nov\n2009","Dec\n2009",null,"Jan\n2010","Feb\n2010","Mar\n2010","Apr\n2010","May\n2010","Jun\n2010","Jul\n2010","Aug\n2010","Sep\n2010","Oct\n2010","Nov\n2010","Dec\n2010",null,"Jan\n2011","Feb\n2011","Mar\n2011","Apr\n2011","May\n2011","Jun\n2011","Jul\n2011","Aug\n2011","Sep\n2011","Oct\n2011","Nov\n2011","Dec\n2011",null,"2012-01-01","2012-02-01","2012-03-01","2012-04-01","2012-05-01","2012-06-01","2012-07-01","2012-08-01","2012-09-01","2012-10-01","2012-11-01","2012-12-01",null,"2013-01-01","2013-02-01","2013-03-01","2013-04-01","2013-05-01","2013-06-01","2013-07-01","2013-08-01","2013-09-01","2013-10-01","2013-11-01","2013-12-01",null,"2014-01-01","2014-02-01","2014-03-01","2014-04-01","2014-05-01","2014-06-01","2014-07-01","2014-08-01","2014-09-01","2014-10-01","2014-11-01","2014-12-01","2015-01-01","2015-02-01","2015-03-01","2015-04-01","2015-05-01","2015-06-01","2015-07-01","2015-08-01","2015-09-01","2015-10-01","2015-11-01","2015-12-01","2016-01-01","2016-02-01","2016-03-16","2016-04-29","2016-05-29","2016-06-29","2016-07-29","2016-08-29","2016-09-29","2016-10-29","2016-11-29","2016-12-29","2017-01-29","2017-02-28","2017-03-30","2017-04-29","2017-05-29","2017-06-29","2017-07-29","2017-08-29","2017-09-29","2017-10-29","2017-11-29","Month-to-Month","Month-to-Month %","Mo Chg Rank","Mo % Rank","Year-to-Year","Year-to-Year %","Yr Chg Rank","Yr % Rank","Year-to-Date Chg","Year-to-Date %","Year-to-Date  Chg Rank","Year-to-Date % Rank","Chg from Trough","% Chg from Trough","Trough Chg Rank","Trough % Chg Rank"]
["Alabama","SMS01000002000000001",98.7,96.4,94.8,93.5,92.8,91.8,90.4,89.5,88.2,88.1,88.6,89,null,89.3,88.3,87.9,88.7,88.5,89,87.6,87.2,86.3,85.4,84.7,83.4,null,80.2,82.2,81.5,81.2,81.400000000000006,80.8,80.5,80,80.599999999999994,79.7,80.3,80.599999999999994,null,79.7,80.3,80.2,80.400000000000006,79.3,79,79.099999999999994,79.2,79,79.400000000000006,79.400000000000006,79.099999999999994,null,79.5,79.400000000000006,80.099999999999994,80.400000000000006,79.599999999999994,79.5,79.3,79.5,78.8,78.5,78.3,78.8,null,79.3,79.900000000000006,79.099999999999994,79.099999999999994,79.3,79.3,79.7,80,80.2,80.099999999999994,80.3,81,81,80.900000000000006,79.7,80.8,80.8,81.099999999999994,80.900000000000006,81.099999999999994,81.2,81.3,81.8,81.900000000000006,85.2,84.3,84.5,85.3,84.3,83.9,83.9,83.1,83.6,84.7,84.6,82.5,85.9,85.8,84.8,85.3,88,87.8,88.2,89.6,90.1,90.1,91.8,{"$f":"DJ5-DI5","v":1.7000000000000028},{"$f":"DK5/DI5","v":1.8867924528301921E-2},{"$f":"RANK(DK5,($DK$5:$DK$48))","v":13},{"$f":"RANK(DL5,($DL$5:$DL$48))","v":7},{"$f":"DJ5-CX5","v":7.2000000000000028},{"$f":"DO5/CX5","v":8.5106382978723444E-2},{"$f":"RANK(DO5,($DO$5:$DO$48))","v":14},{"$f":"RANK(DP5,($DP$5:$DP$48))","v":6},{"$f":"DJ5-CY5","v":9.2999999999999972},{"$f":"DS5/CY5","v":0.11272727272727269},{"$f":"RANK(DS5,DS$5:DS$48)","v":7},{"$f":"RANK(DT5,DT$5:DT$48)","v":2},{"$f":"DJ5-I5","v":1.3999999999999915},{"$f":"DW5/I5","v":1.5486725663716719E-2},{"$f":"RANK(DW5,($DW$5:$DW$48))","v":37},{"$f":"RANK(DX5,($DX$5:$DX$48))","v":37}]
["Alaska","SMS02000002000000001",16.399999999999999,16.600000000000001,16.399999999999999,16.2,16.399999999999999,16.3,16.2,16.2,16,15.9,16.2,16.2,null,16.3,15.9,15.6,15.9,16,16.2,16.2,16.2,16.100000000000001,16.2,16,16,null,15.8,15.7,15.5,15.8,15.7,15.8,15.8,15.7,15.8,15.8,15.9,15.9,null,16.8,16.5,16.5,16.399999999999999,16.399999999999999,16.399999999999999,16.5,16.3,16.3,16.399999999999999,16.100000000000001,16.2,null,16.399999999999999,16.5,16.7,16.5,16.3,16.399999999999999,16.3,16.600000000000001,16.600000000000001,17,17.2,17.399999999999999,null,17.399999999999999,17.5,17.7,17.399999999999999,17.2,17,16.899999999999999,16.899999999999999,16.899999999999999,17.3,17.8,18.100000000000001,18.3,18.399999999999999,18.399999999999999,18.600000000000001,18,17.7,17.600000000000001,17.2,16.899999999999999,16.7,16.7,16.899999999999999,16.899999999999999,16.899999999999999,16.7,16.600000000000001,16.5,16.3,16.2,16,15.7,15.7,15.7,15.5,15.2,16.399999999999999,15.6,15.6,15.4,15.6,15.7,15.7,16.100000000000001,15.7,16.399999999999999,{"$f":"DJ6-DI6","v":0.69999999999999929},{"$f":"DK6/DI6","v":4.4585987261146452E-2},26,1,{"$f":"DJ6-CX6","v":0.69999999999999929},{"$f":"DO6/CX6","v":4.4585987261146452E-2},{"$f":"RANK(DO6,($DO$5:$DO$48))","v":32},{"$f":"RANK(DP6,($DP$5:$DP$48))","v":22},{"$f":"DJ6-CY6","v":0.89999999999999858},{"$f":"DS6/CY6","v":5.8064516129032163E-2},{"$f":"RANK(DS6,DS$5:DS$48)","v":33},{"$f":"RANK(DT6,DT$5:DT$48)","v":15},{"$f":"DJ6-I6","v":0.19999999999999929},{"$f":"DW6/I6","v":1.2345679012345635E-2},{"$f":"RANK(DW6,($DW$5:$DW$48))","v":38},{"$f":"RANK(DX6,($DX$5:$DX$48))","v":38}]
["Arizona","SMS04000002000000001",153,145.5,140.30000000000001,133.6,131.19999999999999,128.30000000000001,124.6,121.7,118.6,116.8,115.7,114.6,null,114.3,113.8,112.7,112.6,111.9,110.7,109.9,109.7,109.4,110.7,111.2,111.4,null,112.2,110.9,110.5,110.1,110.4,109.9,111.1,111,111.7,110.8,111.3,111.9,null,114,113.4,114.4,114.6,114.4,114.6,115.5,116.2,117.3,118.5,119.5,120.1,null,121.2,121.6,122.2,122.5,122.9,123.5,123.7,123.5,123.1,121.5,124.5,125.3,null,126.7,128,126.1,126.5,125.4,124.3,123.5,122.9,122.6,124.4,126.5,126.7,126.1,126.4,125.8,126.3,126.9,126.7,127.4,127.9,127.9,127.7,131.1,130.1,131.5,132.69999999999999,133.9,133.19999999999999,133.6,134.69999999999999,136.1,136.9,137.5,135.4,134.5,136.4,135.69999999999999,135.19999999999999,137.19999999999999,140,138.30000000000001,137,137.30000000000001,139.1,139.6,139.1,142.30000000000001,3.2000000000000171,2.3005032350826866E-2,6,5,7.8000000000000114,5.7992565055762169E-2,12,15,5.9000000000000057,4.3255131964809422E-2,15,20,17.700000000000017,0.14205457463884444,18,25]
["Arkansas","SMS05000002000000001",55,54.9,52.9,51,50.3,50.7,51.3,52,51.6,49.8,49.8,49.5,null,49,48,48.6,48.8,49.3,50.3,49.1,49.3,48.4,48.1,47.7,47.7,null,46.5,46.5,46.8,47.3,46.7,47,47.5,47.3,47.6,47.9,48.1,48.1,null,48.5,48.5,48.6,48,48.1,48,46,46.6,46.9,46.7,46.5,46.4,null,46.7,46.7,46.3,45.7,45.5,45,44.7,44.7,44.4,45.6,46.3,45.9,null,46.5,45.4,44.7,45.3,45.4,45.3,45.5,45.7,45.9,45.2,46.5,47.4,47.7,48.2,47.6,47.4,48.4,48.7,49.4,50,50.7,50.3,49.7,50.2,50.4,50.5,50.6,50.5,50.4,50.4,50.2,49.9,49.9,50.5,50.2,50,50.3,51,49.9,50.7,51.4,51.4,51.9,50.2,51.6,52.6,52.9,0.29999999999999716,5.7034220532318847E-3,30,27,2.6999999999999957,5.3784860557768835E-2,25,17,2.8999999999999986,5.7999999999999968E-2,23,16,1.6000000000000014,3.1189083820662798E-2,35,36]
["California","SMS06000002000000001",701.4,674.2,663.6,640.6,632.29999999999995,621,606,596.70000000000005,589,585,587.20000000000005,576.5,null,573.9,569.6,568.20000000000005,563.9,562.6,558.70000000000005,557.20000000000005,553.9,548.79999999999995,551.9,553.29999999999995,552.6,null,559.70000000000005,559.29999999999995,552.29999999999995,554.79999999999995,555.70000000000005,551.9,562,564.9,567.1,567.20000000000005,568.9,571.29999999999995,null,580.70000000000005,575,576.1,577.4,580.6,585.79999999999995,589.79999999999995,592.1,598.5,603.9,608.29999999999995,612.5,null,620.5,624.4,628.9,633.79999999999995,634.20000000000005,634.1,636.4,640.79999999999995,642.4,644.29999999999995,651.6,654.4,null,660.4,664.9,667.3,670.5,672.9,671.1,672,678.1,681.9,685,694.5,686.5,703.8,706.9,713.1,715.6,720.7,725.1,732.1,736,739,738.3,740,748.5,761.5,766.6,761.7,772.8,771.6,771.9,775.8,777.5,780.2,784.1,786.9,783.9,778,785,803.6,810.2,810.3,818.6,823.5,822.3,826.6,832.1,835.3,3.1999999999999318,3.8456916236028504E-3,7,31,48.399999999999977,6.1507180073706924E-2,1,12,51.399999999999977,6.5569587957647626E-2,1,10,229.29999999999995,0.37838283828382829,1,5]
["Colorado","SMS08000002000000001",147.4,144.5,140.5,134.69999999999999,133,130.5,128.30000000000001,126.6,125.2,123.2,121.7,120.1,null,119,118,116.8,116.1,115.6,114.6,114.2,113.3,112.8,113.1,113,113.7,null,112.6,111.8,112.2,113,111.8,111.6,112,112.5,112.4,112.5,113,113.5,null,114.7,114.2,114.1,115,115.1,114.9,115.2,115.4,116.5,117.6,118.6,120.2,null,121.5,123,123.9,124.3,125.5,126.8,127.9,129.4,129.80000000000001,128.4,128.9,128.5,null,137.4,137.9,139.19999999999999,140.6,141.4,141.9,143.5,143.9,145,144.19999999999999,145.1,148.19999999999999,146.69999999999999,148,147.6,147.6,147.80000000000001,147.9,148,148.5,149.1,152.1,154.30000000000001,156.19999999999999,152.30000000000001,153.1,153.9,153.9,153.9,154.6,155.30000000000001,155.80000000000001,156.5,155.19999999999999,155,156.30000000000001,155,160.5,157.6,156.30000000000001,157.5,153.5,155.19999999999999,154.4,155.5,158.4,161,2.5999999999999943,1.6414141414141378E-2,9,11,6,3.870967741935484E-2,15,23,4.6999999999999886,3.0070377479206579E-2,20,26,32.699999999999989,0.2548713951675759,9,12]
["Connecticut","SMS09000002000000001",59.1,58,57.1,54.5,54.5,54.3,53.6,53.1,53.2,52.5,52.3,52.1,null,49.5,48.8,48.8,49.9,49.9,50,50.2,50.3,50.3,50.5,50.6,50.9,null,50.8,51.1,51.1,50.9,51.1,51.3,51.6,51.8,52,51.9,52.4,52.1,null,52.4,52.4,52.3,51.4,50.6,50.7,51,51.1,51.3,52,51.9,52.3,null,52.9,53,53.2,53.5,53.7,53.7,53.8,54,54,54.5,55.2,55.4,null,53.9,54.1,54.4,55.5,55.7,55.9,56.3,56.4,56.4,56.2,55.7,54.9,56.9,56.7,57,57.2,58.1,58.1,57.6,57.6,57.5,57,57.7,57.4,59.6,59.6,60.8,59.4,59.1,58.9,58.8,59,58.7,58.6,58.1,58,58,59.3,59.1,61.7,61.2,60.5,58.7,57.7,56.5,58.4,57.1,-1.2999999999999972,-2.226027397260269E-2,43,42,-1,-1.7211703958691909E-2,38,40,-0.89999999999999858,-1.551724137931032E-2,40,39,3.5,6.5298507462686561E-2,33,33]
["Florida","SMS12000002000000001",446.5,433.5,422.8,408.9,403.4,397.6,391,382.2,375.3,371.2,366,362.2,null,359.1,356.7,353.6,357,354.4,353.7,357.4,351.8,346.1,344.3,340.4,338.5,null,339,337.7,335.2,335.9,335.3,332.4,334.4,334.1,335.3,334.3,335.2,336.3,null,338.5,337.9,338,337.9,338.7,339.8,339.5,340.8,343.7,347.2,350.3,350.4,null,353.8,355.3,356.6,358.5,360.7,363,366.9,370.2,372.7,382.7,385.5,386.9,null,383.6,386.6,387,391.1,393.9,395.8,399.2,400.8,402.8,406.3,408.4,409.9,418,418.6,420.3,422.6,425.6,428.6,430.9,433,435.6,433.4,439,440.6,458.8,462.5,463.8,467.6,470.2,472.7,476.1,479.2,480.7,480.7,482.8,484.5,495.1,498.4,499.6,500.7,500,506.4,511.1,514.4,492.5,518.4,524.6,6.2000000000000455,1.1959876543209964E-2,2,16,41.800000000000011,8.6578293289146666E-2,2,5,40.100000000000023,8.2765737874097051E-2,2,6,133.60000000000002,0.34168797953964203,3,6]
["Georgia","SMS13000002000000001",183.5,180.1,175.4,171.5,169.7,166.5,160.6,159.1,157.4,156.5,155.6,154.4,null,153.69999999999999,152.5,151.19999999999999,151.1,150.6,149.4,148.19999999999999,148.80000000000001,148.5,148.30000000000001,148,146.30000000000001,null,142.4,147.69999999999999,148.5,149.1,147.4,147.4,146.4,145.5,145.19999999999999,144.69999999999999,143.4,143.5,null,142.80000000000001,142.19999999999999,141.9,142.19999999999999,140.6,140.4,140.6,140.9,141,141.5,141.9,141.9,null,143,143,144.1,144.1,144.69999999999999,145.30000000000001,146.1,146.80000000000001,147.30000000000001,148.1,151.9,150.4,null,152.80000000000001,153.1,153.6,154.5,155,156.19999999999999,157,157.69999999999999,158.80000000000001,158.69999999999999,158.9,158.19999999999999,163.5,164.4,163.1,164.9,165.4,166.6,166.3,166.5,166.9,168.2,170.2,172.4,171.8,172.5,173.2,174.3,175.3,176.6,177.6,178.5,179.9,178.1,178.3,178,179,179.7,183.9,181.3,182.6,179.1,176.1,177.3,173.4,178.9,180.6,1.6999999999999886,9.5025153717159788E-3,14,22,2.2999999999999829,1.2899607403252848E-2,29,33,2.5999999999999943,1.4606741573033676E-2,25,32,20,0.12453300124533001,17,28]
["Idaho","SMS16000002000000001",38.4,36.799999999999997,35.6,34.4,34.200000000000003,33.9,33.700000000000003,33.5,33.200000000000003,32.9,32.799999999999997,32.1,null,32.5,32.299999999999997,32.299999999999997,31.8,31.5,31.1,31,31,31,30.7,30.6,30.3,null,30,30.1,29.7,30,30,30.1,30.3,30.5,30.5,30.8,31.6,31.6,null,31.6,31.6,31.3,31.1,31,30.8,31.2,31.1,31.3,31.8,31.7,32.200000000000003,null,32.799999999999997,33.6,33.700000000000003,33.9,33.799999999999997,33.9,33.700000000000003,33.9,34.299999999999997,33.6,33.299999999999997,32.799999999999997,null,34.700000000000003,35,35.200000000000003,35.6,35.6,35.700000000000003,35.799999999999997,36.1,36.1,36.200000000000003,36.700000000000003,37.4,37.4,38,38.5,38.6,38.299999999999997,38.4,38,38,37.9,38.799999999999997,39.1,40,39.700000000000003,40.299999999999997,40.700000000000003,41.6,41.3,41.7,42.2,42.3,42.8,42.2,41.7,43.1,44.1,44.5,43.6,43.3,43,43.6,43.4,44.1,42.8,43.8,44.5,0.70000000000000284,1.5981735159817417E-2,25,12,2.7999999999999972,6.7146282973621033E-2,24,9,1.3999999999999986,3.2482598607888595E-2,30,25,10.799999999999997,0.32047477744807112,24,8]
["Illinois","SMS17000002000000001",236.1,233.3,228.8,219.4,218.2,215.5,213.9,212.5,210.9,208,206.3,203.9,null,202.3,200.8,200.7,201.8,200.2,199.3,189.5,197.1,197.5,198.7,198.6,196.4,null,196.8,197.9,198.2,197.4,198.6,197.2,196.5,196.6,194.9,191.4,191.8,194.2,null,193.2,192.8,193.2,190.8,188.7,187.2,186.8,186.1,186.3,187.5,187.8,189.1,null,191.1,193,189.9,186.1,188.6,190.3,191.3,191.2,191.9,189.6,193.4,191.1,null,196.3,196.5,197.1,198.8,199.7,201.4,202,203.2,204.1,204.1,205.6,209.9,208.8,209.9,210.4,214,213.7,213.8,213.2,213.9,214.9,215.9,212.5,217.8,218.7,219.3,221.2,218.5,217.9,217.6,217.7,217.8,218,214.9,212.7,210.4,216.3,223.4,216.4,212.2,216.9,215.2,212.8,214.1,212.5,211.2,213.3,2.1000000000000227,9.9431818181819256E-3,10,21,0.60000000000002274,2.8208744710861437E-3,33,36,2.9000000000000057,1.3783269961977212E-2,22,33,-0.59999999999999432,-2.8050490883590198E-3,41,39]
["Indiana","SMS18000002000000001",129.80000000000001,128.69999999999999,126.4,120.6,120.1,119.8,116.5,116.6,116.1,115.2,116.6,114.7,null,114.2,113.8,114.1,115.3,115,115.5,116.7,116.7,115.7,117.1,117.5,116.7,null,117.5,117.6,117.4,116,118.1,118.6,120.3,121.3,123.1,123.4,124.2,124.7,null,125.7,125.4,126,126,124.3,125.1,123.9,124.6,124.9,125,124.1,124.9,null,124.4,126.3,124.9,123.9,123.4,123,122.3,121.6,120.7,123.5,125.1,125,null,122,122.2,122.2,122.5,122.5,123.5,123.3,122.9,122.5,122.4,122.8,122.9,127.2,127.4,125.4,126.3,127,126.5,124.9,126.4,126.5,126.8,129,131,130.5,130.6,130.1,130.9,130.19999999999999,130.19999999999999,130.80000000000001,131.5,133.30000000000001,130.69999999999999,129.1,128.80000000000001,134.80000000000001,135.6,134.1,133.9,136.6,137.69999999999999,137,136.1,136.1,134.30000000000001,139.19999999999999,4.8999999999999773,3.6485480268056418E-2,4,2,10.099999999999994,7.8233927188226138E-2,8,7,10.399999999999977,8.0745341614906652E-2,5,7,22.699999999999989,0.19484978540772521,14,16]
["Iowa","SMS19000002000000001",69.2,69,67.400000000000006,65.7,65.3,64.5,64.099999999999994,63.6,63.4,62.8,62.7,61.5,null,62.2,62,61.6,63.3,62.3,62.1,61.5,60.7,60.6,61.1,61.2,61,null,60.6,61.2,61.3,61.8,62,61.9,62.3,62.9,63.2,63.5,63.5,63.6,null,64.099999999999994,64.400000000000006,65.7,66.2,64.900000000000006,64.400000000000006,63.9,63.8,64,64.400000000000006,64.400000000000006,65.400000000000006,null,66,66.8,65.7,65.2,66,67.5,68,68.5,68.5,69,69.599999999999994,68.2,null,70.099999999999994,70.7,71.2,74.2,74,75,74.900000000000006,75.400000000000006,76,76.900000000000006,77.099999999999994,77.5,77.599999999999994,78.2,78.5,78.8,77.5,77.400000000000006,77.5,77.099999999999994,77.599999999999994,78.599999999999994,81.3,82.9,79.900000000000006,80.3,83.5,81.099999999999994,80.099999999999994,79.5,80.8,81.3,81.400000000000006,80.599999999999994,80.8,81.099999999999994,78.8,80.400000000000006,81.3,79.2,78.8,78.7,76.3,75.2,74.8,75.099999999999994,74.7,-0.39999999999999147,-5.3262316910784487E-3,35,37,-6.0999999999999943,-7.5495049504950423E-2,43,44,-6.3999999999999915,-7.8914919852034429E-2,43,44,10.600000000000009,0.16536661466458674,25,20]
["Kansas","SMS20000002000000001",61.8,60.7,59.8,58.4,58.3,57.7,57.5,56.5,55.9,54.9,54.8,53.9,null,53,52,52.8,54.7,53.9,54.3,54.8,55.1,54.9,55.3,54.6,54.1,null,52.8,52,53.4,53.3,53.1,52.6,52.5,52.7,53.1,54,54,54.2,null,55.9,55.5,57.2,55.3,55.3,55.1,54.4,54.2,54.3,54.1,54.3,54.6,null,55.1,56,55.2,55.8,55.9,56.4,56.8,57.3,57.6,58,57.7,58.3,null,60.4,59.9,60.2,60.1,60.5,59.9,60,59.5,59.2,59.2,59.8,60.7,60.2,61.1,60.7,61,60.5,60.4,60.4,60.8,61,61.6,60.8,61.8,61.9,61.8,62,60.9,60.6,61.1,61.2,61.1,61.4,60.3,60.5,60.9,60.7,62,62.9,61.2,60.7,61.5,61.9,61.9,62.4,62.2,62.3,9.9999999999994316E-2,1.6077170418005516E-3,33,32,1.7999999999999972,2.9752066115702431E-2,30,27,1.3999999999999986,2.2988505747126416E-2,30,29,4.7999999999999972,8.3478260869565168E-2,30,32]
["Kentucky","SMS21000002000000001",79.400000000000006,77.900000000000006,76.2,74,73.599999999999994,73.099999999999994,72.400000000000006,72.099999999999994,72,72,72.2,71.8,null,70.2,68.2,68.900000000000006,68.8,68,66.8,67.400000000000006,67.3,67.099999999999994,67.7,67.400000000000006,67.2,null,66.5,67.3,67.8,68.099999999999994,68.3,68.599999999999994,68,68,67.7,66.7,67.599999999999994,67.8,null,68.2,68.400000000000006,68.3,68,67.7,67.2,67.2,66.900000000000006,66.8,66.3,66.400000000000006,66.400000000000006,null,67.3,67.5,67.400000000000006,66.900000000000006,67,67.599999999999994,67.8,68.099999999999994,68.7,68.599999999999994,66.5,65.2,null,70.3,70.599999999999994,72,72.2,72.400000000000006,72.900000000000006,72.7,72.900000000000006,73.5,72.400000000000006,73.8,74.3,75.400000000000006,75.599999999999994,74.099999999999994,75.2,75.099999999999994,74.900000000000006,76.599999999999994,75.8,75.900000000000006,77.599999999999994,76.900000000000006,78.3,77.400000000000006,77.599999999999994,77.2,77.2,76.900000000000006,76.7,77,76.3,76.599999999999994,76.599999999999994,77.3,76.5,79.5,82.1,79.7,81.2,80.400000000000006,79.400000000000006,80.2,82.3,83.8,81.2,81.3,9.9999999999994316E-2,1.2315270935959891E-3,33,33,4,5.1746442432082797E-2,20,18,4.7999999999999972,6.2745098039215644E-2,19,11,8.8999999999999915,0.12292817679557998,27,29]
["Louisiana","SMS22000002000000001",135.80000000000001,135.6,132.80000000000001,131.9,131.6,130.1,129.4,128.6,127.7,126.3,126,123.8,null,122.8,121.3,120.8,120.5,119.5,121.5,121.6,121.9,121.3,121.4,121,121.8,null,122.5,122.8,122.9,125.2,123.3,121.7,123.9,121,120.8,120.2,119.6,119.7,null,123.5,123.7,124.4,125.3,126.2,126.6,125.7,126.4,127.8,128.4,129.19999999999999,128.80000000000001,null,129,129.9,131,130.30000000000001,130.4,131.1,131.4,131.1,131.19999999999999,136.19999999999999,132.30000000000001,131.80000000000001,null,133.69999999999999,134.9,136.19999999999999,136.4,138.6,137.9,141.19999999999999,143.1,144.1,143.30000000000001,142.5,141.69999999999999,140.80000000000001,139.9,139.1,139.19999999999999,138.80000000000001,139.4,139.69999999999999,140.4,140.69999999999999,142.5,144,145,140.6,139.9,139.80000000000001,139.19999999999999,139.1,140,141.6,138.19999999999999,138.4,142.6,143.1,142.9,150.80000000000001,153.9,147.19999999999999,146.69999999999999,151.6,153.80000000000001,154,152.9,153,150.5,151.4,0.90000000000000568,5.9800664451827622E-3,19,24,8.3000000000000114,5.8001397624039212E-2,11,14,8.5,5.9482155353393983E-2,10,14,22,0.17001545595054096,15,19]
["Maine","SMS23000002000000001",27,26.4,25.9,25.5,25.4,25,24.8,24.7,24.5,24.2,24,24.1,null,24.3,24.2,24.2,24.5,24.3,24,23.9,24.2,24.6,24.7,24.8,24.7,null,24.9,24.9,24.9,24.8,24.6,25.1,25.5,25.4,25.6,25.7,25.8,25.9,null,25.8,25.9,25.8,26.2,25.9,25.5,25.5,25.4,25.4,25.3,25.2,25.2,null,25.3,25.6,25.4,25.4,25.4,25.5,25.3,25.4,25.4,25.6,25.6,25.4,null,25.8,26,25.9,25.5,26,26,26.1,25.9,25.9,25.4,25.9,26,26.3,26.2,26.2,26.1,26.4,26.3,26.4,26.3,26.2,26.6,26.7,26.9,27.6,27.6,27.8,27.7,27.2,27.1,27,26.9,26.8,27.2,27.4,28.1,28.4,29.3,29.9,29.7,28.8,28.8,29,28.7,28.4,27.7,28,0.30000000000000071,1.0830324909747318E-2,28,18,0.60000000000000142,2.1897810218978155E-2,34,31,-0.10000000000000142,-3.558718861210015E-3,35,35,3.1999999999999993,0.1290322580645161,34,27]
["Massachusetts","SMS25000002000000001",120,118.9,116.2,113.9,112.1,110.7,109,108.1,107.4,106.7,106.6,107,null,106.7,106.5,106.9,106.8,106.9,106.9,107.2,106.6,107,107.6,107.8,107.8,null,107.8,107.9,108,109.3,109.9,110.6,111.6,112.3,112.6,112.4,112.6,113.1,null,114,114.7,115.8,115.6,113.8,114.6,114.7,115.2,115.7,117.1,118.2,118.9,null,119.4,120.9,120.4,120.5,121.4,122.1,122.6,123.2,123.3,122.7,122.6,121.4,null,124.8,125.5,126,126.3,127.3,128,128.4,128.6,129.1,128.1,128.4,128.30000000000001,133.80000000000001,133.1,134.1,135.69999999999999,137.9,138,138.5,139.30000000000001,139.19999999999999,139.4,143.69999999999999,144.80000000000001,144.6,144.9,146.19999999999999,145.5,145.1,144.80000000000001,145.19999999999999,145.4,145.69999999999999,145.4,146.1,147.9,149.6,149.9,150.4,149.6,149.4,146.6,148.4,149.19999999999999,152.1,152,154.80000000000001,2.8000000000000114,1.8421052631579022E-2,8,8,8.7000000000000171,5.9548254620123323E-2,10,13,6.9000000000000057,4.6653144016227215E-2,14,19,45.800000000000011,0.42018348623853219,6,3]
["Michigan","SMS26000002000000001",138.69999999999999,137,133.80000000000001,132.1,129.80000000000001,126.6,124.5,122.9,121.1,121.4,121.2,121.3,null,120.7,119.7,120.3,122.6,120.5,119.7,121,121.7,122.7,124.9,123.6,123,null,123.7,123.9,123.2,122.7,123.3,124.7,126.8,127.2,126.9,126.5,126.7,127,null,128.1,129.4,128.80000000000001,132.69999999999999,127.3,126.7,126.3,126.4,127.6,128.5,129.19999999999999,130.19999999999999,null,132.9,134.4,131.4,131.4,132.1,132.30000000000001,132.30000000000001,133,133,131.69999999999999,131.80000000000001,132.30000000000001,null,137.30000000000001,139.19999999999999,138.1,139.4,140.6,142.30000000000001,142.5,143.6,144.19999999999999,141.30000000000001,142.69999999999999,144.6,147.1,147.6,148,148.4,148.1,148,146.69999999999999,146.80000000000001,147.19999999999999,146.9,149.9,152.30000000000001,152.19999999999999,152.9,153.80000000000001,155.6,154.9,153.9,154.69999999999999,154.9,155.4,158.6,159.69999999999999,157.5,162.1,164.3,163.9,164.1,163.30000000000001,160.4,160.5,161.69999999999999,162.69999999999999,162.6,163.4,0.80000000000001137,4.9200492004920753E-3,22,28,3.7000000000000171,2.316844082654989E-2,22,29,5.9000000000000057,3.7460317460317499E-2,15,22,38.900000000000006,0.31244979919678717,7,9]
["Minnesota","SMS27000002000000001",98.6,97.5,95.7,93.5,94.4,92.6,91.2,90.7,91,89.8,90.9,91.8,null,89.8,87.2,86.2,88.7,86.2,86.1,86.6,86.8,87,88.4,88.5,88.5,null,90,90.3,90.4,89.8,90.4,90.8,91.5,92.6,92.9,93,93.2,93.9,null,93.2,93.6,95.6,100.6,94.7,94.1,94.6,94.2,94,94.6,94.4,95.8,null,96.4,97.7,98.2,99.4,100.1,101,101.3,102.3,103.1,104,105.1,106.2,null,104.8,104.7,105,106.7,107.7,109.6,109.2,109.2,109.2,108.3,106,105.8,111.5,112.3,113.1,114.9,115.9,116.8,116.8,117.2,115.7,113.6,115.3,115.8,114.8,115.4,115.8,119.4,116.8,115.9,115.8,115.4,116.1,114,117.5,118.9,117.6,122.2,121.2,124.2,122,123,122.1,121.7,121.4,119.5,121.3,1.7999999999999972,1.5062761506276126E-2,12,13,3.7999999999999972,3.2340425531914872E-2,21,26,2.3999999999999915,2.018502943650119E-2,26,31,30.099999999999994,0.33004385964912275,11,7]
["Mississippi","SMS28000002000000001",55,54.5,53,52,51.8,52.1,51.3,50.5,49.4,47.9,48.3,47.9,null,48.1,47.7,48.2,50.5,49.5,49,49.5,50,50,50.2,50.4,50,null,49.4,49.3,49.6,49.2,48.9,49,48.5,48.1,48.7,48.7,48.3,47.7,null,48.5,49.2,49.1,49.9,48.5,47.5,47.2,48,48.2,48.1,48.2,48.3,null,48.7,50.2,49.6,49.8,50.2,50.9,51.8,52.1,52.4,54.4,53.3,53.2,null,51.8,50.7,50.6,50.5,49.8,49.3,49,48.4,47.5,46.6,45.9,45.9,47,47.6,46.3,46.2,45.8,45.2,45.8,45.7,46.1,46.5,47,47.3,46,45.9,46.1,44.4,43.5,43.9,43.8,43.5,43.5,43,42.9,42.3,43.5,41.9,41.2,41.1,41.7,42.5,42.2,42.9,44,43.1,43.3,0.19999999999999574,4.6403712296982768E-3,31,30,0.39999999999999858,9.324009324009291E-3,35,34,1,2.3640661938534282E-2,32,28,-8,-0.15594541910331386,44,44]
["Missouri","SMS29000002000000001",129.80000000000001,128.1,124.8,120.2,120.1,118.6,117.3,115.5,114.4,112.7,112.6,110.6,null,109.5,107,107,107.2,105.3,106,105.1,105.3,105.4,106.1,106,105.5,null,100,101.9,102.9,103.2,103.7,103.6,104.3,103.8,103.9,103.6,103.3,104,null,104.5,104.2,105.6,104.4,104.1,103.5,103,103.6,103.5,103.8,104.5,106,null,105.1,106.8,105.2,105.9,106.5,107.6,108.4,107.9,108.5,108,109.8,107.2,null,109.8,109.6,110.7,110.4,110.1,109.5,109.5,109.7,109.6,108.4,109.2,110.7,113.4,114.5,112.9,112.8,113.7,113.2,113.2,114.3,114.6,115.6,115.9,117.8,119.2,119.5,119.5,119.9,119.7,120.3,120.5,120.8,121.4,120.1,122.5,123,122.6,124.8,121.5,119.5,115.1,117.6,119.9,117.5,115.2,115,116,1,8.6956521739130436E-3,17,23,-6.5,-5.3061224489795916E-2,44,43,-7,-5.6910569105691054E-2,44,43,-1.2999999999999972,-1.1082693947144052E-2,42,41]
["Montana","SMS30000002000000001",26,25.5,24.5,24.2,23.7,24,23.6,23.5,23.2,23.2,23.1,22.6,null,22.8,22.5,22.7,22.6,22.5,22.4,22.5,22.5,22.5,22.9,22.4,22.2,null,22,21.9,21.9,22.2,22.3,22.5,23,23,23.3,23.3,23.1,23.5,null,23.4,23.4,23.4,23.8,23.3,22.9,22.7,22.7,23,23.1,23.2,23.5,null,23.7,24.2,24,24.4,24.6,24.2,23.9,23.9,23.6,23.5,23.7,24.1,null,24.6,24.5,24.8,24.9,24.7,25.6,25.3,25.1,24.5,23.9,24.3,25.6,26.1,26.5,26.8,26.3,26.6,26.5,26.4,26.5,26.2,26.4,26.9,27.1,26.8,27,27.1,27.2,27.1,27.1,27,27.1,27.2,26.2,28.2,27.6,28,28.9,28.9,27.8,27.7,27.3,27,27.1,26.8,27.8,27.2,-0.60000000000000142,-2.158273381294969E-2,41,41,-1,-3.5460992907801421E-2,38,41,-0.40000000000000213,-1.4492753623188482E-2,38,37,3.5999999999999979,0.15254237288135583,32,24]
["Nevada","SMS32000002000000001",99.7,95.4,91.9,87.2,82.1,80,77.7,75.3,73.5,72.3,70.7,67.3,null,64.2,61.8,61,61,60.3,59.6,58.7,57.7,56.5,57,57.1,56.4,null,57.9,55.6,53.4,52.2,51.8,51.3,51.2,50.9,50.6,50.2,50.3,50.4,null,53.2,51.2,51.2,51.3,51.1,51.2,51,51.5,52.2,52.4,53.4,54,null,57,55.8,56.7,57.2,56.2,56.2,56,56.4,57,59.9,58.4,58.3,null,60.1,60.9,61.6,62,62.8,62.8,63.7,64,64.5,63.3,63.2,64.2,66.7,68.2,67.900000000000006,67.900000000000006,68.599999999999994,69.2,69.8,70.5,70.900000000000006,71.3,71.7,72,74.2,74.8,75.099999999999994,74.8,74.3,75.2,76,75.900000000000006,76.8,78.2,78.8,81.3,81.7,80.099999999999994,81.8,84,82.6,84.3,85.8,87.1,86.7,88.1,89.7,1.6000000000000085,1.8161180476731084E-2,15,9,10.900000000000006,0.13832487309644678,6,1,8.4000000000000057,0.10332103321033217,11,3,12,0.15444015444015444,21,22]
["New Hampshire","SMS33000002000000001",24.2,23.7,23,22.3,22.5,22.4,22,22.1,22.7,22.3,21.9,22.1,null,21.5,21.2,21.2,21.1,21.3,21.2,21.4,21.5,21.5,21.6,21.6,21.7,null,21.9,22,22.2,22.3,22.1,22,22.1,22,22.2,22.1,22.3,22.4,null,22.3,22.3,22.5,22.6,22.1,22,22,22,22.1,22.2,22.1,22.2,null,22.6,22.6,22.5,22.5,22.7,22.8,22.3,22.2,22.1,22,22.7,21.8,null,23.1,23.2,23.2,23.1,23.1,23.2,23.2,23.1,23,23.3,23.7,24,24,23.6,23.6,23.7,24,24.2,24.3,24.5,24.6,25.2,25.5,25.4,25.4,25.4,25.5,25.5,25.3,25.3,25.5,25.5,25.6,25.8,25.9,26.3,27,27.6,27.1,28.1,27.5,28.1,28.5,28.7,28.2,28.2,28.5,0.30000000000000071,1.0638297872340451E-2,28,19,2.6000000000000014,0.10038610038610045,26,3,2.1999999999999993,8.3650190114068407E-2,28,5,6.5,0.29545454545454547,28,11]
["New Jersey","SMS34000002000000001",150,148.69999999999999,145,141,139.9,138.1,136.30000000000001,135.4,134.1,132.1,132,131.9,null,132,131.1,129.69999999999999,131,130.6,129.69999999999999,129,128.19999999999999,128,129.1,129.6,127.4,null,124.8,126.3,126.9,128.5,129.19999999999999,130.1,131.69999999999999,132.1,132.19999999999999,132.69999999999999,132.80000000000001,132.6,null,133.80000000000001,133.69999999999999,131.5,129.30000000000001,128.19999999999999,128.4,128.19999999999999,128.5,129.19999999999999,129.69999999999999,131.30000000000001,133.1,null,135.80000000000001,135.69999999999999,136.1,137.30000000000001,137.9,137.9,137.9,138.69999999999999,139.19999999999999,136.4,136.6,128.80000000000001,null,138.1,137.69999999999999,138.5,140.19999999999999,141.9,142.30000000000001,143.5,144,145.4,141.80000000000001,144.30000000000001,144.30000000000001,145.69999999999999,146,145.19999999999999,147.5,148.5,149,148.6,148.4,147.6,147.5,149.5,150.69999999999999,153.9,154.4,154.9,153.5,152.9,153.1,153.19999999999999,152.9,152.80000000000001,151.4,150.6,150.9,155.1,156.69999999999999,154,153,153.5,157.6,157.9,158.1,157.9,157.1,158,0.90000000000000568,5.7288351368555424E-3,19,26,7.4000000000000057,4.9136786188579057E-2,13,19,7.0999999999999943,4.7051027170311427E-2,13,18,21.699999999999989,0.15920763022743936,16,21]
["New Mexico","SMS35000002000000001",52.5,51.6,50,48.4,48,47.3,46.6,46.7,45.9,45.3,44.8,44.4,null,44.5,44.1,43.4,43.6,43.4,43.2,43.4,43.4,43.3,43.4,43.3,43.4,null,43,42.4,43,42.9,42.9,42.5,42.9,42.2,41.7,41.2,41.1,40.9,null,41,40.9,41.3,40.9,40.799999999999997,40.9,40.6,40.200000000000003,40.200000000000003,42.3,42.3,42.2,null,42.2,42.2,41.9,41.8,41.7,41.4,41.5,41.8,42,42.4,42.6,42,null,42.9,42.5,42,41.9,42.5,42.4,42.9,42.6,42.6,42.8,43.2,43.1,43.4,43.5,43.5,43.6,43.5,43.4,43.3,43,43,43.8,43.7,43.4,44.1,44.5,44.2,43.4,43,42.9,42.7,42.7,42.8,42.8,43.5,43.7,44.3,44.5,46.1,47,46.4,46.5,44.6,45.9,45.7,45.6,46.4,0.79999999999999716,1.7543859649122744E-2,24,10,2.8999999999999986,6.6666666666666638E-2,23,10,2.6999999999999957,6.1784897025171523E-2,24,12,-0.20000000000000284,-4.2918454935622925E-3,39,40]
["New York","SMS36000002000000001",341.1,338.3,334.9,329,326.39999999999998,324.5,322.8,319.7,318.60000000000002,314.39999999999998,313.39999999999998,312.7,null,310.2,305.7,307.60000000000002,312.89999999999998,307.5,306.7,305.8,306.60000000000002,306.2,305.5,304.5,302,null,300.10000000000002,302.39999999999998,304.5,305.8,306.8,307.10000000000002,311.60000000000002,311.3,311.3,311.89999999999998,311,311.7,null,314,315,316.5,314.60000000000002,311.7,312.7,312.60000000000002,312.5,313.39999999999998,315.39999999999998,316,322.10000000000002,null,324.5,324.8,324.89999999999998,324.89999999999998,325.60000000000002,325.7,325,325.60000000000002,326.7,320,320.3,322,null,331.3,330.2,333.7,336.5,340.4,344,345.3,345.7,347.9,340.6,340.9,346.9,351.9,350.1,352.5,358.1,361.5,362.1,360.5,361.2,360.7,363.3,370.5,373.5,373.4,374.4,376.3,376,374.5,372.4,373.9,374.7,374.7,368.6,368.3,370.3,379.1,385.4,381.4,378.8,378,377.6,375.9,373.8,371,375.6,380.9,5.2999999999999545,1.4110756123535554E-2,3,14,12.599999999999966,3.4211240836274685E-2,4,24,10.599999999999966,2.8625438833378248E-2,4,27,58.099999999999966,0.17998760842627001,4,18]
["North Carolina","SMS37000002000000001",209.1,207.1,201.7,195.1,193.6,191.5,189.1,187.3,185.7,183.5,182.3,181.1,null,178.6,177,177.9,178.6,178.2,177.3,176.3,175.8,175,175.1,175.1,174.3,null,169.8,174.2,174.6,173.9,174.5,174.4,174.3,173.5,173.9,172.5,172.9,173.7,null,173.6,173.9,174.8,173.2,172.5,171,170.7,170.8,170.2,170.9,170.9,171.3,null,172.5,172.8,172.8,173.2,172.8,173.2,173.1,173.4,173.4,173.3,173.2,173.2,null,175.9,176,176.9,177,177.4,178.5,178.9,179.5,179.6,181.4,182.2,184.4,185.2,187.2,184.9,186.5,188.6,189.2,189.7,190.2,190.5,193.3,189.8,193.8,196.7,197.9,198.3,199.2,199.1,199.5,200.6,201,202.1,203.7,203.7,204,205.2,206.4,202.8,199.7,202.8,200.5,198.6,199,200.5,200.4,200.6,0.19999999999998863,9.9800399201591138E-4,32,34,-3.0999999999999943,-1.5218458517427563E-2,42,39,-3.4000000000000057,-1.6666666666666694E-2,42,40,11.5,6.0814383923849816E-2,22,34]
["North Dakota","SMS38000002000000001",20.3,20.399999999999999,20.399999999999999,19.399999999999999,20.5,20.9,21.1,21.4,21.7,21.5,21.4,21.2,null,21,21.3,21.5,22,22.1,20.8,20.8,21.1,21.3,21.7,22.4,22.7,null,22.6,22.7,23.1,22.7,23.5,23.6,24.5,25.2,26.2,26.5,27.3,27.1,null,27.9,28.5,28.8,29.8,30.2,30.4,30.4,30.5,30.6,30.7,30.6,31.1,null,31.3,31.7,31.7,30.8,32.5,33,33.299999999999997,33.9,33.9,32.700000000000003,32.799999999999997,32.299999999999997,null,32.1,32.700000000000003,33.1,33.9,34.700000000000003,35.4,35.700000000000003,35.799999999999997,36.1,35.9,36.4,37.200000000000003,36.799999999999997,36.5,36.200000000000003,35.700000000000003,35.1,34.700000000000003,34.200000000000003,33.9,33.6,33.700000000000003,32.700000000000003,32.299999999999997,30.8,30.9,31.4,32.1,32.200000000000003,32.9,33.1,33.1,33,33,33,32,32.200000000000003,32.200000000000003,32.4,32.9,33.200000000000003,33.299999999999997,33.200000000000003,32.4,32.4,31.8,31.4,-0.40000000000000213,-1.2578616352201324E-2,37,39,-1.6000000000000014,-4.8484848484848526E-2,41,42,-0.60000000000000142,-1.8750000000000044E-2,39,41,10.299999999999997,0.48815165876777233,26,1]
["Ohio","SMS39000002000000001",196.6,195,190.9,181.8,182.5,180.6,178.7,177,174.6,172.5,171.8,171.3,null,169.8,168.3,168.2,168.8,167.1,166.8,168.3,168.6,168.7,171.2,171.3,170.4,null,171.3,172.7,172.3,172.9,172.3,173.4,177.3,179.3,180.6,179.7,180.6,183.1,null,183.4,183.1,183.6,182.6,181.3,180.2,179,178.1,179.2,180.6,180.9,181.7,null,183,184,183.4,182.6,185,185.7,185.8,186.3,187,185.3,184.2,186.6,null,189.4,190.8,192.7,194.8,196.5,197.4,198,198.2,197.9,192.6,192.9,193.5,197.4,198.4,197.9,199.1,200,199.4,199.6,199.5,199.5,202.3,204.9,206.6,207.8,209,211,207.6,206.2,205.6,204.5,203.2,203.7,202.7,206.3,203.4,211.6,217.9,219,213.2,211.1,212.1,209.4,212.3,213.4,212.5,212,-0.5,-2.352941176470588E-3,38,35,5.6999999999999886,2.7629665535627668E-2,16,28,8.5999999999999943,4.2281219272369684E-2,8,21,33.300000000000011,0.18634583100167887,8,17]
["Oklahoma","SMS40000002000000001",74,73.7,71.900000000000006,69.400000000000006,69.2,69.099999999999994,68.3,67.7,67.099999999999994,66.400000000000006,65.599999999999994,65.3,null,65.3,65.2,65.400000000000006,65.900000000000006,66.8,66.8,67,67.400000000000006,67.400000000000006,68.7,68.5,69.099999999999994,null,67.599999999999994,66.5,68,68.5,68.400000000000006,68.5,68.599999999999994,68.5,68.7,68.3,68.400000000000006,68.599999999999994,null,69.2,69.099999999999994,69.099999999999994,69.3,69.8,69.599999999999994,69.8,69.599999999999994,70,71.400000000000006,72.5,73.7,null,72.3,72.900000000000006,73.400000000000006,73.400000000000006,73.599999999999994,74.099999999999994,74.400000000000006,75.3,75.7,75.8,77.599999999999994,75.5,null,76,76.099999999999994,75.599999999999994,74.8,74.5,74,74.900000000000006,75.5,75.3,76.599999999999994,77,77.5,76.900000000000006,78,77.3,77.2,77.099999999999994,77.3,77.900000000000006,77.599999999999994,77.5,78,79.099999999999994,79.8,77.7,77.900000000000006,76.900000000000006,77.2,77.3,77,77.900000000000006,77.900000000000006,78.2,77,76.8,76.5,80.400000000000006,80.599999999999994,79.099999999999994,77.7,77.599999999999994,78.900000000000006,81.2,81.900000000000006,82.1,83.2,81.8,-1.4000000000000057,-1.6826923076923146E-2,44,40,5,6.5104166666666671E-2,17,11,5.2999999999999972,6.9281045751633949E-2,18,8,13.5,0.19765739385065886,19,15]
["Oregon","SMS41000002000000001",82.3,79.8,77.3,75,74,73.8,72.599999999999994,71.599999999999994,71.5,70.7,69.7,69.400000000000006,null,68.7,68.2,68.099999999999994,67.5,67.400000000000006,67.2,67.3,67.2,67.099999999999994,67.5,67.400000000000006,67.400000000000006,null,67.8,68.3,68.3,68.8,68.5,68.7,68.2,68.099999999999994,68.7,68.3,69.599999999999994,70,null,70.599999999999994,70.5,70,70,70.099999999999994,69.599999999999994,69.8,70.2,69.599999999999994,69.2,69.400000000000006,69.400000000000006,null,70.400000000000006,71.2,72.400000000000006,73.400000000000006,74.099999999999994,74,74.3,74.400000000000006,74.8,74.8,75.099999999999994,75.3,null,78.400000000000006,78.599999999999994,79.400000000000006,80.5,80.2,80,80.099999999999994,79.900000000000006,80.099999999999994,79,80.099999999999994,80.7,81.900000000000006,83.1,82.4,81.900000000000006,81.7,82,81.900000000000006,82.6,82.7,83,83.7,84.1,86.9,89.3,88.7,89.2,89.5,89.8,90.1,90.5,90.6,92.7,94.1,94.8,97.3,97.1,97,97.7,99.4,100.8,101.8,101.2,103.9,103.6,103.2,-0.39999999999999147,-3.8610038610037791E-3,35,36,9.1000000000000085,9.6705632306057485E-2,9,4,8.4000000000000057,8.8607594936708917E-2,11,4,30.600000000000009,0.42148760330578527,10,2]
["Pennsylvania","SMS42000002000000001",239.1,238.1,231.9,228.4,226.1,223.4,220.9,219.5,218.5,217.3,216.1,216.2,null,214.9,211.4,212.1,219,218,217,217,216.8,216,216.2,217.1,216.3,null,216.6,218,219,221.4,221.9,222.7,224.7,224.3,224.8,226.6,227.3,226.9,null,227.9,228.6,229.1,226.4,224.2,225.2,224.1,223.4,225.5,225.8,225.3,225.6,null,225.3,225.7,226,225.4,225.5,225.8,225.8,226.6,226.7,228.9,228.5,222.4,null,227.5,225.4,225.6,230.2,231.4,232.2,232.6,232.5,232.2,233.7,235.8,232.1,233.1,231.7,228.3,232.8,234.8,235.6,235.5,236.6,236.3,236,232.3,231.7,240.3,239.3,239.9,240.7,238.2,237.6,238.4,237.6,237.6,238,238.5,240.9,247.1,248.3,245.9,245.1,243.7,243.3,240.6,242.3,245.6,246.1,249.5,3.4000000000000057,1.3815522145469345E-2,5,15,11,4.6121593291404611E-2,5,21,8.5999999999999943,3.5699460356994582E-2,8,23,28.599999999999994,0.12947034857401538,12,26]
["Rhode Island","SMS44000002000000001",18.7,18.5,18.100000000000001,17.600000000000001,17.3,17,16.8,16.600000000000001,16.600000000000001,16.5,16.3,16.3,null,16.100000000000001,16,16,16,16,16,15.9,16,15.9,15.9,15.9,15.7,null,15.7,15.4,15.4,15.5,15.5,15.6,15.9,15.7,15.8,15.9,16,16.100000000000001,null,16.3,16.3,16.5,16.2,15.7,15.9,15.9,15.9,15.8,15.9,16,16.100000000000001,null,16,16.100000000000001,16.2,16,16.100000000000001,16.100000000000001,16.100000000000001,16.100000000000001,16.2,16.100000000000001,16.100000000000001,15.9,null,16.3,16.3,16.3,16.5,16.600000000000001,16.600000000000001,16.5,16.399999999999999,16.5,16.2,16.399999999999999,16.600000000000001,16.600000000000001,16.399999999999999,16.5,16.7,16.8,16.899999999999999,17,17,17.100000000000001,17.2,17.3,18.399999999999999,17.899999999999999,18,18.3,18,17.899999999999999,17.899999999999999,18.100000000000001,18.2,18.3,18.3,18.5,18.600000000000001,19.5,19.899999999999999,19.8,19.899999999999999,20.100000000000001,20.399999999999999,20.3,21.2,20.7,20.399999999999999,20.9,0.5,2.4509803921568631E-2,27,4,2.3999999999999986,0.12972972972972965,27,2,2.2999999999999972,0.12365591397849446,27,1,4.0999999999999979,0.2440476190476189,31,13]
["South Carolina","SMS45000002000000001",97.2,95.1,93,89.8,88.8,87.3,85.6,84.5,82.6,82,81.5,80.900000000000006,null,80.2,79.8,78.599999999999994,80.099999999999994,80,79.7,79.900000000000006,79.400000000000006,79.599999999999994,79.099999999999994,78.8,79.400000000000006,null,76.7,78.2,77.099999999999994,77.2,77.2,77,77,76.900000000000006,77.3,77,77.2,77.8,null,77.7,78,77.900000000000006,77.099999999999994,76.900000000000006,77.2,77,77.099999999999994,76.8,77.8,77.8,77.5,null,79.599999999999994,78.599999999999994,79,79.5,79.7,79.2,79.7,79.5,79.400000000000006,82,82.4,82.2,null,81.5,81.599999999999994,81.400000000000006,82.2,82.2,82.3,82.2,82.1,82.1,82.9,83,83.7,84.7,85.5,85.3,85.7,86,86.4,86.8,87.1,87.5,88.1,88.5,88.6,91.2,92.6,92.6,93.2,93.6,94.3,95,95.8,96.3,98.1,99.8,98.4,98.5,96.1,95.3,96.2,98.2,98,98.1,95.2,97.7,97.8,98.8,1,1.0224948875255624E-2,17,20,-1,-1.002004008016032E-2,38,38,0.39999999999999147,4.0650406504064169E-3,34,34,13.200000000000003,0.15420560747663556,20,23]
["Texas","SMS48000002000000001",647.29999999999995,637.29999999999995,623.20000000000005,605.1,603.6,597.79999999999995,590.1,583.5,578.29999999999995,570.70000000000005,568,565.29999999999995,null,568.4,562.20000000000005,563.5,562.4,564.9,564,566.5,565.4,562.4,563.70000000000005,561.70000000000005,561.9,null,559.79999999999995,559.4,560.4,557.29999999999995,559.79999999999995,560.70000000000005,569,566.20000000000005,567.9,566.1,568.5,568.79999999999995,null,573.5,572.1,575.29999999999995,580.29999999999995,583.6,582.9,583.1,586.79999999999995,590.29999999999995,594.79999999999995,594.6,595.9,null,599.4,606.70000000000005,608.4,610.20000000000005,610.1,613.6,614.20000000000005,615.6,617.4,619.6,615.5,619.20000000000005,null,628.70000000000005,634.1,633.79999999999995,642,646.5,647.6,652.9,655.20000000000005,659.8,665.3,669.9,677.9,675.4,679.6,676.8,675.8,677.8,681.7,682.6,684.8,686.1,690.3,696.5,698.2,696.5,696.8,695.4,702.9,700.7,698.5,702.6,699.6,701.1,703.2,705.5,704.9,710,710.3,716.2,707.9,712.2,713.9,712.2,711.3,715.9,721.2,729.4,8.1999999999999318,1.1369938990571175E-2,1,17,23.899999999999977,3.3876683203401807E-2,3,25,24.5,3.4756703078450843E-2,3,24,139.29999999999995,0.23606168446026088,2,14]
["Utah","SMS49000002000000001",77.900000000000006,75.8,73.900000000000006,70,70.8,70.099999999999994,69.5,68.599999999999994,68.2,68.2,67,66.400000000000006,null,65.599999999999994,65,64.8,64.099999999999994,64.599999999999994,64.3,64.5,64.5,65.099999999999994,66.2,65.599999999999994,65.400000000000006,null,64.7,64.3,64.3,63.8,63.4,64,66.400000000000006,66.5,66.2,66.2,66.3,66.599999999999994,null,67.5,68.2,68.7,68.8,69.2,69.2,69.099999999999994,69.400000000000006,69.5,69.900000000000006,70.400000000000006,71.099999999999994,null,71.8,72.3,73.5,73,73.099999999999994,73.099999999999994,73.8,73.599999999999994,73.900000000000006,73.8,75.400000000000006,75.099999999999994,null,76.2,76.8,78.3,77.7,77.900000000000006,78.099999999999994,78.2,78.400000000000006,78.8,79.400000000000006,79.3,81.2,82.5,83.4,83.5,83.7,83.2,84,84.3,84.4,85.1,86.3,86.3,86.5,89.8,90.6,91.1,91.7,91.5,91.5,91.6,91.8,92.2,91.6,93.2,92.2,93.8,95.3,95.7,96.2,96.8,98.6,97.5,97.6,96.5,95.8,97.7,1.9000000000000057,1.9832985386221354E-2,11,6,4.5,4.8283261802575105E-2,18,20,5.5,5.9652928416485895E-2,17,13,28.200000000000003,0.40575539568345326,13,4]
["Vermont","SMS50000002000000001",14.4,14.2,14.1,13.8,13.7,13.6,13.6,13.8,13.6,13.6,13.6,13.6,null,13.5,13.4,13.5,14.2,14,13.2,13.6,13.5,13.4,13.6,13.5,13.4,null,13.6,13.6,13.5,13.5,13.6,13.8,14.1,14.3,14.5,15,14.7,14.8,null,14.5,14.4,14.5,14.5,14.4,14.3,14.2,14.1,13.9,13.8,13.9,14,null,14.1,14.2,14.4,13.7,14,13.8,13.7,13.8,14,14.5,14.4,14.6,null,14.7,14.6,14.8,14.6,14.7,14.7,14.7,14.8,14.8,14.3,14.6,14.6,15.2,15.2,15.2,15.1,15.1,15.2,15.1,15.1,15,15.1,15.5,15.8,15.3,15.3,15.5,15.7,15.3,15.2,15.3,15.3,15.2,15.2,14.9,15.4,15.6,16.100000000000001,16,15.8,15.4,15.3,14.9,15,15.4,15.6,15.1,-0.5,-3.2051282051282055E-2,38,44,0.19999999999999929,1.342281879194626E-2,36,32,-0.30000000000000071,-1.9480519480519525E-2,37,42,1.5,0.11029411764705882,36,31]
["Virginia","SMS51000002000000001",205,200,196,191.3,189.9,188.6,187,186.4,185.2,184.6,183.9,183.8,null,183.4,177.7,181.1,184.7,185.2,183.9,184.3,183.8,184.1,183.7,183.3,182.1,null,180.2,180.8,179.9,178.6,178.3,177.1,178.9,178.4,177.3,177.1,176.9,177.7,null,178,177.7,177.5,176.7,175.8,176.1,176,175.5,175.3,176.8,176.8,176.7,null,177.7,178.9,177.7,178,177.8,177.3,176.7,176.9,176.9,176.4,178.6,178.9,null,175.6,176.7,176.9,178.5,179.2,178.4,177.2,177.6,178.1,180,179.9,178.4,180.9,181.3,180.6,182.7,183.7,183.7,184.4,184.8,184.8,185.2,186.9,187.8,187.7,187.5,187.8,187.3,187.3,187,186.7,186.5,187.9,190.1,189,189.3,189.3,186,188.1,189.1,188.4,190,191.8,191.2,192,192.3,193.2,0.89999999999997726,4.6801872074881809E-3,21,29,4.1999999999999886,2.2222222222222161E-2,19,30,3.8999999999999773,2.0602218700475315E-2,21,30,6.1999999999999886,3.3155080213903683E-2,29,35]
["Washington","SMS53000002000000001",179.3,173.9,169.5,164,162.1,160.19999999999999,155.69999999999999,153.4,151.4,149.69999999999999,147.5,146.5,null,145.19999999999999,144,142.6,141.30000000000001,140.4,139.80000000000001,140.1,140,139.19999999999999,140,139,137.80000000000001,null,138,137.6,136.30000000000001,136.80000000000001,136.69999999999999,136,136.1,136.30000000000001,136.30000000000001,135.80000000000001,135.80000000000001,135.9,null,136,136.5,137.1,138,137.9,138.4,138.5,138.69999999999999,139,141.4,142.69999999999999,144.19999999999999,null,145.5,146.69999999999999,146.6,147,148,148.5,149.19999999999999,149.80000000000001,150.5,148.19999999999999,148.5,148.1,null,155.19999999999999,155,156.80000000000001,156,156.6,157.9,159.5,160.4,161.69999999999999,163.4,166.2,167.7,170,171.3,172.2,173.1,173.5,173.8,173.6,173.2,172.1,172.2,175.3,176.8,178.8,181.9,182.3,183.7,184.5,185.1,187,188.8,190.4,190.1,191.2,192.1,191.5,193.6,194.9,195.6,194.1,196.1,195,197.5,197.9,200.7,201.9,1.2000000000000171,5.9790732436473199E-3,16,25,10.700000000000017,5.59623430962344E-2,7,16,9.8000000000000114,5.1015096304008391E-2,6,17,46.200000000000017,0.29672447013487491,5,10]
["West Virginia","SMS54000002000000001",37.1,37.1,36.9,33.9,34.4,33.6,33,32.6,32.1,32.200000000000003,32.5,33.799999999999997,null,32.9,31.9,33.299999999999997,32.9,32.299999999999997,33.1,33.1,33.1,33.6,33.6,32.9,31.8,null,31.3,32,32.1,32.299999999999997,32.700000000000003,32.4,33.299999999999997,33.4,33.4,33.4,34,35.1,null,35.200000000000003,35.9,36.1,35.9,35.6,35.799999999999997,35.5,35.799999999999997,36.1,35.4,34.5,34.700000000000003,null,34.9,35.200000000000003,34.700000000000003,34.700000000000003,34.9,34.200000000000003,34.299999999999997,34.200000000000003,33.9,34.1,33.5,32.799999999999997,null,33.299999999999997,32.9,33.200000000000003,33.5,34.1,33.700000000000003,33.799999999999997,33.799999999999997,34.299999999999997,33.5,31.7,32.299999999999997,33.700000000000003,33.200000000000003,32.799999999999997,33.1,33.6,33.200000000000003,32.4,32.299999999999997,31.9,30.6,31,31.8,31.2,30.9,31.6,30.8,29.3,29.5,29.6,29.4,29.5,29.2,30.2,30.5,30.7,31.3,31.7,30.7,30.4,31.7,30.9,30.5,30.6,31.7,32.5,0.80000000000000071,2.5236593059936932E-2,23,3,2.3000000000000007,7.6158940397351022E-2,28,8,2,6.5573770491803282E-2,29,9,-0.5,-1.5151515151515152E-2,40,42]
["Wisconsin","SMS55000002000000001",108.5,107.7,105.1,102.8,102.7,101.5,100.4,99.2,98.9,98.2,97.7,96.9,null,96.4,95.9,95.3,97,94.2,93.9,93.5,93.8,93.8,94.7,93.6,93,null,92.5,92.5,92.6,92.6,92.3,92.2,93,93.1,93,92.8,92.7,92.5,null,92.6,93.4,94,98,92.6,92.3,92.3,92.1,92.8,93.8,94.3,95.5,null,96.2,98.2,97.2,96.9,97.8,98.3,99,99.7,99.8,97.1,99.1,97.3,null,100.7,101.2,101.6,103.2,102.6,103.7,103.9,104.4,105,104.8,106.7,107.7,107.8,108.1,108.3,109.3,109.8,109.4,109.6,109.2,109.2,109.3,110.4,112.7,111.5,112.2,113.4,112.4,111.6,111.3,111.6,111.9,112.1,110.7,111,112.8,114.6,113.8,114.1,115.5,114.6,112.2,112.7,112.3,113.4,112.4,111.8,-0.60000000000000853,-5.3380782918150222E-3,42,38,0.79999999999999716,7.2072072072071813E-3,31,35,-1,-8.8652482269503553E-3,41,36,11.399999999999991,0.11354581673306764,23,30]
["Wyoming","SMS56000002000000001",25.7,25,24.7,24.3,24.7,24.2,23.8,23.4,22.9,22.8,22.6,22.6,null,22.7,22.6,22.5,22.9,22.5,22.3,22,22.5,22.3,22.6,21.6,21.4,null,20.9,20.9,20.9,20.6,20.5,20.9,21,21,21.4,21.7,21.8,21.9,null,21.6,21.5,21.7,22.7,21.8,21.2,20.7,21.1,21.4,21.4,21.2,21.4,null,22.1,22,22,21.7,21.8,22.2,21.8,21.5,20.7,20.8,21,21.4,null,23,23.2,23,23.5,23.9,24.5,24.2,23.7,23.9,23.7,22.6,23.8,23.7,23.7,23.8,24,23.1,22.8,22.8,23,22.9,23,22.8,22.7,22.2,22,21.9,21.8,21.4,21.1,20.8,20.7,20.399999999999999,20.3,20.3,20.399999999999999,21.3,21.5,21.2,21.5,21,20.9,20.2,20.2,20.399999999999999,20.7,20.100000000000001,-0.59999999999999787,-2.8985507246376711E-2,40,43,-0.19999999999999929,-9.8522167487684383E-3,37,37,-0.29999999999999716,-1.4705882352941037E-2,36,38,-3.6999999999999993,-0.15546218487394955,43,43]

{"sheet":"Mfg","index":3,"n_rows":52,"n_cols":130,"rows_kept":52,"cut":false,"hidden":false,"merged":[]}
[]
["Manufacturing"]
[]
["State Name","Series ID","Jan\n2009","Feb\n2009","Mar\n2009","Apr\n2009","May\n2009","Jun\n2009","2009-07-01","Aug\n2009","Sep\n2009","Oct\n2009","Nov\n2009","Dec\n2009",null,"Jan\n2010","Feb\n2010","Mar\n2010","Apr\n2010","May\n2010","Jun\n2010","Jul\n2010","Aug\n2010","Sep\n2010","Oct\n2010","Nov\n2010","Dec\n2010",null,"Jan\n2011","Feb\n2011","Mar\n2011","Apr\n2011","May\n2011","Jun\n2011","Jul\n2011","Aug\n2011","Sep\n2011","Oct\n2011","Nov\n2011","Dec\n2011",null,"2012-01-01","2012-02-01","2012-03-01","2012-04-01","2012-05-01","2012-06-01","2012-07-01","2012-08-01","2012-09-01","2012-10-01","2012-11-01","2012-12-01",null,"2013-01-01","2013-02-01","2013-03-01","2013-04-01","2013-05-01","2013-06-01","2013-07-01","2013-08-01","2013-09-01","2013-10-01","2013-11-01","2013-12-01",null,"2014-01-01","2014-02-01","2014-03-01","2014-04-01","2014-05-01","2014-06-01","2014-07-01","2014-08-01","2014-09-01","2014-10-01","2014-11-01","2014-12-01","2015-01-01","2015-02-01","2015-03-01","2015-04-01","2015-05-01","2015-06-01","2015-07-01","2015-08-01","2015-09-01","2015-10-01","2015-11-01","2015-12-01","2016-01-01","2016-02-01","2016-03-16","2016-04-29","2016-05-29","2016-06-29","2016-07-29","2016-08-29","2016-09-29","2016-10-29","2016-11-29","2016-12-29","2017-01-29","2017-02-28","2017-03-30","2017-04-29","2017-05-29","2017-06-29","2017-07-29","2017-08-29","2017-09-29","2017-10-29","2017-11-29","Month-to-Month","Month-to-Month %","Mo Chg Rank","Mo % Rank","Year-to-Year","Year-to-Year %","Yr Chg Rank","Yr % Rank","Year-to-Date Chg","Year-to-Date %","Year-to-Date  Chg Rank","Year-to-Date % Rank","Chg from Trough","% Chg from Trough","Trough Chg Rank","Trough % Chg Rank"]
["Alaska","SMS02000003000000001",12.8,12.9,12.8,13.3,12.9,13.1,13.1,13,12.5,12.6,12.7,12,null,12.9,12.7,12.8,12.8,12.8,12.6,12.6,12.6,12.4,12.1,13,13.2,null,13.2,13.4,13.6,13.4,13.5,13.7,14.1,14.1,14.3,13.8,14,13.7,null,13.9,14.2,14.5,14.3,14.8,14.3,13.7,13.8,13.3,14.2,13.9,14.1,null,14,14,13.8,14.7,14.3,14.2,14.3,14.3,14.7,16.100000000000001,17,16.899999999999999,null,15.1,14.6,14.3,15.4,14.4,14.7,14.6,14.3,13.6,13.5,13.5,14.5,14.2,14.2,14.1,14,14.1,14.1,13.9,14,14,14.3,14.3,14.8,14,14.2,14.1,13.9,13.1,13.5,13.7,13.4,13.1,12.2,12.5,13,10.7,12.3,12.1,11.8,11,13,13.4,13.2,11.6,11.5,10,{"$f":"DJ5-DI5","v":-1.5},{"$f":"DK5/DI5","v":-0.13043478260869565},{"$f":"RANK(DK5,($DK$5:$DK$52))","v":47},{"$f":"RANK(DL5,($DL$5:$DL$52))","v":48},{"$f":"DJ5-CX5","v":-2.5},{"$f":"DO5/CX5","v":-0.2},{"$f":"RANK(DO5,($DO$5:$DO$52))","v":45},{"$f":"RANK(DP5,($DP$5:$DP$52))","v":48},{"$f":"DJ5-CY5","v":-3},{"$f":"DS5/CY5","v":-0.23076923076923078},{"$f":"RANK(DS5,DS$5:DS$52)","v":44},{"$f":"RANK(DT5,DT$5:DT$52)","v":48},{"$f":"DJ5-I5","v":-3.0999999999999996},{"$f":"DW5/I5","v":-0.23664122137404578},{"$f":"RANK(DW5,($DW$5:$DW$52))","v":39},{"$f":"RANK(DX5,($DX$5:$DX$52))","v":48}]
["Arizona","SMS04000003000000001",162.9,160.30000000000001,157.80000000000001,155.9,154.4,152.80000000000001,151.6,150.80000000000001,150.19999999999999,149.80000000000001,149.6,148.9,null,148.4,148.6,148.69999999999999,148.9,148.9,148.4,148.19999999999999,147.9,147.9,148.30000000000001,148.6,148.69999999999999,null,149,149.1,149.30000000000001,149.6,150.4,150.19999999999999,150.6,150.80000000000001,151.1,151.4,151.80000000000001,152.4,null,153.5,153.80000000000001,154.6,155.1,155.19999999999999,155.5,155.30000000000001,155.69999999999999,155.6,155.6,155.80000000000001,155.69999999999999,null,155.5,155.6,155.5,155.4,155.4,155.30000000000001,155.30000000000001,155,154.9,154.5,154.5,154.5,null,156.1,157,156.69999999999999,156.5,156.69999999999999,156.5,156.5,156.4,156.4,156.30000000000001,156.19999999999999,156.1,156.6,156.9,156.80000000000001,156.9,157.30000000000001,157.69999999999999,158.80000000000001,159,158.6,159.4,160.1,160.30000000000001,160.1,160.4,160,159.9,159.80000000000001,159.9,159.4,159.6,160,159.69999999999999,160.4,161.4,161.9,163,161.6,162.80000000000001,162,163.4,162.69999999999999,164.4,164.4,164.4,164.8,{"$f":"DJ6-DI6","v":0.40000000000000568},{"$f":"DK6/DI6","v":2.4330900243309346E-3},22,27,{"$f":"DJ6-CX6","v":4.4000000000000057},{"$f":"DO6/CX6","v":2.7431421446384073E-2},{"$f":"RANK(DO6,($DO$5:$DO$52))","v":13},{"$f":"RANK(DP6,($DP$5:$DP$52))","v":11},{"$f":"DJ6-CY6","v":3.4000000000000057},{"$f":"DS6/CY6","v":2.1065675340768312E-2},14,{"$f":"RANK(DT6,DT$5:DT$52)","v":12},{"$f":"DJ6-I6","v":13.200000000000017},{"$f":"DW6/I6","v":8.7071240105541015E-2},{"$f":"RANK(DW6,($DW$5:$DW$52))","v":19},{"$f":"RANK(DX6,($DX$5:$DX$52))","v":19}]
["Arkansas","SMS05000003000000001",174.1,171.1,168.6,166.2,164.3,161.69999999999999,160.69999999999999,160.4,160.1,159.19999999999999,159.1,158.80000000000001,null,158.6,158.69999999999999,159.5,160,160.30000000000001,162,161.30000000000001,160.9,160.4,160.5,160.6,160.9,null,160.6,160.80000000000001,160.69999999999999,160.6,160.1,158.1,158.80000000000001,158.1,157.9,157.5,157.1,156.9,null,156.6,156.30000000000001,156.5,156.19999999999999,156.30000000000001,155.69999999999999,155.80000000000001,155.4,154.4,154.1,154.30000000000001,153.69999999999999,null,154,153.80000000000001,153.19999999999999,152.5,152.19999999999999,152,151.9,151.9,151.9,152.1,151.80000000000001,151.80000000000001,null,152.9,153.19999999999999,153.19999999999999,153.5,153.80000000000001,153.9,154.30000000000001,154.4,154.9,156.80000000000001,157.19999999999999,157.4,156,155.80000000000001,155.30000000000001,154.9,154.4,154.6,154.69999999999999,154.6,154.5,154.9,153.6,154.6,154.5,154.6,154.19999999999999,154,154,154.69999999999999,154.80000000000001,154.80000000000001,155,155.19999999999999,155.80000000000001,156.1,156.69999999999999,157.19999999999999,157.1,157.9,156.6,157.80000000000001,158.4,158.6,159.80000000000001,160.80000000000001,160.5,-0.30000000000001137,-1.8656716417911154E-3,39,40,4.6999999999999886,3.0166880616174507E-2,12,8,4.4000000000000057,2.8187059577194144E-2,11,9,-0.19999999999998863,-1.2445550715618459E-3,33,33]
["California","SMS06000003000000001",1355.8,1336.3,1317.5,1300.4000000000001,1290.9000000000001,1278,1263.5,1255.2,1249.0999999999999,1246.4000000000001,1244.4000000000001,1242.3,null,1242,1241.9000000000001,1242.8,1241.7,1241.7,1241.9000000000001,1241.4000000000001,1241.0999999999999,1238.9000000000001,1243.4000000000001,1243.4000000000001,1243.7,null,1245.3,1246.3,1246.3,1249.0999999999999,1249.5,1246.9000000000001,1248.3,1247.5,1248,1248.5999999999999,1248.4000000000001,1249.7,null,1251.0999999999999,1250.5999999999999,1253.2,1253,1252.5,1252.7,1254,1253.2,1251.8,1250.5999999999999,1250.7,1250.2,null,1250.4000000000001,1251.2,1250.3,1253.2,1250.8,1250.9000000000001,1251.5,1252.0999999999999,1252.3,1248.0999999999999,1254.7,1251.5,null,1264.8,1268.7,1267.7,1269.0999999999999,1269.4000000000001,1270.2,1270.0999999999999,1271.2,1272.3,1271.8,1272.3,1271.7,1287.3,1289,1290.3,1291.5999999999999,1292.2,1293.8,1298.0999999999999,1296.7,1295.5999999999999,1291.2,1290.2,1290.4000000000001,1309.3,1309.3,1307.7,1309.3,1308.3,1304.0999999999999,1307.7,1302.9000000000001,1301.4000000000001,1301.8,1304.5,1304.3,1303.7,1299.5,1301.5,1299.3,1299.2,1294.8,1293.5,1299.7,1297.2,1298.2,1300.7,2.5,1.9257433369280542E-3,5,29,-3.7999999999999545,-2.9129934840934875E-3,46,38,-3.5999999999999091,-2.7601012037107332E-3,45,40,37.200000000000045,2.9442026117926432E-2,10,28]
["Colorado","SMS08000003000000001",135.19999999999999,133.4,131.6,130,128.80000000000001,127.2,126.5,125.7,125.1,124.6,124.2,123.6,null,123.3,123.3,123.3,123.4,123.9,124.2,124.1,124.4,124.4,124.8,125.1,125.5,null,126.2,126.2,126.8,127.4,127.8,128.1,128.6,128.80000000000001,129.30000000000001,129.1,129.19999999999999,129.6,null,130,130.19999999999999,130.19999999999999,130.6,130.6,130.80000000000001,131.1,131.1,131.4,131.69999999999999,131.9,131.80000000000001,null,132.1,132.6,132.69999999999999,132.69999999999999,132.4,132.4,132.6,132.80000000000001,132.9,133.19999999999999,134.19999999999999,133.5,null,134.30000000000001,134.6,134.80000000000001,135.30000000000001,135.80000000000001,136.1,136.6,137.1,137.9,138.30000000000001,138.69999999999999,138.4,139.69999999999999,140.19999999999999,140.4,140.30000000000001,140.69999999999999,141,141.1,141.1,141.6,142.30000000000001,143,143.9,142.1,142.6,142.6,142.4,142.30000000000001,142.30000000000001,142.69999999999999,142.5,142.5,141.80000000000001,140.9,141.69999999999999,140.80000000000001,142.5,142.1,142.5,141.69999999999999,142.19999999999999,141.6,141.6,142,141.4,142,0.59999999999999432,4.2432814710042033E-3,19,17,1.0999999999999943,7.8069552874378582E-3,26,29,0.30000000000001137,2.1171489061398122E-3,31,34,15.5,0.1225296442687747,18,15]
["Connecticut","SMS09000003000000001",180.2,178,175.8,174,172.4,171,169,168.2,167.8,166.8,166.1,165.8,null,165.3,165,164.9,165.2,165.5,165.8,166.1,165.8,166.3,166.1,166.1,166,null,166,166.6,166.5,166.5,166.5,166.2,166.6,166.9,166.3,166.1,166.2,166,null,166,166.4,165.7,165.6,165.5,165.2,164.9,164.7,164,164.3,164.2,164.2,null,164.5,164.6,164.4,164.5,164.2,164.1,164.1,163.5,163.19999999999999,163.4,162.30000000000001,162.30000000000001,null,160.9,160.80000000000001,160.30000000000001,160.19999999999999,159.6,159.4,159.19999999999999,159.19999999999999,158.9,158.80000000000001,158.5,159.69999999999999,158.80000000000001,158.69999999999999,158.9,158.9,159.1,159.30000000000001,159.30000000000001,159.4,159.19999999999999,158.4,158.80000000000001,158.5,156.5,156.4,156.30000000000001,156.19999999999999,156.1,156.1,156.5,156.80000000000001,156.4,156.6,156,156.19999999999999,156.1,155.69999999999999,156.6,156.69999999999999,155.80000000000001,156.6,156.4,157,156.69999999999999,157.30000000000001,157.19999999999999,-0.10000000000002274,-6.3572790845532572E-4,37,36,1.1999999999999886,7.692307692307619E-3,25,30,1,6.4020486555697829E-3,25,29,-11.800000000000011,-6.982248520710066E-2,45,44]
["Delaware","SMS10000003000000001",29.9,29.4,28.4,28.2,28.1,27.5,27.4,27.2,27.3,26.8,27,26.6,null,26.5,26.2,26.1,26.2,25.9,25.8,25.9,25.8,25.7,25.8,25.4,25.6,null,25.7,25.7,25.7,25.7,25.9,25.8,26.2,25.7,25.5,25.8,25.7,25.7,null,25.7,25.7,25.8,25.8,25.7,25.7,26.2,25.7,25.8,25.5,25.5,25.1,null,25.8,25.5,25.4,25.3,25.6,25.1,25.3,25.3,25.4,25.3,25.2,25.1,null,25.6,25.5,25.7,25.6,25.7,25.7,25.7,25.7,25.8,25.6,25.8,25.7,27,27,27,27,27.1,27.2,27.2,27.4,27.3,27.3,27.5,27.6,25.7,25.7,25.6,25.7,25.7,25.8,25.8,25.9,25.7,25.9,25.8,25.9,26,25.9,25.7,25.8,25.8,25.8,25.8,26,25.8,26,25.9,-0.10000000000000142,-3.846153846153901E-3,36,43,9.9999999999997868E-2,3.8759689922479791E-3,36,34,0,0,36,36,-1.5,-5.4744525547445258E-2,35,40]
["Florida","SMS12000003000000001",346.3,340.3,335.7,329.1,325.7,322.7,319,316.60000000000002,314.60000000000002,314,313,310.7,null,308.8,308.39999999999998,308,308.5,309.2,309.2,310.5,309.10000000000002,308.89999999999998,308.7,309.2,310.2,null,310.60000000000002,310.60000000000002,310.39999999999998,311.60000000000002,311.60000000000002,312.2,313.3,313.39999999999998,313.60000000000002,314.2,314.3,314.7,null,316.39999999999998,316.8,317.3,317.2,316.89999999999998,317,317.3,317.60000000000002,317.3,318.2,318.8,317.8,null,317.7,319.5,319.60000000000002,320.7,321.10000000000002,321.39999999999998,321.8,322.3,323.3,323.39999999999998,325.60000000000002,327.10000000000002,null,327.60000000000002,328.7,328.5,329,329.7,329.5,331.6,332.1,332.8,331.9,332.8,331.8,337,337.8,339.3,339.9,340.9,342.2,342.8,343.8,345.5,346.3,347.9,348.8,350.5,351.6,352.7,353.5,354.1,355,356.7,356.9,357.3,360.1,358.5,357.7,361.7,363.2,365.1,365.2,364.1,365.9,368.9,368.8,367.5,372.5,372.6,0.10000000000002274,2.6845637583898719E-4,31,31,14.100000000000023,3.9330543933054456E-2,3,4,14.900000000000034,4.1655018171652319E-2,2,2,53.600000000000023,0.16802507836990602,6,7]
["Georgia","SMS13000003000000001",381.4,374.7,370.8,364.9,360.7,356.3,351.8,349.8,348.6,345.7,345.4,344.7,null,344,342.9,343,343.1,344.4,344.9,346,345.8,346.1,346.7,346.4,346.8,null,345.9,349.1,349.3,351.1,351.2,351.4,352.6,352.1,351.1,351.2,351.5,351.1,null,352.9,352.9,353.4,354.2,354.1,354.4,354.3,354.1,354.8,356.2,357,356.6,null,356.7,357.2,357.4,356.7,356.4,356.2,356.7,357,356.8,359.1,358.6,359.4,null,361.2,362.4,363.8,365.1,366.3,367.3,368.6,370,370.7,370.8,371.4,370.4,374.3,376,375.9,376.5,377.1,378.3,379,379.6,379.9,383.5,385.3,385.6,385.2,386.2,386.4,387.4,386.5,387.6,388.3,388.8,389.4,390.2,391.8,390.9,391.8,388.8,387.6,390.1,388.1,386.5,385.2,388.9,385.8,386.9,386.7,-0.19999999999998863,-5.1692943913152916E-4,38,35,-5.1000000000000227,-1.3016845329249675E-2,47,45,-4.1999999999999886,-1.0744435917114324E-2,46,45,34.899999999999977,9.9204093234792429E-2,11,17]
["Hawaii","SMS15000003000000001",14.2,14,13.9,13.8,13.8,13.6,13.6,13.6,13.6,13.5,13.4,13.3,null,13.3,13.2,13.1,13,13,12.9,12.9,12.9,12.7,13,13,13,null,13.1,13.2,13.2,13.3,13.3,13.4,13.3,13.3,13.3,13.4,13.3,13.3,null,13.4,13.4,13.3,13.3,13.3,13.4,13.3,13.3,13.4,13.4,13.4,13.4,null,13.5,13.4,13.5,13.4,13.5,13.5,13.6,13.6,13.6,13.5,13.7,13.7,null,13.6,13.6,13.7,13.7,13.8,13.8,14,14,13.8,13.7,13.5,13.4,14.1,14.2,14.1,14,14.1,14,14.1,14,13.8,13.8,13.8,13.7,14.1,14.1,14.1,14.1,14.1,14,14.2,14.1,14,13.8,13.9,13.8,13.8,13.9,13.7,13.8,13.8,13.9,14,13.7,13.7,13.6,13.8,0.20000000000000107,1.4705882352941256E-2,26,2,-9.9999999999999645E-2,-7.1942446043165211E-3,38,41,0,0,36,36,0.20000000000000107,1.4705882352941256E-2,32,31]
["Idaho","SMS16000003000000001",58,56.8,56.1,55,54.7,54.4,54.1,53.9,53.9,53.7,53.7,53.3,null,53.1,53,52.8,52.9,52.8,52.9,52.9,53.3,53.3,53.7,54,53.7,null,54.1,54.3,54.5,54.7,54.8,54.6,54.3,54.8,55,55.4,55.6,55.8,null,55.8,55.9,56.2,56.4,56.7,57.1,57.1,57.3,57.2,57.6,58,58.3,null,58.8,59.1,59.5,59.7,59.8,59.9,59.9,60,60.3,59.8,59.9,60,null,60.1,60.2,60.2,60.1,60.1,60.1,60.4,60,60.4,59.5,59.2,59.5,61,61.1,61.2,61.5,61.5,61.8,62,62.4,62.7,62.9,63.5,63.6,63.8,64.2,64.400000000000006,64.3,64.2,64.3,64.7,64.900000000000006,64.7,64.7,65.5,66,65.599999999999994,65.2,65.5,66.599999999999994,65.8,65.900000000000006,66.8,67,66.599999999999994,66.900000000000006,67.099999999999994,0.19999999999998863,2.989536621823447E-3,30,26,1.5999999999999943,2.4427480916030447E-2,22,12,1.0999999999999943,1.666666666666658E-2,24,15,12.999999999999993,0.24029574861367822,20,3]
["Illinois","SMS17000003000000001",620.70000000000005,610.70000000000005,601.20000000000005,586.6,576.6,569.29999999999995,563.5,562.20000000000005,561.1,558.1,556.29999999999995,554.79999999999995,null,554.1,555.20000000000005,555.79999999999995,558.20000000000005,560.20000000000005,560.4,561.9,562.9,562.5,565.70000000000005,567.20000000000005,568.1,null,570,570.20000000000005,572,574.1,574.4,574.9,576,575.29999999999995,573.6,575.1,575.79999999999995,575.70000000000005,null,578.4,579.79999999999995,581.4,582.5,583.1,583.79999999999995,586.4,584.79999999999995,584.9,583.70000000000005,583.70000000000005,583.4,null,583.29999999999995,583.29999999999995,582.70000000000005,580.20000000000005,580.5,580.1,577.6,577,575.70000000000005,577.29999999999995,576.70000000000005,578.6,null,578.70000000000005,579,579.79999999999995,579.70000000000005,580.4,580,578.9,578.29999999999995,577.5,576.9,579.29999999999995,581,583.4,583.29999999999995,582.70000000000005,581.9,582.6,582.6,583,580.20000000000005,580.6,578.5,577.79999999999995,576.4,577.4,576.9,575.6,575.9,574.9,574.20000000000005,574.1,573.79999999999995,574.6,572.20000000000005,570.5,569.9,567.79999999999995,569.79999999999995,570.4,572.6,573.4,575.1,574,570.9,571.29999999999995,573,575.20000000000005,2.2000000000000455,3.8394415357766937E-3,6,22,4.7000000000000455,8.2383873794917538E-3,11,28,5.3000000000000682,9.2998771714337056E-3,8,24,11.700000000000045,2.0763087843833267E-2,21,30]
["Indiana","SMS18000003000000001",472.1,465,452,445.6,432.2,425.4,426.9,432.3,434.8,435,437.8,439.4,null,439.5,439.6,441.3,444.7,446.6,446,449.9,450,450.6,452.6,451.4,454.3,null,457.4,458.9,461.4,462.7,462.3,463.1,462.8,464,466.1,469.2,467,470.6,null,474.4,475.9,477.6,478.9,480.9,483.2,485.9,484.3,484,485,486.2,487.8,null,488.5,490.1,490.1,489.7,489.1,489.7,489.2,491.9,492.6,496,498.6,497.7,null,501,501.9,503.3,504.3,505.4,506.8,507.4,508.9,509.6,513.5,514.1,514.6,517.4,517,517.5,517,517.4,518.5,521.1,519.4,520,521.20000000000005,520.1,520.20000000000005,521.4,521.79999999999995,521.9,522.29999999999995,521.9,523.70000000000005,527,522,523,522.79999999999995,524.6,526.9,527.1,530.9,530.29999999999995,528.29999999999995,525.79999999999995,527,529.79999999999995,530.29999999999995,531.70000000000005,531.70000000000005,530.5,-1.2000000000000455,-2.2569117923642006E-3,46,42,5.8999999999999773,1.1246664125047611E-2,8,22,3.6000000000000227,6.8324160182198198E-3,13,28,103.60000000000002,0.24267978449285554,2,2]
["Iowa","SMS19000003000000001",215.4,211.9,208.1,204.9,203,201.1,197.6,199.1,199,198.1,197.9,197.9,null,198.4,198.9,199.7,200.5,199.9,199.8,200.1,201,201.2,201.8,202.3,202.7,null,203.7,204.3,205.1,205,205.6,206,206.3,206.5,206.6,206.3,206.7,207.5,null,207.7,208.4,209.1,209.9,210.7,211.2,211.5,211.2,211.1,212,212.1,212,null,212.9,213.6,213.5,213.6,213.6,214.1,213.8,214.2,214.4,216.5,216.2,217.2,null,216.7,217.2,217.2,217.3,217.5,217.5,217.2,216.8,216.2,215.5,215.5,216.7,217.7,217.1,217,216.6,216.2,216.4,215.9,215.4,214.9,214.9,215.1,215.7,215.5,215,214.8,214.5,214.1,213.8,213.4,213.4,213,211.5,210.1,210.9,211.2,211,211.1,210.2,212.9,213.4,214.9,214.8,215.3,217.6,219.3,1.7000000000000171,7.8125000000000781E-3,8,11,9.2000000000000171,4.3788672060923454E-2,5,3,8.4000000000000057,3.9829302987197751E-2,5,4,21.700000000000017,0.10981781376518228,16,16]
["Kansas","SMS20000003000000001",182,179.1,176,171.8,166.5,164.7,161.80000000000001,162.4,161.1,160.1,160.1,159.6,null,160.1,160,159.19999999999999,159.5,159.9,159.9,159.80000000000001,160.19999999999999,160.4,160.30000000000001,160.30000000000001,160.4,null,159.69999999999999,159.80000000000001,159.9,160.6,160.69999999999999,160.80000000000001,161,161.30000000000001,161.4,161.9,162,162.4,null,162.9,162.9,163,162.19999999999999,162.5,162.6,162.80000000000001,163.1,163.4,163.4,163.30000000000001,163.19999999999999,null,163,163.30000000000001,163.5,163.69999999999999,163.5,162.9,162.30000000000001,162.30000000000001,162.30000000000001,162.4,162.9,162.5,null,160.5,163.5,162.69999999999999,162.6,162,163,161.80000000000001,162.19999999999999,162.1,162.4,162,162.5,160.19999999999999,162.80000000000001,162.4,159.4,161.9,161.80000000000001,161.4,160.4,161.30000000000001,161.19999999999999,161.69999999999999,162.19999999999999,161.4,161.69999999999999,160.69999999999999,160.5,159.9,159.69999999999999,159.4,159.69999999999999,159.9,160.4,160.1,160.19999999999999,158.6,160.1,159.4,159.1,157.69999999999999,158.80000000000001,158.6,157.1,159.19999999999999,158.9,159.5,0.59999999999999432,3.775959723096251E-3,19,23,-0.59999999999999432,-3.7476577139287592E-3,42,40,-0.69999999999998863,-4.3695380774031751E-3,42,41,-2.3000000000000114,-1.4215080346106374E-2,37,35]
["Kentucky","SMS21000003000000001",224.1,221.5,217.9,215.4,212.8,210.9,210.1,209,209.2,208.3,208,207.8,null,207.7,203.5,207.5,207.9,208.8,209.3,208.2,209.8,210.3,211,210.7,211.2,null,210.4,210.6,211.2,211.5,211.1,211.3,212.3,213,213.4,214.3,215.5,215.4,null,217.4,216.7,219.5,220.3,221.7,222.8,228.4,226.9,226.3,226.7,226.9,227.8,null,227.9,228.3,228,228.5,227.8,229,229.2,230.1,229.7,227.7,228.2,228.3,null,231.3,231.9,232.3,233,233.8,233.9,238.5,237.1,236.2,236.7,236.8,237.5,239.1,238.8,239.2,235.7,240.6,240.8,241.1,242.2,243.7,242.9,244.2,244.9,245,246,246.9,247.9,247.9,248.2,252.9,248.9,249.2,249.3,250.2,250.1,252.7,251.8,255,252,251.7,250,247.8,250.1,250.4,249.2,252.5,3.3000000000000114,1.3242375601926209E-2,2,4,2.3000000000000114,9.1926458832934117E-3,18,27,2.4000000000000057,9.5961615353858682E-3,16,23,42.400000000000006,0.20180866254164687,9,5]
["Louisiana","SMS22000003000000001",148.9,147.19999999999999,145.5,144.5,143.30000000000001,141.30000000000001,140.69999999999999,140,139.9,139.1,138.30000000000001,136.1,null,137.6,137.30000000000001,137.9,138.9,138.5,138.1,137.69999999999999,137.4,137.19999999999999,137.69999999999999,137.69999999999999,138.1,null,138.6,138.9,138.9,138.5,138.80000000000001,138.4,140,140,140.6,141.19999999999999,141.4,141.30000000000001,null,141.5,141.19999999999999,141.69999999999999,142.6,142.5,142.80000000000001,142.69999999999999,142.69999999999999,142.9,141.69999999999999,141.80000000000001,141.5,null,143.80000000000001,143.80000000000001,143.80000000000001,143.69999999999999,143.6,144,144,144,144.6,144.4,145.69999999999999,145.30000000000001,null,146.30000000000001,147,146.69999999999999,146.80000000000001,147.19999999999999,147.30000000000001,147.6,147.80000000000001,147.5,148.4,148.4,148.69999999999999,147.1,147.1,146,144.5,144.30000000000001,144,143.4,143.1,142.69999999999999,142.69999999999999,141.69999999999999,141,138.80000000000001,138.69999999999999,138.1,137.1,136.5,135.6,135.19999999999999,134.6,134.4,133.80000000000001,131.19999999999999,132.9,134.9,137.19999999999999,135.1,134.69999999999999,134.80000000000001,134.5,134.1,134.6,134.19999999999999,133.9,133.1,-0.80000000000001137,-5.9746079163555737E-3,45,45,1.9000000000000057,1.4481707317073215E-2,20,19,0.19999999999998863,1.5048908954099971E-3,34,35,-7.5999999999999943,-5.4015636105188308E-2,42,39]
["Maine","SMS23000003000000001",55.1,54.2,53,53,52.5,52,51.9,51.3,51.6,51.3,51.2,50.8,null,50.8,50.7,51.1,50.8,50.8,50.6,50.6,50.6,50.6,50.8,50.8,50.6,null,51.1,51,51.2,50.9,50.7,50.5,50.4,50.5,50.6,50.5,50.5,50.7,null,50.7,50.8,50.8,51.1,50.8,51,51,50.7,50.9,50.8,50.6,50.5,null,50.3,50.3,50.3,50.2,50.3,50.4,50.6,50.7,50.5,50.8,50.7,50.4,null,49.9,50,49.8,49.9,50.3,50.5,50.2,50.2,50.2,50.7,50.7,50.7,50.7,50.5,50.5,50.7,50.4,50.5,50.5,50.3,50.7,50.6,50.6,50.6,50.9,50.9,51,50.8,50.9,50.7,50.7,50.7,50.7,50.6,50.5,50.3,50.2,50.5,50.2,50.8,50,50.7,50.1,50.4,50.4,50.6,51,0.39999999999999858,7.9051383399209203E-3,23,10,0.5,9.9009900990099011E-3,32,25,0.70000000000000284,1.3916500994035843E-2,27,18,-0.89999999999999858,-1.734104046242772E-2,34,36]
["Maryland","SMS24000003000000001",123.1,122,120.9,119.6,119.1,118.3,117.3,117.2,117.2,117.3,117.3,116.8,null,116.3,114.6,115.3,115.6,115.3,115,114.5,114.1,113.6,112.9,112.6,112.3,null,113.8,113.8,113.7,113.8,113.4,112.7,112.6,112.3,111.8,111.5,111.4,110.9,null,110.8,110.2,110,109.9,109.6,109.5,109.4,108.7,107.7,107.3,107.3,107.3,null,107.2,107.3,106.9,106.7,106.6,106.4,106.2,106.2,106.2,105.7,105.3,104.9,null,103.9,103.9,103.6,103.7,103.6,103.6,103.3,103.3,103.4,103.2,102.6,103,103.7,103.8,103.7,103.7,103.7,103.9,104,104.1,103.9,105.2,106.1,106,104.1,104,104,103.9,104.1,103.7,103.3,103.4,103.2,103.8,105,104.3,103.2,103.6,103.2,103.5,102.7,102.2,102.7,104,104.1,103.8,104.9,1.1000000000000085,1.0597302504817038E-2,13,6,-9.9999999999994316E-2,-9.5238095238089828E-4,37,37,0.60000000000000853,5.7526366251199283E-3,28,30,-12.399999999999991,-0.10571184995737419,46,46]
["Massachusetts","SMS25000003000000001",272.3,268.7,265.2,261.89999999999998,259.3,257.5,255.7,254.5,253.9,253.3,253.8,253.9,null,253.4,252.8,252.5,252.5,252.9,252.5,253.1,253.2,253,253.7,253.6,253,null,252.4,251.9,252.1,253.1,253,252.4,253.6,253.7,253,252.5,251.9,251.8,null,253,253.1,253,252.4,252.2,252.9,252.1,251.3,251.4,251.6,251.6,251.4,null,251.2,251,251,250.8,250.7,250.9,250.2,249.9,249.6,248.7,250.7,250.3,null,251.2,250.7,250.6,250.4,250.1,249.7,249.6,249.4,248.8,248.9,249.2,248.6,250.8,250.9,250.8,250.7,250.9,250.7,250.3,250.5,249.2,250,250,250.4,247.5,246.9,246.7,245.9,245.8,245.8,245.8,245.5,245.3,244.3,244,244.5,244.4,244.5,243.7,244.1,243.9,243.8,244.4,244.4,244.8,245,246.6,1.5999999999999943,6.530612244897936E-3,11,14,2.5999999999999943,1.065573770491801E-2,17,23,2.0999999999999943,8.5889570552147004E-3,18,26,-9.0999999999999943,-3.5588580367618285E-2,43,38]
["Michigan","SMS26000003000000001",477.4,489.9,484.4,475.6,453.4,440.6,447.4,453.3,456.5,460,458.5,460.5,null,463.4,463.7,461.7,468.3,471.6,474.3,480.3,469,477.9,482.8,485.9,487.8,null,492.6,496.3,497.4,505.8,508.3,509.9,512,513,513.70000000000005,518.20000000000005,523.1,526.5,null,529.70000000000005,530.79999999999995,532.29999999999995,533.5,535.79999999999995,537.1,544.79999999999995,539.70000000000005,539.20000000000005,541.20000000000005,543,545.5,null,546.6,549.4,551.5,550.9,552.4,554.29999999999995,554.1,556.9,557.79999999999995,561.29999999999995,564.1,564.70000000000005,null,566.20000000000005,572.9,573,566.9,571.9,578.29999999999995,576.29999999999995,577.6,575.9,579.6,584.79999999999995,584.9,581.70000000000005,583.20000000000005,582.20000000000005,582.9,584.5,585.70000000000005,586.20000000000005,588,590.29999999999995,589.6,593.20000000000005,593.6,598.4,597.20000000000005,597.6,601.70000000000005,598.5,600,600.70000000000005,598.79999999999995,600.6,602.20000000000005,601.20000000000005,601.79999999999995,604.20000000000005,599.1,600.6,608.5,608.70000000000005,604,604.4,607.29999999999995,601.5,603.20000000000005,603.9,0.69999999999993179,1.1604774535807886E-3,18,30,2.6999999999999318,4.4910179640717425E-3,16,32,2.1000000000000227,3.4895314057826901E-3,17,32,156.5,0.34979883772910147,1,1]
["Minnesota","SMS27000003000000001",322.5,316.10000000000002,310.5,303,298.5,296.5,294.3,293.3,292.39999999999998,291.2,290.8,289.39999999999998,null,288.2,288.7,289.5,291,292.5,293,294.10000000000002,293.8,294.39999999999998,294.8,295.10000000000002,295.89999999999998,null,297.2,297.7,298.39999999999998,299.89999999999998,300.8,300.2,302,301.89999999999998,301.8,302.39999999999998,302.2,303,null,303.8,304.39999999999998,305.5,305.60000000000002,305.60000000000002,306.39999999999998,306.10000000000002,306,306.8,306.3,307.10000000000002,307,null,307.60000000000002,308.10000000000002,308.60000000000002,307.3,307,307.2,306.7,306.7,306.7,309.60000000000002,310.10000000000002,311.10000000000002,null,309.39999999999998,310.39999999999998,310.5,311,311,311,312,312.60000000000002,312.2,314.89999999999998,315.5,315.8,316.5,317,318.10000000000002,317.3,317.3,316.5,316.10000000000002,316,316,316.5,316.60000000000002,317.60000000000002,318.2,318.39999999999998,318.10000000000002,318.7,317.89999999999998,317.3,318,317.89999999999998,317.60000000000002,318.39999999999998,318.3,317.89999999999998,317,318.2,318.5,319.10000000000002,318.5,319.89999999999998,320.10000000000002,321,321.8,322.3,321.60000000000002,-0.69999999999998863,-2.1718895439031606E-3,44,41,3.3000000000000114,1.0367577756833212E-2,14,24,3.7000000000000455,1.1638880150991021E-2,12,21,27.300000000000011,9.2762487257900136E-2,13,18]
["Mississippi","SMS28000003000000001",148.5,146.19999999999999,144,142.19999999999999,141.1,139.30000000000001,139.69999999999999,139.1,139.1,138.19999999999999,137.80000000000001,137.69999999999999,null,137.19999999999999,136.4,136.1,137,137,136.5,136.80000000000001,135.80000000000001,135,135,134.6,134.6,null,134.69999999999999,135,135.30000000000001,135.30000000000001,135.6,135.4,135.30000000000001,135.1,135.30000000000001,135.19999999999999,135.30000000000001,135.69999999999999,null,136.5,136.6,136.5,136.69999999999999,136.5,137,137.5,137.30000000000001,136.80000000000001,137.4,137.30000000000001,137.19999999999999,null,136.80000000000001,136.6,136.19999999999999,136.4,136.19999999999999,136.1,136.1,136.30000000000001,136.69999999999999,137.30000000000001,137.80000000000001,137.80000000000001,null,139.30000000000001,139.6,139.4,139.30000000000001,139.4,139.5,138.80000000000001,139.19999999999999,139.4,139.1,139.5,139.4,140.6,140.80000000000001,140.5,141.1,141.69999999999999,142,141.69999999999999,142.4,142.5,142.9,143.30000000000001,143.6,143.6,143.69999999999999,143.30000000000001,143,142.5,142.30000000000001,143.30000000000001,143.19999999999999,143.30000000000001,142.80000000000001,142.6,141.69999999999999,141.9,142.80000000000001,142.5,142.19999999999999,141.80000000000001,143.1,142.9,143.4,144.6,143.5,143.5,0,0,32,32,0.90000000000000568,6.3113604488078939E-3,29,31,1.8000000000000114,1.2702893436838471E-2,19,19,3.8000000000000114,2.7201145311381614E-2,26,29]
["Missouri","SMS29000003000000001",275.7,271.60000000000002,267.7,262.3,256,253.5,257.5,252,249.6,247.9,247.1,245.8,null,245.1,245.1,245.1,244.6,244.5,244,248.5,247.7,247.6,248.3,248.5,249.1,null,248.7,248.7,248.6,248.8,248.7,249.3,251.2,249.4,251.5,249.7,250.3,251,null,251.7,251.8,252.2,252.1,250.9,251.9,253.4,251.7,251.2,251.6,251.3,251,null,251.4,251.9,251.7,252.3,251.9,251.8,251.7,252.5,252.9,252.6,253.1,252.3,null,249.3,254.5,254,254.8,255.4,255.8,256.39999999999998,256.5,256.60000000000002,258.8,260.60000000000002,260.8,261,261,260.8,261.2,261.60000000000002,261.3,262.10000000000002,261.3,261.39999999999998,259.7,259.8,260.2,262.2,262.8,262.8,263,262.3,262.8,263.3,263.5,263.7,262.89999999999998,262.2,262.5,263.39999999999998,261.3,263.5,263.8,266.3,267.60000000000002,264.89999999999998,269.2,267.39999999999998,267.7,267.39999999999998,-0.30000000000001137,-1.1206574523721009E-3,39,38,5.1999999999999886,1.9832189168573565E-2,9,15,4.8999999999999773,1.8666666666666581E-2,10,14,9.8999999999999773,3.8446601941747482E-2,22,24]
["Montana","SMS30000003000000001",18.399999999999999,17.899999999999999,17.399999999999999,17.600000000000001,17.600000000000001,17.5,17.3,17.3,17,17.100000000000001,17,16.899999999999999,null,16.8,16.7,16.5,16.399999999999999,16.399999999999999,16.5,16.5,16.600000000000001,16.5,16.5,16.600000000000001,16.5,null,16.600000000000001,16.7,16.899999999999999,16.8,16.7,16.7,16.7,16.899999999999999,16.8,16.899999999999999,16.8,17,null,17.2,17.100000000000001,17.2,17.5,17.600000000000001,17.600000000000001,17.7,17.7,17.8,18,18,18.100000000000001,null,18,18.100000000000001,18.2,18.2,18.2,18.2,18.399999999999999,18.399999999999999,18.399999999999999,18.3,18.399999999999999,18.399999999999999,null,18.899999999999999,18.8,18.8,18.8,18.899999999999999,18.899999999999999,18.899999999999999,18.899999999999999,19,19.100000000000001,19.2,19,19,19.100000000000001,19.100000000000001,19,19.100000000000001,19,19.2,19.2,19.100000000000001,19.2,19,19.2,19.600000000000001,19.600000000000001,19.600000000000001,19.5,19.600000000000001,19.399999999999999,19.399999999999999,19.5,19.5,19.3,19.600000000000001,19.600000000000001,19.600000000000001,20,20.100000000000001,19.8,19.899999999999999,19.5,19.399999999999999,19.399999999999999,19.600000000000001,19.7,19.899999999999999,0.19999999999999929,1.0152284263959355E-2,27,7,0.29999999999999716,1.5306122448979446E-2,33,17,0.29999999999999716,1.5306122448979446E-2,32,17,2.5999999999999979,0.15028901734104033,27,11]
["Nebraska","SMS31000003000000001",97.5,96.3,95.2,94.2,93.7,92.8,92.1,92,91.7,91.2,91.3,91.1,null,91.1,91.4,91.3,91.7,91.8,91.8,92.1,91.9,92,92,91.9,92,null,92.4,92.5,92.8,93.2,93.3,93.3,93.6,93.5,93.7,93.7,94.1,94.4,null,94.4,94.1,94.5,94.3,94.6,95.1,95.3,95.1,95.3,95.3,95.6,95.8,null,95.7,96,96.1,96.1,96.2,96.4,96.1,96.5,96.7,96.3,95.6,95.2,null,97.2,97.5,97.2,97.2,97,97.1,97.4,97.7,97.5,97.5,97.3,96.5,97.7,97.8,97.9,97.6,97.4,97.1,97.1,97.4,97.1,97.2,97.3,96.7,97.2,96.9,97.1,96.7,96.7,96.4,96.7,96.8,96.6,96.7,97.2,97,97.2,97.2,97.4,96.8,97.1,97.7,97.6,97.8,97.4,97.4,98.6,1.1999999999999886,1.2320328542094338E-2,12,5,1.3999999999999915,1.4403292181069871E-2,24,20,1.5999999999999943,1.6494845360824684E-2,20,16,6.5,7.0575461454940286E-2,23,21]
["Nevada","SMS32000003000000001",44.1,42.8,41.8,41,40.200000000000003,39.6,39.299999999999997,38.9,38.9,38.700000000000003,38.799999999999997,38.6,null,38.4,38.299999999999997,38,38.1,38,38,37.799999999999997,37.700000000000003,37.700000000000003,37.6,37.700000000000003,37.9,null,37.9,38.1,38.200000000000003,38.1,38.200000000000003,38.200000000000003,38.200000000000003,38.4,38.5,38.700000000000003,38.6,38.700000000000003,null,38.799999999999997,38.9,39,39,39.1,39.200000000000003,39.299999999999997,39.299999999999997,39.4,39.4,39.4,39.5,null,39.700000000000003,40,40.1,40.200000000000003,40.299999999999997,40.5,40.5,40.6,40.9,40.9,41,41,null,41.6,41.5,41.4,41.3,41.5,41.4,41.5,41.3,41.5,41.7,41.9,42.2,41.7,41.9,41.8,41.8,41.8,42.1,42,42,42.1,42.2,42.1,42.3,43,43.2,43.2,43.3,43.4,43.3,43.6,43.8,43.9,44,44.1,44.4,44.8,45.1,45,45.1,45.1,45.3,45.3,45.4,45.5,45.8,45.8,0,0,32,32,1.6999999999999957,3.8548752834467022E-2,21,5,1.3999999999999986,3.1531531531531501E-2,23,6,6.5,0.16539440203562342,23,8]
["New Hampshire","SMS33000003000000001",72.2,71.2,69.900000000000006,69.2,68.400000000000006,67.599999999999994,66.7,66.5,66.400000000000006,66.099999999999994,65.5,65.3,null,65.3,65.2,65.3,65.599999999999994,65.8,65.900000000000006,65.900000000000006,65.8,65.900000000000006,66.099999999999994,66,66.2,null,66.2,66.3,66.5,66.7,66.5,66.599999999999994,66.900000000000006,66.599999999999994,66.5,66.2,66.400000000000006,66.2,null,66.3,66.3,66.2,66.099999999999994,65.900000000000006,66,66,65.900000000000006,65.900000000000006,65.7,65.7,65.7,null,65.900000000000006,66,65.8,65.599999999999994,65.7,66,66,66,65.900000000000006,66,65.900000000000006,65.900000000000006,null,66.5,66.5,66.5,66.400000000000006,66.599999999999994,66.599999999999994,66.7,66.5,66.5,66.5,67,67.099999999999994,66.900000000000006,66.8,66.900000000000006,67,67.2,67.3,67.7,67.400000000000006,67.2,66.8,66.5,66.400000000000006,68,68,67.900000000000006,67.900000000000006,67.900000000000006,68.2,68.099999999999994,68.099999999999994,68.099999999999994,68.2,68.099999999999994,68.5,68.5,68.3,68.3,68.2,68.2,68.7,69,68.599999999999994,68.599999999999994,69.400000000000006,69.099999999999994,-0.30000000000001137,-4.3227665706053508E-3,39,44,1,1.4684287812041117E-2,27,18,0.59999999999999432,8.7591240875911584E-3,29,25,2.3999999999999915,3.5982008995502121E-2,28,25]
["New Jersey","SMS34000003000000001",279.7,275.89999999999998,272.3,269.3,267.60000000000002,265.7,263.2,261.60000000000002,260.89999999999998,259.89999999999998,259.39999999999998,259.2,null,258.3,257.60000000000002,256.60000000000002,257.8,258,257.7,257.60000000000002,256.89999999999998,256.3,256.2,255.9,256.10000000000002,null,255.5,255.1,254.6,253.9,252.6,252.1,251.5,250.8,248.7,248.2,247.6,247,null,246.7,246.7,247.1,246.3,246.1,245.8,245.2,244.6,244.5,244.3,243.7,243.8,null,243.4,243.6,243.5,243.5,243.1,242.9,242.8,243.1,242.9,242.8,244.3,243.8,null,243.3,242.9,242.5,242.5,242.7,242.5,242.7,242.2,241.7,241.7,241.6,242,238.2,237.7,237.4,237.4,237.8,238.3,238.8,238.7,238.6,238.5,237.7,238,241.2,241.8,242.1,241.7,241.8,242.4,243,243,242.5,240.1,239.5,239.9,243.1,245.6,246.3,245.8,245.9,246.4,245.3,246.4,245.9,247,246.7,-0.30000000000001137,-1.2145748987854711E-3,39,39,7.1999999999999886,3.0062630480166969E-2,7,9,6.7999999999999829,2.8345143809920727E-2,6,8,-16.5,-6.2689969604863227E-2,47,42]
["New Mexico","SMS35000003000000001",32.299999999999997,31.6,30.9,30.4,30.1,30,29.7,29.4,29.1,29.1,29,29.1,null,29.1,29.1,29.1,29.1,29.3,29.1,29,29.1,29.1,29.3,29.2,29.2,null,29.4,29.5,29.6,29.6,29.5,29.5,29.5,29.7,29.8,29.8,29.7,29.7,null,29.7,29.7,29.8,29.9,29.9,29.7,29.7,29.5,29.6,29.9,29.6,29.4,null,29.3,29.4,29.3,29.3,29.2,29.2,29.1,29.1,28.8,29.1,28.6,28.3,null,28.6,28.5,28.4,28.2,28.1,27.8,28,27.8,27.7,28.1,28.2,28.4,28.2,28,28,27.8,27.8,27.8,27.8,27.4,27.3,27.3,27,27.3,27.4,27.4,27.2,27.2,27.2,26.9,26.7,26.4,26.4,26.6,26.4,26.5,26.4,26.5,26.2,26.3,26.3,26.2,26.3,26.5,26.2,26.5,26.5,0,0,32,32,0.10000000000000142,3.7878787878788418E-3,35,35,0,0,36,36,-3.1999999999999993,-0.10774410774410773,40,47]
["New York","SMS36000003000000001",507.3,497.7,490.3,482.8,477.8,472.5,468.6,466.3,465.2,462.6,460.7,460.3,null,459.9,458.6,457.9,457,456.8,456.8,456.3,455.6,456.3,457,457.1,457.2,null,457.2,458,457.3,459.1,458.6,458.6,459.4,459.4,459,458.4,459.1,459.1,null,459.9,460.5,460.6,459.1,459.6,459.6,459.9,458.8,458.8,458.5,457.4,457.7,null,457.5,456.7,456.6,456.9,456.2,455.4,455.3,454.8,453.7,453.6,452,452.7,null,455,454.6,453.8,453.2,453,452.9,452.3,452,451.1,450.9,451.5,450.9,454.5,455,455.5,455,454.6,455,455.9,455.3,454.8,454.9,454.3,453.1,455.1,455.4,454.8,453.8,452.7,452.3,452.7,451.8,451.3,448.7,446.2,444,440.4,444.6,442.1,440.1,436.2,436.4,432.3,432.9,433.2,432,433.7,1.6999999999999886,3.9351851851851588E-3,9,19,-12.5,-2.8014343343792023E-2,48,47,-10.300000000000011,-2.3198198198198225E-2,48,47,-34.900000000000034,-7.4477166026461872E-2,48,45]
["North Carolina","SMS37000003000000001",478.6,471.2,460.8,455,449.1,444.2,439.4,437.3,435.6,435.2,433.9,432.2,null,430.8,430.6,430.6,431.4,432,432.2,433.6,432.8,433.4,433.2,432.2,432.9,null,432.7,433.3,433.8,434,435,434.5,434.4,434.6,433.7,433.3,433.1,433.5,null,436.9,437.9,438.8,440,440.5,440.7,440.9,440.2,440.6,441.3,442.3,442,null,442.3,443,442.5,442.7,442.3,442.9,442.8,441.6,441.7,444.2,442.1,442.1,null,444.7,445.3,446.3,447,447.3,447.9,448.2,449,449.7,453.8,455,455.2,457.9,458.8,459.3,459.4,460.3,460.9,461.3,461.8,461.4,459.1,459.7,458.5,465.2,465.7,464.7,464.6,464.1,464.1,464.8,464.6,464,464.5,465.8,466.8,461.2,461.2,464,462.8,464.1,464.6,464,462.3,466.1,465.5,466.4,0.89999999999997726,1.9334049409236891E-3,15,28,0.59999999999996589,1.2881064834692269E-3,31,36,-0.40000000000003411,-8.56898029134606E-4,40,39,27,6.1447428311333638E-2,14,23]
["North Dakota","SMS38000003000000001",24.1,24.8,24.6,24.2,23.7,23.3,23.2,23.1,23.1,23,22.8,22.7,null,22.4,22.5,22.4,22.5,22.4,22.3,22.4,22.4,22.8,23,23.1,23.3,null,23.3,23.5,23.5,23.8,23.7,23.7,23.7,23.6,23.8,24.1,24.3,24.6,null,24.9,25.1,25.3,25.2,25.2,25.3,25.3,25.5,25.4,25.4,25.2,24.9,null,25,25.1,25.1,25.2,25.6,25.5,25.6,25.6,25.5,25.8,25.8,25.7,null,25.8,25.8,25.7,25.9,25.9,26,26,26.1,26.1,26.1,26.2,26.6,25.9,25.8,25.8,25.5,25.6,25.4,25.3,25.3,25.3,25.3,25.1,24.9,25,24.9,24.9,24.8,24.5,24.4,24.6,24.6,24.4,24.3,24.2,23.9,23.9,24.2,24.4,24.2,24.5,23.9,24.1,23.9,24.1,23.8,24,0.19999999999999929,8.4033613445377853E-3,27,9,-0.19999999999999929,-8.2644628099173261E-3,39,43,0.10000000000000142,4.1841004184101013E-3,35,31,0.80000000000000071,3.4482758620689689E-2,29,26]
["Ohio","SMS39000003000000001",678,667.5,652.20000000000005,640.6,624.9,611.6,611.79999999999995,612.4,612.70000000000005,612.20000000000005,612.6,614.29999999999995,null,614.6,613.1,611.5,615.1,618.4,619.4,626.79999999999995,623.4,626,628.20000000000005,628.29999999999995,629.1,null,630.4,631.20000000000005,632.1,633.4,633.5,633.29999999999995,641.9,642.9,644,646.6,649,649.20000000000005,null,649.70000000000005,652.29999999999995,654.6,654.79999999999995,655.29999999999995,657.1,659.3,657.6,657.2,657.4,657.7,658.6,null,659.9,660,659.9,660.4,661.8,661.7,662.1,662.7,663.1,663,663.9,666.2,null,668.3,669.3,669.7,670.9,673.6,673.5,673.8,675.7,675.9,675.5,677.4,677.2,685.5,685.5,685.6,685.6,686.4,685.9,687.6,686,685,691.7,691.3,692.6,687.1,687,686.6,685.3,683.7,684,686.7,685.4,686.4,688.9,687.6,688.7,691.8,693,692.9,686.9,682.4,686.7,685.9,687.6,687.6,692.7,695.4,2.6999999999999318,3.897791251623981E-3,3,20,7.7999999999999545,1.1343804537521748E-2,6,21,6.6999999999999318,9.7284739364018168E-3,7,22,83.600000000000023,0.13664596273291929,3,14]
["Oregon","SMS41000003000000001",178.8,174.3,171,168.4,166.9,165.4,164.8,163.6,163.5,162.5,162.69999999999999,162.69999999999999,null,162.6,162.6,162.9,163.19999999999999,163.6,163.6,163.19999999999999,163.6,164.6,165.6,165.8,165.5,null,166.2,166.8,167.5,167.7,167.8,167.5,168.1,169.8,169.2,168.8,169.6,170.2,null,170.2,170.4,170.8,170.9,171.8,172.3,172.6,172.7,172,173.1,173.2,172.9,null,173.9,174.3,174.1,174.6,174.5,174.9,174.9,174.7,175.1,175.4,175.8,176,null,177.2,178.1,177.8,178.4,178.8,178.5,179,178.9,179.2,181,182.3,183,183.7,184.6,185.2,185.8,186.4,186.8,186.3,185.9,186.1,187.2,187.1,187.9,188.6,188.8,189,188.4,188.3,187.7,186.8,187.8,187.1,187.2,187.3,187.3,187.1,188.7,189.6,190.7,191.3,193,193.2,193.1,193.1,194.2,192.5,-1.6999999999999886,-8.7538619979402096E-3,48,46,5.1999999999999886,2.77629471436198E-2,9,10,5.1999999999999886,2.77629471436198E-2,9,10,27.699999999999989,0.16808252427184459,12,6]
["Pennsylvania","SMS42000003000000001",611.9,601.6,590.5,582,574.29999999999995,567.79999999999995,562.70000000000005,560.70000000000005,560.4,559.9,559.29999999999995,558.20000000000005,null,557.29999999999995,557.5,558.4,560.1,560.70000000000005,560.9,560.9,560.6,560.5,560.9,561.20000000000005,561.20000000000005,null,561.70000000000005,562.70000000000005,563.6,565,565.70000000000005,565.29999999999995,566.70000000000005,566.5,566.20000000000005,565.70000000000005,565.70000000000005,566.4,null,567.70000000000005,568.6,568.79999999999995,568.70000000000005,568.29999999999995,568.6,568.4,567.70000000000005,566.4,565.29999999999995,564.5,564.29999999999995,null,565.20000000000005,565.9,564.79999999999995,564,563.4,563.70000000000005,562.5,562.1,562.1,563.70000000000005,563,561.4,null,566.20000000000005,559.4,567.1,566.70000000000005,566.70000000000005,566.6,567.1,567,566.1,567.6,568.6,570.79999999999995,570.20000000000005,570.9,569.6,569.4,569.9,568.5,568.20000000000005,567.4,567.1,565.29999999999995,565.9,566.4,562.29999999999995,561.6,561.20000000000005,559.70000000000005,559.29999999999995,558.5,557.70000000000005,557.1,555.70000000000005,555.4,553.6,557.5,554.6,556.5,554.4,550.6,548.6,546.70000000000005,554.5,553.4,552.70000000000005,552.4,551.79999999999995,-0.60000000000002274,-1.0861694424330608E-3,43,37,-1.8000000000000682,-3.2514450867053256E-3,43,39,-5.7000000000000455,-1.0224215246636853E-2,47,44,-10.900000000000091,-1.9370890350097904E-2,44,37]
["Rhode Island","SMS44000003000000001",44.8,43.2,42.6,42.1,41.6,41.3,41.2,41,40.799999999999997,40.799999999999997,40.799999999999997,40.700000000000003,null,40.700000000000003,40.299999999999997,40.200000000000003,39.9,40.1,40.200000000000003,40.4,40.4,40.4,40.5,40.6,40.5,null,40.5,40.6,40.6,40.5,40.299999999999997,40.299999999999997,40.700000000000003,40,39.700000000000003,39.6,39.5,39.4,null,39.200000000000003,39.6,39.5,39.5,39.5,39.700000000000003,39.9,39.700000000000003,39.5,39.799999999999997,39.799999999999997,39.9,null,39.9,39.700000000000003,39.9,39.9,39.9,39.799999999999997,40,40,40,40.5,40.700000000000003,40.5,null,40.6,40.700000000000003,40.5,40.799999999999997,40.700000000000003,40.799999999999997,41.5,41,40.9,41.1,41.2,41.4,41.3,41.1,41.1,41.2,41.3,41.1,41.1,41.2,41.2,41.6,41.6,41.6,40.799999999999997,40.799999999999997,40.799999999999997,40.700000000000003,40.5,40.5,40.6,40.4,40,40,40,40,40.1,40.1,40.299999999999997,41.2,41.4,41.2,41.8,41.2,41.1,41.1,41.5,0.39999999999999858,9.7323600973235665E-3,23,8,1.5,3.7499999999999999E-2,23,6,1.5,3.7499999999999999E-2,21,5,0.29999999999999716,7.2815533980581833E-3,31,32]
["South Carolina","SMS45000003000000001",227.7,223.9,219.5,215.5,212.7,211,208.9,208.2,207.7,207,206.4,205.3,null,205.6,205.4,205.2,205.7,206.7,206.6,207.2,207.3,207.7,207.9,208.4,209.7,null,210.5,211.9,213.4,214.4,214.9,215.6,216.6,216.9,217,217,217.4,218.1,null,218.7,218.9,219.3,219.8,220.2,219.9,219.9,220.2,220,221.1,221.7,221.7,null,222.2,223.2,223.3,223.3,223.6,224.2,224.2,225,225.6,227.7,227.7,227.9,null,227.2,228.2,227.7,228.6,229.3,230.2,230.7,230,231,231.5,232.4,233.3,234,234.7,234.5,234.3,235.2,235.7,236.2,236.4,237.1,236.7,236.5,237.9,237.1,237,236.7,237,237.3,237.6,238.8,238.1,239.4,239.1,240.4,241.6,241.7,244,245,245.1,244.5,246.2,247.9,248,249.4,247.6,251.4,3.8000000000000114,1.5347334410339303E-2,1,1,11,4.5757071547420966E-2,4,1,9.8000000000000114,4.0562913907284816E-2,4,3,42.5,0.20344662517951173,8,4]
["South Dakota","SMS46000003000000001",41,40.1,39.200000000000003,37.9,37.799999999999997,37.4,36.5,36.700000000000003,36.799999999999997,36.5,36.299999999999997,36.200000000000003,null,36.200000000000003,36.299999999999997,36.4,36.4,36.799999999999997,36.799999999999997,37.1,37.200000000000003,37.299999999999997,37.200000000000003,37.299999999999997,37.700000000000003,null,37.9,38.1,38.4,38.6,39.200000000000003,39.1,39.200000000000003,39.5,39.6,39.9,40.1,40.299999999999997,null,40.299999999999997,40.799999999999997,40.799999999999997,41.2,41.3,41.4,41.5,41.5,41.5,41.6,41.7,41.5,null,41.6,41.7,41.7,41.6,41.6,41.7,41.5,41.5,41.4,41.1,41.4,41.8,null,41.6,42.1,41.9,42.1,42,42.1,42.3,42.6,42.6,42.7,42.9,43.2,43.1,42.9,42.9,42.8,42.6,42.5,42.2,42.4,42.5,42.4,42,41.8,42.5,42.3,42.4,42.4,42.2,42.3,42.1,42.1,41.8,41.6,41.4,41.5,40.700000000000003,42,41.6,41.5,41.1,40.9,41.3,41.5,41.8,41.7,42.3,0.59999999999999432,1.4388489208632955E-2,19,3,0.89999999999999858,2.1739130434782573E-2,30,14,0.79999999999999716,1.9277108433734872E-2,26,13,5.7999999999999972,0.15890410958904103,25,10]
["Tennessee","SMS47000003000000001",332.8,326.2,320.5,313.89999999999998,308.8,302.3,303.39999999999998,302,300.89999999999998,299.89999999999998,300.2,298,null,297.89999999999998,296.60000000000002,297.5,299,299.5,299.39999999999998,300.10000000000002,299.3,298.89999999999998,298.89999999999998,299.5,300.7,null,301.89999999999998,302.8,303,303.5,304.10000000000002,304.3,306.8,303.89999999999998,303.7,306.3,307.60000000000002,307.3,null,308.10000000000002,309.3,310.7,312.5,313.5,314.8,315.5,315.10000000000002,314.10000000000002,315.39999999999998,316.10000000000002,316.7,null,317.39999999999998,317.60000000000002,317.8,318,318,318.10000000000002,318.7,318.39999999999998,319,320.2,322.10000000000002,322.5,null,322.3,320.8,323,322.8,323,323.39999999999998,324.39999999999998,325.89999999999998,326.3,327.5,328.8,330.6,329.1,329.7,329.3,330.7,331.9,332.1,332.4,333.6,334.2,334.4,336.5,338,339.1,340.2,341.6,342.4,343.2,343.9,345.1,345,345.3,343.9,344,344.9,346.1,348.5,347.1,348,348,346.9,347,346.1,344.4,345.7,347.3,1.6000000000000227,4.6282904252242484E-3,10,16,3.3000000000000114,9.5930232558139872E-3,14,26,2.4000000000000341,6.9585387068716561E-3,15,27,43.900000000000034,0.14469347396176677,7,12]
["Texas","SMS48000003000000001",892.6,881.3,868.2,852.9,843.8,832.2,821.9,820.6,817.9,812.9,809.1,807.4,null,808.9,808.6,810.6,808.3,810.1,810.2,811.3,812.4,813.4,816.3,817.8,819.4,null,821.2,823.3,827.2,830.3,831.7,834.2,838.6,840.7,843.1,844.5,846.8,849.4,null,853.2,856,859.5,863,861.4,863.7,866.9,867.3,867.8,868.4,869.5,869.4,null,869.3,871.2,871.4,870.4,870.4,871.7,869.7,869.8,870.2,872.4,875.2,878.4,null,875.7,879.3,879.2,881.4,883.9,885.4,886.1,887,887.1,889.1,891.4,891.2,899.1,895.4,891.8,886.9,883.3,880.1,877.2,873.2,869.8,865.4,866.4,858.7,858.9,856.7,853.5,850.1,847.4,845.1,844.2,841.8,841,841,841.3,841.9,849.9,856.3,858.6,864.7,867.8,871.1,875.2,878,877.7,876.7,879.4,2.6999999999999318,3.0797308087144198E-3,3,25,38.100000000000023,4.5287055747058151E-2,1,2,37.5,4.4542107138615041E-2,1,1,57.5,6.9959849130064491E-2,5,22]
["Utah","SMS49000003000000001",118.6,116.2,115,113.5,113,112.6,111.8,111.4,111.1,110.7,110.7,110.6,null,110.6,110.3,110,111,111,111.1,111.5,111.4,111.6,111.2,111.7,111.9,null,112.2,112.5,112.6,113,113.1,113.1,113.9,114,114.2,114.5,114.8,114.8,null,115.4,115.8,115.9,116.2,116.8,116.9,117,117.2,117.5,117.7,117.8,117.8,null,118.3,118.4,118.7,118.9,118.9,118.8,118.6,118.9,119,119.6,120.4,120.1,null,119.8,121.7,120.3,120.5,120.8,120.8,120.5,120.7,121,120.1,120.7,121.3,122.7,122.9,123.1,123.2,123.4,123.6,123.8,123.7,123.9,124.3,123.8,124.4,124.9,125.3,125.3,125.2,125.1,125.2,125.9,126.1,126.4,126.7,127.3,128.1,128.6,129.1,130,128.19999999999999,128.80000000000001,128.80000000000001,128.69999999999999,128.9,128.9,128.9,129.6,0.69999999999998863,5.4305663304886629E-3,17,15,2.2999999999999972,1.8067556952081676E-2,19,16,1.5,1.1709601873536301E-2,21,20,17.799999999999997,0.15921288014311269,17,9]
["Vermont","SMS50000003000000001",33.1,32.6,32.200000000000003,31.3,30.9,30.6,30.6,30.7,30.6,30.5,30.5,30.5,null,30.4,30.3,30.4,30.6,30.5,30.8,30.9,30.7,30.6,30.7,30.6,30.6,null,30.7,30.8,30.7,30.8,30.8,31,31.1,31.3,31.3,31.3,31.4,31.6,null,31.7,31.8,32,31.9,32,31.9,31.8,31.8,31.8,31.8,31.8,32,null,32.1,32.200000000000003,32,32.1,32,31.9,31.8,31.5,31.3,31.1,31.2,30.8,null,31.5,31.1,31.3,31.2,31.3,31.3,31.3,31.2,31.1,31.3,31,31,31.1,30.9,30.9,30.9,30.9,30.8,30.8,30.8,30.9,30.6,30.6,30.3,30.5,30.2,30,30,29.9,29.9,29.8,29.8,29.9,29.6,29.2,29.3,29.1,28.9,28.9,29.1,28.5,28.5,28.8,28.5,28.8,28.6,28.8,0.19999999999999929,6.9930069930069678E-3,27,12,-0.39999999999999858,-1.3698630136986254E-2,40,46,-0.5,-1.7064846416382253E-2,41,46,-1.8000000000000007,-5.8823529411764726E-2,36,41]
["Virginia","SMS51000003000000001",252.5,246.8,244.3,241.8,239.9,238,236.7,234.8,234.8,234.3,233.9,233.5,null,232.7,231,230.9,231.3,232.4,230.7,229.9,229.2,229.3,229.9,229.2,229.7,null,229.2,229.4,230.2,231.2,231.6,231.6,232.3,231.4,231.4,231.2,231.4,231,null,232.6,232.5,232.5,231.6,231.1,229.7,231.3,231.5,231.3,231.5,231.3,231.3,null,231.6,231.5,231.2,231.4,231.3,231,230.9,230.8,230,229.1,229.5,229.2,null,231.8,228.9,231.1,231.5,231.8,232,231.9,231.7,231.9,231.3,232,232.9,232.6,232.3,232.2,232.7,232.8,233.1,233.3,233.4,233.4,234.1,234.9,233.2,233.9,233.4,233,232.2,232,232.1,232.5,232.5,232.6,231.9,232.6,233.1,232.1,231.8,233.9,233.2,233.8,232.1,232.7,233.6,233.9,232.7,233.6,0.90000000000000568,3.8676407391491437E-3,14,21,1,4.2992261392949269E-3,27,33,0.5,2.1450021450021449E-3,30,33,-3.0999999999999943,-1.3096746937051096E-2,38,34]
["Washington","SMS53000003000000001",280.10000000000002,277.8,272.5,268.5,266.5,264.10000000000002,262.3,261.7,259.89999999999998,258.10000000000002,257.3,257,null,257.5,256.7,257.3,257.7,258,257.8,257.7,257.39999999999998,257.89999999999998,259,259.7,260.7,null,261.60000000000002,263.3,264.89999999999998,266.2,267.10000000000002,267.3,269.3,270.89999999999998,271.89999999999998,272.39999999999998,273.8,274.3,null,275,275.10000000000002,277.3,278,279,280.5,281.5,282.5,282.5,283.39999999999998,284.5,284.7,null,285.8,286.5,287.2,286.8,287,287.2,286.7,286.5,286.3,286.39999999999998,285.10000000000002,284.39999999999998,null,288,285,287.89999999999998,289,288.8,288.8,289.89999999999998,288.89999999999998,288.60000000000002,290,290.5,291,290.5,290.39999999999998,291.2,291,291.10000000000002,291.5,291.10000000000002,290.8,290.60000000000002,289.60000000000002,289.60000000000002,289.8,292.7,292.7,292.10000000000002,292.89999999999998,292.60000000000002,291.2,289.60000000000002,288.7,287.3,285.5,286.8,286.5,286.60000000000002,286.5,285.8,285.39999999999998,285.89999999999998,285.60000000000002,284.60000000000002,284.5,284.10000000000002,283.60000000000002,284.5,0.89999999999997726,3.1734837799717109E-3,15,24,-2.3000000000000114,-8.0195258019526202E-3,44,42,-2,-6.9808027923211171E-3,43,42,22.199999999999989,8.4635913076629765E-2,15,20]
["West Virginia","SMS54000003000000001",54.1,53,51.5,51.6,50.8,50.1,49.3,49.3,49.3,49,49,48.8,null,48.6,48.9,48.8,48.8,49,49.2,49.6,49.4,49.1,49.2,49.3,49.4,null,49.3,49.3,49.6,49.3,49.3,49.6,49.6,49.5,49.4,49.4,49.5,49.5,null,49.9,49.8,49.8,49.7,49.3,49.3,49,48.3,48.3,48.8,48.4,48.6,null,48.6,48.5,48.4,48.4,48.5,48.4,48.4,48.6,48.7,48.5,48.6,48.3,null,48,47.7,47.9,48,48,47.8,47.7,47.7,47.6,47.6,47.7,47.5,47.9,48.1,48.1,47.6,47.7,47.8,47.7,47.5,47.5,47.2,47.1,46.9,47.2,47.2,47,46.9,46.9,46.6,46.5,46.5,46.7,46.4,46.5,46.4,45.5,45.7,45.5,45.5,45.3,45.3,45.4,45.2,45.5,45.7,46,0.29999999999999716,6.5645514223194121E-3,25,13,-0.5,-1.0752688172043012E-2,41,44,-0.39999999999999858,-8.6206896551723842E-3,39,43,-3.2999999999999972,-6.6937119675456333E-2,41,43]
["Wisconsin","SMS55000003000000001",469.5,459.4,450.8,440.7,435.1,429.6,425,424.2,427.9,425.8,425.1,424.6,null,424.4,425.1,426.5,427.7,429.3,430.5,432,432.6,433.3,433.7,434.9,435.8,null,437.5,439.8,441.1,443.7,444.7,444.7,447.3,446.6,446.9,447.2,448.7,449.6,null,451.2,452.4,454.3,455.3,455.2,456.4,457.9,457.2,456.8,456.8,456.9,457.2,null,457.2,457.7,458.4,457.3,457.8,457.3,456.6,456.4,456.4,459.5,462.5,464.1,null,460.4,463.5,461.9,463.1,464.3,464.2,465.2,465.1,465.4,467,468.9,469.1,468.3,469.1,468.8,468.1,467.1,467.5,467.6,467.3,466.9,470.6,470.8,471.4,466.4,465.9,465.6,465.5,464.8,464.1,463.9,463.6,463.3,467.1,466.2,468.4,468.1,469.1,467.9,472.1,472.1,472.4,474.3,474.7,476.7,481.1,483.1,2,4.1571398877572226E-3,7,18,16.900000000000034,3.6250536250536328E-2,2,7,14.700000000000045,3.1383432963279348E-2,3,7,58.100000000000023,0.13670588235294123,4,13]
["Wyoming","SMS56000003000000001",9.6,9.4,9.3000000000000007,9.1,9.1,8.9,9,8.9,9,8.8000000000000007,8.6999999999999993,8.6999999999999993,null,8.6,8.6,8.8000000000000007,8.6,8.6,8.6,8.6999999999999993,8.8000000000000007,8.8000000000000007,8.8000000000000007,8.9,8.9,null,8.9,8.9,8.9,9,9.1,9.1,9,9.1999999999999993,9.1999999999999993,9.3000000000000007,9.3000000000000007,9.4,null,9.3000000000000007,9.4,9.4,9.3000000000000007,9.3000000000000007,9.3000000000000007,9.3000000000000007,9.1999999999999993,9.3000000000000007,9.4,9.3000000000000007,9.3000000000000007,null,9.5,9.5,9.4,9.4,9.4,9.4,9.4,9.5,9.5,9.8000000000000007,9.8000000000000007,9.8000000000000007,null,9.8000000000000007,9.6,9.9,9.6999999999999993,9.8000000000000007,9.8000000000000007,9.8000000000000007,9.8000000000000007,9.8000000000000007,10,9.9,9.9,10,10,9.8000000000000007,9.8000000000000007,9.9,9.6999999999999993,9.8000000000000007,9.6999999999999993,9.6999999999999993,9.6,9.6,9.6999999999999993,9.4,9.4,9.4,9.3000000000000007,9.1999999999999993,9.3000000000000007,9.1999999999999993,9.1999999999999993,9.1,9,9.1,9.1,9.3000000000000007,9.3000000000000007,9.3000000000000007,9.3000000000000007,9.3000000000000007,9.3000000000000007,9.3000000000000007,9.3000000000000007,9.3000000000000007,9.4,9.3000000000000007,-9.9999999999999645E-2,-1.0638297872340387E-2,35,47,0.20000000000000107,2.1978021978022098E-2,34,13,0.20000000000000107,2.1978021978022098E-2,{"$f":"RANK(DS52,DS$5:DS$52)","v":33},11,0.30000000000000071,3.3333333333333409E-2,30,27]

{"sheet":"TTU","index":4,"n_rows":54,"n_cols":130,"rows_kept":54,"cut":false,"hidden":false,"merged":[]}
[]
["Trade, Transportation & Utilities"]
[]
["State Name","Series ID","Jan\n2009","Feb\n2009","Mar\n2009","Apr\n2009","May\n2009","Jun\n2009","2009-07-01","Aug\n2009","Sep\n2009","Oct\n2009","Nov\n2009","Dec\n2009",null,"Jan\n2010","Feb\n2010","Mar\n2010","Apr\n2010","May\n2010","Jun\n2010","Jul\n2010","Aug\n2010","Sep\n2010","Oct\n2010","Nov\n2010","Dec\n2010",null,"Jan\n2011","Feb\n2011","Mar\n2011","Apr\n2011","May\n2011","Jun\n2011","Jul\n2011","Aug\n2011","Sep\n2011","Oct\n2011","Nov\n2011","Dec\n2011",null,"2012-01-01","2012-02-01","2012-03-01","2012-04-01","2012-05-01","2012-06-01","2012-07-01","2012-08-01","2012-09-01","2012-10-01","2012-11-01","2012-12-01",null,"2013-01-01","2013-02-01","2013-03-01","2013-04-01","2013-05-01","2013-06-01","2013-07-01","2013-08-01","2013-09-01","2013-10-01","2013-11-01","2013-12-01",null,"2014-01-01","2014-02-01","2014-03-01","2014-04-01","2014-05-01","2014-06-01","2014-07-01","2014-08-01","2014-09-01","2014-10-01","2014-11-01","2014-12-01","2015-01-01","2015-02-01","2015-03-01","2015-04-01","2015-05-01","2015-06-01","2015-07-01","2015-08-01","2015-09-01","2015-10-01","2015-11-01","2015-12-01","2016-01-01","2016-02-01","2016-03-16","2016-04-29","2016-05-29","2016-06-29","2016-07-29","2016-08-29","2016-09-29","2016-10-29","2016-11-29","2016-12-29","2017-01-29","2017-02-28","2017-03-30","2017-04-29","2017-05-29","2017-06-29","2017-07-29","2017-08-29","2017-09-29","2017-10-29","2017-11-29","Month-to-Month","Month-to-Month %","Mo Chg Rank","Mo % Rank","Year-to-Year","Year-to-Year %","Yr Chg Rank","Yr % Rank","Year-to-Date Chg","Year-to-Date %","Year-to-Date  Chg Rank","Year-to-Date % Rank","Chg from Trough","% Chg from Trough","Trough Chg Rank","Trough % Chg Rank"]
["Alabama","SMS01000004000000001",374.8,372.3,369.5,366.9,366.9,366,365,363.6,362.6,361.1,360.8,358.9,null,360.2,360.5,361.5,361,361.5,361.2,361.2,361.2,361.2,362.7,362.7,363,null,363.2,363.6,363.7,363.7,363.2,363.5,364.7,365.3,365.6,364.7,365.4,365.4,null,366.3,365.8,366.5,366.5,366.2,365.9,364.9,364.4,364.6,365.8,367.5,366.9,null,365.9,367.6,367.1,367.7,368.3,369.1,368.9,369,368.3,370.7,373.5,375.8,null,371.1,371.2,372.1,372.7,372.4,372.4,373.6,373.1,373.7,374.9,376.8,378.6,375.2,375.7,375.9,376.5,377.5,377.7,378.3,378.7,378.6,378.7,382,381.5,380.7,381.1,380.5,380.6,380.3,379.2,380.4,380.3,380.6,381,379.4,379,380.3,378.1,378.3,377,376.3,377,373.5,372.9,375.2,377,376.8,{"$f":"DJ5-DI5","v":-0.19999999999998863},{"$f":"DK5/DI5","v":-5.3050397877981066E-4},{"$f":"RANK(DK5,($DK$5:$DK$54))","v":19},{"$f":"RANK(DL5,($DL$5:$DL$54))","v":22},{"$f":"DJ5-CX5","v":-2.5999999999999659},{"$f":"DO5/CX5","v":-6.8529256721137745E-3},{"$f":"RANK(DO5,($DO$5:$DO$54))","v":43},{"$f":"RANK(DP5,($DP$5:$DP$54))","v":41},{"$f":"DJ5-CY5","v":-2.1999999999999886},{"$f":"DS5/CY5","v":-5.8047493403693634E-3},{"$f":"RANK(DS5,DS$5:DS$54)","v":39},{"$f":"RANK(DT5,DT$5:DT$54)","v":37},{"$f":"DJ5-I5","v":11.800000000000011},{"$f":"DW5/I5","v":3.2328767123287701E-2},{"$f":"RANK(DW5,($DW$5:$DW$54))","v":35},{"$f":"RANK(DX5,($DX$5:$DX$54))","v":44}]
["Alaska","SMS02000004000000001",64,63.6,63.7,63.5,63.1,62.7,62.9,62.9,63.3,63.1,63.2,62.8,null,62.7,62.5,62.6,62.6,62.6,63,63,62.8,62.5,62.8,62.8,63.1,null,62.6,62.9,63.5,63.1,63.2,63.3,63.5,63.5,63.7,63.5,63.5,63.3,null,63.6,63.7,63.5,63.8,63.6,63.7,63.8,63.5,63.9,65.2,63.7,63.9,null,64,63.9,63.8,63.8,63.9,63.9,63.8,64.2,64.5,64.5,64.2,64.5,null,64.2,64.400000000000006,64.3,64.7,65,64.599999999999994,64.8,64.8,64.900000000000006,66,65.8,66.3,65.3,65.3,65.5,65.5,66,65.5,65.7,65.7,65.900000000000006,68,67.3,67.599999999999994,65.7,65.8,65.7,66,65.7,65.099999999999994,65.3,65.099999999999994,65.099999999999994,66.099999999999994,65.2,65,65,64.8,64.599999999999994,64.599999999999994,65.400000000000006,65.3,65.3,64.900000000000006,66.2,65.8,65,{"$f":"DJ6-DI6","v":-0.79999999999999716},{"$f":"DK6/DI6","v":-1.2158054711246157E-2},{"$f":"RANK(DK6,($DK$5:$DK$54))","v":34},{"$f":"RANK(DL6,($DL$5:$DL$54))","v":50},{"$f":"DJ6-CX6","v":-0.20000000000000284},{"$f":"DO6/CX6","v":-3.0674846625767306E-3},{"$f":"RANK(DO6,($DO$5:$DO$54))","v":33},{"$f":"RANK(DP6,($DP$5:$DP$54))","v":36},{"$f":"DJ6-CY6","v":0},{"$f":"DS6/CY6","v":0},{"$f":"RANK(DS6,DS$5:DS$54)","v":29},29,{"$f":"DJ6-I6","v":2.1000000000000014},{"$f":"DW6/I6","v":3.3386327503974585E-2},{"$f":"RANK(DW6,($DW$5:$DW$54))","v":46},{"$f":"RANK(DX6,($DX$5:$DX$54))","v":43}]
["Arizona","SMS04000004000000001",494.7,489.1,486.5,481.4,480.3,478.1,476.9,474.7,473.1,469.6,468.2,467.3,null,467.3,468.6,469,469.3,469.8,469,468.2,466.9,465.7,466.7,466.3,468.2,null,468.7,469.5,470.7,472,472.7,473.2,473,473.4,474.3,475.7,477.2,476.3,null,476.4,475.4,476.2,475.5,475.6,475.8,475.2,474.9,476.1,477.5,479.2,479.4,null,475.6,476.4,475.7,477.2,477.6,479.8,481.9,483,484.7,484.8,488.3,490.8,null,488.4,489.8,490.5,490.8,491.1,492.1,492.6,493.7,494.2,495.2,498.2,501.6,498.4,500.1,501.3,502,503.4,505.1,507.6,509.4,510.9,513,514.29999999999995,513.20000000000005,510.6,512.70000000000005,513.6,515.29999999999995,516.20000000000005,516.29999999999995,518.1,518.9,521.5,520.5,520.1,520.1,519.6,520.20000000000005,518.29999999999995,518,518.29999999999995,519.79999999999995,521.4,519.9,521.20000000000005,519.70000000000005,519.5,-0.20000000000004547,-3.8483740619596972E-4,24,19,-0.60000000000002274,-1.1536243030186939E-3,34,33,-0.60000000000002274,-1.1536243030186939E-3,31,31,42.600000000000023,8.9326902914657211E-2,20,20]
["Arkansas","SMS05000004000000001",240.3,239.3,238.3,237,235.9,234.9,234.9,234,233.4,233.1,232.9,232.1,null,232.8,232.9,233.1,232.6,233.7,235.4,235,236.1,235.1,236.4,236.5,236.6,null,236.5,235.4,235.6,238.6,237.1,237.1,239.2,238.8,239,240.1,240,240.5,null,241,240.8,241.3,242,241.9,241.7,241,240.8,241,241.2,241.4,241.6,null,240.8,241.7,241.5,241.3,240.7,240.3,241.1,241.2,241.1,244.1,243.4,244.2,null,242.3,242.7,242.4,243.7,244.3,244.4,244.5,245.6,246,247.6,248.4,248.9,248.9,249.5,249.5,250.3,251.3,252,252.4,253.1,253,255.2,255.1,257.3,252.9,252.9,252.7,252.3,252.4,251.7,252.5,252.3,252.6,253.7,252.3,254.2,252.8,252.9,252.8,252.3,251.9,254.9,257.39999999999998,255.6,256,256,255,-1,-3.90625E-3,36,36,2.6999999999999886,1.0701545778834675E-2,19,17,0.80000000000001137,3.1471282454760478E-3,25,26,20.099999999999994,8.556832694763726E-2,29,21]
["California","SMS06000004000000001",2723.6,2701.5,2681.2,2656.5,2651.1,2638.1,2619.6,2609.9,2610.6999999999998,2606.3000000000002,2605.4,2601.4,null,2608.5,2610.1,2612.5,2623.8,2625.4,2625.7,2631.8,2634.3,2634.1,2641.8,2643.7,2651.1,null,2653,2657.6,2660.7,2674.6,2673.6,2675.1,2680.7,2688.4,2691.4,2694.1,2701,2702,null,2716.1,2710.3,2715.5,2720.4,2724.4,2732.3,2735,2736.8,2743.5,2750,2765.3,2765,null,2770.5,2781.4,2781.8,2789.8,2795.4,2797.2,2807.1,2812,2812.5,2813.9,2841.1,2841.7,null,2831.5,2839.4,2844.7,2852.5,2857.6,2863.8,2871.4,2881.3,2887.5,2895.8,2907.6,2914.3,2901.8,2905.7,2916,2918.2,2925.2,2925.2,2948.3,2955.5,2961.4,2960.4,2965.1,2969.3,2962.5,2972.4,2973.6,2990.2,2987.7,2977.8,2994.6,2997.9,3001.6,3005.5,3013.8,3023.1,3009.8,3020.6,3015.8,3005.5,3010.3,3012.1,3014.3,3018.8,3031.8,3038.5,3034.5,-4,-1.3164390324173112E-3,48,25,20.699999999999818,6.8684053354568378E-3,3,23,11.400000000000091,3.7709635804307139E-3,4,24,414.90000000000009,0.1583829592304169,2,8]
["Colorado","SMS08000004000000001",416.4,412.5,408.9,405.6,405,403.7,401.8,400.2,399.6,398.7,397.6,396.8,null,396.2,396.9,397.3,397.4,397.7,398,399,398.4,397.5,398.3,398,397.8,null,398.2,398.5,399.6,401.7,401.6,401.7,402.4,402.8,403.2,403.1,404.1,403.6,null,405.6,405.9,406.9,407.4,408,409,409.7,409.3,410.8,413.1,414.3,415.1,null,415.8,417.3,417.7,418.1,418.9,419.8,420.2,421.6,422.5,421.4,421.6,422.2,null,427.4,428.1,428.9,430.2,431.3,432.6,433.1,434.1,435.2,434.6,435.6,436.1,441.7,442.2,443.2,443.7,444.4,445.7,447.5,448,448.7,447.6,448.1,448.7,451.3,451.8,452.8,453,453.5,453.8,455.8,456.2,457.7,457.3,457.7,458.9,459.9,461.3,461.5,462.2,467.2,469,467.3,467.3,465.5,465.6,464.8,-0.80000000000001137,-1.7182130584192682E-3,35,30,7.1000000000000227,1.5512344330347439E-2,9,8,5.9000000000000341,1.2856831553715481E-2,10,7,63,0.156794425087108,11,10]
["Connecticut","SMS09000004000000001",301,298.89999999999998,297.10000000000002,291.7,293.60000000000002,293.10000000000002,291.39999999999998,291.10000000000002,291.2,290.5,290.2,289.3,null,288.10000000000002,286.89999999999998,287.89999999999998,286.8,289.39999999999998,290.5,291.10000000000002,291.10000000000002,290.5,291.2,291.5,291.8,null,291,291.7,292.2,294.89999999999998,293,292.89999999999998,293.39999999999998,293.39999999999998,293.39999999999998,292.60000000000002,292.7,293.60000000000002,null,295.60000000000002,295.60000000000002,296.5,294.89999999999998,295.8,295.39999999999998,295,295.2,295.7,296.8,297.3,296.60000000000002,null,296.7,295.8,297.3,298.89999999999998,298.3,298.7,298.8,299.39999999999998,299.10000000000002,300.2,302.39999999999998,301.89999999999998,null,300,299.60000000000002,300.3,301.3,301.10000000000002,300.8,300.7,300.5,300.89999999999998,302,303.7,304.10000000000002,296.3,295.60000000000002,295.89999999999998,296.8,296.8,297.3,296.7,296.39999999999998,297,297.2,298.5,299.3,298.5,299,299.3,298.7,298.39999999999998,297.3,298.5,298.7,299.3,298.10000000000002,298.5,298.10000000000002,302.39999999999998,300.60000000000002,299.3,296.8,297.8,298.2,299.89999999999998,298,299.10000000000002,297.7,297.3,-0.39999999999997726,-1.3436345314073808E-3,26,26,-1.1999999999999886,-4.0201005025125251E-3,36,37,-0.80000000000001137,-2.6836632002684041E-3,32,32,5.9000000000000341,2.0247083047357704E-2,42,45]
["Delaware","SMS10000004000000001",77.599999999999994,77,76.3,75.3,75.3,74.900000000000006,74.900000000000006,74.8,74.8,74.3,74.3,73.900000000000006,null,73.900000000000006,73.2,73.900000000000006,74.099999999999994,74.7,74.7,74.900000000000006,74.900000000000006,75,75,75,75,null,75.3,75.5,75.3,76,75.5,75.7,75.400000000000006,75.599999999999994,75.599999999999994,75.099999999999994,75.599999999999994,75.5,null,75.7,75.599999999999994,75.900000000000006,75.7,76,75.8,75.599999999999994,75.400000000000006,75.2,76.099999999999994,76.5,76.400000000000006,null,76.2,76.599999999999994,76.8,77,77,76.7,77.5,77.8,78,78.3,78.099999999999994,78.5,null,79,79,79,79.2,79.2,79.599999999999994,79.900000000000006,80.3,79.900000000000006,80.099999999999994,80,80.400000000000006,80.5,80.8,80.8,81,81.099999999999994,81,81.599999999999994,81.7,81.7,81.3,82,82.5,82.7,82.7,83.1,82.9,82.7,82.7,82.9,83.1,83.1,82.4,82,82.2,83.5,83.3,83,83,80.900000000000006,81.2,81,80.5,79.900000000000006,80.400000000000006,80,-0.40000000000000568,-4.9751243781095229E-3,27,39,-2,-2.4390243902439025E-2,42,49,-2.2000000000000028,-2.6763990267639936E-2,40,50,5.0999999999999943,6.8090787716955856E-2,44,30]
["Florida","SMS12000004000000001",1529.6,1518.3,1506.7,1491.5,1489.3,1484.7,1477.2,1473.6,1470.3,1467.1,1466.9,1463,null,1466.1,1467.3,1469.6,1470.2,1473.3,1475.9,1473.5,1475.5,1472.4,1480.7,1481.4,1486,null,1486.3,1487.1,1490.2,1496.3,1496.7,1498.4,1507.1,1508.7,1512.5,1514,1518,1520.3,null,1524.5,1527,1530.2,1532.4,1534.3,1535.1,1536.9,1537.6,1540.5,1544.8,1549.3,1548.6,null,1552.3,1556.4,1558.2,1561.8,1563.8,1571.1,1575.4,1579.1,1580.8,1588.5,1593.4,1603.4,null,1599.3,1603.9,1608,1614.2,1616.5,1619.5,1624.5,1630.6,1633.5,1640,1647.2,1654.9,1661.9,1664,1668.1,1669.7,1676.2,1682.8,1687.8,1691.9,1693.6,1692.6,1693.8,1696,1701.6,1704.4,1707.4,1712.1,1716.3,1718,1725.9,1729,1736.1,1727.1,1734.1,1737.8,1746.5,1746.9,1745.6,1744.6,1748.7,1753.6,1757,1761.3,1751.4,1762.1,1767.6,5.5,3.1212757505249419E-3,2,8,33.5,1.9318378409549624E-2,1,5,29.799999999999955,1.7148118310507512E-2,1,4,290.39999999999986,0.19658813972380168,3,5]
["Georgia","SMS13000004000000001",840.7,833.5,828.1,822.7,820.5,818.6,816.2,814.8,811,809.2,808.4,805.6,null,805.7,806.7,807.4,807.7,808.4,809.8,811.3,811.7,812,815.4,815.1,813,null,811.9,818.3,820.5,823,822.4,822.5,822.2,824,825.5,825.1,826.7,822.9,null,830.8,830.8,831.4,832.9,833.6,832.7,832.2,831.9,832.4,835.2,837.5,837.6,null,838.9,839.8,839.3,841.5,842.8,844.5,847.6,849.8,850,850.8,855.9,859.2,null,858.8,858.6,862.3,865,867.1,869.7,870.9,873.3,875.9,885.9,886.6,891.7,892.9,895.6,897.7,898.6,900.7,905.3,905.6,908.6,911.6,915.7,917.7,917.8,919.1,921.6,922.7,923.3,924.8,926.8,928.8,929.4,934.6,931,929.6,933.9,939.2,939.8,942.9,941.2,943.7,945,944.5,946.4,945.3,943.5,944.7,1.2000000000000455,1.2718600953895553E-3,8,13,15.100000000000023,1.6243545611015514E-2,4,6,10.800000000000068,1.1564407324124712E-2,5,9,128.5,0.15743690271992158,4,9]
["Hawaii","SMS15000004000000001",113,112.7,112.1,111.2,111,111,110.6,110.3,110.4,110.2,109.9,109.4,null,109.2,109.5,109.4,110.1,109.9,109.8,110.1,110.7,110.5,110.6,110.5,110.8,null,110.9,110.6,111,111,111,110.9,111.5,111.7,111.9,112.4,112.8,112.8,null,113.5,113.7,113.8,114.3,114.5,114.8,115,115.1,115.3,115.5,116.4,116.1,null,116,116.6,116.6,116.8,116.6,116.8,116.8,117,117,117.8,118.6,118.3,null,117,116.7,117.2,117.3,117.4,117.4,117.8,117.4,117.5,117.5,117.7,118,119.1,119.2,119.4,119.4,119.5,119.5,119.5,119.6,119.5,118.8,118.2,118,119.4,119.6,119.5,119.4,119.6,119.3,120,120.4,121,121,121.1,121.9,120.5,120.8,120.3,121.5,122.1,121.8,123.9,122.8,123.7,123.1,122.9,-0.19999999999998863,-1.6246953696181044E-3,19,28,1.8000000000000114,1.4863748967795305E-2,23,9,1,8.2034454470877767E-3,24,17,12.300000000000011,0.11121157323688981,34,16]
["Idaho","SMS16000004000000001",126.1,125.5,124.7,123.3,123.3,122.8,122.2,121.8,121.9,121.4,121.1,120.7,null,121.1,121,121.1,121.4,121.5,121.7,121.6,122.2,121.2,121.8,121.8,121.6,null,121.6,121.6,121.6,122.4,122.4,122.2,123.2,123.6,124.2,124.2,124.8,124.8,null,125.6,125.5,126,125.3,125.9,126.3,126.5,126.5,127,127.5,127.4,127.7,null,127.8,128.30000000000001,128.30000000000001,129,129.19999999999999,129.4,129.6,129.9,129.9,130.1,129.9,130,null,130.6,130.80000000000001,131.19999999999999,131.9,131.9,132.4,132.1,132.30000000000001,132.1,132.9,133.30000000000001,132.80000000000001,134.19999999999999,134.6,135.30000000000001,135.69999999999999,135.9,136.30000000000001,136.69999999999999,136.5,136.9,137.30000000000001,136.9,137.30000000000001,136.5,137.30000000000001,137.19999999999999,137.30000000000001,137,136.80000000000001,137.5,138.19999999999999,138.69999999999999,138.5,139.1,139.6,141,138.80000000000001,139.69999999999999,139.1,138.6,138.19999999999999,139.80000000000001,141,141.30000000000001,143,142,-1,-6.993006993006993E-3,36,45,2.9000000000000057,2.0848310567936779E-2,17,3,2.4000000000000057,1.7191977077363939E-2,19,3,19.799999999999997,0.16202945990180029,30,7]
["Illinois","SMS17000004000000001",1172.0999999999999,1164.2,1154.8,1143.5999999999999,1142.2,1138.3,1133.2,1130,1128.0999999999999,1124.3,1124,1120.3,null,1119.4000000000001,1119.0999999999999,1120.5,1123.0999999999999,1124.9000000000001,1125.8,1128.5,1128.2,1127.2,1130,1130,1130.7,null,1135.4000000000001,1136.5999999999999,1138.9000000000001,1142.2,1141.8,1142.9000000000001,1143.7,1146.0999999999999,1147.9000000000001,1148.2,1148.7,1149.9000000000001,null,1151.3,1152.4000000000001,1155.7,1155.7,1154.3,1153.8,1155.9000000000001,1156.5,1156.8,1158.9000000000001,1162.2,1160.8,null,1158.2,1161.0999999999999,1160,1160.4000000000001,1161.5,1163.0999999999999,1163.7,1165.9000000000001,1164.2,1168.7,1172.5,1174.7,null,1168,1165.5,1168.3,1170.5999999999999,1174.2,1176,1178,1178.3,1179.0999999999999,1179.3,1175.2,1176.9000000000001,1190,1192.7,1193.7,1197.2,1200.3,1202.3,1203.4000000000001,1203.9000000000001,1204.5,1208,1204.7,1198.7,1207.5999999999999,1209.5,1209.5,1211.2,1208.7,1207.4000000000001,1210.9000000000001,1211.7,1211.4000000000001,1207.8,1205.5,1209.5,1214.3,1211.5,1211.8,1204.7,1204.2,1203.9000000000001,1199.3,1204.9000000000001,1201.8,1206.0999999999999,1204.0999999999999,-2,-1.6582372937567367E-3,42,29,-1.4000000000000909,-1.1613438407300631E-3,40,34,-5.4000000000000909,-4.4646548160397611E-3,45,36,70.899999999999864,6.2566184256971288E-2,10,31]
["Indiana","SMS18000004000000001",561.1,558.5,553.70000000000005,549.79999999999995,549.70000000000005,548.9,545.70000000000005,545,543.9,542.29999999999995,542.20000000000005,540,null,540.20000000000005,539.5,541.5,541.6,541.70000000000005,542,543.29999999999995,543.29999999999995,543.29999999999995,545.29999999999995,545.29999999999995,545.79999999999995,null,548.20000000000005,548.6,548.79999999999995,550.1,550.79999999999995,550.79999999999995,552.29999999999995,552.4,553.6,554.20000000000005,555.20000000000005,556.5,null,558.70000000000005,558.9,559.9,560.29999999999995,560.20000000000005,561.1,561.1,559.70000000000005,561.20000000000005,562.29999999999995,564.29999999999995,564.20000000000005,null,562.70000000000005,565.1,564.1,566,567,568.79999999999995,568.4,569.70000000000005,570.6,570.6,572.9,573.6,null,571.4,572.5,573.1,574,573.9,574.4,575.70000000000005,576,576.29999999999995,578.1,580.1,581.5,578.70000000000005,579.5,579.79999999999995,579.29999999999995,581.4,582.5,582.5,584.4,584.5,584.9,586.4,592.9,593.9,595.79999999999995,595.6,594.79999999999995,593.79999999999995,592.9,596,595.29999999999995,598.70000000000005,598.20000000000005,598.79999999999995,598.4,590.79999999999995,598.29999999999995,600.79999999999995,598.6,593.9,590.70000000000005,589.9,591,594.5,597.79999999999995,594.9,-2.8999999999999773,-4.8511207761792862E-3,47,38,-3.8999999999999773,-6.5130260521041707E-3,45,40,-3.5,-5.8489304812834224E-3,44,38,49.199999999999932,9.0159428257284083E-2,17,19]
["Iowa","SMS19000004000000001",306.2,306,304.60000000000002,303.10000000000002,303,302.8,302.39999999999998,302.39999999999998,301.2,299.7,299.8,298.10000000000002,null,299.10000000000002,298.3,298.7,299.8,299.3,300,299.60000000000002,299.7,299.3,300.39999999999998,300,299.89999999999998,null,300.10000000000002,300.7,301.2,302.2,303,302.89999999999998,302.89999999999998,303.2,304.10000000000002,304.5,305.10000000000002,305.2,null,305.8,305.89999999999998,305.8,306.39999999999998,306.2,306.5,307,307.3,308.2,308.2,309.10000000000002,309.2,null,309,309.60000000000002,310,310.10000000000002,310.2,311,311.5,311.60000000000002,312,311.8,313.10000000000002,316.60000000000002,null,311.8,312,311.89999999999998,312.60000000000002,312,312.39999999999998,311.8,312,312.2,315.10000000000002,315.7,315.2,315.10000000000002,315.39999999999998,315.5,315.8,315.7,316.2,316.3,315.89999999999998,315.7,316.89999999999998,316.7,317.2,315.39999999999998,316.10000000000002,315.8,315.89999999999998,315.3,314.2,316.7,316.39999999999998,316.5,318.3,316.60000000000002,317,318.10000000000002,319,318.5,320,320,318.8,320.2,320.89999999999998,321,319.2,319.7,0.5,1.5664160401002508E-3,11,12,3.0999999999999659,9.791535060012525E-3,16,19,2.6999999999999886,8.5173501577286703E-3,17,16,17.300000000000011,5.7208994708994751E-2,32,35]
["Kansas","SMS20000004000000001",260.10000000000002,259.3,258,255.1,254.3,254,253.4,252.6,252.4,251.4,251.1,250.7,null,250.1,250.2,250.5,251.5,251.8,252.1,252.6,252.5,251.7,253.5,253.2,253.5,null,254.1,253.8,252.3,255.1,255.4,254.4,255.2,255.2,255.2,255.6,256,255.8,null,257.39999999999998,256.89999999999998,257.10000000000002,257.2,256.89999999999998,258.5,256.5,256.8,257.3,257.8,258.39999999999998,258,null,258.60000000000002,258.8,258.5,259,259.39999999999998,259.5,260.7,261.7,261.89999999999998,263.2,263.7,262.89999999999998,null,262,261.8,263.2,263.60000000000002,263.8,263.7,264.89999999999998,265.39999999999998,265,265.60000000000002,264.2,264.8,264.10000000000002,264.10000000000002,264,264.3,265.3,266.10000000000002,266.2,266.3,266.8,267.60000000000002,266.60000000000002,266.60000000000002,266.5,267.60000000000002,267.10000000000002,267.60000000000002,267.3,267.10000000000002,268.10000000000002,268.2,269,267,265.60000000000002,266,267.10000000000002,267.10000000000002,268.3,268.10000000000002,266.89999999999998,265.8,265.10000000000002,266.3,263.3,263,264.39999999999998,1.3999999999999773,5.323193916349723E-3,7,1,-1.2000000000000455,-4.5180722891567972E-3,37,38,-1.6000000000000227,-6.0150375939850478E-3,37,39,10.999999999999972,4.3409629044988046E-2,36,40]
["Kentucky","SMS21000004000000001",370,367.1,364.3,363,363.2,362.6,361.9,361,360.4,360,359.4,359.8,null,358.9,359,359.4,359.8,360.4,360.7,361,361.2,361.3,363.5,362.1,364.2,null,363.1,364,364.4,364.3,363.7,364.4,365.5,366.1,366.7,366.9,368.1,368.4,null,368.4,369.3,369.3,370,369.8,369.4,369.3,368.3,368.9,368.9,369,368.6,null,368.8,369.6,369.2,369.4,369.7,370,369.9,370.2,370.5,366.8,367.1,370.8,null,373.4,373.7,374,375.3,376.2,376.5,376.5,377.4,378,380.4,381,381.3,384.1,384.1,383.7,384.5,386.3,386.7,387.1,388.2,388.2,388.8,389.9,390.1,393.3,395.4,395.6,396.2,396.7,395.8,398.8,399.3,400.6,398.9,399.2,402.2,402.3,401.1,401.9,400.7,402.1,402.4,404.9,404.7,405.2,406,404.6,-1.3999999999999773,-3.4482758620689095E-3,40,33,5.4000000000000341,1.3527054108216519E-2,14,11,2.4000000000000341,5.9671805072104281E-3,18,21,42.700000000000045,0.1179883945841394,19,15]
["Louisiana","SMS22000004000000001",378.1,376.7,374.8,370.2,369.7,370.4,370.6,369.7,369.2,365.2,364.4,362.2,null,362.2,362.5,363.6,365,365.9,367.1,366.8,367.6,368,370.5,370.5,371.4,null,372.6,372.9,372.7,373.6,374.1,373.4,375.2,375.2,375.1,374.7,375.5,375.7,null,376.4,376.7,376.7,377.4,377.6,377.6,376.9,377,376.6,378.8,381.3,380.8,null,380.7,381,381.7,381.1,380.9,382,382.6,384.1,385.2,387.6,389.3,390.2,null,385.9,385.8,386.2,386.7,387.9,388.6,389.4,390,390.3,393.3,393.3,394.1,394.5,394.1,393.9,393.4,393.7,393.7,393.6,394,392.5,391.8,390.8,389.3,391,390.7,389.9,388.8,388.6,387.8,388.1,386.9,386.9,387.6,387.3,387.7,388.5,384,384.9,383.4,383.2,382.7,381.8,380.7,381.9,380.7,377.9,-2.8000000000000114,-7.3548726030995834E-3,46,47,-9.4000000000000341,-2.4270591272915139E-2,50,48,-9.8000000000000114,-2.527727624451899E-2,48,47,7.2999999999999545,1.9697787371829343E-2,38,46]
["Maine","SMS23000004000000001",121.1,120.1,119.6,119.2,119.5,118.6,118.4,118.3,118.5,117.5,117.7,117.4,null,117,116.8,116.9,116.8,116.9,117.1,117.1,117.1,116.4,116.7,116.3,116.7,null,116.8,117,116.8,117.1,116.6,116.6,116.9,117.1,117.3,117.1,117.2,117.1,null,117.5,118.1,117.7,117.7,117.7,117.7,117.1,117,116.9,117.3,117.1,117,null,116.7,117.1,117,117.4,117.8,118.5,118.8,118.7,118.8,118.9,118.4,119,null,118.7,118.9,119.2,119.3,119.4,119.2,119.1,119.2,119.2,119.2,118.9,119.2,119.4,119.4,119.5,120.1,120.1,120.2,120.4,120.1,119.7,118.6,118.7,118.4,120.3,120.5,120.9,120.8,120.7,120.6,121,121,121.3,120.2,119.3,120.1,122.3,121.8,122.8,121.8,120.8,121.4,121.2,119.8,121.2,120.7,119.7,-1,-8.2850041425020712E-3,36,49,0.40000000000000568,3.3528918692372648E-3,28,25,-0.39999999999999147,-3.3305578684428932E-3,30,33,1.2999999999999972,1.0979729729729706E-2,47,47]
["Maryland","SMS24000004000000001",449.4,446.9,443.8,440.4,440.5,439.6,438,437.1,437,435.3,436,433.3,null,433.6,427.9,435,438.4,439.4,439.4,440.2,439.9,439.2,441.3,440.8,441.4,null,441.5,441.6,442.3,443.2,443.5,443.6,443.7,445.4,446,445.8,446.7,447.6,null,448.9,450,451.6,450.6,450.1,450.2,448.6,448.5,449.8,450.5,451.4,451.5,null,451,451.4,450.6,450.1,450.7,450.1,451.9,452.2,451.5,450.7,451.7,452.1,null,453.1,452.4,453.2,454.6,454.5,455.3,455,455.7,455.3,456.2,456.7,457.4,459.1,459.9,459.4,461,463.1,464.7,465.9,465.9,466.2,464.4,464.9,466.1,465.5,467,467.8,467,467.1,466.6,467.1,468.6,470.2,467.9,465.7,468.9,472.2,469.4,469.7,468.7,471.2,471.3,471.5,473.1,471.1,470.4,472,1.6000000000000227,3.4013605442177355E-3,6,6,6.3000000000000114,1.3528022331973397E-2,12,10,3.1000000000000227,6.6112177436554124E-3,15,19,34,7.7625570776255703E-2,24,26]
["Massachusetts","SMS25000004000000001",549.70000000000005,548,545.29999999999995,541.1,541.6,542.1,539,538.20000000000005,539.9,539.29999999999995,540,539.29999999999995,null,540,539.70000000000005,541.20000000000005,543.5,544.29999999999995,543.29999999999995,544.70000000000005,544.9,542.79999999999995,545.1,544.70000000000005,546.4,null,545.9,546.29999999999995,547.20000000000005,549.20000000000005,547.20000000000005,546.6,548.6,548.9,549.70000000000005,549.20000000000005,549.29999999999995,548.9,null,550.29999999999995,550.4,550.70000000000005,549.6,550.70000000000005,552.6,551.6,551.6,551.6,552.29999999999995,553.1,553.5,null,553.20000000000005,554.5,554.29999999999995,555.4,556.4,557.29999999999995,556.79999999999995,557.4,557.4,559.79999999999995,560.9,563.79999999999995,null,558.79999999999995,559.79999999999995,561.4,562.1,561.79999999999995,561.9,562.70000000000005,551.70000000000005,563.29999999999995,563.4,565,566.1,567.20000000000005,564.20000000000005,566.79999999999995,567.5,568.6,569,571.20000000000005,571.70000000000005,569.6,567.5,567.29999999999995,564.6,571.70000000000005,573.29999999999995,574.70000000000005,573.9,573.29999999999995,573.70000000000005,577.5,577.29999999999995,576.6,573.20000000000005,573.1,572.20000000000005,579,579.4,577.1,578,576,579.9,579,578,579.79999999999995,580.1,577.4,-2.7000000000000455,-4.6543699362179714E-3,45,37,4.2999999999999545,7.5030535683126062E-3,15,22,5.1999999999999318,9.0877315623906531E-3,14,13,38.399999999999977,7.1243042671614062E-2,22,29]
["Michigan","SMS26000004000000001",735.9,732.8,726.8,721.1,720.1,715.7,712.7,712,710,708.4,706.5,705.9,null,706.7,706.1,707.5,708.7,709.8,709.8,714.9,711.3,711.3,715.1,714.5,714,null,716.3,717.1,717.1,718.8,720.1,720.7,723.3,723.6,725.6,725.6,726.5,726.5,null,727.2,727.9,729.4,729.5,728.8,729,729.5,729.1,729.7,732,734.7,735.2,null,737.9,741.2,741.1,741,742.3,744.3,744.9,746.4,745,748.4,748.2,750.7,null,751.8,754.1,753.8,755.5,757.1,758.4,756.2,758.4,759.7,762.4,761.6,761.1,767.7,768.2,769.2,769.8,771.5,772,771.1,772.3,773.4,770.7,771.7,773.7,778,779.2,779.8,782.1,782.1,782.9,783.4,785.5,787.4,784.7,783.3,782.4,781.6,778.1,784.1,780.6,777.5,781.5,783.5,784.1,783.5,783.8,784,0.20000000000004547,2.5516713447313791E-4,14,16,0.70000000000004547,8.936550491510858E-4,27,30,1.6000000000000227,2.044989775051154E-3,20,27,71.299999999999955,0.10004209344745328,9,17]
["Minnesota","SMS27000004000000001",508.9,506.1,503.2,497.7,498.6,496.4,494.3,493.4,491.1,490,490.1,489.1,null,488.4,487.7,488.1,489.8,490,491.3,490.9,490.2,489.3,491.3,491.3,490.6,null,490.8,492.1,493,495.5,497.1,496.4,498.6,498.9,500.5,499.5,499.8,500.4,null,501.4,500.9,502.2,504.4,503.1,502.5,502.5,503.4,503.8,505.1,506,506.4,null,508.2,509.2,509,507.8,508.7,510.7,511.1,513.1,512.79999999999995,514.9,514,518.20000000000005,null,513.4,514.1,514.29999999999995,515.79999999999995,515.9,516.70000000000005,519,518.9,517.20000000000005,521,518.20000000000005,520.9,520.9,521.70000000000005,522.4,522.9,524.1,524.9,525.9,525.79999999999995,525.9,524,524.1,524.4,528.6,530.4,530.79999999999995,531.5,531.4,530.29999999999995,533.4,533.6,533.1,533.9,534.9,535.6,534.6,540.29999999999995,538.6,536.70000000000005,537.29999999999995,536.79999999999995,535.79999999999995,538.4,540.79999999999995,539.70000000000005,542,2.2999999999999545,4.2616268297201304E-3,4,2,7.1000000000000227,1.3273509067115392E-2,9,12,6.3999999999999773,1.1949215832710936E-2,9,8,47.699999999999989,9.6500101153145834E-2,18,18]
["Mississippi","SMS28000004000000001",218.8,217.9,215.9,214.4,214.7,214.6,214.3,213.6,213.6,213.5,213,212.1,null,212.1,212.1,212.5,213.3,213.7,213.5,213.4,213.7,213.5,214.6,214,214.5,null,214.5,214.7,215.6,215.5,215.1,214.7,214.8,215,215,214.8,215.1,215.3,null,215.9,216,215.6,215.7,215.6,215.6,216.1,215.3,215.2,215.2,215.7,215.8,null,215.2,215.2,214.7,215.2,215.7,216.3,216.4,216.9,217,219.2,220.2,221.4,null,219.1,219.1,219.3,219.3,219.3,219.8,220,220.3,220.2,221.2,221,221.8,223.2,223.4,223.2,224.4,224.9,225.3,225,225.5,225.5,226.7,226.7,227.6,228.4,228.7,228.6,229.1,229.2,228.8,230.1,230.5,231.3,230.3,230.2,230.9,232.8,232.2,230.3,231.1,230.7,232.9,233.5,232.8,232.9,233.5,232.2,-1.3000000000000114,-5.5674518201285286E-3,39,44,2,8.6880973066898355E-3,22,20,1.2999999999999829,5.6301429190124853E-3,23,22,17.899999999999977,8.3527764815678848E-2,31,23]
["Missouri","SMS29000004000000001",528.6,526.9,523,520,519,518.1,517.4,516.9,516.29999999999995,515.1,514.1,512.5,null,512.5,512.4,513.20000000000005,512.79999999999995,513.29999999999995,513.4,513.79999999999995,513.9,512.5,512.6,512.1,512.5,null,513,513.79999999999995,514.5,517.4,515.6,514.9,514.6,513.5,513.9,512.9,513.5,513.70000000000005,null,513.79999999999995,513.29999999999995,513,512.4,512.1,512.20000000000005,512.1,511.6,512.1,513.6,514.79999999999995,514.6,null,513.20000000000005,513.6,512.20000000000005,514.5,514.6,515.20000000000005,516.6,516.9,516.29999999999995,517.79999999999995,518.5,519.29999999999995,null,520.29999999999995,520.70000000000005,521.1,522.5,522.9,523.5,523.79999999999995,524.1,524.1,523.79999999999995,523.4,524.1,529.4,529.6,529.4,530.6,531.70000000000005,532.6,533.9,533.4,534.1,530.9,530.5,529.1,543.6,545.4,545.6,545.1,544.70000000000005,544,546.4,545.5,546.1,547.6,547.20000000000005,550.5,557.70000000000005,556.20000000000005,552.4,551.9,555.70000000000005,554.4,550.9,547.29999999999995,549.5,548.79999999999995,548.20000000000005,-0.59999999999990905,-1.0932944606412338E-3,32,24,1,1.827485380116959E-3,25,27,-2.2999999999999545,-4.1780199818346134E-3,41,35,30.800000000000068,5.9528411287205395E-2,26,32]
["Montana","SMS30000004000000001",88.6,88,86.9,87.2,87.2,87,87,86.8,86.7,86.3,86.1,85.9,null,86,85.9,86,86.1,86,85.9,85.8,85.6,85.7,85.5,85.4,85.5,null,85.8,85.9,85.7,85.9,86.1,86.2,86.5,86.6,86.8,86.7,87.3,87.3,null,87.6,87.8,87.9,88.2,88.3,88.9,88.9,89,89.4,89.7,90,90.2,null,90,90.4,90.6,91.3,91.5,91.3,91.3,91.3,91.3,91.6,92.4,93,null,92.4,92.6,92.4,92.7,92.6,92.8,93,93,93,93.3,93.4,93.8,94,94,94.5,94.5,94.3,94.5,94.6,94.5,94.8,95.3,94.8,94.8,95.3,95.3,95.6,95.4,95.5,95.3,94.9,95.1,95.2,95.6,95.2,95.1,95.7,96.6,96.7,96,94.5,94.7,95.3,95.8,95.1,94.4,94.2,-0.20000000000000284,-2.1186440677966401E-3,22,31,-1,-1.0504201680672268E-2,35,43,-0.89999999999999147,-9.4637223974762524E-3,34,40,7.2000000000000028,8.2758620689655199E-2,39,25]
["Nebraska","SMS31000004000000001",202.7,201.7,200.9,198.8,198.6,197.7,197.2,196.7,196.3,195.9,195.6,194.7,null,194.9,195.2,195.3,196,196.1,196,196.2,195.8,195,196.7,195.9,196.7,null,196.2,196.6,196.7,197.8,197.4,197.6,198.1,198.5,198.7,198.5,199,198.8,null,199.6,199.2,199.5,200.3,199.8,199.9,199.7,199,199.6,200,200.2,200.8,null,200.5,200.5,200.4,200.3,200.6,200.9,201.3,201.6,201.2,202.6,202.4,202.8,null,203.2,203.4,203.6,204.4,204.6,204.6,204.2,204.8,204.6,204.2,203.6,203,205.5,206.2,206.1,206.6,206.6,207.3,207.2,207.3,207.1,207,207.7,207.7,205.2,205.3,205.2,205,204.8,204.6,204.8,204.4,204.7,204.7,205.6,206.9,205.5,206.5,206.4,206.7,206.1,205.9,206,204.9,205.7,203.6,203.8,0.20000000000001705,9.8231827111992668E-4,15,14,-1.7999999999999829,-8.7548638132294888E-3,41,42,-3.0999999999999943,-1.4983083615273051E-2,42,44,6.6000000000000227,3.3468559837728312E-2,41,42]
["Nevada","SMS32000004000000001",220.6,218.4,216.7,214.2,213.8,213,212,211.2,210.8,210.3,210.4,209.8,null,209.9,209.8,209.7,209.5,210,210,210.5,210.6,210.1,210.4,210.3,211.2,null,210.7,211,211.3,212,212.1,212.1,212.6,213.2,213.7,214.2,215.4,215.6,null,216.5,216.8,217.2,217.8,217.6,218.1,217.5,217.4,218.2,218.7,221.3,219.3,null,219.7,220.3,219,219.6,220.7,221.6,222.1,222.3,222.8,225.7,228.1,229.9,null,226.1,227.2,228.3,229.1,229.3,229.8,230.2,231.2,231.9,232,231.8,232.5,235.9,236.4,237.2,237.6,238.2,238.3,238.6,239.3,239.7,240.8,240.4,241,238.6,240.1,240.2,241.2,241.4,241.7,243,244,245.2,243.9,243.4,243.2,242.4,242.1,242.2,241.9,242.7,246.7,244.8,244.5,243.5,242.9,243.4,0.5,2.0584602717167557E-3,11,11,0,0,31,31,0.20000000000001705,8.2236842105270179E-4,27,28,31.400000000000006,0.14811320754716983,25,12]
["New Hampshire","SMS33000004000000001",136.80000000000001,136,134.9,134.30000000000001,134.6,134.1,133.19999999999999,132.9,133,132.6,132.6,132.4,null,132.19999999999999,132.4,132.6,132.80000000000001,132.9,132.9,133.1,133.1,132.69999999999999,133.4,133.30000000000001,133.5,null,133.5,133.4,133.69999999999999,134.19999999999999,133.6,133.30000000000001,133.5,134,134.6,134.6,134.4,134.9,null,135.19999999999999,135.4,135.6,135.5,134.9,136.1,136.1,136.1,136,136,136.19999999999999,136.1,null,135.69999999999999,136.1,136.1,136.69999999999999,136.80000000000001,136.69999999999999,136.6,136.5,136.4,137,137.6,139.6,null,136.69999999999999,136.69999999999999,136.9,136.80000000000001,136.6,136.80000000000001,136.9,130.4,137.4,138.19999999999999,138.1,138.9,137.9,137.30000000000001,137.5,137.80000000000001,138,138,138.1,138.1,137.80000000000001,137.80000000000001,138.80000000000001,138.5,139.30000000000001,139.80000000000001,139.80000000000001,140,140,139.69999999999999,140.30000000000001,140.5,140.80000000000001,141.4,140.69999999999999,139.5,142.5,140.9,139.6,139.9,139.6,138.6,139.30000000000001,140.19999999999999,140.19999999999999,140.9,140.9,0,0,17,17,0.20000000000001705,1.4214641080313936E-3,30,28,1.4000000000000057,1.003584229390685E-2,22,12,7.7000000000000171,5.7807807807807941E-2,37,34]
["New Jersey","SMS34000004000000001",834,829.4,824.9,817.7,818.7,817.2,814.6,811.8,811.9,809.6,809.9,808.2,null,806.4,802.2,803.9,809.1,808,808.8,809.8,810.6,809,811,809.7,811.5,null,810.6,811.8,813.2,815.2,812.3,812.3,813.9,816.1,816.7,815.7,818.4,818.8,null,821.5,822.5,823.9,819.8,822.9,823.2,820.4,819.4,820.8,821.1,821.4,821.3,null,821.4,822.8,823.1,826.3,826.4,827.2,829.3,830.1,829.4,833.3,834.5,832.8,null,831.8,830.1,833.1,836.3,837.6,837.2,837.3,839.2,838.2,840.6,842.8,844.5,846.5,846.5,848.2,850.2,853.5,856.3,859,859.5,859.9,863.5,863,864.6,858.2,860.8,862.1,863.9,864.1,862.8,867.8,869.3,872.1,872.8,873.1,875.1,876.5,879.9,875.7,871,867.6,869.7,871.4,870.7,870,875.7,874.3,-1.4000000000000909,-1.5987210231815587E-3,41,27,1.1999999999999318,1.3744130111097604E-3,24,29,-0.80000000000006821,-9.141812364302002E-4,33,30,59.699999999999932,7.3287503068990831E-2,12,28]
["New Mexico","SMS35000004000000001",139.5,138.5,137.6,135.9,135.69999999999999,135.69999999999999,135,134.69999999999999,135.1,134.1,133.4,133.1,null,132.80000000000001,132.9,133.19999999999999,133.1,133.1,133.19999999999999,133.30000000000001,133.30000000000001,132.69999999999999,133,132.80000000000001,133,null,132.9,132.9,132.80000000000001,133.69999999999999,134,133.69999999999999,133.30000000000001,133.30000000000001,134.1,134.1,134.6,134.4,null,135,135.30000000000001,135.5,135.4,135.30000000000001,135.4,135.19999999999999,134.80000000000001,135.69999999999999,136.69999999999999,136.5,136.6,null,136.30000000000001,136.4,135.80000000000001,136.4,136.4,136.5,137,136.80000000000001,136.6,137,137.19999999999999,137.4,null,137.4,137.9,137.69999999999999,138,138,137.80000000000001,138.4,138.1,138.30000000000001,138.80000000000001,140,139.1,139.30000000000001,139.69999999999999,139.80000000000001,139.5,139.5,139.19999999999999,139.4,139.1,139.19999999999999,139.5,139.6,138.6,139.19999999999999,139,138.9,139.19999999999999,138.80000000000001,138.5,138.80000000000001,138.9,139,139.19999999999999,138.6,139.30000000000001,138.6,138.9,139,139.69999999999999,139.80000000000001,139.4,140.30000000000001,139.69999999999999,141.4,140.80000000000001,140.80000000000001,0,0,17,17,2.2000000000000171,1.5873015873015997E-2,21,7,1.5,1.0768126346015792E-2,21,11,5.8000000000000114,4.296296296296305E-2,43,41]
["New York","SMS36000004000000001",1482.6,1476.2,1467.5,1452.8,1456.6,1454.6,1450.1,1449.6,1448.4,1446.1,1446.9,1445.3,null,1449,1446.5,1451.9,1461.8,1461,1464.2,1464.4,1465.7,1465.2,1470.5,1470.5,1469.8,null,1475.4,1477.8,1478.9,1483.6,1481.7,1482.6,1484.6,1489.1,1491.6,1490.9,1496.1,1498.4,null,1505.2,1506.7,1508.2,1506.4,1510.2,1509,1502.1,1510.2,1510.2,1513.6,1513.3,1516.4,null,1512.5,1511.1,1518.5,1524.1,1524.6,1526.7,1529.8,1530.1,1532.4,1534,1545.1,1550.5,null,1545.3,1545.8,1549.3,1554.2,1555.3,1556.2,1558.6,1561.6,1561.6,1563,1563.6,1566.9,1571.1,1570.8,1570.7,1568,1573.8,1576,1575.5,1574.6,1574.6,1571.6,1568.9,1567.3,1572.8,1576,1576.3,1579.7,1572.9,1571.5,1572.2,1571.9,1573.2,1575.2,1576.9,1578.6,1584.7,1581.3,1578.7,1572.8,1575.7,1570.3,1573.6,1569.6,1567.1,1573.5,1572.7,-0.79999999999995453,-5.0842071814423547E-4,33,21,-4.2000000000000455,-2.6634536115162947E-3,46,35,-5.8999999999998636,-3.7374889142277106E-3,46,34,122.60000000000014,8.4545893386663087E-2,5,22]
["North Carolina","SMS37000004000000001",738.4,733.4,727.9,720.7,721.6,720.2,718,715.8,714.6,712.7,711.9,709.5,null,709.1,709.1,710.9,711.3,713.1,712.9,714.6,715.1,714.9,717.1,718.1,718.4,null,721.2,722.6,723.2,724.7,724.7,726,728,729.7,731.4,732.4,733.7,734.8,null,741.1,740.1,739.8,741.7,742.3,743.9,742.9,741.8,744.3,745.9,748,749,null,750.4,751.8,750.3,751.9,753.3,754.1,755.9,757.9,759,762.2,764.5,766.6,null,769,766.1,769.7,773.1,774.2,775.5,774.7,777.3,778.5,785.2,786,790.2,786.5,788.5,789.4,792.5,794.2,796.4,797.6,798.3,799.9,802.2,805.5,806.2,808.1,809.7,810.2,812.9,813.5,814.5,815.9,817.5,819.8,818,818.8,820.9,822.6,821.8,818.2,816.1,818.4,816.5,819.1,822.2,823.4,828.7,828.3,-0.40000000000009095,-4.8268372149160244E-4,29,20,9.5,1.1602344894968248E-2,6,15,7.3999999999999773,9.0144962845656925E-3,7,14,110.29999999999995,0.15362116991643449,7,11]
["North Dakota","SMS38000004000000001",77.900000000000006,77.8,77.8,77,78,78,78.099999999999994,77.900000000000006,78.2,78.400000000000006,78.599999999999994,78.599999999999994,null,78.599999999999994,78.900000000000006,79.099999999999994,79.8,80,80.400000000000006,80.8,81.099999999999994,81.400000000000006,82,82.2,82.5,null,83.2,83.6,84,84.4,85.1,85.7,86.8,87.6,88.4,89.3,90.4,91.5,null,92.8,93.5,94.6,95.5,96.2,97.1,97.7,98,98.3,98.7,98.8,99.2,null,99.4,100,100.3,99.9,100.8,101.2,101.6,102.3,102.9,103.6,104.4,105.1,null,104.1,104.8,105.1,105.4,105.7,106,106.6,106.8,107.3,107.1,107.7,107.1,107.3,107,106.4,105.6,104.8,104.3,103.9,102.8,102.6,102.4,101.5,100.6,99.4,98.7,97.9,97.3,96.4,95.8,96,95.9,95.8,95.5,94.3,95.4,96,95.5,95,95,94.7,95.1,95.3,95.3,95.1,94.8,94.3,-0.5,-5.2742616033755272E-3,30,42,0,0,31,31,-1.1000000000000085,-1.1530398322851241E-2,35,42,16.200000000000003,0.207426376440461,33,3]
["Ohio","SMS39000004000000001",998.2,991.7,983.8,972.7,970.3,965.8,961.2,957.9,955.1,951.8,949.8,947.3,null,946.9,945.3,946.9,946.4,947.2,948.1,947.6,948,947.7,950,948.5,949.7,null,949.2,951.7,951.5,955.8,954.2,955.5,959,960.4,962.2,962.6,965,966.8,null,969.3,971.4,974.4,972.6,972.7,973.3,971.2,970.7,972.7,975,976,976.3,null,976.9,977.8,977.7,978.6,980.1,981.9,982.7,983.3,983.4,986.1,986.8,985.8,null,988.7,988.7,989.7,992.7,992.7,993.9,994.4,996.3,996.6,996.4,998.6,997.8,1009.4,1009.5,1011.1,1011.6,1012.6,1012.9,1014.5,1015,1014.9,1016.6,1015.5,1019,1021,1021.7,1021.5,1020.7,1020.4,1019,1022.1,1023.3,1025.4000000000001,1021.4,1023.6,1027.3,1029.5999999999999,1031.9000000000001,1024.8,1021.2,1016.8,1017.2,1017.6,1015.9,1019.4,1022.5,1017.3,-5.2000000000000455,-5.085574572127184E-3,50,40,-6.3000000000000682,-6.154747948417417E-3,47,39,-10,-9.7342548427917855E-3,50,41,56.099999999999909,5.8364544319600399E-2,14,33]
["Oklahoma","SMS40000004000000001",287.39999999999998,286.7,284.8,283.10000000000002,282.5,281.5,280.5,279.3,279.3,277.7,276.8,276.2,null,275.89999999999998,275.8,276.2,276.3,277,277.5,278.5,277.7,276.89999999999998,278,278.39999999999998,278.8,null,278.8,278.7,280.7,282.10000000000002,281.7,281.89999999999998,283.2,284.10000000000002,284.8,284.7,285.3,285.7,null,287.60000000000002,287.5,288.7,289.5,289.60000000000002,290.60000000000002,290.5,289.89999999999998,290.7,292.60000000000002,293.39999999999998,294.10000000000002,null,290.8,292,292.10000000000002,293,294,294.39999999999998,295.39999999999998,296.10000000000002,296.7,296.89999999999998,297.5,298.8,null,299.7,300.5,300.2,299.3,299.60000000000002,300.3,301.3,301.60000000000002,302,303.10000000000002,303,303.89999999999998,305.39999999999998,306.39999999999998,306.10000000000002,306.10000000000002,306.2,307.3,307.5,307.39999999999998,307.3,310.3,308.5,308.5,307.39999999999998,307.3,307.3,307.60000000000002,306.89999999999998,305.89999999999998,306.3,307,306.89999999999998,308.10000000000002,308,307.60000000000002,306.2,302.7,301,299.89999999999998,297.8,299,299.2,301.60000000000002,304.7,303.7,301.39999999999998,-2.3000000000000114,-7.5732630885742887E-3,43,48,-6.6000000000000227,-2.1428571428571502E-2,48,46,-6.2000000000000455,-2.015604681404436E-2,47,45,20.899999999999977,7.4509803921568543E-2,28,27]
["Oregon","SMS41000004000000001",316,313.60000000000002,310.3,307.60000000000002,307.60000000000002,306.10000000000002,304.7,303.60000000000002,303.2,301.5,300.39999999999998,300.5,null,301,301,301.3,301.89999999999998,301.60000000000002,302.2,302.5,302.89999999999998,303.10000000000002,304.10000000000002,303.8,304.3,null,305.2,304.89999999999998,305.3,305.5,305.60000000000002,305.39999999999998,305.89999999999998,306,306.5,306.39999999999998,307.3,306.8,null,308.60000000000002,308.39999999999998,308.89999999999998,308.89999999999998,309.7,310.10000000000002,309.5,309.7,309.89999999999998,311.3,312.2,312.7,null,314.2,315.60000000000002,315.89999999999998,316.8,318,318.10000000000002,318.5,319.60000000000002,320,322.10000000000002,323.39999999999998,323.5,null,321.60000000000002,322,322.2,323.89999999999998,324.39999999999998,325.10000000000002,325.7,326.10000000000002,326.5,328.3,329.8,330.7,331.7,332.5,333.6,333.7,334.3,335.9,336.3,337.1,336.6,337.3,339.1,338.4,338.4,339.9,340.6,340.5,340.7,340.9,341.6,343.1,343.4,343.5,342.6,342.7,345.8,344.1,343.5,344.4,344.2,344.9,345.9,345.3,345.6,345.7,345.5,-0.19999999999998863,-5.7853630315298995E-4,19,23,2.8999999999999773,8.4646818447168034E-3,18,21,2.8000000000000114,8.1704114385760477E-3,16,18,40.800000000000011,0.13390219888414839,21,13]
["Pennsylvania","SMS42000004000000001",1099.5999999999999,1094.5,1087.4000000000001,1081.8,1082.4000000000001,1079.5,1076,1074.8,1074.0999999999999,1073.2,1074.9000000000001,1071.4000000000001,null,1074.3,1066.3,1074.5999999999999,1076.3,1078.4000000000001,1081.0999999999999,1081.7,1082.5999999999999,1082.3,1085.3,1084.5,1085.5,null,1087.5,1088.3,1089.4000000000001,1093.3,1091.0999999999999,1090.7,1090.9000000000001,1092.0999999999999,1093.3,1092.3,1094,1092.9000000000001,null,1095.2,1097.9000000000001,1101.8,1099.5999999999999,1099.2,1098.7,1099.5,1099,1099.4000000000001,1100.5999999999999,1102.7,1101.4000000000001,null,1099.5999999999999,1103.0999999999999,1102.2,1101.5,1100.9000000000001,1101.5999999999999,1102.0999999999999,1104.7,1103.2,1101.5,1105.9000000000001,1110.0999999999999,null,1101.4000000000001,1100.0999999999999,1104.0999999999999,1106.5,1108.2,1110.5999999999999,1110.9000000000001,1112.4000000000001,1112.5999999999999,1115.3,1116.7,1123,1117.8,1116.8,1117.9000000000001,1119,1121.8,1123.9000000000001,1125.5999999999999,1126.8,1126.2,1126.7,1125.9000000000001,1130.2,1125.3,1126.8,1127.3,1127.7,1127.0999999999999,1126.5999999999999,1129.4000000000001,1130.4000000000001,1130.9000000000001,1129.9000000000001,1129.2,1125.9000000000001,1132.2,1134.9000000000001,1129.9000000000001,1129,1128.7,1127.4000000000001,1128.0999999999999,1127.7,1135.8,1131.3,1131.8,0.5,4.4196941571643243E-4,11,15,2.5999999999999091,2.3025150549060478E-3,20,26,5.8999999999998636,5.2402522426502028E-3,11,23,55.799999999999955,5.1858736059479514E-2,15,39]
["Rhode Island","SMS44000004000000001",74.7,74.400000000000006,74,72.900000000000006,73.400000000000006,73.2,73,73.099999999999994,72.8,72.7,72.599999999999994,72.400000000000006,null,72.900000000000006,73.099999999999994,73.5,72.5,72,72.400000000000006,72.5,72.8,72.7,72.8,72.7,72.7,null,73.3,73.3,73.5,74,73.900000000000006,73.7,73.900000000000006,74.099999999999994,74.2,74.2,74.400000000000006,74.599999999999994,null,74.900000000000006,74.900000000000006,74.900000000000006,74.7,74.8,74.900000000000006,74.5,74.3,74.5,74.400000000000006,74.400000000000006,74.2,null,73.8,74,73.599999999999994,73.8,74,74,74.2,74.2,74.2,74.099999999999994,74.3,74.8,null,74.599999999999994,74.7,74.7,74.900000000000006,74.900000000000006,74.900000000000006,74.900000000000006,75.099999999999994,75,75.2,75.599999999999994,75.400000000000006,76,76,75.8,76.099999999999994,76.3,76.5,76.599999999999994,76.5,76.7,76.2,76.3,76.599999999999994,76.599999999999994,76.5,76.8,76.599999999999994,76.599999999999994,76.5,76.400000000000006,76.400000000000006,76.400000000000006,76.2,76.3,76.599999999999994,76.2,77.3,77.2,77.900000000000006,77.8,77.400000000000006,77.2,77.099999999999994,77.400000000000006,77.5,77.099999999999994,-0.40000000000000568,-5.1612903225807189E-3,27,41,0.79999999999999716,1.048492791612054E-2,26,18,0.5,6.5274151436031337E-3,26,20,4.0999999999999943,5.6164383561643758E-2,45,36]
["South Carolina","SMS45000004000000001",357.6,354.4,351.5,351.2,350.8,350,348.2,347.3,346,344.9,344,342.1,null,343.7,344,344.8,345.4,345.6,345.8,346.1,346.6,346.8,347,348,348.7,null,347.8,348.7,348.6,350.2,349.6,349.9,350.3,350.2,350.5,349.9,350.8,351.3,null,353.8,353.2,353.3,353.4,353.5,353.8,353.9,354.1,354.2,356,357.9,357.3,null,357.7,358.1,358.5,359.4,360.5,361.7,363,364.2,363,364.6,365.3,367.3,null,368.4,368.1,370.1,371.7,372.8,373.4,372.5,373.4,373.5,377.1,377.8,379.6,379.2,380.6,381.2,382.1,383.4,384.5,386.9,387.3,387.2,385.8,387,389.1,390.8,392.8,392.2,392.9,393.2,392.9,394.7,394.9,396.2,396,397.4,399.8,398.5,401,401.7,401.5,402.6,401.8,398.7,399.1,403.6,403.7,405.4,1.6999999999999886,4.2110478077780249E-3,5,3,8,2.0130850528434826E-2,7,4,5.5999999999999659,1.4007003501750789E-2,12,6,57.199999999999989,0.16427340608845489,13,6]
["South Dakota","SMS46000004000000001",81.400000000000006,81.2,80.900000000000006,80.099999999999994,80.7,80.599999999999994,80.599999999999994,80.5,80.400000000000006,80.2,80.599999999999994,80.5,null,80.2,80.099999999999994,80.400000000000006,80.400000000000006,80.400000000000006,80.7,80.8,80.7,80.7,81,81.099999999999994,81,null,81.2,81.3,81.400000000000006,81.599999999999994,81.599999999999994,81.5,81.599999999999994,81.900000000000006,82,82,82.3,82.3,null,82.7,82.6,82.9,83.1,82.9,83,82.9,83,83.1,83.1,83.4,83.4,null,83.2,83.3,83.4,83.3,83.6,83.5,83.6,83.4,83.5,82.8,83.4,83.4,null,84.9,85.3,85.3,85.6,85.5,85.8,86.3,86.4,86.2,85.8,85.4,85.9,86.9,87,87.1,87.3,87.3,87.5,87.4,87.4,87.6,88.3,88.4,89.1,88.2,88.3,88.3,88.4,88.4,88.2,88.3,88.5,88.4,89.1,88.6,89.1,89.3,88.9,89,88.9,88.3,88,87.8,87.4,89.1,87.5,87.3,-0.20000000000000284,-2.2857142857143184E-3,22,32,-1.2999999999999972,-1.4672686230248276E-2,38,45,-1.7999999999999972,-2.0202020202020173E-2,38,46,6.7000000000000028,8.3126550868486387E-2,40,24]
["Tennessee","SMS47000004000000001",576.5,572.29999999999995,567,559.6,559,557,555.9,555,552.79999999999995,553.29999999999995,551.79999999999995,551.20000000000005,null,551.20000000000005,551.70000000000005,552.70000000000005,552.79999999999995,553.5,553.9,556.4,556,555.5,558,558.29999999999995,559.20000000000005,null,556.79999999999995,558.5,559.5,562.20000000000005,562.6,563.6,564.20000000000005,564.20000000000005,565.29999999999995,567.5,569.29999999999995,569.6,null,571.5,571.29999999999995,573.79999999999995,573.9,574,574,573.6,573.5,576.4,578,580.79999999999995,580.79999999999995,null,579.79999999999995,581.70000000000005,579,580.5,581.20000000000005,581.79999999999995,583.5,583,582.79999999999995,585.4,585.20000000000005,587.1,null,585.1,586.4,588,589.4,590.1,591.5,592.4,594.29999999999995,595.29999999999995,597.5,596.79999999999995,598.6,594.5,595.20000000000005,595.20000000000005,597.20000000000005,600,603,605.5,606.70000000000005,607.70000000000005,607.6,611,614.70000000000005,612.29999999999995,614.5,615,615.79999999999995,616.1,616.6,619.70000000000005,619.6,620.9,619.79999999999995,620.29999999999995,621.20000000000005,625.6,625.29999999999995,625.5,627.4,624.5,625.1,626.20000000000005,628.1,631.6,630.6,628.29999999999995,-2.3000000000000682,-3.6473200126864386E-3,44,34,8,1.2896985329679188E-2,7,13,7.0999999999999091,1.1429491307147309E-2,8,10,72.399999999999977,0.1302392516639683,8,14]
["Texas","SMS48000004000000001",2112,2099.1999999999998,2086.1,2069.8000000000002,2063.6999999999998,2056.3000000000002,2049.6,2045.6,2047.4,2036.3,2031.9,2030.2,null,2033.1,2034.8,2040.2,2042.1,2048.1,2051.6,2053.5,2055.4,2059.9,2066,2067.8000000000002,2072.1,null,2076.6999999999998,2081.3000000000002,2089.3000000000002,2102.1999999999998,2103.6,2106.1999999999998,2113.9,2120,2124.6999999999998,2128,2134.3000000000002,2138.6999999999998,null,2148,2151.4,2157,2164.4,2168.6999999999998,2176.1,2180.1999999999998,2184.1999999999998,2188.1999999999998,2194.3000000000002,2207.6999999999998,2208.1,null,2210.3000000000002,2220.3000000000002,2219.8000000000002,2228.9,2234.6999999999998,2240.1,2245.1,2251.9,2259.4,2262.9,2272.6,2280,null,2279.9,2285.1,2287.3000000000002,2292.4,2298.5,2305.8000000000002,2313.4,2319.1999999999998,2327,2339.1,2339.1,2348.1,2364.1999999999998,2371.3000000000002,2374.5,2378.9,2385.8000000000002,2391.8000000000002,2398.3000000000002,2403.4,2408.1,2406.1,2408.9,2413.6,2409.6,2413.6999999999998,2414.1999999999998,2416.1,2414,2415.6999999999998,2424.5,2424.3000000000002,2427,2428.5,2438.6999999999998,2446.6999999999998,2456.5,2447.1999999999998,2444,2444.1999999999998,2437.8000000000002,2439,2443.4,2450.8000000000002,2448.1999999999998,2460.1999999999998,2468.4,8.2000000000002728,3.333062352654367E-3,1,7,29.700000000000273,1.2178619756427717E-2,2,14,21.700000000000273,8.8690889769895264E-3,2,15,418.80000000000018,0.20433255269320852,1,4]
["Utah","SMS49000004000000001",241.7,240,238.1,235.3,235.1,234.2,232.4,231.4,231.3,230.7,230.3,230,null,229.4,229,229,228.8,228.9,229.1,229.2,229.4,229.2,229.3,229.6,230.1,null,230,230.6,231,232.7,232.5,233.1,233.7,234.1,234.9,235,235.8,236.6,null,237.5,237.9,239,239.8,240.6,241.7,240.8,240.9,241.9,242.8,244,244,null,244.8,245.4,245.3,245.1,246.3,246.5,247.2,247.5,247.2,248.1,248,248.6,null,250,250.2,250.5,250.9,251.3,252,252.2,253.5,254.5,256.5,257.2,261,259.60000000000002,260.5,261.3,261,261.60000000000002,261.8,263.8,264.8,265.2,264.2,267.2,269,268,269,270.60000000000002,270.3,270.7,271.5,272.10000000000002,272.89999999999998,274.2,275.39999999999998,275.60000000000002,276.60000000000002,277.60000000000002,279.3,278.8,280.39999999999998,279.60000000000002,280.10000000000002,278.89999999999998,280.39999999999998,282.7,281.5,282.2,0.69999999999998863,2.4866785079928548E-3,10,9,6.5999999999999659,2.3947750362844578E-2,11,1,5.5999999999999659,2.0245842371655696E-2,12,1,49.799999999999983,0.21428571428571422,16,1]
["Vermont","SMS50000004000000001",57.2,57,56.5,56.1,56.3,56.1,55.8,56,55.6,55.7,55.5,55.5,null,55.5,55.4,55.3,55.8,55.3,55.4,56.6,56.3,56.3,56.6,56.4,56.1,null,56.1,56.2,56.2,55.9,55.7,55.7,55.7,55.8,55.8,55.7,55.7,55.6,null,55.3,55.5,55.4,55.6,55.5,55.7,55.8,55.6,55.7,55.2,55.3,55.3,null,55.5,55.4,55.6,55.5,55.7,55.6,55.5,55.4,55.5,55.3,55.5,55.8,null,55.5,55.4,55.8,55.7,55.7,55.7,55.7,55.7,55.7,56.1,56.1,56.2,55.9,55.7,55.8,55.7,55.5,55.5,55.3,55.3,55.1,55.2,54.9,55.2,55.6,55.6,55.7,56,55.7,55.5,55.5,55.6,55.9,55.5,55.1,55.2,55.8,55.2,55.3,55.5,55.7,56.1,55.9,56,55.8,55.7,55.4,-0.30000000000000426,-5.3859964093358036E-3,25,43,0.29999999999999716,5.4446460980035784E-3,29,24,0.19999999999999574,3.6231884057970239E-3,28,25,-0.39999999999999858,-7.168458781361982E-3,48,48]
["Virginia","SMS51000004000000001",637.29999999999995,633.70000000000005,629.9,624.70000000000005,625.9,624.5,621.70000000000005,619.79999999999995,619.6,618.5,617.5,616.29999999999995,null,615.29999999999995,612.29999999999995,617.20000000000005,620.20000000000005,622.1,623.1,623.4,623.70000000000005,622.79999999999995,624.1,623.79999999999995,624.70000000000005,null,624.6,626.1,627,628.79999999999995,627.9,628.1,629.4,630.70000000000005,631.1,628.4,629.9,630.20000000000005,null,631.79999999999995,634.20000000000005,634.20000000000005,633.6,633.1,632.29999999999995,631.4,631.1,631.4,634.70000000000005,636.20000000000005,637.29999999999995,null,632.6,635.70000000000005,633.70000000000005,636.5,637.1,637.70000000000005,639.4,640.4,639.9,644.20000000000005,641,642.70000000000005,null,641.4,639.79999999999995,641.5,642.1,643.1,643.1,643.5,644,643.70000000000005,644.79999999999995,654,654.6,647.70000000000005,648.1,647.70000000000005,648.5,650.5,652.9,657.2,657.9,658.9,663.7,665.8,665.8,659,661,661.8,662,662,662.4,661.8,662,662.9,664.4,663.7,666.5,668.6,671.4,666.1,660.7,660.8,664.7,664.9,661.2,663.9,661.3,656.6,-4.6999999999999318,-7.1072130651745535E-3,49,46,-7.1000000000000227,-1.0697604339309963E-2,49,44,-9.8999999999999773,-1.4853713428357056E-2,49,43,34.899999999999977,5.6136400193019104E-2,23,37]
["Washington","SMS53000004000000001",538.70000000000005,533.79999999999995,528.1,523,522.9,521,520,518.5,518.79999999999995,515.70000000000005,515,514.6,null,515,514.70000000000005,515.70000000000005,517.9,517.29999999999995,517.6,516.5,515.70000000000005,516.20000000000005,518.9,519.1,519.5,null,520.20000000000005,520.9,522,523.6,523.6,523.1,527.29999999999995,527.70000000000005,528,527.20000000000005,528.9,528.5,null,529.70000000000005,530.29999999999995,531.70000000000005,532.4,534.5,535.79999999999995,537.5,537.9,538.70000000000005,539.79999999999995,540.9,542,null,543.5,545.4,544.79999999999995,546.5,548.5,549.29999999999995,551.20000000000005,552.79999999999995,553.5,557.1,557.6,558.9,null,562,563,563.70000000000005,565.1,566.4,568.5,570.5,572.9,574.6,577.4,578.79999999999995,579.5,580.4,582.70000000000005,585.6,585.6,587.20000000000005,589.6,590.4,592.4,593.5,593.5,596,597.5,595,597.70000000000005,600,603.5,605.4,607.5,610.1,611.9,614.1,615.9,617.70000000000005,619.20000000000005,620.20000000000005,619.5,621.20000000000005,624.20000000000005,621.5,619.4,621.1,624.5,625.29999999999995,628.4,630.9,2.5,3.9783577339274345E-3,3,4,13.199999999999932,2.1369596891694886E-2,5,2,11.699999999999932,1.889534883720919E-2,3,2,110.89999999999998,0.21326923076923074,6,2]
["West Virginia","SMS54000004000000001",138.1,137.30000000000001,136.6,136.30000000000001,136.19999999999999,136.30000000000001,135.6,135.4,135.4,134.9,134.5,134,null,134,133.80000000000001,134.5,134.5,134.69999999999999,134.80000000000001,135,134.69999999999999,134.30000000000001,135.1,135.69999999999999,135.19999999999999,null,135,135.1,135.19999999999999,135.69999999999999,135.30000000000001,135.19999999999999,135.6,135.80000000000001,135.6,135.4,135.80000000000001,135.69999999999999,null,136.1,135.6,135.80000000000001,135.5,135.19999999999999,135.1,135.19999999999999,135.30000000000001,135.19999999999999,135.69999999999999,135.9,135.9,null,135.9,136,135.4,135.69999999999999,135.5,135.69999999999999,135.9,135.19999999999999,135.1,134.80000000000001,135.1,136.19999999999999,null,135.1,135,134.6,135.1,135.1,134.9,134.30000000000001,134.5,134.30000000000001,135.1,135.19999999999999,135.9,135.1,135.1,135.1,135.19999999999999,135.5,135.4,135.1,134.6,134.9,134.6,134.9,135.30000000000001,134.30000000000001,134.4,134.69999999999999,134.19999999999999,133.69999999999999,133.19999999999999,133.19999999999999,133.19999999999999,133.80000000000001,133.4,132,132.19999999999999,131.9,131.4,130.6,130.69999999999999,129.5,129.9,130.30000000000001,129,129.80000000000001,129.30000000000001,128.80000000000001,-0.5,-3.8669760247486461E-3,30,35,-3.1999999999999886,-2.4242424242424156E-2,44,47,-3.3999999999999773,-2.5718608169440074E-2,43,48,-6.7999999999999829,-5.0147492625368606E-2,50,50]
["Wisconsin","SMS55000004000000001",527.5,525.4,522,518.6,519.6,518.70000000000005,516,514.9,513.1,512.1,510.3,508.5,null,508.2,507.7,508.1,508,508.2,507.7,508.1,507.9,507.4,510.1,508.5,508.4,null,509.1,508.9,509.6,510.4,509.4,509.1,511.1,511.5,512.6,512.1,512.29999999999995,512.20000000000005,null,512.5,512.5,512.4,511.7,511.8,511.7,511.1,511.1,511.6,512.5,513.9,514.29999999999995,null,514.6,516.4,516.1,516.9,517.6,518,518.29999999999995,518.6,517.6,520.6,517.4,519.4,null,521.4,522.5,523.5,524.9,524.20000000000005,524.1,524.70000000000005,524.5,523.9,525.6,526.6,528.29999999999995,527.29999999999995,527.79999999999995,529.20000000000005,528.1,529.5,530.29999999999995,533.1,534.70000000000005,535.29999999999995,535.79999999999995,538.29999999999995,534.1,538.20000000000005,539.70000000000005,539.79999999999995,541,539.9,539.79999999999995,541.6,541.5,541.4,538.20000000000005,537.9,535.79999999999995,541.79999999999995,544.20000000000005,543.70000000000005,543.20000000000005,543.9,544.1,541.6,541,543.79999999999995,542.79999999999995,544,1.2000000000000455,2.2107590272661118E-3,8,10,6.1000000000000227,1.1340397843465371E-2,13,16,8.2000000000000455,1.5304217991788067E-2,6,5,28,5.4263565891472867E-2,27,38]
["Wyoming","SMS56000004000000001",55.4,55,54.6,53.7,53.8,53.5,53.1,53.1,52.9,52.5,52.2,52,null,51.8,51.8,51.5,51.8,51.8,51.8,51.8,51.8,51.9,52.1,52.1,52.2,null,52,52.2,52.2,52.3,52.5,52.3,52.6,52.8,53.1,52.9,53.1,53.1,null,53.3,53.4,53.4,53.7,53.6,53.1,53.2,53.3,53.3,53.5,53.7,53.9,null,53.5,53.7,53.8,53.9,54,54.2,54.3,54.4,54.2,54.9,55.6,55.3,null,54.7,54.6,54.6,54.7,54.8,54.8,54.9,55,55.2,55.5,55.1,55.5,56.2,56.2,56.4,56.1,55.9,55.8,56,55.9,55.8,55.9,55.9,55.8,55.3,55,54.6,54,53.9,53.6,53.3,53.3,53,53.2,53.4,53.4,52.9,52.9,52.4,52.8,52.2,52,52.2,52.6,52.5,51.8,52,0.20000000000000284,3.8610038610039162E-3,16,5,-1.3999999999999986,-2.6217228464419449E-2,39,50,-1.3999999999999986,-2.6217228464419449E-2,36,49,-1.1000000000000014,-2.0715630885122436E-2,49,49]

{"sheet":"Finance","index":5,"n_rows":54,"n_cols":130,"rows_kept":54,"cut":false,"hidden":false,"merged":[]}
[]
["Financial Activities"]
[]
["State Name","Series ID","Jan\n2009","Feb\n2009","Mar\n2009","Apr\n2009","May\n2009","Jun\n2009","2009-07-01","Aug\n2009","Sep\n2009","Oct\n2009","Nov\n2009","Dec\n2009",null,"Jan\n2010","Feb\n2010","Mar\n2010","Apr\n2010","May\n2010","Jun\n2010","Jul\n2010","Aug\n2010","Sep\n2010","Oct\n2010","Nov\n2010","Dec\n2010",null,"Jan\n2011","Feb\n2011","Mar\n2011","Apr\n2011","May\n2011","Jun\n2011","Jul\n2011","Aug\n2011","Sep\n2011","Oct\n2011","Nov\n2011","Dec\n2011",null,"Jan\n2012","Feb\n2012","Mar\n2012","Apr\n2012","May\n2012","Jun\n2012","Jul\n2012","Aug\n2012","Sep\n2012","Oct\n2012","Nov\n2012","Dec\n2012",null,"Jan\n2013","Feb\n2013","Mar\n2013","2013-04-01","2013-05-01","2013-06-01","Jul\n2013","Aug\n2013","Sep\n2013","Oct\n2013","Nov\n2013","2013-12-01",null,"2014-01-01","2014-02-01","2014-03-01","2014-04-01","2014-05-01","2014-06-01","2014-07-01","2014-08-01","2014-09-01","2014-10-01","2014-11-01","2014-12-01","2015-01-01","2015-02-01","2015-03-01","2015-04-01","2015-05-01","2015-06-01","2015-07-01","2015-08-01","2015-09-01","2015-10-01","2015-11-01","2015-12-01","2016-01-01","2016-02-01","2016-03-16","2016-04-29","2016-05-29","2016-06-29","2016-07-29","2016-08-29","2016-09-29","2016-10-29","2016-11-29","2016-12-29","2017-01-29","2017-02-28","2017-03-30","2017-04-29","2017-05-29","2017-06-29","2017-07-29","2017-08-29","2017-09-29","2017-10-29","2017-11-29","Month-to-Month","Month-to-Month %","Mo Chg Rank","Mo % Rank","Year-to-Year","Year-to-Year %","Yr Chg Rank","Yr % Rank","Year-to-Date Chg","Year-to-Date %","Year-to-Date  Chg Rank","Year-to-Date % Rank","Chg from Trough","% Chg from Trough","Trough Chg Rank","Trough % Chg Rank"]
["Alabama","SMS01000005500000001",97.8,97.3,97,96.6,96.7,96.3,95.9,95.6,94.8,94.1,93.7,93.4,null,93,92.7,92.8,92.3,92.2,92.2,91.6,91.6,91.3,91.7,91.7,91.8,null,92,92.2,92,92.3,93.5,92.2,92.5,92.3,93.4,92.1,92,91.7,null,91.5,91.8,91.9,91.9,91.9,91.9,92.9,92.8,93.4,93.5,93.9,93.8,null,94.1,94,94.1,93.9,93.8,93.8,93.9,94.2,93.7,94.5,94.6,95,null,94.7,94.6,94.6,94.8,95,95,94.9,94.8,94.7,94.4,94.8,94.7,95.1,95,95.2,95,95.3,95.4,95.7,95.7,95.6,95.1,95.9,96.1,95.9,95.9,95.9,95.9,95.8,95.6,96.1,96.3,97,97.9,98,98.1,98.5,97.6,97.4,97.5,98.3,98.9,98.7,98,99.8,99.4,98.3,{"$f":"DJ5-DI5","v":-1.1000000000000085},{"$f":"DK5/DI5","v":-1.1066398390342137E-2},{"$f":"RANK(DK5,($DK$5:$DK$54))","v":45},{"$f":"RANK(DL5,($DL$5:$DL$54))","v":49},{"$f":"DJ5-CX5","v":0.29999999999999716},{"$f":"DO5/CX5","v":3.0612244897958892E-3},{"$f":"RANK(DO5,($DO$5:$DO$54))","v":35},{"$f":"RANK(DP5,($DP$5:$DP$54))","v":38},{"$f":"DJ5-CY5","v":0.20000000000000284},{"$f":"DS5/CY5","v":2.0387359836901413E-3},{"$f":"RANK(DS5,DS$5:DS$54)","v":35},{"$f":"RANK(DT5,DT$5:DT$54)","v":36},{"$f":"DJ5-I5","v":2.3999999999999915},{"$f":"DW5/I5","v":2.502606882168917E-2},{"$f":"RANK(DW5,($DW$5:$DW$54))","v":32},{"$f":"RANK(DX5,($DX$5:$DX$54))","v":34}]
["Alaska","SMS02000005500000001",12.1,12.1,12.1,12.1,12.1,12.1,12.2,12.2,12.1,12.3,12.3,12.2,null,12.2,12.1,12.1,12.2,12.2,12.3,12.2,12.2,12.2,12.3,12.3,12.2,null,12.3,12.3,12.3,12.2,12.1,12.1,12.2,12.2,12.1,12,12.1,12.2,null,12.3,12.2,12.1,12.2,12.2,12.1,12.2,12.2,12.1,12.2,12.2,12.2,null,12.1,12.2,12.1,12.3,12.1,12.5,12.4,12.3,12.2,12,12.1,12,null,12.2,12.2,12.1,12.2,12.1,12.3,12.1,12.1,12,12.2,12.3,12.5,11.9,11.9,12,12.1,12.1,12.3,12.5,12.2,12.2,12.3,12.2,12.1,12.1,12,12.1,12,12,12,12.1,12.2,12,12,12,12,11.8,11.7,11.8,11.9,11.9,11.9,11.8,11.8,11.7,11.5,11.5,{"$f":"DJ6-DI6","v":0},{"$f":"DK6/DI6","v":0},{"$f":"RANK(DK6,($DK$5:$DK$54))","v":25},{"$f":"RANK(DL6,($DL$5:$DL$54))","v":25},{"$f":"DJ6-CX6","v":-0.5},{"$f":"DO6/CX6","v":-4.1666666666666664E-2},{"$f":"RANK(DO6,($DO$5:$DO$54))","v":46},{"$f":"RANK(DP6,($DP$5:$DP$54))","v":50},{"$f":"DJ6-CY6","v":-0.5},{"$f":"DS6/CY6","v":-4.1666666666666664E-2},{"$f":"RANK(DS6,DS$5:DS$54)","v":44},50,{"$f":"DJ6-I6","v":-0.69999999999999929},{"$f":"DW6/I6","v":-5.7377049180327815E-2},{"$f":"RANK(DW6,($DW$5:$DW$54))","v":44},{"$f":"RANK(DX6,($DX$5:$DX$54))","v":49}]
["Arizona","SMS04000005500000001",172.9,172,171.3,171,171,170.3,170,169.8,169,168.5,168,167.7,null,167.8,167.4,167.6,166.2,166.6,166.6,167.1,167.3,167,168.9,169.2,169.4,null,169.4,169.3,169.7,170.5,170.5,171.1,171.7,172.1,172.7,172.6,172.8,173.9,null,174.5,175.2,175.4,175.2,175.4,175.6,176.1,176.7,177.5,178.8,179.5,179.8,null,180.5,182.1,181.9,182.9,183.9,184.5,184.9,185.1,185.8,187.8,189.7,191.1,null,187.9,188.1,187.8,187.9,188.4,188.7,189.1,189.7,190.2,190.9,190.6,190.5,191.5,191.6,192.2,192.8,193.6,194.2,195,195.9,196.7,198.3,197.1,198.8,198.1,198.4,198.9,200.9,200.5,201.5,203,203.4,204.3,206.2,206.4,205.9,207.5,208.8,209.3,209.6,210.1,209.4,208.1,209.8,210.8,210.3,210.3,0,0,25,25,3.9000000000000057,1.8895348837209329E-2,13,20,4.4000000000000057,2.1369596891695024E-2,10,17,40.300000000000011,0.23705882352941182,5,1]
["Arkansas","SMS05000005500000001",51.5,51.2,51,50.8,50.9,50.7,50.2,50,49.9,49.8,49.7,49.5,null,49.1,49.1,48.7,48.8,48.6,48.8,48.6,48.6,48.6,48.9,48.9,48.8,null,48.6,48.5,48.4,48.7,48.3,48.3,48.8,48.4,48.2,48.8,48.8,48.7,null,48.9,49,48.9,48.9,49,49.1,49,49.1,49.1,49.2,49.2,49.2,null,49.3,49.4,49.3,49.5,49.4,49.2,49.4,49.5,49.5,49.8,49.7,49.9,null,49.6,49.7,49.6,49.6,49.7,49.7,49.7,49.7,49.7,49.5,49.7,49.5,49.2,49.1,49,49,49.2,49.2,49.3,49.4,49.4,49.7,49.6,49.4,51.1,51.1,51.1,51.3,51.1,51.3,51.3,51.4,51.5,51.3,51.1,51.2,51.6,51.2,51.3,51.7,52.1,52,51.6,51.2,51.4,50.8,51.2,0.40000000000000568,7.8740157480316087E-3,15,11,0.10000000000000142,1.9569471624266421E-3,41,42,0,0,40,40,1,1.9920318725099601E-2,37,35]
["California","SMS06000005500000001",810.9,804.6,798.6,792.1,787,782.9,776.4,772.4,768.5,769.5,767.7,763.9,null,761.2,760.2,759.4,759.7,759.2,759.3,758.7,758.9,759.2,762.1,761,762.1,null,764.2,762.7,761.5,759.9,760.2,760.4,760.8,761.3,762.1,762.6,763.2,764.4,null,767.1,767.3,769.6,769.5,771,772.2,775,775.9,777.2,778.6,779.2,779.4,null,780.8,780.8,780.1,784.6,785.2,785.4,786,785.9,784.5,781.6,778.9,778.9,null,780.5,780.3,778,781.5,782.7,783.8,785.7,786.4,787.7,788.4,790.9,793,788.9,790.4,791.3,794.5,795.8,796.1,800.9,802.2,803.4,801.8,805.4,806.1,814.5,816.5,816.5,820.5,821.1,820.6,823.6,824.5,825.5,831.6,832.3,831.5,832.8,831.3,828.3,826.3,828,828.8,831.9,831.7,833.7,835.5,838.2,2.7000000000000455,3.2315978456014909E-3,4,19,5.9000000000000909,7.0887900997237668E-3,6,30,6.7000000000000455,8.0577269993987316E-3,5,29,61.800000000000068,7.9598145285935173E-2,3,21]
["Colorado","SMS08000005500000001",151.1,150.1,149,148.9,148.6,148,147.4,147.1,146.69999999999999,146.6,146.19999999999999,145.69999999999999,null,145.4,144.9,144.6,144.5,144.1,143.9,144.19999999999999,144.1,143.80000000000001,144.19999999999999,143.80000000000001,143.9,null,144.1,143.69999999999999,143.4,143.6,143.69999999999999,143.5,143.69999999999999,143.80000000000001,143.9,143.80000000000001,144.5,144.4,null,144.80000000000001,145,145.30000000000001,145.69999999999999,146.1,146.30000000000001,146.9,147.19999999999999,147.4,148.30000000000001,148.4,148.6,null,149.1,149.69999999999999,150.19999999999999,150.6,150.80000000000001,151.1,151.6,151.6,151.80000000000001,151.69999999999999,150.80000000000001,150.30000000000001,null,152.19999999999999,152.4,152.30000000000001,152.80000000000001,153.19999999999999,153.4,153.80000000000001,154,154.19999999999999,153.4,154.1,154.69999999999999,156.80000000000001,157.19999999999999,157.5,157.9,158.4,159,159.6,159.9,160.30000000000001,162,161.69999999999999,162.69999999999999,161.80000000000001,161.80000000000001,162.1,162.5,163,163.4,164.1,164.6,164.9,164.9,163.19999999999999,163.69999999999999,166.6,165.1,165.9,165.3,165.9,166.4,168.3,168.5,166.9,166,165.7,-0.30000000000001137,-1.8072289156627192E-3,39,32,2.5,1.5318627450980393E-2,17,22,2,1.2217470983506415E-2,16,23,18.299999999999983,0.1241519674355494,12,13]
["Connecticut","SMS09000005500000001",140.80000000000001,140.19999999999999,139.9,138.5,138.1,137.19999999999999,136.69999999999999,136.19999999999999,136.19999999999999,136.19999999999999,136,135.69999999999999,null,135.19999999999999,135,134.9,134.69999999999999,134.9,134.9,135.1,135.5,135.30000000000001,135.30000000000001,135.69999999999999,135.69999999999999,null,136,136.1,135.69999999999999,135.69999999999999,135.5,134.6,135.1,134.9,134.5,134.30000000000001,134.1,134,null,133.80000000000001,133.6,133.69999999999999,133.9,133.69999999999999,133.69999999999999,133.19999999999999,133,132.9,133,132.6,132,null,132.6,132,131.5,131.69999999999999,131.5,131.4,131.4,131,131,131.30000000000001,132.1,132.30000000000001,null,129.19999999999999,128.69999999999999,128.5,128.4,128.69999999999999,128.30000000000001,128.69999999999999,128.6,128.80000000000001,128.30000000000001,128.4,128.30000000000001,129.80000000000001,129.69999999999999,129.9,130.30000000000001,130.19999999999999,130,130,130,129.80000000000001,130.19999999999999,130.1,130.30000000000001,130.1,129.9,130.30000000000001,130.19999999999999,129.80000000000001,129.80000000000001,129.69999999999999,129.69999999999999,129.69999999999999,130.4,130.19999999999999,130.19999999999999,131.6,131.1,131.19999999999999,131.80000000000001,132.30000000000001,132.80000000000001,133,132.1,133.4,132.6,133.30000000000001,0.70000000000001705,5.2790346907995254E-3,9,14,3.1000000000000227,2.3809523809523985E-2,16,16,3.1000000000000227,2.3809523809523985E-2,13,14,-3.3999999999999773,-2.4871982443306347E-2,49,44]
["Delaware","SMS10000005500000001",44.7,44.5,44.3,44.2,44.2,44,43.9,43.6,43.8,43.4,43.3,43.1,null,42.8,42.8,43,42.8,42.6,42.7,42.6,42.8,42.7,42.5,42.5,42.8,null,42.8,42.8,42.6,42.6,42.3,42.3,42.3,42.1,42,41.7,41.6,41.5,null,41.8,41.6,41.8,41.8,42.1,42.3,42.5,42.6,42.6,43.1,43.2,43.4,null,43.4,43.5,43.5,43.6,43.6,43.7,43.7,43.9,44,44.3,44.6,44.7,null,44.5,44.5,44.5,44.8,44.9,45,44.8,45,45.1,45.7,46.1,46.3,46.1,46.3,46.4,46.4,46.4,46.4,46.6,46.9,47.1,47,46.9,47,47.2,47.3,47.3,47.3,46.8,46.9,46.9,47.1,46.7,47,46.9,47,47.1,47.1,46.9,47.3,47.5,47.9,47.9,48.4,47.9,48,47.9,-0.10000000000000142,-2.0833333333333628E-3,30,33,1,2.1321961620469083E-2,26,18,0.89999999999999858,1.9148936170212735E-2,26,18,4,9.1116173120728935E-2,28,19]
["Florida","SMS12000005500000001",501.8,497.9,494.1,491.3,490.2,488,485,483.1,481,480.2,478.9,477,null,477,476.4,476.4,475.6,476.7,476.9,477.9,478.1,477.2,479.5,481.1,482,null,482.9,483,483.8,484.1,484.3,483.3,486.5,487.6,490.5,489.4,490,491.6,null,492.7,493.9,494.9,497.5,497.9,498.6,499.7,500.8,502,503.8,505.1,505.5,null,507.1,508.2,509.3,511,511.5,512.70000000000005,513.9,515.20000000000005,516.29999999999995,516.5,516.20000000000005,516.29999999999995,null,516.5,517.1,517.70000000000005,519,520.4,520.5,522.70000000000005,523.6,524.79999999999995,529.20000000000005,532.4,533.5,528.9,529.70000000000005,530.4,531.4,532.70000000000005,533.6,536,537.4,538.79999999999995,538.9,541.5,541.1,541.70000000000005,542.70000000000005,542.29999999999995,544.5,545.20000000000005,546,546.79999999999995,547.70000000000005,548.4,551.6,551.9,553,553.5,553.29999999999995,553.9,555.5,554.70000000000005,556.29999999999995,558.6,559,560.1,562.20000000000005,567.4,5.1999999999999318,9.2493774457487223E-3,1,8,15.5,2.8084797970646856E-2,2,12,14.399999999999977,2.6039783001808276E-2,2,12,82.399999999999977,0.16989690721649481,2,7]
["Georgia","SMS13000005500000001",229.1,227.9,226.7,225.8,224.9,224.3,223.3,222,221.1,220,219,218.4,null,217.5,217.2,217.4,217.2,217.7,217.9,217.5,218.3,218.7,219.5,220.1,220.5,null,220.7,220.6,220.9,223.3,223.2,223.2,223.1,224.2,225.3,224.9,225,225.1,null,226.6,226.5,227.1,226.4,226.1,226,226.2,226.2,226.6,226.8,227.4,227.4,null,227.9,228.3,228.6,229.6,229.8,230.2,230.8,231.2,231.1,231.1,231.9,232.7,null,230.1,230.4,230.8,231.7,232.2,232.6,233.3,233.7,234.3,234.5,234,234.6,232.2,232.8,233.2,233.9,234.3,235.1,235.4,235.3,235.7,238.2,238.3,236.9,236.1,236.3,236.6,237.2,237.8,238.4,239.2,239.5,240.1,240.8,241.5,240.1,244,245.4,247.1,247.4,247.4,248.4,247.6,248.8,248.3,246.3,246.4,9.9999999999994316E-2,4.0600893219648523E-4,23,24,4.9000000000000057,2.0289855072463791E-2,8,19,6.3000000000000114,2.6239067055393635E-2,6,11,23.099999999999994,0.10344827586206894,11,17]
["Hawaii","SMS15000005500000001",28.1,28,27.8,27.9,27.9,27.7,27.6,27.6,27.6,27.5,27.3,27.3,null,27.3,27.1,27.1,27,27,26.7,27,26.9,26.9,26.9,26.8,26.7,null,26.8,26.6,26.6,26.7,26.6,26.4,26.6,26.7,26.7,26.5,26.7,26.6,null,26.6,26.7,26.6,26.6,26.7,26.7,26.7,26.8,26.8,26.9,27,26.8,null,27,27,27,27.1,27,27,27.1,27.1,27,27.3,27.3,27.2,null,27.3,27.4,27.5,27.4,27.4,27.4,27.5,27.4,27.3,27.3,27.5,27.6,27.9,28,28.1,28.1,28.2,28.3,28.1,28.3,28.1,27.8,28,27.9,28.3,28.3,28.4,28.3,28.2,28.3,28.4,28.4,28.5,28.7,28.6,28.5,28.6,28.2,28.2,28.3,27.8,28.1,27.9,27.6,27.8,27.5,27.7,0.19999999999999929,7.2727272727272467E-3,21,12,-0.90000000000000213,-3.1468531468531541E-2,49,49,-0.80000000000000071,-2.8070175438596516E-2,48,49,9.9999999999997868E-2,3.6231884057970239E-3,39,38]
["Idaho","SMS16000005500000001",30.5,30.5,30.1,30,29.7,29.5,29.1,29.2,29.1,29.2,29.2,29.2,null,29.1,29,29,29.1,29.1,29,29.2,29.2,29,29.3,29.4,29.4,null,29.6,29.7,29.6,29.7,29.7,29.7,30,30,30.1,30.1,30.2,30.1,null,29.9,29.9,30.1,30.3,30.3,30.3,30.4,30.4,30.4,30.6,30.7,30.7,null,30.9,31,31.2,31.2,31.2,31.2,31.3,31.5,31.4,30.9,30.6,30.2,null,32.200000000000003,32.5,32.700000000000003,32.9,33,33.1,33.200000000000003,33.200000000000003,33.4,33.299999999999997,33.299999999999997,33.4,33,33.1,33.200000000000003,33.299999999999997,33.299999999999997,33.4,33.299999999999997,33.200000000000003,33.200000000000003,33.5,33.799999999999997,33.9,33.6,33.5,33.700000000000003,33.700000000000003,33.6,33.799999999999997,34,34.200000000000003,34.200000000000003,34.6,34.9,35.1,35.4,35.6,35.1,35.200000000000003,34.799999999999997,34.299999999999997,34,34.4,34.5,35,35.700000000000003,0.70000000000000284,2.000000000000008E-2,10,1,0.80000000000000426,2.2922636103151987E-2,27,17,0.60000000000000142,1.7094017094017134E-2,29,20,6.6000000000000014,0.22680412371134023,23,3]
["Illinois","SMS17000005500000001",381.6,379.4,377.5,375.2,373.8,372,370.6,369,367.7,366.3,365.7,364.7,null,364.3,363.7,363.6,363.7,363.6,363.4,363.2,363.2,363.2,364.1,364.1,364,null,363.8,363.8,363.4,362.5,362.6,362.3,363.1,363.3,363.6,364.3,363.7,363.1,null,364.2,364.5,365.1,365.5,365.9,366.3,366.3,366.6,366.5,366,365.8,366.2,null,367.5,367.7,367.7,368,368.1,368.5,369,368.6,369,370.2,369.8,369.6,null,369.6,369.4,369.2,368.8,369.2,368.7,369.6,370.7,369.5,369.2,369.1,368.5,378.1,378.2,378.2,379.4,380,380.2,380.7,380.4,379.9,381,380.8,379.9,382.1,382.5,382.8,383.4,382.7,382.5,383.7,383.7,384.3,383.2,382.8,385.1,389.8,392.1,391.7,392.3,393.7,394.1,393.7,392.7,396.1,398.6,396.4,-2.2000000000000455,-5.5193176116408562E-3,49,41,13.599999999999966,3.5527690700104406E-2,3,6,11.299999999999955,2.9343027784990792E-2,3,9,25.799999999999955,6.9616837560712228E-2,10,25]
["Indiana","SMS18000005500000001",133.5,133,132.6,132.1,131.80000000000001,131.19999999999999,130.69999999999999,130.5,130.19999999999999,129.9,129.80000000000001,129.6,null,131,130.80000000000001,130.69999999999999,130.30000000000001,130.19999999999999,130.6,130.9,130.9,130.80000000000001,131.5,131.5,131.69999999999999,null,132.19999999999999,132.30000000000001,132.30000000000001,131.6,131.69999999999999,131.30000000000001,131.19999999999999,130.80000000000001,130.80000000000001,130.6,130.5,130.5,null,130.30000000000001,130.19999999999999,130.19999999999999,130.1,130,129.80000000000001,129.4,129.30000000000001,129.30000000000001,129.1,129.1,129,null,129,128.6,128.30000000000001,128.4,128.9,129.19999999999999,129.19999999999999,129.5,129.6,129.6,130.5,130.4,null,127.6,127.7,127.7,127.6,127.7,127.8,128,128.19999999999999,128.5,129.9,131,130.9,129.6,129.80000000000001,130.1,130.19999999999999,130.19999999999999,130.5,130.80000000000001,131.1,131.30000000000001,132.5,131.80000000000001,131.30000000000001,132.80000000000001,133,133.1,133.6,133.5,133.6,134.4,134.30000000000001,134.5,134.9,134.9,134.80000000000001,136.4,135.9,136.19999999999999,137,138.19999999999999,139.19999999999999,137.1,137.6,138,140.6,139.69999999999999,-0.90000000000000568,-6.401137980085389E-3,43,44,4.7999999999999829,3.5581912527798243E-2,10,5,4.8999999999999773,3.6350148367952348E-2,8,6,9,6.8859984697781179E-2,20,26]
["Iowa","SMS19000005500000001",102.1,102,101.9,102.1,102.1,102,102,101.9,102,102,101.9,102,null,101.6,101.5,101.7,101.1,101.1,101.1,100.9,100.8,100.7,101.3,101.4,101.3,null,101.2,101,100.8,100.7,100.6,100,100.6,100.7,100.4,100.6,100.9,100.7,null,100.7,100.8,101,101.4,101.5,101.5,101.8,101.8,102.2,102.4,102.5,102.7,null,103,103.1,103.1,103.4,103.4,103.5,103.5,103.6,103.9,103.9,103.4,103,null,104,104,104.1,103.9,103.9,104.2,103.9,104.4,104.4,104.3,104.7,104.6,104.5,104.7,105,105.3,105.4,105.8,106,106,106.2,106.5,106.6,106.9,107.6,107.7,107.7,108,108.2,108.3,108.6,108.2,108.5,109,109.6,110,110.5,110.6,110.7,111.1,111.9,112.9,112.9,111.5,112.6,112.5,114,1.5,1.3333333333333334E-2,7,4,4.4000000000000057,4.0145985401459909E-2,11,3,4,3.6363636363636362E-2,11,5,12,0.11764705882352941,18,14]
["Kansas","SMS20000005500000001",72.7,72.599999999999994,72.5,71.7,71.400000000000006,71.599999999999994,72,72.2,72,72.2,72.3,72.2,null,72.2,72.099999999999994,72,72,72,71.7,71.599999999999994,71.7,71.599999999999994,72.2,72.099999999999994,72.3,null,72.099999999999994,71.900000000000006,72.2,72.5,73.2,73,73.400000000000006,73.599999999999994,73.8,74,73.8,74,null,74.3,74.7,75.099999999999994,74.900000000000006,74.5,74.5,74.400000000000006,74.599999999999994,74.400000000000006,74.3,74.5,74.599999999999994,null,74.900000000000006,74.900000000000006,74.900000000000006,75.3,75.5,75.900000000000006,75.900000000000006,76.099999999999994,76.099999999999994,76,76.599999999999994,76.900000000000006,null,79.2,79.3,79.8,79.599999999999994,79.8,79.7,79.8,80.2,80.400000000000006,79.900000000000006,79.599999999999994,79.3,79,79.3,79.400000000000006,79.599999999999994,79.400000000000006,79.400000000000006,79.599999999999994,79.599999999999994,79.599999999999994,79,79.400000000000006,79.3,84.9,85.2,85.3,86,85.8,85.8,86,86,86.2,85.9,85.2,86,85.7,86.1,85.7,85.8,85.5,85.6,85.9,86.4,86.5,87,86.6,-0.40000000000000568,-4.5977011494253523E-3,40,38,1.3999999999999915,1.6431924882629009E-2,23,21,0.59999999999999432,6.9767441860464456E-3,31,32,14.599999999999994,0.2027777777777777,15,5]
["Kentucky","SMS21000005500000001",89.9,89.4,89.1,88.9,89,88.5,88.3,87.8,87.7,87.4,87.1,87,null,86.7,86.3,86.3,86.2,86.1,86,85.6,85.2,85,84.9,84.8,84.9,null,84.6,85,85,84.2,84.2,84.4,84.7,85,85.6,85.3,85.3,85.4,null,85.7,85.9,86,85.9,86,86.4,86.9,86.9,87.6,87.4,87.9,87.8,null,88.1,88.2,88.4,88.5,88.5,88.5,88.7,88.8,88.9,88.1,88.9,87.5,null,89.1,89.1,89.1,89.5,89.7,89.8,89.8,89.9,89.8,91.1,90.8,90.3,91.4,91.8,91.8,91.9,92.1,92.2,92.2,92.2,92.5,93.7,94.2,94.3,92.9,93.2,93.2,93.3,93.6,93.3,93.3,93.4,93.3,93.9,95,95.8,95.2,94.8,95.4,95.9,96.1,95.1,95.2,95.6,95.4,94.6,95.2,0.60000000000000853,6.3424947145878287E-3,11,13,0.20000000000000284,2.1052631578947667E-3,37,41,-0.59999999999999432,-6.2630480167014026E-3,45,46,6.9000000000000057,7.8142695356738456E-2,22,22]
["Louisiana","SMS22000005500000001",92.7,92.4,92.1,92.9,92.8,92.5,92.3,92.3,92.1,91.8,91.9,92,null,92,92.1,92.1,92.3,92.5,92.9,93.4,93.5,93.4,93.6,93.7,93.9,null,94.2,94.5,93.9,93.7,93.7,93.3,93.4,93.1,93.6,93.7,93.6,93.4,null,93.4,93.7,93.6,93.8,93.7,93.7,93.5,93.6,93.5,93.7,94.4,94.4,null,94.3,94.1,94,94.7,94.9,95.1,95.3,95.5,95.9,95.8,95.5,95.6,null,91.5,91.3,90.8,91.4,91.5,91.5,91.9,92.3,91.9,92.3,92.5,92.8,92.8,92.6,92.4,92.1,92,91.9,91.7,91.5,91.1,90.1,90,89.9,92.5,92.5,92.3,92.6,92.5,92,92.3,92.1,92.2,92.2,92.3,92.3,92.3,92.3,91.7,92.7,92.7,92.1,92.3,93.3,92.3,93.3,92.5,-0.79999999999999716,-8.5744908896034002E-3,42,47,0.20000000000000284,2.1668472372698032E-3,37,40,0.20000000000000284,2.1668472372698032E-3,35,35,0.20000000000000284,2.1668472372698032E-3,38,39]
["Maine","SMS23000005500000001",32.299999999999997,32.200000000000003,32.1,32.1,32.200000000000003,32.299999999999997,32,32,32,32,31.8,31.8,null,31.7,31.7,31.7,31.8,31.7,31.7,31.4,31.6,31.8,31.7,31.5,31.6,null,31.6,31.6,31.6,31.5,31.5,31.5,31.5,31.5,31.6,31.7,31.5,31.7,null,31.6,31.4,31.4,31.5,31.5,31.5,31.5,31.5,31.4,31.5,31.4,31.4,null,31.5,31.5,31.6,31.7,31.7,31.9,31.9,31.9,31.9,31.9,32.1,32.200000000000003,null,30.4,30.2,30.3,30.3,30.3,30.3,30.3,30.5,30.4,30.5,30.5,30.4,30.5,30.5,30.5,30.6,30.6,30.5,30.7,30.7,30.8,30.6,30.2,30.5,31,31,31.1,31.2,31.1,31.2,30.9,31.1,31.1,30.6,30.8,30.4,30.7,30.9,30.8,30.6,30.6,30.2,30.1,30.4,30.7,30.6,30.4,-0.20000000000000284,-6.5359477124183937E-3,35,45,-0.40000000000000213,-1.2987012987013056E-2,45,48,0,0,40,40,-1.6000000000000014,-5.0000000000000044E-2,47,48]
["Maryland","SMS24000005500000001",148.9,148.30000000000001,147,147.19999999999999,146.9,146.4,145.69999999999999,145.5,145.30000000000001,145.1,145,144.5,null,143.80000000000001,143.19999999999999,143.30000000000001,143.30000000000001,143.4,143.69999999999999,143.80000000000001,143.80000000000001,143.9,144.30000000000001,144.4,144.9,null,144,144.30000000000001,144,144,143.69999999999999,143.19999999999999,143.19999999999999,142.69999999999999,142.69999999999999,142.9,142.4,142.30000000000001,null,143.1,143,142.6,142.19999999999999,142.6,142.80000000000001,143.1,143.4,143.69999999999999,143.9,144.30000000000001,144.1,null,144.80000000000001,144.80000000000001,144.69999999999999,144.9,144.9,145.19999999999999,145.30000000000001,145.19999999999999,145.19999999999999,146.6,146.5,146.9,null,144.30000000000001,144.30000000000001,143.80000000000001,144.30000000000001,144.30000000000001,144.30000000000001,144.5,144.6,144.19999999999999,144.5,144.19999999999999,144.19999999999999,145.30000000000001,145.5,145.5,145.69999999999999,146.1,146.30000000000001,146.6,146.5,146.19999999999999,147.5,147.30000000000001,147.6,148.30000000000001,148.4,148.4,148.6,148.69999999999999,148.69999999999999,149.19999999999999,149.4,149.69999999999999,150.1,149.80000000000001,149.1,150.1,150.4,149,149.6,148.6,149.9,148.30000000000001,148.80000000000001,150.30000000000001,148.6,150.19999999999999,1.5999999999999943,1.0767160161507364E-2,6,6,0.39999999999997726,2.670226969292238E-3,33,39,1.0999999999999943,7.3775989268946634E-3,23,30,4.5,3.0885380919698013E-2,26,32]
["Massachusetts","SMS25000005500000001",218.1,217.1,216.3,215,214.2,213.3,212.2,211.3,210.9,210.3,210.2,209.9,null,209.2,208.8,208.4,208.1,208.1,207.4,207.6,207.1,207,207.4,207.2,207.3,null,206.9,206.7,206.5,207,206.2,206,206.8,206.8,206.9,206.8,206.4,206.2,null,206.2,206.3,206.2,206.2,206.1,206.6,206.2,206.1,206.1,206.2,206.3,206.2,null,206,206.2,206.7,206.4,206.6,206.6,206.4,206.5,206.2,206.9,206.9,206.9,null,207.1,207.1,207.1,207.3,207.8,207.9,208.4,208,208.3,207.9,209,208.9,218.1,218,218,218.3,218.7,218.8,220.8,221,220.5,220.2,221.8,221.2,222.8,223.1,223.1,223.3,223.2,223.6,224.6,224.1,223.9,223.1,224.1,224.7,227.2,227,229.4,228.6,229,228.9,229.9,229.4,228,228.6,227.4,-1.1999999999999886,-5.2493438320209479E-3,47,40,3.3000000000000114,1.4725568942436464E-2,15,23,2.7000000000000171,1.2016021361815831E-2,14,25,15.200000000000017,7.1630537229029304E-2,14,24]
["Michigan","SMS26000005500000001",194.7,194.4,193.3,193.1,192.7,191.5,190.5,189.9,189.9,189.1,188.7,188,null,187.8,187.6,186.9,185.4,186,186.3,187.3,187.9,188.9,190,190.4,190.9,null,192.4,192.8,193.4,191.7,191.6,191.8,193.1,193.6,193.9,194.2,194.5,194.6,null,194.2,194.5,195.2,195.7,195.7,196.1,197.1,197.2,197.6,198.1,198.7,199,null,200.5,201.2,201.4,201.7,202,203.5,203.3,203.2,202.7,201.5,201.4,201.3,null,204,204.1,203.9,204,204.7,204.8,204.5,204.8,205,204.9,204.7,206.1,204.6,204.5,204.8,205.3,206.5,206.6,206.7,207.1,207.7,209.1,210.1,210.9,210.4,210.9,211.2,211.6,212.1,212.4,212.8,213.2,213.1,214.3,215.7,216.6,217.6,216.9,217.3,216.3,217.4,219.4,218.6,218.1,218.6,219,218.1,-0.90000000000000568,-4.109589041095916E-3,43,37,2.4000000000000057,1.112656467315719E-2,18,27,1.5,6.9252077562326868E-3,17,33,27.599999999999994,0.1448818897637795,7,11]
["Minnesota","SMS27000005500000001",174.8,174.2,173.7,173.2,173.3,173,172.9,172.4,172.7,172.7,172.6,172.4,null,171.7,171.6,171.5,171.5,171.6,172.2,172.2,172.5,172.8,174.2,174.1,175,null,174,174.1,174,173.9,173.9,173.7,174.2,174.5,174.4,174.5,174.6,174.8,null,175.5,175.7,176.1,178.1,178.3,177.8,178,178.2,178.8,179.3,179.4,179.7,null,180.5,180.7,180.9,181.3,181.4,181.6,181.5,181.5,181.3,180.9,181.3,181.7,null,178.2,177.8,178.1,178.5,178.7,179.1,179.4,179.1,178.7,177.8,179.8,179,179.9,180.2,180.2,180.7,181.2,181.5,182.3,182.4,182,181.9,182.1,183,173.9,174.3,174.6,175.1,175.2,174.6,176.1,176.2,176.4,177,177,177.5,177.3,177,178,177.6,177.2,176.6,175.3,175.6,176.3,175.8,176.3,0.5,2.844141069397042E-3,13,21,-0.69999999999998863,-3.9548022598869413E-3,48,45,-1.1999999999999886,-6.7605633802816263E-3,50,47,3.4000000000000057,1.9664545980335485E-2,29,36]
["Mississippi","SMS28000005500000001",46.1,45.9,45.8,45.5,45.5,45.2,44.9,44.9,44.9,44.9,44.9,44.8,null,44.6,44.6,44.6,44.6,44.6,44.6,44.6,44.4,44.4,44.3,44.3,44.3,null,44.2,44.2,44.1,44.3,44,44.2,44,44.2,44.2,44.2,44.3,44.1,null,44.2,44.1,44.1,44.2,44.2,44.1,44.1,44.1,44.1,44,44,43.9,null,43.9,44,44,43.9,43.8,43.6,43.6,43.5,43.6,43.8,43.6,43.5,null,43.3,43.5,43.3,43.3,43.4,43.4,43.2,43.3,43.3,43.7,44.4,44.3,43.5,43.5,43.5,43.6,43.6,43.8,43.8,43.6,43.6,43.6,43.7,43.2,44.1,44.1,44,44.1,44,43.9,43.9,44,43.9,43.4,43.3,43.3,44,43.7,43.8,44.2,44,44.3,44.6,44.2,43.5,44.2,44.8,0.59999999999999432,1.3574660633484033E-2,12,3,1.5,3.4642032332563515E-2,22,7,1.5,3.4642032332563515E-2,17,7,-0.10000000000000142,-2.2271714922049313E-3,40,40]
["Missouri","SMS29000005500000001",164.8,164.6,164.6,164.4,164.2,163.80000000000001,162.5,162.30000000000001,161.9,162.1,161.69999999999999,161.69999999999999,null,161.69999999999999,162,161.9,162.6,162.6,162.6,162.30000000000001,161.80000000000001,161.9,162.30000000000001,162.4,162,null,161.30000000000001,161.19999999999999,161,161.30000000000001,161,160.69999999999999,161,161.5,161.80000000000001,162.5,162.6,162.6,null,162.80000000000001,163.19999999999999,163.5,163.4,163.30000000000001,163.30000000000001,163.30000000000001,163.69999999999999,163.9,164.4,164.7,164.5,null,163.30000000000001,163.4,163.1,164.3,163.5,163.80000000000001,164,163.9,164.1,164.6,165.4,164.7,null,163.69999999999999,164,163.4,164.3,164.6,164.6,164.6,164.6,164.5,164.1,164.8,164.5,165.5,165.6,165.8,165.9,166.2,166.3,166.6,166.3,166.3,165.6,166.4,166,168.1,168.5,168.6,168.7,168.8,168.8,169,169.2,169.8,169.4,170,170.2,170.7,169.6,170.5,172.2,171.3,174.2,173.1,173.7,174.1,175.3,174.2,-1.1000000000000227,-6.2749572162009281E-3,46,43,4.1999999999999886,2.4705882352941109E-2,12,15,4,2.3501762632197415E-2,11,15,11.699999999999989,7.1999999999999925E-2,19,23]
["Montana","SMS30000005500000001",21.4,21.3,21.3,21.4,21.4,21.5,21.5,21.5,21.5,21.6,21.5,21.7,null,21.3,21.3,21.4,21.3,21.2,21.3,21.2,21.1,21,21.1,20.8,20.9,null,21,21,21.1,21,20.9,21,21,21,21.1,21.5,21.5,21.6,null,21.2,21.2,21.2,21.1,21.4,21.5,21.5,21.6,21.8,21.9,22,22.2,null,22.2,22.3,22.5,22.6,22.7,22.6,22.7,22.7,22.7,22.9,23.4,22.9,null,24.4,24.8,24.7,24.9,24.9,24.9,24.9,24.9,25,25,25.2,25.7,23.8,23.8,23.9,23.8,23.8,24,23.8,23.8,24,24,23.9,23.9,23.8,23.7,23.7,23.7,23.7,23.7,23.8,23.8,23.8,24,24.2,24.3,24.3,24.3,24.1,24.4,24.8,24.5,24.7,24.9,24.8,24.9,24.9,0,0,25,25,0.69999999999999929,2.8925619834710717E-2,28,10,0.59999999999999787,2.469135802469127E-2,30,13,3.3999999999999986,0.15813953488372087,30,9]
["Nebraska","SMS31000005500000001",69.099999999999994,69.099999999999994,68.900000000000006,68.5,68.400000000000006,68.3,68,68.099999999999994,68.099999999999994,68.099999999999994,68.3,68.2,null,68.5,68.400000000000006,68.400000000000006,68.5,68.5,68.900000000000006,69.2,69.3,69.2,69.400000000000006,69.400000000000006,69.400000000000006,null,69.7,69.5,69.599999999999994,70,70,70.099999999999994,70.099999999999994,70.099999999999994,70.400000000000006,70.400000000000006,70.599999999999994,70.7,null,70.599999999999994,70.5,70.599999999999994,70.900000000000006,70.900000000000006,71.099999999999994,71.099999999999994,71.099999999999994,71.2,71.2,71.3,71.5,null,71.3,71.5,71.400000000000006,71.5,71.599999999999994,71.7,71.7,71.900000000000006,71.900000000000006,71.599999999999994,71.7,71.599999999999994,null,72.099999999999994,72.2,72.2,72.2,72.2,72.5,72.7,72.599999999999994,72.7,72.5,72.8,73.099999999999994,71.400000000000006,71.3,71.2,71.2,71.599999999999994,71.8,71.900000000000006,72,72,72,72.5,72.7,72.8,73,73.099999999999994,73.099999999999994,73.2,73.2,73.3,73.599999999999994,73.400000000000006,73.8,73.8,74,73.5,73.8,74.3,74.5,75.099999999999994,75,75.2,74.900000000000006,75,74.3,74.099999999999994,-0.20000000000000284,-2.6917900403768888E-3,35,35,0.29999999999999716,4.0650406504064655E-3,35,36,9.9999999999994316E-2,1.3513513513512744E-3,39,38,6.0999999999999943,8.9705882352941094E-2,24,20]
["Nevada","SMS32000005500000001",57.9,57.5,56.8,56.2,55.8,55.6,54.5,54.7,54.2,53.9,53.7,53.3,null,53.5,53,52.8,53.2,52.9,52.7,52.8,52.6,52.4,52.8,52.7,52.8,null,52.8,52.6,52.4,52.3,52.3,52.4,52.7,52.2,52.6,52.6,52.6,52.8,null,53,53.2,53.3,54,54.1,54.4,54.4,54.9,55.1,55.4,55.5,55.6,null,55.8,56.6,57,56.8,57,56.8,56.6,56.8,56.9,56.9,56.2,56.3,null,57.1,57,57,57,57.2,57.2,57.2,57.5,57.8,57.6,57.1,57.1,58.2,58.8,58.8,59.1,59.5,59.3,59.7,59.9,60,60.2,60,59.6,61.9,62.1,62.3,62.5,62.6,62.5,62.9,63,63.2,62.9,62.9,62.6,63.3,64,63.8,64.099999999999994,63.5,62.4,63.3,63,62.5,63.3,63.5,0.20000000000000284,3.1595576619273752E-3,19,20,0.60000000000000142,9.5389507154213272E-3,29,28,0.89999999999999858,1.4376996805111798E-2,26,21,9,0.16513761467889909,20,8]
["New Hampshire","SMS33000005500000001",37.5,37.299999999999997,36.9,37,36.9,36.799999999999997,36.4,36.1,36.1,36,35.9,35.799999999999997,null,35.799999999999997,35.6,35.4,35.5,35.200000000000003,35.1,35.200000000000003,35.1,34.799999999999997,34.9,34.799999999999997,34.700000000000003,null,34.6,34.6,34.4,34.6,34.299999999999997,34.1,34.1,34.200000000000003,34.299999999999997,34.200000000000003,34.299999999999997,34.1,null,34.299999999999997,34.4,34.4,34.6,34.799999999999997,35.1,34.9,35.1,35.200000000000003,35.299999999999997,35.299999999999997,35.299999999999997,null,35.1,35.299999999999997,35.299999999999997,35.5,35.5,35.5,35.5,35.5,35.6,35.4,35.299999999999997,35.4,null,35.6,35.700000000000003,35.6,35.799999999999997,35.799999999999997,35.700000000000003,35.9,35.799999999999997,36,35.9,36.299999999999997,36,34.9,35,35.1,35.1,35.200000000000003,35.299999999999997,35.700000000000003,35.9,36,35.700000000000003,35.9,36.6,36.799999999999997,36.799999999999997,36.799999999999997,36.9,36.799999999999997,37,37.200000000000003,37.200000000000003,37.1,37.200000000000003,37.4,37.5,37.299999999999997,37.200000000000003,36.799999999999997,36.6,37.700000000000003,38.200000000000003,38,38.1,37.9,38.799999999999997,38.6,-0.19999999999999574,-5.1546391752576226E-3,33,39,1.2000000000000028,3.2085561497326283E-2,24,8,1.1000000000000014,2.9333333333333371E-2,22,10,2.2000000000000028,6.0439560439560523E-2,33,29]
["New Jersey","SMS34000005500000001",260.8,259.89999999999998,258.3,257.89999999999998,257,255.4,254.5,253.5,253.6,253.1,252.3,252.3,null,252.4,251.9,251.8,251.3,250.8,251.1,250.9,251.2,251.5,251.8,251.7,251.4,null,250.5,250.2,250,249.5,249.4,249.5,249.4,249.9,249.9,248.6,248.5,248,null,248.1,248,248.4,249.2,249.7,250.2,250.3,250.3,250.9,251.6,252,252.9,null,254.7,254.9,254.8,254.8,254.6,254.5,254.9,254.7,255,253.4,252.7,251.5,null,247.9,247,246.7,246.4,246.6,246.3,246.4,246.2,246.4,248,249.2,246.6,247,247.1,247.5,248.9,249.6,250.3,250.9,251.9,252.5,254.2,254.5,254.8,247.3,247.1,246.2,247.4,247.4,247.6,249.2,249.7,249.1,249.1,249.3,250.1,250.6,252.2,251.9,253.4,251.8,252.3,253.4,252.9,252.3,250.7,252.8,2.1000000000000227,8.3765456721181606E-3,5,10,3.5,1.4039310068190935E-2,14,24,2.7000000000000171,1.0795681727309145E-2,14,27,-1.6999999999999886,-6.6797642436148864E-3,48,41]
["New Mexico","SMS35000005500000001",33.799999999999997,33.799999999999997,33.299999999999997,33.799999999999997,33.9,33.700000000000003,33.6,33.6,33.5,33.6,33.5,33.6,null,33.4,33.4,33.4,32.9,33.700000000000003,33,32.9,32.799999999999997,32.700000000000003,32.700000000000003,32.700000000000003,32.799999999999997,null,32.700000000000003,32.700000000000003,32.5,32.6,32.5,32.4,32.5,32.5,32.5,32.5,32.5,32.5,null,32.5,32.700000000000003,32.9,32.700000000000003,32.6,32.700000000000003,32.700000000000003,32.6,32.6,33.299999999999997,33.299999999999997,33.1,null,33.200000000000003,33.1,33.1,33.1,33.200000000000003,33.200000000000003,33.200000000000003,33.200000000000003,33.299999999999997,34,34.1,34.5,null,33.200000000000003,33.299999999999997,33.299999999999997,33.4,33.4,33.5,33.5,33.5,33.5,33.6,33.6,33.5,33.299999999999997,33.299999999999997,33.200000000000003,33.200000000000003,33.299999999999997,33.299999999999997,33.299999999999997,33.299999999999997,33.200000000000003,32.9,33.200000000000003,33.1,33.5,33.6,33.4,33.5,33.5,33.4,33.4,33.5,33.6,33.4,33.1,33.200000000000003,33.700000000000003,33.299999999999997,33.6,33.6,33.299999999999997,33.799999999999997,33.9,33.5,34.1,34.4,34.700000000000003,0.30000000000000426,8.7209302325582643E-3,16,9,1.6000000000000014,4.8338368580060465E-2,21,1,1.5,4.5180722891566258E-2,17,2,1.1000000000000014,3.2738095238095281E-2,36,31]
["New York","SMS36000005500000001",699.6,694.1,688.5,682.7,680.1,673.3,669.7,666.6,671.3,667.9,665.6,664.1,null,663.7,664.1,664.4,669.5,669.8,669.9,669.4,669.4,670.9,672.2,673.8,674.8,null,679.6,679.7,679.4,682,682.4,682.8,684.2,684.8,684.4,683.7,684,683.2,null,684.9,685.2,684.3,683.6,683.4,683.2,682.6,682.9,682.9,683.2,682.7,683.7,null,680,680.1,680.2,681.6,681.6,682.1,683.2,682.9,683.3,681.8,681.6,681.6,null,687.6,688.7,689.1,689.4,692.6,694.4,694.9,695.7,696.5,691.3,689.8,691,700.4,701.1,702,702.2,704.2,705.6,707.8,708,708.1,706.7,708.1,708.5,712.6,712.9,713.4,713.8,714.2,713.3,714.1,714.9,713.3,709.6,709.4,713,712.4,713.9,713,714.8,716.3,714.8,715.3,713.8,710.6,716.5,714.3,-2.2000000000000455,-3.0704815073273489E-3,49,36,4.8999999999999773,6.9072455596278226E-3,9,31,1.2999999999999545,1.8232819074333164E-3,21,37,44.599999999999909,6.6596983724055411E-2,4,28]
["North Carolina","SMS37000005500000001",207.7,206.7,205.5,204.5,204,202.7,202.2,201.3,200.7,199.9,200,199.7,null,199.9,199.8,200.2,199.6,198.8,198.9,199.4,199.6,200.1,200.4,200.6,200.8,null,201,201,200.9,201.1,201.3,201.5,201.9,201.7,201.1,201.2,201.3,201.4,null,201.2,201.7,202.6,202.2,202.4,202.7,202.6,202.8,203,203.9,203.8,203.9,null,204.5,204.7,204.7,205.6,206.4,206.8,207.4,207.6,208.1,207.4,205.8,207.1,null,208.5,209.1,209.4,210.2,210.9,211.5,212.4,212.9,213.5,211.6,212.8,213.9,215.3,216.3,216.1,217.5,218,218.8,219.4,219.9,221.1,218.7,219.6,219.3,223.8,224.4,224.8,225.3,225.4,225.8,227.3,227.7,227.8,228,228.8,229.2,230.5,230.3,230.8,229.7,230.5,229.3,229.8,231.9,229.9,229.9,228.3,-1.5999999999999943,-6.9595476294040635E-3,48,46,-0.5,-2.185314685314685E-3,46,44,-0.89999999999997726,-3.9267015706805292E-3,49,43,26.100000000000023,0.12908011869436214,9,12]
["North Dakota","SMS38000005500000001",20.3,20.3,20.2,20.2,20.100000000000001,20.100000000000001,20.2,20.2,20.100000000000001,20.2,20.100000000000001,20.2,null,20.2,20.3,20.2,20.5,20.5,20.6,20.6,20.7,20.7,20.8,20.8,21,null,20.9,21,21,21,21.2,21.1,21.1,21.1,21.3,21.3,21.4,21.3,null,21.4,21.5,21.6,21.7,21.8,21.9,21.9,21.9,22,22.2,22.2,22.2,null,22.4,22.5,22.7,22.7,22.7,22.7,22.8,23,23,23.3,23.4,23.4,null,23.7,23.8,23.8,23.9,24,24.1,24.1,24.3,24.4,24.2,24.2,24.2,24.5,24.4,24.6,24.2,24.3,24.2,24.2,24.2,24.3,24.4,24.3,23.9,24.1,24.1,24.1,23.9,23.9,23.9,24,24,24,24.2,24.4,24.6,24.4,24.4,24.5,24.6,24.8,24.8,24.6,24.9,24.7,24.8,24.5,-0.30000000000000071,-1.2096774193548416E-2,37,50,0.10000000000000142,4.0983606557377632E-3,41,35,-0.10000000000000142,-4.0650406504065617E-3,43,45,4.3000000000000007,0.21287128712871292,27,4]
["Ohio","SMS39000005500000001",284.60000000000002,283.3,282.5,281.2,280.8,280.10000000000002,279.3,278.5,278.2,277.3,276.89999999999998,276.3,null,276,275.7,275.39999999999998,275.7,275.5,275.8,276.5,277.2,277.39999999999998,277.8,278.2,278.8,null,279.2,279.39999999999998,279.3,278.8,278.3,277.5,276.89999999999998,277.2,278.10000000000002,276.89999999999998,277.10000000000002,277.10000000000002,null,277.5,277.8,278.3,278.7,279.3,280.2,280.39999999999998,280.5,280.89999999999998,281.2,282.2,282.10000000000002,null,281.5,282.39999999999998,282.2,283.3,283.8,284.5,284.8,285.10000000000002,285.3,283.5,281.8,281.3,null,285.8,286.7,287,286.39999999999998,287.7,288.2,288.7,289.5,290.39999999999998,289.8,290.2,289.89999999999998,290.8,291.3,291.2,291.3,292.3,292.60000000000002,292.89999999999998,293.60000000000002,293.3,291.8,293.10000000000002,292.2,296.89999999999998,297.89999999999998,298.39999999999998,299.10000000000002,299.2,299.7,300.5,300.60000000000002,301.2,299.8,300.10000000000002,300.39999999999998,305,304.3,303.5,303.60000000000002,305.3,308.5,309.8,309.89999999999998,307.39999999999998,306.10000000000002,309.60000000000002,3.5,1.1434171839268212E-2,2,5,9.5,3.1656114628457181E-2,4,9,9.2000000000000455,3.0625832223701886E-2,4,8,30.300000000000011,0.10848549946294311,6,16]
["Oklahoma","SMS40000005500000001",82.4,82,81.599999999999994,81.900000000000006,81.900000000000006,81.900000000000006,81.7,81.3,81.2,80.900000000000006,80.599999999999994,80.7,null,80.5,80.5,80.099999999999994,80,80.099999999999994,80.2,79.8,79.599999999999994,79.5,79.599999999999994,79.599999999999994,79.5,null,79.2,79.2,79.3,79.3,79.099999999999994,79.2,79.2,79.5,79.5,79.599999999999994,79.599999999999994,79.3,null,79.5,79.7,79.7,79.900000000000006,80,80,79.900000000000006,80,80,80.2,80.2,80.7,null,80.400000000000006,80.5,80.599999999999994,80.5,80.599999999999994,80.7,80.900000000000006,80.8,80.900000000000006,80.900000000000006,81,81.099999999999994,null,79.3,79.3,79.2,79.400000000000006,79.400000000000006,79.5,79.7,79.900000000000006,79.900000000000006,79.8,79.8,79.7,80.099999999999994,79.900000000000006,79.7,79.5,79.900000000000006,79.900000000000006,80,79.8,80,80.3,80.900000000000006,80.599999999999994,79.099999999999994,79,78.7,78.7,78.599999999999994,78.3,78.599999999999994,78.5,78.400000000000006,79,78.900000000000006,79.5,80.099999999999994,80.599999999999994,80.599999999999994,80.2,80.5,80.5,81.099999999999994,81.2,80.7,80.900000000000006,81,9.9999999999994316E-2,1.2360939431396083E-3,23,22,2.0999999999999943,2.6615969581748975E-2,19,14,1.5,1.8867924528301886E-2,17,19,-0.70000000000000284,-8.5679314565483815E-3,45,42]
["Oregon","SMS41000005500000001",98.1,97.4,96.8,96.2,95.7,94.9,95.1,94.9,95,95,94.8,94.6,null,94,93.2,93.2,93.6,93.4,93.5,93.3,93.1,93,92.9,92.7,92.8,null,92.7,92.8,92.5,92.2,92,92.1,91.5,91.3,91,90.8,90.7,90.6,null,90.7,90.6,90.4,90.3,90.1,89.9,90.5,90.6,90.7,90.6,90.7,90.5,null,91,90.9,91.1,91.3,91.4,91.4,91.6,91.6,91.8,90.9,90.7,90.7,null,91.5,91.3,91.3,91.9,92.3,92.6,92.8,93,93.2,93,93.6,93.2,93.8,94.1,94.1,94.3,94.6,94.6,94.8,95,95.2,96,96.3,96.4,95.6,95.7,95.8,96.2,96.4,96.7,97,97.4,97.6,97.8,98.8,98.4,99.1,99.3,98.2,99.4,98.7,97.8,98.4,97.4,97.8,97.8,97.7,-9.9999999999994316E-2,-1.0224948875255044E-3,29,31,-1.0999999999999943,-1.1133603238866339E-2,50,47,-0.70000000000000284,-7.1138211382114104E-3,47,48,2.6000000000000085,2.7339642481598408E-2,31,33]
["Pennsylvania","SMS42000005500000001",323.89999999999998,323.2,321.8,320.7,319.8,318.60000000000002,317.5,316.2,315.89999999999998,315.5,314.5,313.7,null,313.7,312.8,312.7,311.89999999999998,311.8,310.7,309.7,309.89999999999998,309.39999999999998,310.10000000000002,309.89999999999998,309.8,null,310.2,309.3,309,308.8,308.3,307.7,307.89999999999998,308.5,308.8,308.5,308.5,308.60000000000002,null,308.7,308.7,309.2,308.5,309,309.3,309.39999999999998,309.5,310,310,310.10000000000002,310.39999999999998,null,310.8,311.39999999999998,311.7,312.10000000000002,312.3,312.60000000000002,312.39999999999998,312.60000000000002,312.5,312.39999999999998,312.60000000000002,312.3,null,314.8,315.2,315,315.10000000000002,315.89999999999998,316,315.89999999999998,316.10000000000002,316.10000000000002,313.8,313.3,313.7,315.2,315.8,315.60000000000002,316,316.5,316.8,317.10000000000002,317.39999999999998,317.10000000000002,315,315.2,315.8,316.89999999999998,316.60000000000002,316.39999999999998,316.7,316.2,316.39999999999998,316.60000000000002,316.89999999999998,317.3,315.89999999999998,316.89999999999998,317.89999999999998,317.5,317.7,318.5,317.3,316.5,317.89999999999998,316.89999999999998,316.2,319.3,317.7,318.89999999999998,1.1999999999999886,3.7771482530688971E-3,8,17,2,6.3111391606184919E-3,20,32,1,3.1456432840515887E-3,25,34,1.3999999999999773,4.4094488188975659E-3,35,37]
["Rhode Island","SMS44000005500000001",32.1,32.1,31.7,31.3,31.3,31.3,31.1,30.8,30.6,30.6,30.8,30.6,null,30.5,30.6,30.7,30.5,30.5,30.4,30.6,30.6,30.7,31,30.8,31,null,30.8,30.8,30.7,30.8,30.6,31.1,30.7,30.7,30.9,30.8,30.9,30.9,null,31.1,31.2,31.3,31.4,31.6,31.7,31.7,31.8,31.8,31.9,31.8,31.9,null,32,32.1,32.299999999999997,32.4,32.299999999999997,32.5,32.6,32.5,32.299999999999997,32.200000000000003,32.1,32.1,null,32.4,32.200000000000003,32.1,32.4,32.5,32.5,32.700000000000003,32.6,32.700000000000003,32.700000000000003,32.4,32.5,32.6,32.700000000000003,32.700000000000003,32.9,32.799999999999997,33.1,32.6,32.6,33,33,33,33.200000000000003,33.6,33.6,33.5,33.6,33.4,33.4,33.4,33.6,33.6,33.299999999999997,33,32.799999999999997,33.299999999999997,33.200000000000003,33,33.5,33.299999999999997,33.5,33.1,33.1,32.700000000000003,33.4,33.200000000000003,-0.19999999999999574,-5.9880239520956812E-3,33,42,0.20000000000000284,6.0606060606061465E-3,37,33,0.40000000000000568,1.2195121951219686E-2,33,24,2.1000000000000014,6.7524115755627057E-2,34,27]
["South Carolina","SMS45000005500000001",97.9,97.5,96.9,96.3,96,95.4,95.4,95.1,94.6,93.5,93.2,92.9,null,92.7,92.5,92.3,92.2,92,91.9,91.8,91.8,91.3,91.6,91.4,91,null,90.9,90.8,90.6,90.7,90.9,90.9,91.1,91.2,91.3,91.6,91.9,91.8,null,92.4,92.5,92.7,93.3,93.1,93.5,93.3,93.6,94,93.9,94.2,94.8,null,94.4,94.8,95.2,95.2,95.2,95.3,95.7,95.9,96,96.2,95.8,95.7,null,96.2,96.2,96.2,96.3,96.4,96.2,96.2,96.2,96.2,96.4,96.9,96.7,96.6,96.7,96.6,96.8,96.8,96.8,96.8,97.1,97.4,96.8,96.4,97,99.4,99.6,100,100.2,100.1,99.9,100.2,100.1,100.3,99.5,99.6,99.7,102.4,101.4,100.2,100.8,100,101,101.3,100.9,100.7,100.3,100.8,0.5,4.9850448654037887E-3,13,15,1.2000000000000028,1.2048192771084366E-2,24,26,1.0999999999999943,1.1033099297893624E-2,23,26,5.3999999999999915,5.6603773584905565E-2,25,30]
["South Dakota","SMS46000005500000001",30.9,30.9,30.9,30.9,30.6,30.6,30.4,30.1,30.1,30.1,29.9,29.9,null,29.5,29.2,29,28.9,28.9,28.7,28.8,28.7,28.5,28.7,28.7,28.6,null,28.5,28.5,28.4,28.2,28.1,28,27.9,27.9,27.9,28,28,28.1,null,28.1,28,28.2,28.4,28.6,28.7,28.8,28.9,28.9,28.9,29,29.2,null,29.3,29.5,29.5,29.5,29.6,29.9,29.8,29.9,29.9,29.9,30,30,null,29.9,29.8,29.8,29.7,29.6,29.5,29.6,29.6,29.6,29.4,29.6,29.5,29.6,29.5,29.6,29.6,29.6,29.6,29.7,29.7,29.7,29.3,29.6,29.7,29.4,29.3,29.3,29.3,29.3,29.3,29.3,29.3,29.4,29.3,29.6,29.6,29.9,29.8,30.1,30,30.3,29.8,30.2,30.1,29.7,29.7,30,0.30000000000000071,1.0101010101010124E-2,17,7,0.39999999999999858,1.3513513513513466E-2,31,25,0.39999999999999858,1.3513513513513466E-2,34,22,-0.39999999999999858,-1.3157894736842059E-2,42,43]
["Tennessee","SMS47000005500000001",142.69999999999999,142.30000000000001,141.6,141.19999999999999,141.1,140.6,139.80000000000001,139.80000000000001,139.6,139.30000000000001,139.30000000000001,139.1,null,138.6,138.30000000000001,138.19999999999999,138.6,138.1,137.5,137,136.5,136,135.69999999999999,135.6,135,null,136,135.4,135.4,136.19999999999999,136.4,136.19999999999999,136.80000000000001,136.80000000000001,137.19999999999999,137.19999999999999,137.4,137,null,137.5,137.80000000000001,137.69999999999999,137.4,137.1,137,137,136.69999999999999,136.69999999999999,136.80000000000001,136.80000000000001,136.9,null,137.1,136.80000000000001,137,136.9,137.1,137.4,137.9,138,138.30000000000001,138.19999999999999,138.19999999999999,137.9,null,139.9,140.19999999999999,140.69999999999999,140.9,141.4,141.6,141.9,142.19999999999999,142.5,142.30000000000001,142.30000000000001,142.19999999999999,146.30000000000001,146.5,146.6,146.5,146.9,147.9,148.19999999999999,148.5,148.69999999999999,149,150.6,149.80000000000001,150.30000000000001,150.5,150.9,151.6,151.9,152.30000000000001,152.80000000000001,153.4,154,154.4,154.6,155,154.1,154.80000000000001,154.4,154.9,156.19999999999999,156.1,156.4,155.80000000000001,154.9,155.30000000000001,155.19999999999999,-0.10000000000002274,-6.4391500321972137E-4,31,30,0.59999999999999432,3.8809831824061728E-3,30,37,0.19999999999998863,1.290322580645088E-3,38,39,15.399999999999977,0.11015736766809711,13,15]
["Texas","SMS48000005500000001",637.79999999999995,635.70000000000005,632.79999999999995,630.29999999999995,629,627.29999999999995,626.20000000000005,625.20000000000005,624,623.4,622.6,622.20000000000005,null,622.9,622.9,623.1,622.5,623.9,624.29999999999995,624,625,624.6,628.4,630.79999999999995,631.70000000000005,null,633.5,634.29999999999995,636,637.70000000000005,637.9,638.29999999999995,641.6,643,645.1,645.79999999999995,646.9,648.4,null,651.5,652.6,654.20000000000005,656.4,658.5,660.1,661.8,663.9,665.7,669,670.9,672.4,null,673.2,675.7,677.3,678.5,680.1,682.7,685.9,687.8,688.9,684,682.6,682.9,null,692,692.8,693.4,695.4,697.1,698.6,700.2,702.5,703.9,707.3,710.3,713.2,712.7,713.7,714.2,716.9,718.4,720,721.1,722.3,723.2,726,728.2,728.4,726.8,727.3,726.8,729.4,731,730.5,733,734.1,736,738.3,738.9,739.1,746.6,742.9,745.9,748.9,752.9,753.9,758.2,757.3,762.2,765.2,768.3,3.0999999999999091,4.0512284370098134E-3,3,16,29.399999999999977,3.9788875355257783E-2,1,4,29.199999999999932,3.95075091327289E-2,1,4,142.09999999999991,0.22692430533375901,1,2]
["Utah","SMS49000005500000001",72.7,72.8,72.7,71.7,71.5,71.3,70.5,70.2,69.900000000000006,69.7,69.400000000000006,69.400000000000006,null,68.7,68.3,68.400000000000006,67.900000000000006,67.8,67.8,67.8,67.7,67.8,68.099999999999994,68,67.900000000000006,null,67.8,68,68,68.099999999999994,68.2,68.2,68.099999999999994,68.2,68.099999999999994,68.2,68.2,68.400000000000006,null,68.400000000000006,68.5,68.599999999999994,68.8,69,69.2,69.400000000000006,69.8,70.2,70.400000000000006,70.5,70.8,null,71.099999999999994,71.400000000000006,71.7,72,72.400000000000006,73,73.400000000000006,73.599999999999994,73.7,74,74.5,74.3,null,73.8,74.099999999999994,73.900000000000006,74.099999999999994,74.2,74.5,75.099999999999994,75.400000000000006,75.599999999999994,76.400000000000006,76.400000000000006,76.900000000000006,77.400000000000006,77.7,78.2,78.400000000000006,78.7,79,79.2,79.3,79.900000000000006,80.599999999999994,81.099999999999994,81.2,80.400000000000006,80.7,81,81.2,81.599999999999994,81.8,82.1,82.3,82.5,83,82.9,82.5,81.8,82.4,82,82,83,83.6,83.4,84.2,83.1,83,83.3,0.29999999999999716,3.614457831325267E-3,18,18,0.39999999999999147,4.8250904704462173E-3,32,34,0.79999999999999716,9.6969696969696623E-3,28,28,12.799999999999997,0.18156028368794322,17,6]
["Vermont","SMS50000005500000001",12.6,12.5,12.5,12.3,12.4,12.4,12.3,12.3,12.2,12.3,12.3,12.2,null,12.2,12.2,12.1,12.2,12,12.2,12.1,12.2,12,12.2,12.2,12.2,null,12.2,12.1,12.1,12,12,12.1,12.1,12.1,12,12.1,12.1,12.1,null,12.1,12,12.1,12,12.1,12,12.1,11.9,11.9,11.9,11.9,12,null,11.9,11.9,11.9,12,12.1,12.1,12,12,12,12.1,12.1,12.1,null,12.1,12,11.9,12.1,12.1,12.1,12.1,12,12.1,12.3,12.2,12.3,12.1,12.1,12,12,12.1,12,12,12,11.9,12.3,12.1,12.2,12,12,12,12,12,12.1,12.1,12,12,12,12,11.9,11.7,11.7,11.7,11.5,11.7,11.7,11.8,12,11.9,11.9,11.9,0,0,25,25,-9.9999999999999645E-2,-8.3333333333333037E-3,44,46,0,0,40,40,-0.40000000000000036,-3.2520325203252057E-2,43,46]
["Virginia","SMS51000005500000001",183.2,182.8,182.1,181.1,180.5,180,179,178.8,178.2,177.6,177.5,177.6,null,177.4,177.3,177.5,177.5,178.2,179.2,179.7,179.5,179.7,180.5,180.6,180.4,null,180.4,180.4,180.2,181.1,181.9,182.1,183.1,183.3,183.9,184.1,184.5,184.9,null,185.3,185.9,186.1,187.9,187.2,188,188.4,188.9,189.6,190.6,191.1,191.3,null,191.3,191.6,191.8,192.2,192.1,192,192.1,192.2,192,192.7,193.1,193.1,null,192.7,193.1,193.2,193.2,193.3,193.7,193.3,193.5,193.7,193.2,193.5,193.6,196.3,196.6,196.7,196.5,197.1,197.2,197.8,197.8,198.2,198.6,199,199.7,199.5,199.6,199.8,200.1,200.5,200.4,200.2,200.9,201.1,200.8,201,202.1,203.5,204.4,204.5,204,205.9,205.6,205.6,206.5,206.9,206.4,206.6,0.19999999999998863,9.6899224806196041E-4,22,23,5.5999999999999943,2.7860696517412908E-2,7,13,4.5,2.2266204849084613E-2,9,16,27.599999999999994,0.15418994413407819,7,10]
["Washington","SMS53000005500000001",150.30000000000001,149.5,147.6,146.9,146.6,146.1,144.9,144.19999999999999,144,143.19999999999999,142.19999999999999,142.1,null,141.4,140.80000000000001,140.69999999999999,140.5,140.1,139.6,140.30000000000001,140.30000000000001,140.30000000000001,140.69999999999999,140.6,140.5,null,140.5,140.5,140.30000000000001,140.9,140.4,140.69999999999999,140.5,140.80000000000001,141.19999999999999,140.80000000000001,141.30000000000001,141,null,141.4,142,142.30000000000001,142.69999999999999,143.5,143.80000000000001,144.6,144.80000000000001,145.30000000000001,145.9,146.4,147.19999999999999,null,148,148.4,149,149.19999999999999,149.30000000000001,149.6,150.30000000000001,150.30000000000001,150.5,150.5,151.1,151.1,null,152.30000000000001,152.19999999999999,152.4,153.1,152.4,152.6,153.1,153.6,153.5,155.30000000000001,155.80000000000001,156.5,146.6,146.6,146.5,146.69999999999999,147.30000000000001,147.30000000000001,147.69999999999999,148,148.19999999999999,148.19999999999999,148.1,149.30000000000001,148.80000000000001,148.80000000000001,149,149.4,150,150.4,151.1,151.69999999999999,151.69999999999999,152.1,151.9,152,153.4,154.30000000000001,155.19999999999999,154.4,155.1,156.9,157,157.5,157.80000000000001,158.30000000000001,158.19999999999999,-0.10000000000002274,-6.3171193935579744E-4,31,29,6.2999999999999829,4.1474654377880067E-2,5,2,6.1999999999999886,4.0789473684210452E-2,7,3,13.299999999999983,9.178743961352645E-2,16,18]
["West Virginia","SMS54000005500000001",29.2,29.1,29,28.9,29.1,28.9,28.8,28.7,28.5,28.5,28.4,28.2,null,28.4,28.5,28.7,28.5,28.5,28.6,28.3,28.3,28.3,28.5,28.5,28.3,null,28.1,27.9,27.8,27.7,27.8,27.6,27.8,27.8,27.9,28,27.9,28,null,27.9,28.2,28.2,28.2,28.3,28.2,28.2,28.4,28.5,28.3,28.3,28.4,null,28.5,28.6,28.8,28.8,28.6,28.6,28.5,28.5,28.5,28.7,29.5,29.5,null,31.2,31,31.1,30.8,30.9,30.8,30.8,30.7,30.6,30.9,31.1,30.9,36.6,36.4,36.4,36.299999999999997,36.299999999999997,36.4,36.4,36.5,36.299999999999997,36.700000000000003,36.6,36.4,27.9,28,28,27.8,27.7,27.7,27.6,27.6,27.7,27.2,27.2,27.2,27,27.4,27.1,27.6,27.6,27.6,27.8,28.3,28,27.7,27.4,-0.30000000000000071,-1.0830324909747318E-2,37,48,0.19999999999999929,7.3529411764705621E-3,40,29,0.19999999999999929,7.3529411764705621E-3,37,31,-1.4000000000000021,-4.8611111111111181E-2,46,47]
["Wisconsin","SMS55000005500000001",163.19999999999999,162.80000000000001,162.19999999999999,162.1,161.9,161.6,161,160.69999999999999,160.30000000000001,160.19999999999999,159.69999999999999,159.4,null,159,158.80000000000001,159.1,158.4,158.4,158.5,158.6,158.30000000000001,158.4,158.9,159.1,159.1,null,159.19999999999999,159.19999999999999,159.5,160.30000000000001,160.19999999999999,160.4,160.69999999999999,160.69999999999999,161.30000000000001,161.30000000000001,161.6,161.5,null,162.6,162.69999999999999,163.1,162.80000000000001,162.69999999999999,162.6,162.5,162.69999999999999,162.69999999999999,162.4,162.4,162.30000000000001,null,162.1,161.80000000000001,162.4,161.9,161.6,162.1,162.19999999999999,162.4,162.5,161.19999999999999,161.6,160,null,149.19999999999999,149.19999999999999,149.5,149.69999999999999,150,150.19999999999999,150.1,150.4,150.5,152.1,153.1,153.9,150.69999999999999,150.9,150.9,150.69999999999999,151.19999999999999,151.1,151.5,150.9,150.9,151.19999999999999,150.9,150.9,151.19999999999999,151.4,151.4,151.4,151.5,151.4,152,151.9,151.80000000000001,151.80000000000001,151.6,152.19999999999999,154,153.19999999999999,153.69999999999999,153.69999999999999,152.80000000000001,152.19999999999999,151.69999999999999,152.80000000000001,153.1,152,151.6,-0.40000000000000568,-2.6315789473684583E-3,40,34,0,0,43,43,-0.59999999999999432,-3.9421813403416189E-3,45,44,-9.4000000000000057,-5.83850931677019E-2,50,50]
["Wyoming","SMS56000005500000001",11.5,11.5,11.3,11.2,11.3,11.3,11.2,11.2,11.1,11,10.9,11,null,10.9,10.9,10.8,10.9,10.9,10.8,10.8,10.7,10.6,10.8,10.7,10.8,null,10.8,10.8,10.7,10.8,10.7,10.7,10.7,10.8,10.7,10.7,10.7,10.7,null,10.7,10.7,10.8,10.7,10.7,10.8,10.8,10.9,10.7,10.9,10.9,10.9,null,11,11,11,11.1,11.1,11.1,11.3,11.3,11.2,11.5,11.3,11.4,null,11.1,11.1,11.1,11.1,11.2,11.2,11.3,11.2,11.2,11.3,11.3,11.3,11.3,11.3,11.2,11.2,11.1,11,11.2,11,11,11.1,11.1,10.9,11,11,10.9,10.8,10.8,10.8,10.8,10.8,10.8,10.7,10.6,10.4,10.4,10.3,10.5,10.4,10.8,10.8,10.7,11,10.9,10.7,10.9,0.20000000000000107,1.8691588785046828E-2,20,2,0.30000000000000071,2.8301886792452897E-2,34,11,0.5,4.8076923076923073E-2,32,1,-0.29999999999999893,-2.6785714285714191E-2,41,45]

{"sheet":"Prof&Bus","index":6,"n_rows":54,"n_cols":130,"rows_kept":54,"cut":false,"hidden":false,"merged":[]}
[]
["Professional & Business Services"]
[]
["State Name","Series ID","Jan\n2009","Feb\n2009","Mar\n2009","Apr\n2009","May\n2009","Jun\n2009","2009-07-01","Aug\n2009","Sep\n2009","Oct\n2009","Nov\n2009","Dec\n2009",null,"Jan\n2010","Feb\n2010","Mar\n2010","Apr\n2010","May\n2010","Jun\n2010","Jul\n2010","Aug\n2010","Sep\n2010","Oct\n2010","Nov\n2010","Dec\n2010",null,"Jan\n2011","Feb\n2011","Mar\n2011","Apr\n2011","May\n2011","Jun\n2011","Jul\n2011","Aug\n2011","Sep\n2011","Oct\n2011","Nov\n2011","Dec\n2011",null,"2012-01-01","2012-02-01","2012-03-01","2012-04-01","2012-05-01","2012-06-01","2012-07-01","2012-08-01","2012-09-01","2012-10-01","2012-11-01","2012-12-01",null,"2013-01-01","2013-02-01","2013-03-01","2013-04-01","2013-05-01","2013-06-01","2013-07-01","2013-08-01","2013-09-01","2013-10-01","2013-11-01","2013-12-01",null,"2014-01-01","2014-02-01","2014-03-01","2014-04-01","2014-05-01","2014-06-01","2014-07-01","2014-08-01","2014-09-01","2014-10-01","2014-11-01","2014-12-01","2015-01-01","2015-02-01","2015-03-01","2015-04-01","2015-05-01","2015-06-01","2015-07-01","2015-08-01","2015-09-01","2015-10-01","2015-11-01","2015-12-01","2016-01-01","2016-02-01","2016-03-16","2016-04-29","2016-05-29","2016-06-29","2016-07-01","2016-08-29","2016-09-29","2016-10-29","2016-11-29","2016-12-29","2017-01-29","2017-02-28","2017-03-30","2017-04-29","2017-05-29","2017-06-29","2017-07-29","2017-08-29","2017-09-29","2017-10-29","2017-11-29","Month-to-Month","Month-to-Month %","Mo Chg Rank","Mo % Rank","Year-to-Year","Year-to-Year %","Yr Chg Rank","Yr % Rank","Year-to-Date Chg","Year-to-Date %","Year-to-Date  Chg Rank","Year-to-Date % Rank","Chg from Trough","% Chg from Trough","Trough Chg Rank","Trough % Chg Rank"]
["Alabama","SMS01000006000000001",209.5,207.5,206,205.4,203.8,203.7,205.3,203.3,201.4,201.6,202.3,202.3,null,204.5,203.7,204.7,206,207.3,209.5,212.9,210,210.6,211.7,212.4,213,null,212.9,213.5,213.1,212.7,212.4,211.6,212.3,212.6,215.2,214.3,214,215,null,215.3,216.1,217,217.2,218.2,217.8,217.1,219.4,219.2,218.4,218.7,217.8,null,217.9,218.6,219.2,219.1,219.4,219.2,218.4,218.4,217.4,218.1,217.6,218.9,null,220.2,219.2,219.7,221.7,222.1,222,223.3,223.9,224,225.7,225.6,225.3,226.4,226.5,226.4,226.4,227.6,227.1,226.6,227.9,228.3,229.3,229.5,229,233.4,233.4,233.4,234.1,234.3,233.5,233.5,233.2,233.2,233.8,234.6,235.3,236.9,237.6,239.1,239.6,239.1,242.9,241.5,241.7,241.4,239.9,241.3,{"$f":"DJ5-DI5","v":1.4000000000000057},{"$f":"DK5/DI5","v":5.8357649020425416E-3},{"$f":"RANK(DK5,($DK$5:$DK$54))","v":17},{"$f":"RANK(DL5,($DL$5:$DL$54))","v":16},{"$f":"DJ5-CX5","v":6.7000000000000171},{"$f":"DO5/CX5","v":2.8559249786871344E-2},{"$f":"RANK(DO5,($DO$5:$DO$54))","v":20},{"$f":"RANK(DP5,($DP$5:$DP$54))","v":17},{"$f":"DJ5-CY5","v":6},{"$f":"DS5/CY5","v":2.54993625159371E-2},{"$f":"RANK(DS5,DS$5:DS$54)","v":19},{"$f":"RANK(DT5,DT$5:DT$54)","v":19},{"$f":"DJ5-I5","v":36},{"$f":"DW5/I5","v":0.17535314174378958},{"$f":"RANK(DW5,($DW$5:$DW$54))","v":30},{"$f":"RANK(DX5,($DX$5:$DX$54))","v":37}]
["Alaska","SMS02000006000000001",28,28.1,28.1,27.9,27.8,27.7,27.5,27.6,27.7,27.6,27.5,27.5,null,27.7,27.8,27.8,27.8,27.7,28,28.1,28.2,28.3,28.4,28.3,28,null,28.5,28.5,28.4,28.9,28.6,28.7,28.6,28.4,28.9,29,29.4,29.4,null,29.7,29.6,29.9,29.8,29.8,29.8,30.1,29.8,30.4,30.2,30.1,30.1,null,30.3,30.3,30.4,30.3,30.1,30.1,30.1,30.4,30,29.6,29.8,29.7,null,30.1,29.7,30.1,29.9,30,29.8,30.1,30,30,29.6,29.2,29.4,30.5,30.4,30.2,30.3,30.2,30.1,30,29.9,29.9,29.7,28.7,29,29.1,28.9,28.7,29,28.8,28.2,28.2,28.4,28.2,27.4,27.2,27.1,27.3,27.4,27.1,26.8,27.1,28,28.2,28.2,27.5,27.7,27.7,{"$f":"DJ6-DI6","v":0},{"$f":"DK6/DI6","v":0},{"$f":"RANK(DK6,($DK$5:$DK$54))","v":29},{"$f":"RANK(DL6,($DL$5:$DL$54))","v":29},{"$f":"DJ6-CX6","v":0.5},{"$f":"DO6/CX6","v":1.8382352941176471E-2},{"$f":"RANK(DO6,($DO$5:$DO$54))","v":42},{"$f":"RANK(DP6,($DP$5:$DP$54))","v":31},{"$f":"DJ6-CY6","v":0.59999999999999787},{"$f":"DS6/CY6","v":2.2140221402213941E-2},{"$f":"RANK(DS6,DS$5:DS$54)","v":41},24,{"$f":"DJ6-I6","v":0.19999999999999929},{"$f":"DW6/I6","v":7.2727272727272467E-3},{"$f":"RANK(DW6,($DW$5:$DW$54))","v":50},{"$f":"RANK(DX6,($DX$5:$DX$54))","v":50}]
["Arizona","SMS04000006000000001",363.9,358.6,353.6,347.8,346.7,344,342.4,340.4,339,339.2,341,338.9,null,338.6,338.7,340.1,340.4,341.8,340.7,339,340.2,338.6,341.5,341.8,343,null,345,346.5,346,345.6,345.5,344,346.6,347.9,348.9,348.8,350,350.8,null,351.8,352.1,353.2,354,354.7,356.3,358.1,359.8,361.2,361.8,364.8,365.6,null,369.9,368.6,370.1,371.9,373,373.9,373.8,373.4,374.1,371.2,370.5,371.7,null,375.4,375.7,376.3,378.5,380.2,381.4,382.8,385,386.3,386.5,389.5,391.8,392.1,392.6,392.2,393.1,394.1,394,397.2,399,400.4,404.9,408.7,412.6,406.2,407.8,408.7,410.5,411.2,408.9,416.5,417.4,420.4,419.1,419.3,420.3,416.7,418.9,416.5,414,416.2,417,414.7,419,423.5,425.3,426.3,1,2.3512814483893723E-3,21,23,7,1.6694490818030049E-2,18,35,6,1.4275517487508922E-2,19,33,83.900000000000034,0.24503504672897208,19,27]
["Arkansas","SMS05000006000000001",114.5,114.5,113.3,112.8,112.3,111.8,112.2,112.4,112.7,113.5,115,115.8,null,116,116.2,117.2,117.7,118.5,119.3,119.4,119.5,119.9,119.5,119.5,119.9,null,121.1,121,121.4,122.6,121.9,122.1,124.7,124.7,124.4,125.1,124.7,124.4,null,124,123.7,124.1,125.1,125.4,124.6,125.2,124.9,125.2,126.1,126.4,127,null,127.4,128.30000000000001,128,128.6,128.1,127.2,126.8,126.5,129.80000000000001,128.5,130.4,130,null,131.1,133.30000000000001,133.6,133.69999999999999,134.19999999999999,135.6,131.30000000000001,132.6,135,135.1,134.69999999999999,134.9,135.6,136.30000000000001,135.80000000000001,137.30000000000001,137.80000000000001,138.30000000000001,139,139.5,139.69999999999999,140.5,141.1,141.6,140,141.4,142.1,142.4,141.9,141.80000000000001,142.1,142.69999999999999,143.30000000000001,144,145.19999999999999,144.6,143.9,146.6,147.69999999999999,148.4,150.69999999999999,148,149.1,147.6,147.5,148.1,148.30000000000001,0.20000000000001705,1.3504388926402233E-3,26,26,3.1000000000000227,2.1349862258953325E-2,29,27,3.7000000000000171,2.5587828492392925E-2,27,18,36.100000000000009,0.32174688057041007,29,12]
["California","SMS06000006000000001",2147.6,2115.1999999999998,2093.5,2067.9,2059.3000000000002,2045.6,2031.8,2028.2,2024.5,2036.6,2043,2037.3,null,2040.6,2046.2,2051.1999999999998,2065.3000000000002,2067.3000000000002,2076.3000000000002,2079,2083,2080.8000000000002,2096.6999999999998,2098.6,2102,null,2103.5,2106.1999999999998,2109,2110.5,2114.8000000000002,2113.6,2138.9,2141.3000000000002,2154.9,2151.5,2161.4,2170.6999999999998,null,2189.9,2200.8000000000002,2212.3000000000002,2215.4,2224.1999999999998,2235.8000000000002,2243.4,2251.3000000000002,2260.6,2268.1,2276.6,2279.3000000000002,null,2290.6,2299.1,2307.1999999999998,2319.4,2325.5,2329.3000000000002,2336.4,2349,2354.4,2360.6999999999998,2364.1,2372.6,null,2385.3000000000002,2391.1999999999998,2398.4,2411.9,2423.3000000000002,2428.5,2434.1,2446.1999999999998,2456.5,2471.5,2485,2493.4,2458,2459.1999999999998,2468.3000000000002,2471.5,2478.3000000000002,2483.5,2506,2508.9,2509.1999999999998,2524.4,2535.1,2553.3000000000002,2521.6,2525.3000000000002,2512.1,2526.6999999999998,2527.6999999999998,2524.3000000000002,2544.1,2540,2550.1999999999998,2541.9,2557.8000000000002,2543.6999999999998,2558.6999999999998,2555.8000000000002,2553.6999999999998,2537.8000000000002,2540.4,2550.5,2560.4,2550.3000000000002,2553.4,2552.6999999999998,2566.4,13.700000000000273,5.3668664551260519E-3,2,17,8.5999999999999091,3.3622644460082527E-3,17,43,22.700000000000273,8.9240083343162611E-3,6,38,534.60000000000014,0.26311644846933763,1,23]
["Colorado","SMS08000006000000001",344.6,339.9,336.9,332.4,331.3,329.3,327.7,326.7,326.60000000000002,327.10000000000002,329.2,328.5,null,328.1,328.8,329.9,330,330.2,330.9,331,331.8,330.2,332.2,333,332.3,null,336.9,337.6,337,339,340.1,340.3,341.6,343.1,344.3,344,346.3,347.8,null,348.9,349.5,350.9,353,354.4,356.2,358.1,358.8,360.5,365,363.6,363.8,null,365,366.8,368.8,369.2,370.5,372.2,373.8,374.9,375.9,378,379.2,380.8,null,379.7,380.7,381,382.5,383.8,385.2,386.2,389.6,390.8,390.3,388.1,390.7,396,396.8,396.7,396.5,397,397.7,398.1,398.8,400,400.7,398.9,398.8,402.4,402.8,402.8,404.6,403.4,404.5,407.6,406.7,407.8,410.7,410.1,409.7,412,414.4,412.3,415,411.4,413.3,412.8,416,423,423.4,423.8,0.40000000000003411,9.447331128956876E-4,22,27,13.699999999999989,3.3406486222872442E-2,11,12,14.100000000000023,3.4415425921405965E-2,12,8,96.100000000000023,0.29325602685382979,14,17]
["Connecticut","SMS09000006000000001",196.2,194.2,192.2,189.1,188.9,187.4,186.5,186.9,186.8,187.1,187.6,187.8,null,183.4,186.2,186.4,189.4,190.2,190.7,191.6,191.6,191.4,192.3,192.1,192.3,null,193.7,194.5,193.3,195,195.3,195.4,196.5,196.5,197.2,197.8,199.7,199.9,null,200.5,200.3,202.4,202.1,202.2,202.2,202.9,203.1,203.8,203,203.5,202.5,null,202.6,204,203.3,203.7,204.4,204.9,205.3,207,205.8,205.5,205.6,205.5,null,209.8,209.8,209.9,211.1,212.5,212,211.8,211.8,211.5,212.3,213.8,214.7,215.6,216.1,216.1,215.3,216.4,216.8,216.4,216.3,216.4,216.4,216.7,217.4,218.3,218.3,218.7,217.9,217.7,218.2,218.5,218.6,218.9,216.6,215.8,216.4,217.4,218.6,218.7,215.5,216.8,216.3,216.4,216.5,218.2,218.1,216.7,-1.4000000000000057,-6.4190738193489489E-3,45,42,0.89999999999997726,4.1705282669137035E-3,40,41,0.29999999999998295,1.3863216266172963E-3,42,43,30.199999999999989,0.16193029490616617,31,39]
["Delaware","SMS10000006000000001",57.4,57,56.6,56,56.1,55.8,55,54.7,54.7,54.6,54.3,54.3,null,54.6,54.4,54.4,54.3,54.6,54.8,55.6,55.3,55.2,55.3,54.5,55.1,null,55.1,55.3,55,56,55.3,55.5,55.7,55.6,55.6,55.6,56,55.9,null,56,55.9,56,56.2,55.8,55.8,55.8,55.9,56.2,56.5,57,56.6,null,56.9,56.8,57.2,57.3,57.5,57.4,58.2,58.5,58.3,59.5,60.6,60.1,null,59.1,58.4,58.9,58.9,59.5,59.8,59.2,59.1,59,60.1,61.2,61.4,60.1,59.9,59.6,58.1,59.1,59.2,59.9,59,58.7,60.5,61.4,61.5,61.3,61.3,61.1,61.5,61.4,61.8,62.1,61.8,61.6,60.7,61.1,61.1,59.9,57.8,59.1,58.8,60.7,61,60.6,61.7,61,62.1,62,-0.10000000000000142,-1.6103059581320679E-3,30,33,0.89999999999999858,1.4729950900163642E-2,39,37,0.89999999999999858,1.4729950900163642E-2,40,32,7,0.12727272727272726,43,43]
["Florida","SMS12000006000000001",1021.1,1009.5,1001.6,991.6,991.7,989.5,984.7,983.6,984,985.5,988.8,987.2,null,990.2,990.8,993.4,993.4,998.7,1003.2,1008.5,1013.6,1010,1020.6,1019.4,1022.8,null,1028.0999999999999,1029.5999999999999,1031.5,1035.9000000000001,1034.5,1034.2,1037.4000000000001,1036.5,1037.5,1037.5999999999999,1041.4000000000001,1045.4000000000001,null,1048.5999999999999,1052.8,1056.9000000000001,1071.8,1070.9000000000001,1073.3,1074.8,1078.5,1082.0999999999999,1090.9000000000001,1095.0999999999999,1095.5,null,1096.8,1101.5999999999999,1103.4000000000001,1105.0999999999999,1110.0999999999999,1113,1121.4000000000001,1126.4000000000001,1130.7,1132.2,1133.5999999999999,1134.4000000000001,null,1141.5999999999999,1142.8,1145.4000000000001,1151.3,1158.5,1161.2,1168.8,1175.5999999999999,1180.4000000000001,1179.9000000000001,1187.3,1193.2,1195.8,1199.5,1202.7,1209.4000000000001,1215,1217.4000000000001,1225.2,1228,1232.0999999999999,1248.5,1253.7,1255.4000000000001,1258.9000000000001,1263.5999999999999,1269.5,1275.2,1276.2,1280.9000000000001,1292.2,1295.9000000000001,1300.8,1302.2,1301.8,1303,1314.4,1310,1311.3,1316.8,1329.6,1329.2,1327.7,1336.7,1309.5999999999999,1348.5,1342.8,-5.7000000000000455,-4.2269187986652169E-3,50,39,41,3.1494853280073745E-2,2,13,39.799999999999955,3.0544896392939336E-2,2,14,358.09999999999991,0.36366406011983332,3,9]
["Georgia","SMS13000006000000001",526.9,521.1,514,507.2,505.7,506.2,504.8,504,503.9,510.5,514.20000000000005,513.6,null,515.9,516.79999999999995,519.20000000000005,522,524.4,524.70000000000005,526.4,528.6,530.4,535,535.79999999999995,537.1,null,528.9,540.20000000000005,541.20000000000005,545.5,544.9,545.1,546.70000000000005,547.4,550.20000000000005,547.1,549.5,550.9,null,549.4,553.1,556,558.5,561.5,565.1,563.20000000000005,564.4,563.79999999999995,566.6,570.20000000000005,569.5,null,573.6,579.79999999999995,581.6,582.1,584,585.79999999999995,590.29999999999995,592.20000000000005,595.4,590.70000000000005,593,592.70000000000005,null,601.79999999999995,601.29999999999995,611.79999999999995,611.9,615.79999999999995,617.5,623.1,625.29999999999995,628.4,629.29999999999995,631.1,631.79999999999995,628.9,633.1,633.6,631,637.6,640.20000000000005,637.79999999999995,642.79999999999995,644.9,651.9,654.9,657.9,644.1,644.6,645,646.4,648.20000000000005,648.6,651,654,658.7,665.9,668.8,671.1,662.4,671.7,676.5,675.7,677.5,684.9,680.8,685.9,685.6,689.9,691.4,1.5,2.1742281490071025E-3,16,24,22.600000000000023,3.3791866028708172E-2,6,10,20.299999999999955,3.0248845179555884E-2,7,15,186.59999999999997,0.36965134706814573,7,8]
["Hawaii","SMS15000006000000001",73.7,72.900000000000006,72.7,71.400000000000006,71.3,71.3,70.599999999999994,70.400000000000006,70.2,71.099999999999994,70.8,70.400000000000006,null,70.599999999999994,70.599999999999994,70.5,70.8,71.099999999999994,71.400000000000006,72,71.900000000000006,72,72.8,72.8,72.900000000000006,null,73.7,74.3,74.599999999999994,75,74.900000000000006,74.8,75,75.599999999999994,75.900000000000006,76.099999999999994,76.5,77,null,75.5,75.599999999999994,75.599999999999994,76.900000000000006,77.400000000000006,77.2,77.2,77.900000000000006,77.599999999999994,78.099999999999994,78.400000000000006,78,null,78.5,78.8,79,79.400000000000006,79.2,79.400000000000006,79.7,79.900000000000006,80,80.099999999999994,80,80.099999999999994,null,81.8,81.7,81.900000000000006,82,82.2,82.3,82,82.1,82.7,82.8,83.6,83.7,83,83.2,83.3,83.2,83.4,83.6,83.5,83.2,83.6,83.6,83.3,83.7,83,83.6,83.3,83.4,83.3,83,83.7,83.7,83.7,83.3,83.4,84.3,83.8,83.6,84,84.4,83.8,85.1,86.1,86.7,86.8,86.4,86.2,-0.20000000000000284,-2.3148148148148476E-3,33,36,2.7999999999999972,3.3573141486810516E-2,31,11,1.9000000000000057,2.2538552787663178E-2,32,23,15.600000000000009,0.2209631728045327,38,33]
["Idaho","SMS16000006000000001",77.2,76.5,75.2,74,74.099999999999994,74,73.7,73.7,73.900000000000006,74.099999999999994,74.400000000000006,74.599999999999994,null,73.2,73.3,73.7,73.8,73.900000000000006,73.2,73.900000000000006,74,73.599999999999994,74.599999999999994,75.099999999999994,75.400000000000006,null,76.2,75.3,74.900000000000006,74.8,74.7,74.7,75.3,75.5,75.599999999999994,75.099999999999994,75.3,75.5,null,75.099999999999994,75.099999999999994,75.400000000000006,74.900000000000006,75,75.2,75.3,75.400000000000006,75.400000000000006,75.8,76.3,76,null,76.7,76.8,77.099999999999994,76.900000000000006,77.400000000000006,77.8,77.5,77.3,77.3,76.8,76.7,76.8,null,79.8,80.3,80.2,80.2,79.7,79.5,79,78.8,79.2,79.900000000000006,79.3,78.900000000000006,81.2,80.5,80.5,80.900000000000006,81,80.900000000000006,81.7,82,82,81.7,82.5,83.3,85,85,85.6,86.3,86.1,86.1,86.4,86.2,86.3,87.3,88.3,88.6,89.6,89.3,87.4,85.8,86.8,87.1,86.4,87.4,87.6,87.2,86.3,-0.90000000000000568,-1.0321100917431257E-2,43,45,-2,-2.2650056625141565E-2,48,50,-2.2999999999999972,-2.5959367945823899E-2,48,50,12.599999999999994,0.17096336499321566,40,38]
["Illinois","SMS17000006000000001",820,809.9,798.1,784.9,787.9,781.9,778.5,777.2,774.1,777.5,781.8,781.4,null,783.7,787.5,786.5,794.6,799.6,800.8,803.4,806.3,806.7,812.9,815.9,818.4,null,820.4,821.2,823,824.9,825.5,828.3,834,835.6,838.8,840.3,841.7,842.5,null,851.8,852.2,856.3,859.6,861.9,865.8,865.9,868.1,871.8,869.9,875.9,877,null,874.6,879.5,879.9,878.3,882.1,883.6,881,883.9,884.7,891.4,888.4,889.8,null,902,906,907.9,911.3,914.6,915.9,915.8,918.8,920.9,916.4,921.3,924.2,913.4,915.5,914.1,916.6,919.7,920.3,923.2,921,922,918.6,917.5,915.7,931,931.7,932.3,929.3,926.3,927.1,932.5,934.5,939.2,941.2,944.6,945.8,944.3,942.8,939.7,940.4,942.8,947,953.1,948.7,947.1,947.8,954.1,6.3000000000000682,6.6469719350074575E-3,4,14,9.5,1.0057167054838027E-2,16,38,8.3000000000000682,8.7756396701206048E-3,17,39,175.60000000000002,0.22556197816313425,8,32]
["Indiana","SMS18000006000000001",269.60000000000002,266.7,263,257.89999999999998,257.89999999999998,257.5,256.89999999999998,257,258.8,261.39999999999998,266.60000000000002,266.5,null,267,267.5,267.8,271.5,274.3,275.5,278.10000000000002,278.8,277.7,279.2,280.5,282.89999999999998,null,284.7,286.2,287.39999999999998,287.60000000000002,287,284.5,287.10000000000002,288,290.7,290.7,291.2,292.3,null,292.39999999999998,298.39999999999998,298.39999999999998,297.60000000000002,298.8,300.39999999999998,299.5,299.2,299.60000000000002,299.89999999999998,300.60000000000002,300.89999999999998,null,300.89999999999998,301.7,302.2,303.3,304.5,305.3,307.89999999999998,308.89999999999998,309,312.5,315.10000000000002,316.10000000000002,null,318.39999999999998,317.39999999999998,316.7,320.39999999999998,323.3,320.10000000000002,318,319.10000000000002,319.39999999999998,323.39999999999998,325.60000000000002,328.2,328.5,327.7,327.3,330,330.9,330.6,330.7,329.2,327.8,328.3,327.3,327.9,332.6,333.3,332.2,333.2,332.6,333.3,335.6,337.1,337.9,338,340.7,337.3,339.7,338,334.9,335,339,342.7,341.7,341.6,340.4,339.6,339.5,-0.10000000000002274,-2.9446407538287023E-4,31,30,-1.1999999999999886,-3.5221602582917191E-3,46,44,2.1999999999999886,6.5223836347464825E-3,31,41,82.600000000000023,0.32152588555858325,21,13]
["Iowa","SMS19000006000000001",120.1,120,118.6,116.6,117,116.8,115.9,116.4,116.3,116.6,117.3,117.8,null,118.5,119.3,120.1,120.9,121.4,121.3,122.1,122.4,122.4,123.5,123.8,124.2,null,124.9,124.4,124.2,124.3,124.4,123.8,125.4,125.9,127.3,127.3,127.7,127.3,null,128.30000000000001,128.9,130.1,129.69999999999999,129.80000000000001,130.30000000000001,130.69999999999999,130.30000000000001,130.69999999999999,130.30000000000001,129.9,130,null,130.6,130.9,131.1,131.19999999999999,131.80000000000001,132.5,131.9,132.6,132.5,132.19999999999999,132.6,132.9,null,134.69999999999999,135,134.4,136,137,136.80000000000001,136.4,137,136.30000000000001,136.30000000000001,136.4,137.1,138.19999999999999,138.1,138.6,138.9,139.69999999999999,139.6,139.6,139.6,138.6,139.9,139.80000000000001,139.6,138,138.19999999999999,138.1,139,138.4,137.9,138.80000000000001,138.4,139.19999999999999,138.9,139.1,139.19999999999999,141.4,142.6,142.5,141.5,142.19999999999999,142.1,141.5,143.30000000000001,141.4,140.5,143,2.5,1.7793594306049824E-2,12,3,3.9000000000000057,2.8037383177570135E-2,26,19,3.8000000000000114,2.7298850574712728E-2,26,17,27.099999999999994,0.23382226056945637,32,30]
["Kansas","SMS20000006000000001",145.9,144.1,142.5,141.1,141.1,140.19999999999999,139.80000000000001,138.9,138,138.5,139.6,139.9,null,140.80000000000001,140.5,140.9,144.1,143.9,143.80000000000001,145.9,145.4,143.6,146.1,145.80000000000001,146.19999999999999,null,146.9,147.4,147.80000000000001,148.5,148.30000000000001,146.6,148.19999999999999,148.80000000000001,149.30000000000001,149.6,150,148.6,null,151.1,152,152.6,152.5,153.5,154.6,153.19999999999999,153.6,154.30000000000001,156,155.80000000000001,156.6,null,157.19999999999999,158.4,159,159.9,160.4,161.6,162.9,163.80000000000001,164.3,164.6,166.2,165.3,null,166.6,167.7,168.2,168.5,169.5,169.7,169.9,170.3,170.5,171.6,171.8,172.2,178.3,178.7,178.4,177.8,178.3,178.8,178.8,179.7,179.4,179.8,177.2,177,178.3,178,177.5,177.9,177.7,176.9,178.9,178.5,180.1,180.2,179.1,179,178.9,179,178.7,177.8,178.7,175.5,177.9,178.8,180.5,180.9,182.3,1.4000000000000057,7.7390823659480691E-3,17,10,3.2000000000000171,1.7867113344500377E-2,28,33,3.3000000000000114,1.8435754189944198E-2,29,29,42.5,0.30400572246065805,28,15]
["Kentucky","SMS21000006000000001",172.2,172,170.1,167.9,168,167.6,168.8,170,171,172.9,175.4,174.6,null,175.4,174.2,175.9,178.5,180.1,181.5,180.6,180,180.1,180.5,181.3,184.9,null,183,183.1,184.5,184.9,184.7,184.9,187.2,188,187.9,188.2,188.7,190.2,null,189.9,190.9,190.7,191,191.7,192.5,192.3,192.6,193.1,193.9,195.7,196.1,null,196.9,197.3,197.4,198.7,199.1,198.2,199.3,201,200.5,201.7,205.7,210.4,null,207.4,205.8,208.3,209.7,210.5,209.5,210.8,210.6,211.1,214.1,216.1,216.7,213.7,213.3,213.2,212,214.5,215.6,215.4,215.1,216.4,218.2,219.7,223.7,219.1,219.9,217.3,216.3,217.4,216.6,217.6,216.7,217.7,219.7,223.8,225.1,222.9,225.4,224.6,224.3,223.9,225.4,225.8,229.3,230.7,230.6,229.9,-0.69999999999998863,-3.0355594102341225E-3,41,37,6.0999999999999943,2.7256478999106319E-2,21,21,4.8000000000000114,2.1323856063971618E-2,22,25,61.099999999999994,0.36196682464454971,25,10]
["Louisiana","SMS22000006000000001",201.8,200.3,198.3,193.6,193.8,192.2,191.4,190.7,190.5,189.9,190.4,189.8,null,190.8,190.5,191.5,192.1,192.9,195,197,195.1,194.3,193.9,193.8,194.3,null,194.9,196.1,195.4,195.3,195.4,195.5,196.3,196.6,197.4,197.5,198.1,199.4,null,199.7,200.4,201.5,205.6,204.7,203.9,203.8,202.6,204,204.3,204.9,203.9,null,204.9,209.2,207.7,206.8,205.1,205.5,206.7,207.3,207.4,208.7,208.2,207,null,212.3,211.7,212.5,212.7,211.2,212.1,212.8,212.6,213.6,212.9,213.2,213.7,213.8,213.2,213.2,213.1,213.5,213.6,213.6,214,214.1,211,210.7,211,210.9,211.1,210.1,212.2,211.2,209.8,209.8,207.7,209.9,210.7,210.8,211.3,208.8,213.5,213.6,212,214.2,212.7,211.6,211,208.6,213.2,215.4,2.2000000000000171,1.0318949343339668E-2,14,7,4.5999999999999943,2.1821631878557846E-2,25,25,4.0999999999999943,1.9403691433980096E-2,24,28,24,0.12539184952978055,34,44]
["Maine","SMS23000006000000001",55.8,55.6,55.2,55,55.4,55,54.9,55,55.1,55,55.5,55.7,null,55.7,55.5,55.7,55.7,55.8,55.6,55.8,55.8,55.9,56.2,56.3,56.5,null,56.6,57.1,57.1,57.2,57.3,57.3,57.8,57.8,57.9,58.1,58,57.7,null,57.9,57.8,57.9,58,58,58.3,58.1,58.3,58.4,58.7,58.5,58.7,null,58.7,59.4,59.2,59.2,59.9,60.3,60.4,60.6,60.6,60.5,59.9,60.6,null,62.1,62.9,63,62.8,63.7,63.5,63.6,63.5,63.6,63.3,63.2,63.5,64.099999999999994,64.2,64.2,64.2,65.099999999999994,64.5,64.3,64.2,64.3,64.099999999999994,64.400000000000006,64.900000000000006,65.7,65.3,65.2,65.8,65.3,65.099999999999994,65.7,65.599999999999994,65.7,65,65.599999999999994,66,66.099999999999994,65.599999999999994,65.5,64.2,64.400000000000006,64.099999999999994,65.3,65.099999999999994,65.099999999999994,65.8,66.900000000000006,1.1000000000000085,1.6717325227963657E-2,20,4,1.3000000000000114,1.9817073170731881E-2,35,28,0.90000000000000568,1.3636363636363722E-2,39,35,12.000000000000007,0.21857923497267773,41,34]
["Maryland","SMS24000006000000001",390.3,387.8,385.1,383.7,383.9,383.5,382.1,382.5,381.1,381.7,381.7,381.5,null,382.3,378.9,383.2,386.4,387.2,388.3,388.9,388.9,389.1,393.2,391.1,393.2,null,394.3,395,394.3,397.7,397.1,399.1,403.5,402.3,404.5,403.6,405.4,406.6,null,406.5,406.7,408.8,408.2,410.2,410.5,410.6,412.1,412.9,413.6,415.1,414.2,null,415.9,418.5,418.9,415.9,416,416,415.9,416.9,416.8,415.6,419.6,420.1,null,418.3,420,419.4,423.2,424.5,424.3,425.2,424.7,424.6,425.5,427.4,427,426.2,426.5,425.8,428.2,429.4,428.9,431.7,431.8,429.9,433.5,433.9,434.5,438.6,438,437.9,439.7,440,440.5,442.3,443.4,444,444.6,445,447.7,449.5,455.6,456,456.3,456.9,461.2,462.9,465.3,465.3,462.2,465.5,3.3000000000000114,7.1397663349199725E-3,10,11,20.5,4.6067415730337076E-2,7,4,17.800000000000011,3.9758767031494328E-2,9,6,83.399999999999977,0.21826746924888765,20,35]
["Massachusetts","SMS25000006000000001",472.9,468.5,466,460.2,458.4,455.4,453.4,453.4,453.2,452.1,453.7,455.5,null,458.6,458.7,460.4,461.3,462.5,462,464.9,465.5,464.5,468.4,468.7,469.6,null,474.1,472.5,472.3,476.6,476.6,476,481.3,480.8,483,484.3,485.6,486.1,null,486.2,485.4,490,490.5,491,493.2,493.9,494.3,495.6,496.7,497.8,497.9,null,498.9,500.8,501.7,503.3,505.2,506.5,507.1,508.5,507.8,508.5,510.3,513.79999999999995,null,510.5,511.5,512.5,513.79999999999995,515.79999999999995,517.1,519,520.29999999999995,521.20000000000005,519.5,520.6,523.29999999999995,525.29999999999995,526.5,528.79999999999995,529.1,533.29999999999995,534.20000000000005,536,537.29999999999995,535.70000000000005,536,537.20000000000005,538.4,541.9,544.4,545.70000000000005,546,545.9,546.9,552.1,551.70000000000005,551.79999999999995,552.29999999999995,554.79999999999995,556.4,553.4,556.6,558,562.1,563,561.70000000000005,561.4,567.29999999999995,568,571.9,574.29999999999995,2.3999999999999773,4.1965378562685389E-3,13,20,19.5,3.5147801009372752E-2,8,8,17.899999999999977,3.2171099928109237E-2,8,10,120.89999999999998,0.26665196294662546,10,21]
["Michigan","SMS26000006000000001",522.79999999999995,518.1,512.4,506.8,498.9,491.6,490.4,489.5,493.8,495.5,499,501.6,null,502.2,504,502.9,507.5,507.2,515.79999999999995,519.9,522.1,524.79999999999995,527.79999999999995,530.5,529.9,null,538.5,540.70000000000005,545.20000000000005,551.1,550.79999999999995,552.1,556.6,558.79999999999995,562.79999999999995,566.5,567.9,564.4,null,569.79999999999995,571.9,574.5,581.29999999999995,579.6,579.6,582.79999999999995,583.5,584,586.4,588.20000000000005,590.4,null,594.29999999999995,596.70000000000005,600.29999999999995,597.9,601.4,604,599.29999999999995,605.4,606.79999999999995,607.20000000000005,606.4,606.20000000000005,null,607.20000000000005,609.4,610.79999999999995,611.9,615.70000000000005,620.6,620.79999999999995,620.4,620.4,622.70000000000005,629.1,633.4,634.4,633.70000000000005,633.79999999999995,636.29999999999995,638.79999999999995,638.79999999999995,638.9,640,638.9,645.70000000000005,644.1,645.5,642,642.1,642.4,645.79999999999995,645.4,648.20000000000005,651.5,651.1,653,659.9,662.7,662.1,659.3,659.6,660.5,662.6,664,667.3,664,663.3,671.4,672.5,677.2,4.7000000000000455,6.9888475836431905E-3,5,13,14.5,2.1880187113324279E-2,10,24,15.100000000000023,2.2806222624981155E-2,10,22,186.80000000000007,0.3809135399673737,6,6]
["Minnesota","SMS27000006000000001",316.8,311.89999999999998,308.89999999999998,306.89999999999998,307.7,305.89999999999998,304,304.39999999999998,302.60000000000002,305.8,307.3,309.10000000000002,null,308.8,309.39999999999998,308.5,311.39999999999998,312.60000000000002,313.89999999999998,315.89999999999998,316.3,314.2,317.5,319.10000000000002,320.10000000000002,null,322.39999999999998,324.2,325.10000000000002,327.10000000000002,328.1,328.5,331,331.7,333.8,333.7,334,334.9,null,333.3,333.6,334.7,337.2,335.4,336.1,337.1,337.3,338.1,339.1,338.8,340.2,null,341.8,345.3,345.6,344.6,344.8,346.3,344.8,344.9,345.5,347.3,344.9,346.7,null,351.2,351.2,350.4,351.2,352.6,353.6,353.7,354.1,353.2,356.8,357.3,357.7,356.7,357.1,356.3,358.1,359.3,357.1,357,355.3,354.2,356.3,359.3,357.8,370,371.4,368.2,371.8,371.4,371.1,373.4,372.8,373.2,376.2,374.2,375.8,371.9,369.7,374.2,378.8,376.5,377.8,375.4,376.9,379,379.2,381,1.8000000000000114,4.7468354430380052E-3,15,19,6.8000000000000114,1.8172100481026219E-2,19,32,5.1999999999999886,1.3837147418839778E-2,21,34,77,0.25328947368421051,22,26]
["Mississippi","SMS28000006000000001",91.1,89.9,88.4,87,86.7,86.1,85.3,86.6,85.5,86.1,86.6,87.1,null,87.1,87.8,87.3,89.3,92,95.1,95.5,94,94.4,93.9,93.2,93.7,null,93.9,93.3,93.4,93.8,93.9,94,93.7,93.2,93.4,94,94.2,93.7,null,93.9,94.8,95.4,95.6,95.9,96,96,97.1,97.5,98,98.4,98.9,null,99.1,100.4,99.6,99,98.3,97.5,97.8,98.7,97.9,98,98.5,98.4,null,100.9,99.3,98.5,99.5,99.2,98.7,101,101.6,102.4,102.5,101.8,102.9,103.5,103.4,103.3,103.5,104.1,103.5,104.8,105.5,105.9,105.7,105,106.3,108.6,109.1,108.7,107.2,106.8,107.5,108.9,107.3,106.8,107.8,105.6,105.6,103.6,105.2,105.9,106,105.9,107.4,106.1,105.4,102.4,105.4,108.2,2.7999999999999972,2.6565464895635646E-2,11,1,2.6000000000000085,2.4621212121212203E-2,32,23,2.6000000000000085,2.4621212121212203E-2,30,20,22.900000000000006,0.26846424384525214,35,20]
["Missouri","SMS29000006000000001",324.8,321.3,317.7,312.89999999999998,313.10000000000002,312.3,310.7,310.8,310,310.5,311.8,311.89999999999998,null,312.7,314.5,314.39999999999998,315.7,316,317.2,320,320.39999999999998,320.39999999999998,321.89999999999998,321.89999999999998,323.3,null,325.10000000000002,325.2,326.7,327.2,327.60000000000002,327.7,327.3,326.89999999999998,329,328.9,330.1,331.7,null,332.4,332.3,333.3,333.6,334.1,335.3,335.1,334.4,336.5,338.2,339.5,339.5,null,339.2,342.1,342.8,344.1,345.9,346.8,347.8,348.6,349.1,352,352.3,354.9,null,348.9,349.7,349.5,352.6,353.5,354.1,354,355.9,356.5,356.8,356.5,356.9,362.1,363.1,363.8,364.9,366.6,366.6,369.5,370.3,372.2,373.3,371.6,371.9,374.6,376.2,376.1,377.3,376.7,377.5,379,379.8,381.1,383.8,381.7,385,385.5,388.1,385.2,390.8,392.5,390.5,393.2,390.3,393.3,394.1,398.8,4.6999999999999886,1.1925907130169978E-2,6,6,17.100000000000023,4.4799580822635639E-2,9,5,13.800000000000011,3.5844155844155873E-2,13,7,88.100000000000023,0.28355326681686521,16,18]
["Montana","SMS30000006000000001",39.5,39.1,39,38.700000000000003,38.5,38.5,38.5,38.200000000000003,38.5,38.6,39.1,38.5,null,38.700000000000003,38.799999999999997,38.799999999999997,38.9,38.9,39.1,39.1,39.200000000000003,39.299999999999997,40.1,39.799999999999997,40.299999999999997,null,40.299999999999997,40.299999999999997,40.4,40.299999999999997,40.4,40.200000000000003,40.4,40.5,40.4,40.1,40.200000000000003,40,null,40.4,40.299999999999997,40.5,40.799999999999997,40.700000000000003,40.5,40.4,40.4,40.200000000000003,40.1,40.200000000000003,40,null,39.6,39.6,39.5,39.6,39.4,39.799999999999997,40,39.6,39.700000000000003,39.4,39.1,39.4,null,39.299999999999997,39.5,39.200000000000003,39.299999999999997,39.299999999999997,39.5,39.5,39.700000000000003,39.799999999999997,40.200000000000003,39.799999999999997,39.799999999999997,40.4,40.4,40.5,40.4,40.200000000000003,40.299999999999997,40.200000000000003,40.200000000000003,40.299999999999997,40.1,40.4,40.200000000000003,40.6,40.700000000000003,40.799999999999997,40.6,40.700000000000003,40.299999999999997,40.5,40.299999999999997,40.299999999999997,41,41,41.2,42.5,42.4,42.2,41.7,41.8,42,41.7,41.8,41.9,42.4,42.5,0.10000000000000142,2.3584905660377696E-3,27,22,1.5,3.6585365853658534E-2,34,7,1.2999999999999972,3.1553398058252358E-2,34,11,4,0.1038961038961039,47,45]
["Nebraska","SMS31000006000000001",103,102.6,101.7,100.4,100.4,100.3,99.4,99.1,98.5,98.7,99.1,99.1,null,99.4,99.5,99.4,100.2,100.7,100.9,101.8,101.8,102.2,102.4,102.2,102.8,null,101.7,102,102.3,102.5,102.9,102.4,103.5,104.1,105,104.8,104.9,105.1,null,106.1,106.7,106.7,107.1,107.1,107.7,107.6,107.6,107.9,107.9,108.1,108.2,null,108.5,108.6,108.9,108.9,109.1,109.1,109.2,109.4,109.8,108.5,108.8,110.3,null,112.6,113.2,113.5,113.5,113.7,113.3,112.9,112.9,112.6,112,112.3,112.6,115.3,115.6,115.9,116.1,116.5,116.8,117.2,117.4,117.6,119.3,119.8,119.2,116.7,116.8,117.1,117.4,117.7,117,117.2,117.5,117.2,118.9,120.1,120,120.3,121.1,120.2,120.3,121.4,122.4,122.4,122.4,123.1,123.4,123.7,0.29999999999999716,2.4311183144246121E-3,25,21,3.6000000000000085,2.9975020815986752E-2,27,15,3.7000000000000028,3.0833333333333358E-2,28,12,24.299999999999997,0.24446680080482894,33,29]
["Nevada","SMS32000006000000001",141.5,140.4,137.69999999999999,134.5,134.80000000000001,133.69999999999999,132.5,132.80000000000001,133.4,134,135.1,136.4,null,134.19999999999999,134.19999999999999,134.19999999999999,135,135.5,135.80000000000001,136.6,138.30000000000001,135.30000000000001,136.19999999999999,137.1,138.1,null,137.9,138,138.19999999999999,138.6,138.5,139,140.69999999999999,140.30000000000001,141.80000000000001,141.6,141.9,142,null,143.6,144,143.1,143.30000000000001,143.9,144.80000000000001,143.6,145.19999999999999,145.9,146.5,146.30000000000001,145.30000000000001,null,147.9,147.5,149.4,149.9,149.69999999999999,149.80000000000001,149.4,150.19999999999999,148.69999999999999,148.9,150.69999999999999,154.4,null,152.30000000000001,153.4,154.19999999999999,154.5,154.69999999999999,155.30000000000001,155.4,156.30000000000001,156.6,156.1,159.9,159,162.4,162.4,163,164.7,165.2,164.4,166.8,168.4,168.8,171,168.6,168.4,171.2,171.8,172.9,174.3,174.3,176.2,179.2,178.8,181.2,180.5,180.5,180.1,180.1,181.3,181.4,184.9,187.6,186.3,188.9,187.5,189.8,190.5,190.2,-0.30000000000001137,-1.5748031496063588E-3,35,32,9.6999999999999886,5.3739612188365586E-2,15,2,10.099999999999994,5.6079955580233175E-2,16,1,57.699999999999989,0.43547169811320746,27,2]
["New Hampshire","SMS33000006000000001",64.7,64,63.4,62.1,62.3,62.3,62.3,62.1,62.2,62.5,62.8,63.6,null,62.7,63.1,63.4,63.8,64.2,64.2,64.5,64.599999999999994,64.5,65.2,64.900000000000006,65.2,null,65.599999999999994,65.900000000000006,65.7,66.099999999999994,66.099999999999994,66.400000000000006,66.5,66.8,67.2,66.900000000000006,67.5,67.5,null,67.599999999999994,66.900000000000006,67.8,67.599999999999994,68.099999999999994,68.099999999999994,67.8,68.599999999999994,68.7,68.900000000000006,69.099999999999994,69,null,69.099999999999994,69.8,69.7,68.900000000000006,69.8,70.3,70.599999999999994,70.599999999999994,70.599999999999994,71,71.099999999999994,70.8,null,72.5,72.900000000000006,72.599999999999994,73,73.2,73.7,73.900000000000006,74.099999999999994,73.900000000000006,74.5,73.900000000000006,73.5,74.900000000000006,75.8,75.900000000000006,75.900000000000006,76.400000000000006,76.7,76.8,77.2,77.400000000000006,78.7,77.400000000000006,77.599999999999994,77.3,77.3,77.400000000000006,77.599999999999994,77.599999999999994,77.599999999999994,77.900000000000006,78,78.400000000000006,78.599999999999994,78.3,78.900000000000006,78.900000000000006,78.3,78.400000000000006,78.5,79.099999999999994,79.599999999999994,80,80.099999999999994,79.7,78.5,78.900000000000006,0.40000000000000568,5.0955414012739579E-3,23,18,0.60000000000000853,7.6628352490422545E-3,41,39,0,0,44,44,16.600000000000009,0.26645264847512051,36,22]
["New Jersey","SMS34000006000000001",600,595.1,589.29999999999995,585.20000000000005,585.1,582.79999999999995,580.79999999999995,580,578,578.1,578.29999999999995,577.9,null,576.6,578.70000000000005,580.5,583,585.1,587.9,586.6,587.70000000000005,588.20000000000005,590.5,591.79999999999995,595.1,null,599.6,597.1,597.4,597.70000000000005,599.20000000000005,599.6,602.4,603.5,605,607.20000000000005,608.9,609.70000000000005,null,610.9,611.29999999999995,613.20000000000005,614.29999999999995,615,616.5,615,619.1,622.4,622.70000000000005,626.4,629.4,null,627.5,627.5,630.20000000000005,629.9,632.70000000000005,634,633,634.70000000000005,634.70000000000005,634.1,631.4,631.70000000000005,null,634.79999999999995,634.29999999999995,629.29999999999995,635.4,637.20000000000005,636.29999999999995,637.1,635.20000000000005,637.1,636.6,637.70000000000005,637.4,644.1,644.70000000000005,644.9,648.4,650.20000000000005,649.4,648.20000000000005,648.29999999999995,650.20000000000005,661,665.9,669.2,655.20000000000005,656.3,656.6,658.5,659.2,661.8,663.6,664.9,667.2,667.9,672.1,670.1,675.3,675.8,674.2,677.9,670.2,670.5,670.6,667,666.8,667.3,667.1,-0.19999999999993179,-2.9971527049292942E-4,32,31,-5,-7.4393691414968008E-3,49,45,-3,-4.4769437397403373E-3,49,45,86.300000000000068,0.14858815426997257,17,41]
["New Mexico","SMS35000006000000001",105.7,104.6,103.7,102.5,102.5,102.2,102,102.2,101.7,101.3,101,100.9,null,100.9,100.9,100.3,100.4,100.1,100.4,100.2,100.2,99.9,100.3,100.4,100.5,null,100.4,102.3,100.7,100.3,100.3,99.8,100.4,100,100.7,99,98.9,98.5,null,98,97.8,98.2,98.6,98,98.5,97,96.8,97.8,98.6,98.8,98.3,null,99.4,99.4,99,99.2,98.8,98.6,98.6,98.3,98,97.5,97.7,97.3,null,99.1,98.7,98.6,99.1,99.1,99,99.3,99.5,99,99.5,99.9,100.3,99.2,99.2,99.5,99,99.1,99.3,99.7,99.7,99.7,99.9,100.1,100.4,100,100.3,100.5,100.6,100.9,101.1,101.6,101.4,101.5,101.2,102,102.8,101.9,102.1,100.9,101.3,100.9,102.4,103.8,105.5,104.9,104.6,104,-0.59999999999999432,-5.7361376673039609E-3,39,40,2,1.9607843137254902E-2,33,29,1.2000000000000028,1.1673151750972791E-2,35,36,2,1.9607843137254902E-2,48,49]
["New York","SMS36000006000000001",1122.9000000000001,1114.0999999999999,1107.0999999999999,1090.7,1092.2,1088.5,1083.3,1079.8,1082.5999999999999,1080.7,1081.9000000000001,1082.3,null,1085.9000000000001,1087.8,1089.5,1095.3,1098.5999999999999,1099.5,1102.4000000000001,1103.9000000000001,1099.2,1108.5999999999999,1110.5,1112.3,null,1118.5,1121.5999999999999,1124,1128.4000000000001,1131.9000000000001,1135,1140.8,1142.2,1143,1141.7,1148,1148.9000000000001,null,1154.2,1157.3,1162,1163.3,1166.0999999999999,1169.2,1169.3,1173.3,1177.5,1184.0999999999999,1186.0999999999999,1188.7,null,1189.7,1193,1195,1199.2,1201.9000000000001,1203.5,1207,1207.3,1210,1210.9000000000001,1211.2,1212.0999999999999,null,1212.8,1216.0999999999999,1216.2,1223.5,1229.5999999999999,1230.3,1233.3,1236.0999999999999,1238.4000000000001,1237.2,1238.3,1242.5,1250.5999999999999,1252.3,1252,1255.4000000000001,1264.7,1268.7,1270.9000000000001,1272.3,1272.2,1271.4000000000001,1272.8,1275.2,1282.4000000000001,1284,1287.9000000000001,1287.7,1288.5999999999999,1290.5,1295.0999999999999,1297,1297.8,1310.8,1314.8,1320.8,1328,1322.1,1318.6,1323.2,1328.1,1334.4,1335,1341.3,1345.7,1339.9,1348.4,8.5,6.3437569967908052E-3,3,15,33.600000000000136,2.5555217523577835E-2,4,22,27.600000000000136,2.0896426408237537E-2,4,26,265.10000000000014,0.24471522200683113,4,28]
["North Carolina","SMS37000006000000001",479,474.8,468.7,462.1,461.6,459.4,459.3,460.8,461.4,464.7,469.9,469.7,null,470.6,471.6,474.8,478.4,479.4,481.7,487.4,489.6,491.3,498.3,499.5,502,null,501.9,506.6,508.5,509.5,510.1,512.29999999999995,516.4,517.20000000000005,521.6,519.4,521.79999999999995,524.5,null,526.4,528.6,531,531.70000000000005,533.5,534.6,533.70000000000005,534.29999999999995,534.5,535.20000000000005,536.5,537.5,null,537.9,541.20000000000005,543.20000000000005,544.9,546.29999999999995,548,548.5,551.5,553.9,560.5,563.4,565.1,null,555.4,554.20000000000005,560.29999999999995,567.29999999999995,569.29999999999995,571.70000000000005,577,574.79999999999995,576.4,579,584.70000000000005,587.79999999999995,575.9,581.79999999999995,580,582.5,585.4,587.4,589.9,593.5,594,598.4,602.29999999999995,600.9,599,599.79999999999995,602.70000000000005,604.5,604.29999999999995,605.1,608.9,607.29999999999995,607.9,614.1,617.79999999999995,619,618.79999999999995,620.6,621.6,624.79999999999995,632.20000000000005,635.1,637.6,639.5,640.20000000000005,647.79999999999995,652.4,4.6000000000000227,7.1009570855202582E-3,7,12,34.600000000000023,5.6005179669796089E-2,3,1,33.399999999999977,5.3957996768982192E-2,3,3,193.09999999999997,0.42042238188547781,5,4]
["North Dakota","SMS38000006000000001",29.8,29.5,29.2,28.7,29.1,29.1,28.9,28.8,29.3,28.9,28.8,28.6,null,28.5,28.5,28.4,28.4,28,28.2,28,28.2,28.2,28.8,28.8,28.8,null,28.8,28.8,29.1,29.2,29.1,29.3,30.3,30.7,30.7,30.6,30.4,30.8,null,31.2,31.3,31.5,32,32.299999999999997,32.700000000000003,32.9,33.200000000000003,33,33.299999999999997,33.5,33.6,null,33.6,34.1,33.9,34,34.1,34.1,34.4,34.299999999999997,34.4,34.299999999999997,34.5,34,null,34.9,35,35.299999999999997,35.799999999999997,36,36.4,36.9,36.5,36.799999999999997,37.4,37,36.4,36.700000000000003,36.700000000000003,36.200000000000003,36.200000000000003,36.5,36.5,36.5,36.4,36.200000000000003,36.9,37,36.700000000000003,35.200000000000003,35,34.6,34.9,34.799999999999997,34.700000000000003,34.5,34.6,34.4,35.1,35.4,34.9,34.5,34.200000000000003,34,35.6,36.5,36.1,35.799999999999997,36.6,37,36.9,36.5,-0.39999999999999858,-1.0840108401083973E-2,37,48,1.1000000000000014,3.1073446327683656E-2,37,14,1.6000000000000014,4.5845272206303765E-2,33,4,7.6000000000000014,0.26297577854671289,42,24]
["Ohio","SMS39000006000000001",640.4,633.6,625.29999999999995,616.20000000000005,616.70000000000005,611.29999999999995,608.20000000000005,607.6,608.70000000000005,609.29999999999995,611.9,610.6,null,610.1,612.5,614,620.6,623.5,626.5,628.4,630.29999999999995,629.5,633.4,636.29999999999995,637.9,null,641.5,643.9,646.29999999999995,648.4,648.79999999999995,648.4,654.20000000000005,654.1,655.29999999999995,655.4,659.3,663.1,null,666.9,669.4,671.4,671.1,672.6,673.3,673.3,675,675.2,678.9,679.6,680.7,null,675.4,679.5,680.1,685.6,688.5,689.8,688.3,691.7,694.2,693.1,695.3,695.1,null,702.3,703.7,703.8,706.7,707.4,708,709.7,711.3,710.1,710.8,716.4,716.6,715.7,713.3,712.7,712.3,715.7,716,717.9,716.2,714.6,716.7,717.8,719.7,720.4,720.9,721.8,721.6,721.5,721.9,726,723.1,725.1,722.9,722.3,724.1,722.5,723.6,721.2,725.8,731.9,734.3,732,730.6,729.9,727.9,725.2,-2.6999999999999318,-3.7093007281219013E-3,48,38,2.9000000000000909,4.0149522359131818E-3,30,42,1.1000000000000227,1.519127192376775E-3,37,42,117,0.1923709306149293,12,36]
["Oklahoma","SMS40000006000000001",175.2,173.9,171.1,167.4,167,166.7,165.1,164.7,164.9,165.4,165.7,167,null,167.6,167.5,167.7,168.4,169.7,170.4,171.5,172.1,171.8,173.1,173.4,173.5,null,173.5,172,173.6,174.3,174.7,173.3,175.4,174.8,175,174.8,174.2,174.8,null,175.4,177.4,177,177.7,177.6,178.3,178,178.4,178.1,179.2,179.4,178.9,null,178.8,178.8,180,179.4,179.7,179.5,180,179.7,180.4,180.9,181.8,182.8,null,183,183.2,183.5,184,184.3,184.4,185.3,185.3,185.4,188,190.4,191.1,188.5,186.9,186.3,185.6,185.6,185.2,185.1,185.2,184.8,184.2,182.2,181.1,181.9,181.9,180.3,180.4,180.3,180.2,180.2,180,180.4,181.2,179.8,179.8,180.1,180.1,179.7,181.1,182.2,185.5,185.3,184.6,182.7,181.3,181,-0.30000000000001137,-1.6547159404302887E-3,35,34,1.1999999999999886,6.6740823136818049E-3,36,40,1.1999999999999886,6.6740823136818049E-3,36,40,15.900000000000006,9.6305269533616025E-2,37,46]
["Oregon","SMS41000006000000001",193.2,190.4,187.9,186.1,185.5,185.2,184.5,183.2,183.4,183.5,184.3,184.8,null,184.6,185.5,186.2,187.5,188.2,188.4,188.8,189.8,189.9,191.1,191.3,191.3,null,192,192.4,193.2,193.4,193.7,193.6,195.8,196.6,197.8,197.2,197.8,198.1,null,200.6,200.8,200.8,201.1,201.3,201.2,201.6,202.1,202.4,203.2,204.2,205.2,null,204.6,205.2,206.5,207.3,208.4,209.1,209.9,210.2,211.1,210.5,212.2,213.8,null,213.9,215,216,217.6,218.3,219.2,219.9,220.6,221.7,223.5,225.7,226,224.3,225.2,225.7,225.7,226.8,227,227.7,228.3,228.7,232,233.5,233.2,235.7,237,237.3,237.8,237.8,238,238.3,239.3,239.2,238.9,240.2,241.5,242.8,244.3,245.6,245.9,247,247,245.7,246.2,243.6,247.4,245.4,-2,-8.0840743734842367E-3,47,43,5.2000000000000171,2.1648626144879338E-2,24,26,3.9000000000000057,1.6149068322981391E-2,25,30,60.900000000000006,0.33008130081300818,26,11]
["Pennsylvania","SMS42000006000000001",691.1,687,681.7,673.4,671.8,669.8,667.6,667.5,666.3,671,673.4,675.3,null,676.5,678.7,680.9,685.7,686.9,688.9,691.3,692.6,692.3,698.2,701.4,705.8,null,707.8,708.4,710.1,712.7,715,715.3,716.5,719.3,722.1,723,724.9,726.5,null,726.6,728.3,731.7,731.4,732.2,732.2,732.7,733.2,735.5,737.3,738.5,738.7,null,740.5,745.2,746.4,746.3,747.8,750.8,752.2,753.9,751.9,756,756.2,755.2,null,751.2,752.7,753.5,757.6,760.1,760,759.6,762,763.1,760.8,762.2,762.4,773.3,773.4,772.1,772.5,774,773.9,775.6,774.5,777.3,778,777.2,778.3,789.4,789.6,791.4,793.3,792,789.8,794.3,794.4,798.3,796.4,799,797.3,803.2,798.5,800.7,805.3,808.9,810.1,816.8,817.3,814.9,820.6,821.8,1.1999999999999318,1.4623446258834167E-3,19,25,22.799999999999955,2.8535669586983673E-2,5,18,24.5,3.0728709394205446E-2,5,13,154.19999999999993,0.23097663271420002,9,31]
["Rhode Island","SMS44000006000000001",53.5,53.3,53.1,52.4,52.1,52.1,52.1,52.2,52.3,52.2,52.4,52.5,null,52.5,52.5,53,53.9,53.6,53.5,53.5,53.5,53.4,53.8,53.8,53.7,null,54,54,54.1,54,54,53.9,54.2,54.3,54.6,54.9,55,54.7,null,55.3,55.4,55.9,55.9,55.9,56.2,56.2,56.3,56.3,56.2,56.7,57.1,null,57.5,57.9,57.9,58.1,58.4,58.9,58.8,59.1,59.2,59.2,59.1,58.8,null,59.5,59.9,59.9,60.3,60.5,60.4,60.9,61.3,61.4,60.7,60.7,60.6,62.8,62.4,62.9,63.2,63.6,63.4,63.5,63.6,63.5,63.3,63.7,64.3,65.2,65.3,65.7,65.3,65.099999999999994,65.3,65.7,65.8,66,66.3,66.7,66.400000000000006,67,67.2,66.7,65.900000000000006,65.2,64.900000000000006,65.400000000000006,65.2,64.900000000000006,66.099999999999994,65.3,-0.79999999999999716,-1.210287443267772E-2,42,49,-1.4000000000000057,-2.0989505247376396E-2,47,49,-1.1000000000000085,-1.656626506024109E-2,47,49,13.199999999999996,0.25335892514395386,39,25]
["South Carolina","SMS45000006000000001",206.9,203.8,201.8,197.6,197.6,196.5,197.2,197.7,198.3,201.3,202.9,203.5,null,206.1,207.1,207.2,212.7,214.5,215.8,217.2,218.5,219.8,220.9,220.8,224,null,223.7,226.9,227.1,228.1,228.7,229.3,230.4,230.1,230.5,228.9,229.5,232.6,null,233.7,234.4,236.1,237.2,236.8,237.8,235.7,235.9,234.7,233.9,240.4,240.4,null,239.4,239,238.4,237.9,238.3,239.4,240.8,240.2,240.8,239.4,240.4,241.9,null,249.1,248.4,252.1,252.8,253.1,252.7,253.7,254.4,256.2,258.60000000000002,260.7,261.3,257.7,258.10000000000002,257.7,256.8,260.10000000000002,260.5,262,263.39999999999998,264.2,268.2,269.7,272.5,266.60000000000002,268,266.5,268.7,268.2,268.7,269.7,269,269.7,267.8,269.39999999999998,268.2,272.7,274.60000000000002,272.5,268.2,271.10000000000002,272.5,272.3,279.39999999999998,275.60000000000002,279.10000000000002,282.7,3.5999999999999659,1.289860265137931E-2,9,5,13.300000000000011,4.9368968077208655E-2,12,3,14.5,5.4064131245339299E-2,11,2,85.5,0.43356997971602435,18,3]
["South Dakota","SMS46000006000000001",27.8,27.5,27.2,26.5,26.7,26.7,26.8,26.7,26.5,26.6,26.7,26.7,null,26.9,27,27.1,27.4,27.3,27.4,27.7,27.7,27.8,28.1,27.9,27.9,null,28.1,28.2,28.3,28.4,28.5,28.6,28.7,28.8,29,29.1,29.1,29.2,null,29,29.1,29.2,29.1,28.9,29.1,29.2,29.2,29.3,29.3,29.3,29.3,null,29.3,29.3,29.3,29.2,29.6,29.5,29.4,29.3,29.4,29.7,29.7,29.6,null,30.3,30.2,30,30.3,30.4,30.4,30.4,30.1,30,30.1,29.9,29.9,30.5,30.5,30.5,30.4,30.4,30.5,30.7,30.8,30.7,30.7,31.3,31.4,31,31.1,31,31.1,31.2,31.3,31.3,31.2,31.4,31.4,31.7,31.6,31.6,31.5,31.8,32,31.4,30.7,31,31,31.3,31.7,31.1,-0.59999999999999787,-1.8927444794952616E-2,40,50,-0.59999999999999787,-1.8927444794952616E-2,45,48,-0.5,-1.582278481012658E-2,45,48,4.3000000000000007,0.16044776119402987,46,40]
["Tennessee","SMS47000006000000001",303.8,300.89999999999998,296.60000000000002,291.3,292.2,289.89999999999998,288.5,289,289.3,292,295.5,294.2,null,297,297.3,299.3,300,308.60000000000002,305.8,305.5,304.7,305.8,307.89999999999998,307.39999999999998,308.5,null,312.2,315.2,318.2,319.5,319.89999999999998,321.39999999999998,326.60000000000002,325.89999999999998,326.39999999999998,327.60000000000002,329.4,332.2,null,330.9,332.8,333.7,336.1,338.8,341.2,340.7,340.9,340.9,341.8,343.2,343.6,null,345.2,346.1,346.5,346.4,347.7,348.4,349.3,352.5,354.8,357.6,358.9,359.3,null,365.3,363.1,365.5,369.4,371.2,370.6,374.3,376.9,376.7,378.8,378.5,381.2,384.3,384.4,386.1,388.9,390.4,392.1,396.2,395.3,396.1,398.2,398.5,402.1,400.2,401.3,402.1,403.6,402.8,405.1,407.2,407.1,408.4,409.7,413.7,410.7,414,408.2,414.7,412.8,414.7,416,416.4,416.8,415.1,411.8,407.4,-4.4000000000000341,-1.0684798445847582E-2,49,47,-6.3000000000000114,-1.5228426395939115E-2,50,47,-3.3000000000000114,-8.0350620891161718E-3,50,46,118.89999999999998,0.41213171577123042,11,5]
["Texas","SMS48000006000000001",1298.4000000000001,1284.5,1272,1249,1252,1247,1238,1234.0999999999999,1232,1233.3,1242,1240.3,null,1248.5999999999999,1252.5999999999999,1257.9000000000001,1258.3,1268,1271.8,1276.0999999999999,1280.9000000000001,1284.0999999999999,1294.8,1297.5,1305,null,1308.7,1314.4,1322.4,1327.7,1333.2,1338.3,1346.7,1350.6,1358.7,1355.4,1360.9,1367.7,null,1375.6,1381.8,1389.5,1398.5,1404.8,1409.1,1411.6,1420.8,1426.4,1428,1435.4,1433.8,null,1433.8,1443.7,1447.2,1448.5,1451,1456,1459.6,1463.5,1471.3,1470.8,1478.6,1477.9,null,1508.5,1515.6,1520.9,1533.4,1538.7,1543.7,1549.2,1553,1557.2,1550.6,1564.9,1576.1,1586.7,1588,1582.8,1585.6,1588.2,1590.9,1596.8,1598.3,1598.5,1599.6,1602.5,1607.1,1615.7,1618,1613.7,1621.2,1620.8,1619.4,1631.5,1631.5,1639.1,1635.9,1644.1,1647.2,1661.8,1659,1669.3,1673.7,1674.5,1678.3,1680.3,1674.9,1679.6,1685.9,1700.6,14.699999999999818,8.7193783735689048E-3,1,9,56.5,3.4365306246578679E-2,1,9,53.399999999999864,3.2418649830014488E-2,1,9,462.59999999999991,0.37366720516962837,2,7]
["Utah","SMS49000006000000001",154.80000000000001,153.6,151.69999999999999,149.9,149,148.19999999999999,147.69999999999999,147.30000000000001,147.5,147.80000000000001,147.5,147.30000000000001,null,148.4,148.80000000000001,150.5,151.6,152.30000000000001,153.30000000000001,154.1,153.4,153.4,153.69999999999999,154.6,155.6,null,156.5,157,157.6,158.19999999999999,158.1,158.30000000000001,159.30000000000001,160.1,161.19999999999999,162.30000000000001,163.4,163.9,null,163.80000000000001,164.4,165.2,165.9,167,167.5,167.8,169.3,169.7,171.3,171.2,171.7,null,173.1,174,174.8,176,175.5,175.5,176.8,177.2,178.3,178.3,176.9,176.5,null,182.8,182.7,182.6,182.1,183.1,184.2,184.2,185.7,186.9,187.4,189.3,189.9,189.9,190.7,191.6,192.8,193.9,194.7,195.5,196.6,196.4,196,196.2,194.1,199.4,200,200.5,201.6,201.8,202.2,204.4,204.5,204.2,204.8,206.9,207.8,208.3,209.3,208.9,211.4,212.4,212.4,212.7,213.9,215,214.5,212.6,-1.9000000000000057,-8.8578088578088847E-3,46,44,5.6999999999999886,2.7549540840985928E-2,23,20,4.7999999999999829,2.3099133782483072E-2,23,21,64.900000000000006,0.43940419769803662,24,1]
["Vermont","SMS50000006000000001",22.2,22.2,21.9,22.1,22.2,22.2,22.1,22.3,22.1,22.4,22.8,22.7,null,22.8,22.8,22.8,23.4,23,23,23.5,23.6,23.6,24,23.9,23.7,null,24.1,24.2,24.3,24.4,24.7,24.7,25,25.1,25.4,25.5,25.5,25.7,null,25.7,25.9,26,26.3,26,26.1,26.1,26.2,26.1,26,26.2,26.2,null,26.2,26.2,26.4,26.4,26.3,26.5,26.3,26.4,26.4,26.5,26.5,26.5,null,26.4,26.5,26.5,26.3,26.5,26.7,26.7,26.7,26.7,26.8,26.8,26.8,27,27,26.8,27.2,27.5,27.5,27.4,27.5,27.5,27.4,27.4,27.3,27.6,27.7,27.6,27.7,27.7,27.6,27.9,28,27.7,27.4,27.6,27.6,28.1,27.8,27.9,28,28,28.5,28.7,28.2,28.5,29,28.7,-0.30000000000000071,-1.0344827586206921E-2,34,46,1.0999999999999979,3.9855072463768036E-2,38,6,1.0999999999999979,3.9855072463768036E-2,38,5,6.5999999999999979,0.29864253393665147,44,16]
["Virginia","SMS51000006000000001",649.6,646.9,644.1,637.9,638.1,637.1,635.5,635.9,636.1,638,640.29999999999995,640.6,null,640.5,639,641.1,648.4,649.70000000000005,650.4,653.6,653.4,652.70000000000005,656.5,657.9,659.7,null,662.1,663.2,664.6,665,665.2,665,669,669.8,671.4,670.1,672.6,671.3,null,673.7,674.4,676.1,676.5,677,678,678.2,679.5,681.3,682.5,682.1,682.6,null,683.5,684.5,684.5,683.9,683.3,682,678,677.8,676.2,669.5,669.1,666.1,null,673.9,674,673.9,679.5,680.9,679.9,680.7,679.7,678.9,674.1,677.4,676.5,687.5,687.5,687.3,691.1,694.3,694,696.8,697.6,699.1,705.7,708.9,714.4,708.5,711.3,712.1,713.5,714.1,716,716.3,717.9,719.8,720,717.5,718.6,727.5,728.7,730.6,734.4,735.5,735.6,741.3,735.9,734.1,730.5,729.2,-1.2999999999999545,-1.7796030116358037E-3,44,35,11.700000000000045,1.6306620209059298E-2,13,36,10.600000000000023,1.4750904536598974E-2,15,31,93.700000000000045,0.14744295830055082,15,42]
["Washington","SMS53000006000000001",337.6,333.8,329.6,323.39999999999998,322.89999999999998,322.89999999999998,320.3,320.10000000000002,319.60000000000002,319.7,320.3,321.39999999999998,null,320.2,321.2,323.10000000000002,323.3,324.2,325.10000000000002,327.39999999999998,327.10000000000002,328.3,330.7,331.6,333.6,null,334.9,335.8,336,338.8,338.6,338.8,341.7,341,342.7,341.6,342.7,342.8,null,343.8,344.5,345.5,347.5,349.1,351,349.3,351.5,352.1,354.7,355.3,355.5,null,357.6,358.1,358.6,358.7,359.2,360,360.5,362.2,363.3,363.1,362.3,364,null,365.4,366.4,367.6,367.1,368.1,370.4,374.3,375.4,377,376.7,377.9,379.7,380.8,382,383.8,384.3,386.2,387.8,388.9,390.8,392,394.5,399,398.2,398,399.4,400.3,401.4,402.5,403.3,403.6,404.7,406,406.1,406.9,406.8,407.2,407.1,410,408.8,410.1,408.7,408.4,409.3,409.3,414.8,418.6,3.8000000000000114,9.1610414657666613E-3,8,8,11.700000000000045,2.8753993610223755E-2,13,16,11.800000000000011,2.9006882989183903E-2,14,16,98.300000000000011,0.30689978145488606,13,14]
["West Virginia","SMS54000006000000001",60.8,60.8,60.2,59.9,60.1,59.9,59.4,59.8,60,60.1,60.5,61.2,null,60.5,60.3,60.7,60.9,60.6,60.9,61.4,61.4,61.3,61.6,61.7,61.3,null,62.2,62.7,63,63,63,63,63.6,63.8,64.2,64.3,65,64.5,null,64.400000000000006,64.5,64.400000000000006,64.900000000000006,65.2,64.900000000000006,64.5,64.5,64.7,64.7,64.3,64.2,null,64.400000000000006,64.7,65,64.599999999999994,65,65,65.2,65.3,65,65.099999999999994,65.5,65.400000000000006,null,64.8,65.099999999999994,65.3,65.900000000000006,66.2,66.8,67.099999999999994,67.2,67.3,67.7,67.8,68.3,68,67.7,67.400000000000006,66.8,66.7,66.7,66.7,66.7,66.5,67.3,67.099999999999994,66.599999999999994,65.5,65.900000000000006,66.099999999999994,65.8,65.8,65.7,65.900000000000006,65.400000000000006,65.2,65.099999999999994,64.5,64.599999999999994,64.900000000000006,65.2,65.2,65.7,64.8,65.900000000000006,66.3,65.8,65.3,64.400000000000006,64,-0.40000000000000568,-6.2111801242236905E-3,38,41,-0.5,-7.7519379844961239E-3,44,46,-0.59999999999999432,-9.2879256965943402E-3,46,47,4.6000000000000014,7.7441077441077463E-2,45,47]
["Wisconsin","SMS55000006000000001",268.60000000000002,263.7,259.89999999999998,256.89999999999998,257.2,255.2,255.1,254.3,254.9,257.10000000000002,259.5,260.3,null,261.7,264.60000000000002,263.60000000000002,268.2,269.7,269.7,272.8,274.7,275,278.10000000000002,279.60000000000002,281.7,null,282.5,282.7,283.5,282.8,283.5,284.2,285.10000000000002,285.60000000000002,287.2,286.39999999999998,287.10000000000002,287,null,288.2,288.60000000000002,290.7,291.60000000000002,291.60000000000002,291.7,291.2,290.7,292.3,293.10000000000002,293.89999999999998,293.39999999999998,null,293.5,295.89999999999998,297.39999999999998,294.8,297.5,298.7,299.7,300.39999999999998,300.3,300.7,303,306,null,306.2,306.60000000000002,304.89999999999998,304.8,306.2,306.8,306.3,307.60000000000002,307.60000000000002,307.8,307.7,307.5,311.2,311.39999999999998,310.89999999999998,311.3,312.10000000000002,311.7,312.3,312.89999999999998,311,314.60000000000002,311.39999999999998,311.8,322.60000000000002,322.8,322.60000000000002,322.89999999999998,321.8,320.8,322.60000000000002,321.89999999999998,322.3,321.10000000000002,320.7,320.3,321.8,323.10000000000002,326.3,324.60000000000002,327,322.3,324.8,321.2,323.60000000000002,326.60000000000002,326.7,9.9999999999965894E-2,3.0618493570105904E-4,28,28,6,1.8709073900841908E-2,22,30,6.3999999999999773,1.9981267561660871E-2,18,27,71.599999999999994,0.28067424539396313,23,19]
["Wyoming","SMS56000006000000001",18.3,18,17.8,17.3,17.399999999999999,17.100000000000001,17,16.899999999999999,17,16.8,17,16.8,null,16.899999999999999,16.8,16.899999999999999,17,17,17.100000000000001,17.2,17.399999999999999,17.399999999999999,17.3,17.3,17.3,null,17.5,17.399999999999999,17.399999999999999,17.3,17.600000000000001,17.7,17.8,18,17.899999999999999,18,18.2,18.3,null,18.2,18.2,18.100000000000001,18,17.8,18,17.7,18,17.899999999999999,18,18.100000000000001,18.100000000000001,null,18,18,18,18.100000000000001,18.2,18.2,18.2,17.899999999999999,18,18.3,18.5,18.8,null,18.100000000000001,18.399999999999999,18.3,18.399999999999999,18.399999999999999,18.3,18.5,18.399999999999999,18.3,18.5,18.600000000000001,19.100000000000001,18.5,18.5,18.399999999999999,18.399999999999999,18.399999999999999,18.2,18.2,18.100000000000001,18.2,18.600000000000001,18.2,17.899999999999999,18.100000000000001,17.899999999999999,17.8,17.8,17.7,17.600000000000001,17.8,17.600000000000001,17.600000000000001,17.7,17.5,17.600000000000001,17.2,16.8,17.2,17.100000000000001,17.100000000000001,16.5,16.899999999999999,17.100000000000001,16.7,17.399999999999999,17.8,0.40000000000000213,2.2988505747126561E-2,24,2,0.30000000000000071,1.7142857142857182E-2,43,34,0.19999999999999929,1.1363636363636322E-2,43,37,0.80000000000000071,4.7058823529411806E-2,49,48]

{"sheet":"Ed&Health","index":7,"n_rows":54,"n_cols":130,"rows_kept":54,"cut":false,"hidden":false,"merged":[]}
[]
["Private Education & Health Services"]
[]
["State Name","Series ID","Jan\n2009","Feb\n2009","Mar\n2009","Apr\n2009","May\n2009","Jun\n2009","2009-07-01","Aug\n2009","Sep\n2009","Oct\n2009","Nov\n2009","Dec\n2009",null,"Jan\n2010","Feb\n2010","Mar\n2010","Apr\n2010","May\n2010","Jun\n2010","Jul\n2010","Aug\n2010","Sep\n2010","Oct\n2010","Nov\n2010","Dec\n2010",null,"Jan\n2011","Feb\n2011","Mar\n2011","Apr\n2011","May\n2011","Jun\n2011","Jul\n2011","Aug\n2011","Sep\n2011","Oct\n2011","Nov\n2011","Dec\n2011",null,"2012-01-01","2012-02-01","2012-03-01","2012-04-01","2012-05-01","2012-06-01","2012-07-01","2012-08-01","2012-09-01","2012-10-01","2012-11-01","2012-12-01",null,"2013-01-01","2013-02-01","2013-03-01","2013-04-01","2013-05-01","2013-06-01","2013-07-01","2013-08-01","2013-09-01","2013-10-01","2013-11-01","2013-12-01",null,"2014-01-01","2014-02-01","2014-03-01","2014-04-01","2014-05-01","2014-06-01","2014-07-01","2014-08-01","2014-09-01","2014-10-01","2014-11-01","2014-12-01","2015-01-01","2015-02-01","2015-03-01","2015-04-01","2015-05-01","2015-06-01","2015-07-01","2015-08-01","2015-09-01","2015-10-01","2015-11-01","2015-12-01","2016-01-01","2016-02-01","2016-03-16","2016-04-29","2016-05-29","2016-06-29","2016-07-29","2016-08-29","2016-09-29","2016-10-29","2016-11-29","2016-12-29","2017-01-29","2017-02-28","2017-03-30","2017-04-29","2017-05-29","2017-06-29","2017-07-29","2017-08-29","2017-09-29","2017-10-29","2017-11-29","Month-to-Month","Month-to-Month %","Mo Chg Rank","Mo % Rank","Year-to-Year","Year-to-Year %","Yr Chg Rank","Yr % Rank","Year-to-Date Chg","Year-to-Date %","Year-to-Date  Chg Rank","Year-to-Date % Rank","Chg from Trough","% Chg from Trough","Trough Chg Rank","Trough % Chg Rank"]
["Alabama","SMS01000006500000001",210.7,210.4,209.9,210.4,211,210.3,210.8,211.2,210.8,211.1,212.4,211.6,null,212.3,213,212.4,213,213.3,213.6,215.3,215.9,215.5,216.2,215.5,215.4,null,215,214.9,215.7,215.4,215.2,215.1,216.4,216,217,216.8,216.8,216.7,null,217.6,217.1,218.1,218.6,217.3,218.4,217.5,218.5,219,219.1,219.5,220.4,null,219.6,222,220.4,220.9,221.4,221.6,220.4,221.2,222,223.5,223.6,223.8,null,222,222.1,222.2,223.2,222.9,223.1,223.1,224,224.3,226.9,226.7,227.1,225.3,225.5,225.2,225.9,226.6,227.1,227.7,228.4,227.7,229.3,230,230.5,229.6,230.1,230.8,231.5,232.2,232.5,233.8,233.9,234.4,235.3,234.9,235.9,236.5,237.7,238.2,239.1,237.6,238.8,238.3,238.2,238.9,240.7,239.8,{"$f":"DJ5-DI5","v":-0.89999999999997726},{"$f":"DK5/DI5","v":-3.7390943082674585E-3},{"$f":"RANK(DK5,($DK$5:$DK$54))","v":48},{"$f":"RANK(DL5,($DL$5:$DL$54))","v":47},{"$f":"DJ5-CX5","v":4.9000000000000057},{"$f":"DO5/CX5","v":2.0859940400170311E-2},{"$f":"RANK(DO5,($DO$5:$DO$54))","v":26},{"$f":"RANK(DP5,($DP$5:$DP$54))","v":26},{"$f":"DJ5-CY5","v":3.9000000000000057},{"$f":"DS5/CY5","v":1.653242899533703E-2},{"$f":"RANK(DS5,DS$5:DS$54)","v":31},{"$f":"RANK(DT5,DT$5:DT$54)","v":29},{"$f":"DJ5-I5","v":29},{"$f":"DW5/I5","v":0.13757115749525617},{"$f":"RANK(DW5,($DW$5:$DW$54))","v":29},{"$f":"RANK(DX5,($DX$5:$DX$54))","v":32}]
["Alaska","SMS02000006500000001",38.799999999999997,39,39,39.299999999999997,39.4,39.700000000000003,39.9,40.1,40.4,40.700000000000003,40.6,40.799999999999997,null,41.1,41.2,41.2,41.7,41.9,42.2,42.4,42.4,42.7,43.1,43.3,43.3,null,43.8,43.9,43.9,44.2,44.4,44.4,44.8,45.2,45.1,45.1,45.3,45.6,null,45.7,45.8,45.9,46,46.2,46.3,45.7,45.9,46,46.6,46.7,46.7,null,46.8,46.9,47,47.2,47.1,47.2,47.3,47.4,47.5,47.3,47.3,47.5,null,46.9,46.9,46.9,46.9,46.7,46.8,46.7,46.8,46.8,46.6,47,47.2,47,47.1,47,47,47.1,47.2,47.3,47.3,47.3,47.6,47.6,47.8,48.1,48.2,48.4,48.3,48.5,48,48.9,49,48.9,49,49.1,49,48.6,49,48.6,49.3,49.4,49.3,49.6,49.5,48.9,49.1,49,{"$f":"DJ6-DI6","v":-0.10000000000000142},{"$f":"DK6/DI6","v":-2.0366598778004362E-3},34,{"$f":"RANK(DL6,($DL$5:$DL$54))","v":43},{"$f":"DJ6-CX6","v":-0.10000000000000142},{"$f":"DO6/CX6","v":-2.0366598778004362E-3},{"$f":"RANK(DO6,($DO$5:$DO$54))","v":49},{"$f":"RANK(DP6,($DP$5:$DP$54))","v":49},{"$f":"DJ6-CY6","v":0},{"$f":"DS6/CY6","v":0},{"$f":"RANK(DS6,DS$5:DS$54)","v":49},{"$f":"RANK(DT6,DT$5:DT$54)","v":49},{"$f":"DJ6-I6","v":9.1000000000000014},{"$f":"DW6/I6","v":0.22807017543859653},{"$f":"RANK(DW6,($DW$5:$DW$54))","v":47},{"$f":"RANK(DX6,($DX$5:$DX$54))","v":11}]
["Arizona","SMS04000006500000001",328.9,329.9,330.1,330.3,331.7,333,334.5,335,335.4,337.5,338.3,338.9,null,340,340.1,341.3,341.1,342.6,344,345.1,345.8,345.5,348.7,349.4,350,null,350.7,350.6,351.1,352.8,356.7,353.9,354.8,356.5,358.2,358.5,359.7,361.6,null,363.7,364.2,364.7,365.3,365.8,366.4,365.1,366.7,367.8,367.9,368.6,369.1,null,369.5,370.2,372.5,372.7,372.4,371.6,372.6,374.2,374.7,377.1,378.3,379.8,null,376,376.9,377.1,378.2,379.1,380,381.1,382.1,382.3,386.5,387.4,389.9,389.6,391.3,392.5,393.6,394.9,395.6,397.8,398.6,398.9,403.4,405.4,405.9,406.3,407.2,408.1,409.5,409.9,410.4,411.7,412.7,414.4,414.4,414.8,417.2,417.3,419.5,418.9,421.7,421.4,421.9,420.6,422.7,427.5,426,427.5,1.5,3.5211267605633804E-3,10,16,12.699999999999989,3.0617164898746354E-2,13,6,10.300000000000011,2.4688398849472704E-2,13,13,93,0.27802690582959644,11,6]
["Arkansas","SMS05000006500000001",159.30000000000001,160.30000000000001,161,162.30000000000001,162.5,162.80000000000001,163.4,163.4,163.80000000000001,164.1,164.3,164.8,null,164.9,164.7,164.7,164.2,165.6,166.4,166.2,167.2,166.8,166.4,166.6,167.2,null,166.1,165.5,166.2,166.8,166.9,165.9,167.6,168.1,168.6,169.2,169.6,169.8,null,170.2,169.9,170.5,169.8,170,170.1,169.1,170.7,170.7,171.4,171.4,171.6,null,171.1,171.6,171.2,172,172.1,171.6,171.8,171.6,171.7,173,173.4,173.5,null,171.7,171.6,171.6,171.8,172.1,171.9,172.1,171.7,171.9,173.3,173.5,173.5,173.4,173.5,173.5,173.6,174.4,174.7,175.1,175.9,176.1,176.7,177.4,178.4,178.4,178.7,179,179.7,179.9,180.5,181.7,182.1,183.3,184.8,184.3,185.1,185.3,187.5,186.4,186.9,186.1,188.1,188.9,189.5,189.4,188.8,189.7,0.89999999999997726,4.7669491525422518E-3,14,10,5.3999999999999773,2.9300054259359616E-2,24,8,4.5999999999999943,2.4851431658562909E-2,25,12,26.299999999999983,0.16095471236230099,31,26]
["California","SMS06000006500000001",2021.9,2025.2,2030.5,2033.7,2041.1,2046,2047.9,2052.5,2052.1,2061.1,2057.1999999999998,2058,null,2039.6,2035.8,2036.4,2052.1,2052.3000000000002,2054,2056.6999999999998,2062,2063.6999999999998,2069.4,2071.1,2071.3000000000002,null,2073.6999999999998,2073.8000000000002,2074.9,2076.3000000000002,2077.8000000000002,2078.1,2081.1999999999998,2082.6,2089,2093.1999999999998,2100.5,2104.9,null,2126.5,2136.3000000000002,2138.3000000000002,2138.6,2146.9,2153.4,2152.1,2162.6999999999998,2165.9,2246.4,2249.3000000000002,2256.1999999999998,null,2275.3000000000002,2278.5,2283.1999999999998,2287.9,2290.1,2287.6,2315,2326.5,2325.6999999999998,2333.4,2332.8000000000002,2338.1999999999998,null,2375.5,2383.8000000000002,2387.4,2397.5,2403.9,2404,2424.6999999999998,2434.1999999999998,2441.4,2431.9,2440.1999999999998,2443.9,2409.1999999999998,2414,2417.9,2427.3000000000002,2437.8000000000002,2443.1,2475.6,2479.8000000000002,2483.6,2486.6999999999998,2494.6999999999998,2500.4,2497.8000000000002,2503.9,2506.8000000000002,2530.6999999999998,2536.4,2541.8000000000002,2543.5,2546.1,2551.6,2561.6,2564.5,2570.5,2590.3000000000002,2590.9,2593.6,2600.5,2602.4,2597.8000000000002,2620.9,2624.8,2629.5,2635.9,2652.6,16.699999999999818,6.3355969498083455E-3,1,4,88.099999999999909,3.4353675180347008E-2,1,2,82.099999999999909,3.1939311418012026E-2,1,3,604.69999999999982,0.29527808975047598,1,5]
["Colorado","SMS08000006500000001",255.1,255.5,255.6,256,256.5,257,257.7,257.8,258,258.60000000000002,259.10000000000002,259.60000000000002,null,259.8,261,261.7,263,263.8,264.7,265.3,265.89999999999998,266,267.8,268,268.5,null,269.5,269.8,271,271.89999999999998,272.60000000000002,272.89999999999998,273.89999999999998,275.10000000000002,276.3,276.3,276.5,278.2,null,278.89999999999998,279.7,280.39999999999998,280.5,281.10000000000002,282.2,282.89999999999998,283.39999999999998,284.5,285,285.89999999999998,286.8,null,282.60000000000002,283,283.7,285,285.2,285.89999999999998,286.89999999999998,288,288.7,289.39999999999998,291.7,291.10000000000002,null,292.3,293.8,294.8,296.5,297.5,298.60000000000002,299.5,300.8,302.10000000000002,301.7,303,304.39999999999998,306.7,308.10000000000002,309.39999999999998,310.39999999999998,311.5,313.10000000000002,313.89999999999998,314.8,315.7,316.8,316.89999999999998,318.7,321.2,322.10000000000002,323.10000000000002,324.8,325.3,326.10000000000002,328.4,328.5,329.4,332.4,333.7,332.8,332.8,331.5,333,329.2,333,334.6,335.8,334.3,338.9,338,337.5,-0.5,-1.4792899408284023E-3,44,40,3.8000000000000114,1.1387473778843306E-2,31,37,4.6999999999999886,1.4122596153846119E-2,24,33,79.800000000000011,0.30966239813736907,15,4]
["Connecticut","SMS09000006500000001",300.7,302.5,301.39999999999998,299.8,300.8,301.3,302.5,303.5,303.10000000000002,303.39999999999998,303.3,304.2,null,303.60000000000002,303.3,304,305.89999999999998,306,306.5,307.2,307.8,308.5,309.5,309.8,310.2,null,312.5,311.5,312.3,312.89999999999998,313.60000000000002,313.7,314.2,314.2,314.7,312.8,313.2,314.10000000000002,null,315.5,316.60000000000002,316.8,315.7,317,317.89999999999998,317.60000000000002,317.89999999999998,318.89999999999998,318.60000000000002,318.89999999999998,320.2,null,319.39999999999998,318.39999999999998,320.2,320.7,321.10000000000002,321.39999999999998,321.39999999999998,322.39999999999998,322.8,324.7,325.89999999999998,326.3,null,322.3,321.10000000000002,322.39999999999998,323.3,324,324.39999999999998,325.39999999999998,325.89999999999998,326.2,327.10000000000002,327.60000000000002,328.7,326.5,326.2,326,325.39999999999998,325.7,326.8,326.10000000000002,325.89999999999998,325.39999999999998,326.7,327.9,327.60000000000002,327.3,328.3,329.4,327.60000000000002,327.3,328.8,330.5,329.9,330.7,330.7,331.2,331.3,327.9,331.8,330.8,330.2,333.2,333.2,333.4,333.3,333.2,333.6,333.6,0,0,31,31,2.4000000000000341,7.2463768115943062E-3,34,45,2.3000000000000114,6.9423483247811994E-3,36,46,31.100000000000023,0.10280991735537198,28,44]
["Delaware","SMS10000006500000001",63.3,63.6,63.3,63.3,63.5,63.6,63.7,63.8,63.6,64,64.099999999999994,63.9,null,63.8,63.8,64.099999999999994,64.5,64.599999999999994,64.599999999999994,65.5,65.8,65.3,65.2,65.3,65.2,null,65.599999999999994,65.8,66.099999999999994,66.400000000000006,66.3,66.3,66.599999999999994,66.7,66.900000000000006,67.099999999999994,67.099999999999994,67.599999999999994,null,67.5,67.5,67.7,68,68.2,68.599999999999994,68.599999999999994,68.8,69.2,69.3,69.400000000000006,69.5,null,69.5,69.7,69.7,69.5,69.7,69.7,69.8,70.099999999999994,69.900000000000006,69.900000000000006,70.3,70.2,null,71.599999999999994,71.8,72.099999999999994,72.3,72.400000000000006,72.5,72.400000000000006,72.900000000000006,72.900000000000006,73.2,73.5,73.2,74.3,74.599999999999994,74.400000000000006,74.900000000000006,75.099999999999994,75.8,75.8,75.3,75.599999999999994,75.8,76.099999999999994,76,76.3,76.599999999999994,76.599999999999994,76.8,76.8,77,77.099999999999994,77.099999999999994,77.5,77.599999999999994,77.900000000000006,78.099999999999994,78.5,79.3,79.3,79.3,79.5,78.7,79.2,79.400000000000006,80.2,79.5,79.599999999999994,9.9999999999994316E-2,1.2578616352200544E-3,30,25,1.6999999999999886,2.1822849807445296E-2,41,20,1.5,1.9206145966709349E-2,42,23,15.899999999999991,0.24960753532182089,39,9]
["Florida","SMS12000006500000001",1042.9000000000001,1042.7,1043.0999999999999,1043.2,1046.3,1048.2,1049.5,1052.5,1053,1060.5999999999999,1062.5,1064.8,null,1064.8,1065,1066.5,1067.3,1069.0999999999999,1070.5999999999999,1071.5999999999999,1071.5999999999999,1069.5,1077.4000000000001,1077.4000000000001,1078.0999999999999,null,1082.0999999999999,1083.5999999999999,1082.9000000000001,1089.8,1089.5,1089.2,1093.5,1092.9000000000001,1096.7,1096.3,1097.9000000000001,1100.5999999999999,null,1098.9000000000001,1099.5999999999999,1101.7,1106.2,1107.5999999999999,1110,1110.5,1112.9000000000001,1114.5999999999999,1116,1117.5,1118.2,null,1120.3,1123.5,1124.9000000000001,1125.0999999999999,1125,1124.2,1126.5,1129.7,1129,1133.0999999999999,1136,1137,null,1141.3,1143.3,1144.5999999999999,1150.9000000000001,1153.5999999999999,1156.2,1160.8,1165.3,1167.9000000000001,1175.0999999999999,1177.0999999999999,1181.3,1182.5,1184.7,1187.3,1189.9000000000001,1194,1196.5999999999999,1199.0999999999999,1203.3,1206.5,1212.7,1215.5999999999999,1219.0999999999999,1224.5,1227.3,1229,1236.5,1237.7,1236.8,1245.5999999999999,1248.4000000000001,1252.2,1258.9000000000001,1261.7,1262.7,1270.4000000000001,1268.5999999999999,1271.0999999999999,1271.7,1273.0999999999999,1277.5,1278.0999999999999,1278.8,1269.5,1275.3,1276.9000000000001,1.6000000000001364,1.2546067591940222E-3,9,26,15.200000000000045,1.2047237853689502E-2,10,36,14.200000000000045,1.1245743248594318E-2,9,37,227.40000000000009,0.21667460695569327,4,15]
["Georgia","SMS13000006500000001",463.7,463.2,461.6,462.9,464.6,464.2,464.5,465.7,462.2,466.3,467.3,468,null,469,469.7,470.9,471.5,473.8,475,477.3,478.8,479.1,480.6,480.9,481.5,null,478.7,482.7,482.5,484.8,484.3,484.2,485,485.9,487.8,487.6,487.9,488.5,null,488.9,489.6,491.2,492.7,494.1,494.9,494.3,496.5,497.6,499.1,500.2,501.8,null,503.7,504.7,506,507.3,507.5,508.7,507.1,508.5,509.7,512.5,513.20000000000005,512.20000000000005,null,515.6,515.70000000000005,518.6,519.1,520.29999999999995,522.20000000000005,524.1,526.4,527.29999999999995,528.70000000000005,529.9,533,532,533.4,534.6,534.5,536.5,539,540.4,542.20000000000005,542.79999999999995,544.70000000000005,545.79999999999995,546.9,553,555.29999999999995,556.4,558.20000000000005,559.4,561,562.4,563.79999999999995,566.20000000000005,567.6,568.5,569.70000000000005,569.1,573.1,573.70000000000005,572.4,573.5,579.1,577.20000000000005,576.6,580.9,584,584.9,0.89999999999997726,1.54109589041092E-3,14,24,16.399999999999977,2.8847845206684215E-2,7,10,15.199999999999932,2.6680709145163999E-2,7,10,120.39999999999998,0.25920344456404731,7,8]
["Hawaii","SMS15000006500000001",74.599999999999994,74.599999999999994,74.7,74.400000000000006,74.2,74.8,74.599999999999994,74.5,74.400000000000006,74.400000000000006,74.599999999999994,74.599999999999994,null,75.3,75,75.2,75.099999999999994,75.2,75.099999999999994,75.3,75.400000000000006,74.8,75.7,75.5,75.2,null,75.099999999999994,75.599999999999994,75.5,75.5,75.599999999999994,75.3,76.2,75.900000000000006,76.400000000000006,76,76.599999999999994,76.400000000000006,null,76.2,76.3,75.7,76.599999999999994,77,77,77.3,78,78,77.8,78,78.2,null,78.8,78.599999999999994,78.599999999999994,78.900000000000006,78.900000000000006,79.099999999999994,79.099999999999994,79.5,79.3,79.3,79.2,78.900000000000006,null,78.7,78.599999999999994,78.8,78.900000000000006,79,78.7,78.900000000000006,78.900000000000006,79,79.2,79.400000000000006,79.5,80.5,80.7,80.8,81,80.8,80.900000000000006,80.900000000000006,81,81.2,82.1,82.2,82.7,83,82.8,83,83.7,83.2,83.1,83.6,83.9,84.3,83.6,83.3,83.3,83.1,83.5,82.9,83.8,84.2,83.6,86,85,86,85.4,85.1,-0.30000000000001137,-3.5128805620610226E-3,41,46,1.7999999999999972,2.160864345738292E-2,39,21,1.7999999999999972,2.160864345738292E-2,40,18,10.5,0.14075067024128687,43,31]
["Idaho","SMS16000006500000001",79.099999999999994,79.900000000000006,79.8,80.3,80.400000000000006,81,81,81.400000000000006,81.8,82,82.4,82.6,null,81.3,82.7,83.2,83.4,83.7,83.7,84.2,83.8,84.2,84.9,85.3,85.3,null,86,85.9,85.9,86.1,86.4,86.6,86.5,86.4,86.5,86.8,87,87.6,null,87.4,87.5,87.8,87.9,88.1,88.2,88.1,88.5,89,89,89,89.5,null,89.5,90.2,90.3,91.2,91,90.8,91.7,91.8,90.5,91.7,91.5,91.6,null,92.8,93.3,93.5,93.8,94,94,94.5,94.6,94.3,94,94.1,93.9,95.3,95.8,96.5,96.5,96.5,97.5,97.5,97.6,97.6,98.4,98.4,98.9,99.3,99.6,100,99.6,100.2,100.5,101.1,101.3,101.4,102.2,102.1,102.3,102.7,103.6,103.7,104.8,104.7,104.7,105.1,104.2,105.9,106.7,107.1,0.39999999999999147,3.7488284910964522E-3,25,15,5,4.8971596474045059E-2,25,1,4.7999999999999972,4.6920821114369474E-2,23,1,26.099999999999994,0.32222222222222213,32,3]
["Illinois","SMS17000006500000001",812,813.3,813.8,813.9,815.1,816.8,817.3,817.8,817,819.4,820.6,821.9,null,823.3,824.3,825.2,829.6,831.9,833.4,834.1,835.5,836,839.8,842.3,842,null,843.2,844.3,845.5,845.5,846.3,847.6,848.9,849.4,851.9,851.6,852.8,855.4,null,856.3,857.4,858.8,860.1,860.3,864.3,864,864.9,868.3,864.6,865.8,867.4,null,870.1,872,873.9,873.7,874.4,874.1,874.4,878.7,879,879.7,882.6,881.5,null,881.2,882.1,882.5,883.8,884.1,883.7,884.5,885.2,885.5,890.2,892,894.1,890.4,890,891.2,893.4,896.8,897,898.9,898.9,899.6,909.4,906.8,906.6,910.2,909.7,909,911.6,912.4,911.9,917.6,916.6,916.2,917.2,920.3,918.1,919.2,926.5,925.2,927.9,930.2,925.7,922.2,929.2,927.9,929.4,927.7,-1.6999999999999318,-1.8291370776844543E-3,49,41,7.4000000000000909,8.0408562425297089E-3,17,43,9.6000000000000227,1.0456377300947634E-2,15,38,110.40000000000009,0.13507891838982025,9,33]
["Indiana","SMS18000006500000001",412.5,413.7,414.1,413.5,415.9,418.2,411.1,412.6,417.8,418.1,419.4,419.8,null,420.8,421.4,423.5,423.6,423.7,423.8,423.9,424.1,424.5,425.7,426.2,425.8,null,425.7,426.1,427.4,429,430.8,429.5,431.6,432.4,433.2,431.9,431.9,433.4,null,434.1,434.7,434.7,427.8,429.2,428.4,427,431.1,435.1,433.4,434.4,435.7,null,436,437.9,438.2,438.1,438.2,439.1,435.5,442.3,440.4,443.2,443.1,443,null,436.1,436.4,437.5,437.6,438.5,439.5,438.7,436.7,439.4,440.6,441.2,441.5,443.2,448.7,448.3,448.5,447.8,448,455.2,454.3,453.9,458.8,459.7,459.5,458,460.3,460.2,460.6,460.8,462.1,465,465,467.5,469.4,472.1,470,470.5,472,473.6,471.4,475.2,474.6,476.1,476.1,474,474.6,474.3,-0.30000000000001137,-6.3211125158030203E-4,41,37,2.1999999999999886,4.6600296547341423E-3,37,48,4.3000000000000114,9.1489361702127899E-3,29,42,63.199999999999989,0.15373388469958643,20,27]
["Iowa","SMS19000006500000001",210.1,210.3,210.2,210.6,211.2,211.5,211.8,212.5,213,213.5,213.6,213.9,null,213.8,213.7,214,213.6,213.7,213.9,213.4,213.3,214,214.8,214.7,215,null,215.1,215.4,215.4,217.6,217.4,217,216.2,216.6,218.2,218.9,219,219.2,null,219.1,220,220.6,220.5,220.5,219.9,218.8,219.7,220.3,220.3,220.7,220.7,null,221,220.9,220.9,221.6,222,223,223.6,223.8,223.5,226.9,226.1,225.4,null,221.1,221.7,222.6,222.9,223.5,223.6,223.4,223.6,223.5,224.3,224.1,223.7,223.5,223.6,223.8,224.3,224.5,224.8,226,225.5,225.3,225.6,226,226.6,228,228.7,228.8,228.6,228.5,228.4,229.3,230.1,228.8,227.8,227.8,228.2,228.9,231.6,232.1,233.7,234.3,235.8,236.6,238.2,234,232.4,233.5,1.0999999999999943,4.7332185886402511E-3,12,12,5.6999999999999886,2.5021949078138667E-2,21,16,5.3000000000000114,2.3225241016652111E-2,21,15,21.699999999999989,0.10245514636449475,34,46]
["Kansas","SMS20000006500000001",179.3,179.3,179.2,179.1,179.5,179.9,180.4,180.7,180.5,180.8,180.7,180.7,null,180.1,180.4,180.3,178.8,179.2,179.5,180,180.2,179.9,181.3,181.6,181.9,null,184.8,184.6,184.6,185.2,185.4,184.5,185.4,185.6,185.4,185.3,185.3,185.2,null,185.3,185.7,185.9,185.8,186,186.3,186.5,186.8,187,187,187.4,187.6,null,187.8,187.5,187.7,187.7,187.6,187.8,187.9,187.6,187.4,189.5,188.7,188.6,null,188,188.2,188.4,189.3,189.7,189.6,190.2,190.3,191,191.4,190.9,191.5,192.7,193.5,193.5,194,193.9,193.9,194.3,194.6,194.3,194.5,194.4,195,195.4,195.8,196.1,196,195.8,195.6,197.4,196.1,196.9,197,197.3,197,196.8,198.8,198.3,198.2,197.5,195.8,195.4,196.7,198.6,198.1,198.9,0.80000000000001137,4.0383644623927881E-3,16,14,1.5999999999999943,8.1094779523567875E-3,43,42,1.9000000000000057,9.6446700507614499E-3,39,40,18.5,0.10254988913525498,36,45]
["Kentucky","SMS21000006500000001",245.7,245.4,245.5,245.9,246.3,247,246.9,247.3,247.7,247.8,248.4,248.5,null,248.5,249.1,249.6,249.9,250.7,251.5,252.3,251.8,252,253,253.2,253.8,null,253.8,253.9,253.4,253.6,253.7,253.2,254.3,254.6,255.6,255.2,255,254.2,null,255.7,256.7,256.60000000000002,255.9,256.2,257.10000000000002,256.8,256.8,257.10000000000002,257.2,257.60000000000002,257.89999999999998,null,257.8,258.5,258.3,258.3,257.8,256.89999999999998,257.7,258.10000000000002,258.39999999999998,259.3,259.39999999999998,259.3,null,260.89999999999998,261,260,260.5,259.2,259.2,258.89999999999998,259.5,261.3,263.8,265.10000000000002,264.2,261.39999999999998,262.3,262.10000000000002,262.39999999999998,263.7,263.7,264.3,263.89999999999998,265.60000000000002,266.39999999999998,267.89999999999998,269.2,266.2,267.10000000000002,267.2,267.2,267.89999999999998,268.5,269.60000000000002,270.10000000000002,270.7,272.2,272,272.89999999999998,270.39999999999998,271.39999999999998,269.7,271.2,272.10000000000002,270.3,270.2,272.5,273.8,274.8,274.60000000000002,-0.19999999999998863,-7.2780203784566459E-4,36,38,2.6000000000000227,9.5588235294118487E-3,33,40,1.7000000000000455,6.2293880542324863E-3,41,47,27.700000000000017,0.11219117051437835,30,40]
["Louisiana","SMS22000006500000001",262.10000000000002,263.3,263.5,263.5,264.89999999999998,264.10000000000002,265.3,267.3,267.60000000000002,268.2,268.60000000000002,269,null,268.89999999999998,268.7,269.8,270.60000000000002,269.60000000000002,270.7,271.39999999999998,271.3,271.89999999999998,272.8,272.7,273.5,null,273.10000000000002,274.60000000000002,275,275.3,276,275.60000000000002,277.60000000000002,277.3,278.3,279.2,280.3,280.7,null,278.3,279.5,280.7,281.2,282.39999999999998,284,283.7,283.89999999999998,284.2,284.7,285.3,285.60000000000002,null,287.39999999999998,288,288,289.2,292.10000000000002,290.60000000000002,288.7,290.39999999999998,291.5,290.7,290.3,291.8,null,296.8,296.7,296.8,297.60000000000002,298.39999999999998,299.7,298.8,299.5,300.3,301.5,300.89999999999998,301.5,302.3,302.5,302.5,304.10000000000002,304.89999999999998,305.60000000000002,305.39999999999998,305.60000000000002,305.5,304.3,305.10000000000002,307.5,307.39999999999998,307.8,308.89999999999998,309.2,309.60000000000002,309.60000000000002,311.7,310.89999999999998,310.39999999999998,311.89999999999998,311.3,313.10000000000002,314,314.7,315.39999999999998,316.39999999999998,317.10000000000002,317.39999999999998,317.3,316.8,315.89999999999998,316,316.8,0.80000000000001137,2.5316455696202892E-3,16,21,5.5,1.7667844522968199E-2,22,29,3.6999999999999886,1.181731076333436E-2,32,36,51.5,0.19411986430456088,23,20]
["Maine","SMS23000006500000001",118.4,118.5,118.4,118.7,118.6,118.5,118.8,118.7,118.4,118.5,118.5,119,null,118.7,118.7,118.7,118.9,118.8,118.8,118.7,118.7,119.4,119.2,119,119,null,118.4,118.8,119,119.1,119,119.4,119.7,120,120.3,120.7,120.6,120.8,null,120.8,121,121,121.1,121.3,121.3,121.4,121.1,121.8,121.6,121.7,121.8,null,121.9,121.8,121.8,122.2,122.1,122.1,122,122,122.5,122.9,122.8,122.7,null,122,122.1,122.1,122.1,122,122.4,122.2,122.3,122.7,123,122.8,123,123.3,122.9,123.1,123.4,123.2,124,124.1,124.4,124.2,124.6,124.6,124.6,124.5,124.6,125,124.7,124.9,124.7,125.2,125.2,125.1,125.7,126.3,125.9,127.9,126.1,127.6,127.8,127.7,128.1,127.9,128.5,127.8,127.7,128.1,0.39999999999999147,3.1323414252152817E-3,25,19,1.7999999999999972,1.4251781472684064E-2,39,34,2.1999999999999886,1.7474185861794986E-2,37,27,9.2999999999999972,7.828282828282826E-2,45,49]
["Maryland","SMS24000006500000001",388.7,390.2,390.5,391.6,392.2,393.8,392.7,393.1,393.3,394.2,395.2,395.6,null,395.9,390.5,396.7,397.7,398.2,398.4,399.4,399.5,400,400.9,401.5,402.2,null,402.5,403.4,404,402.3,403,402.6,404.5,405.6,406.8,407.4,408.2,408.6,null,411.1,411.7,412.9,413.3,413.8,415.1,415.8,415.8,416.7,417.1,417.1,417.5,null,417.7,418.2,418.4,418.5,420.2,419.4,419.9,420.9,421.1,421.4,421.7,421.8,null,422.9,423.2,424.8,424.7,428.1,426.4,427.1,428.7,429,431.2,432.6,434.5,432.1,433.5,434.1,434.4,438.3,436,437.1,437.4,437.5,437.3,436.9,438.5,454.2,454.5,455.1,456.4,457.3,454,459.4,458.7,459.1,463.3,463.8,464.8,463.5,468.1,468.6,468.3,464.7,465.9,474.8,475.3,476.4,478,477.8,-0.19999999999998863,-4.1841004184098041E-4,36,35,14,3.0185424752048298E-2,12,7,13,2.7969018932874352E-2,10,7,85.100000000000023,0.21670486376368736,14,14]
["Massachusetts","SMS25000006500000001",668.6,670.1,671.5,672.7,673.7,674.7,677.3,679.5,679.7,679.9,681.5,683.2,null,686.5,687.6,688.7,686.8,689.4,687.7,689.5,691.6,692.2,695.4,696.1,697.2,null,697.4,698.3,700.1,700.8,702,700.3,705.3,706.6,707.6,708.3,709.9,711.3,null,713.2,714.9,716.9,716.4,717.4,718.8,718.5,720.9,722.6,723.5,724.6,726,null,726.6,725,728.5,728.7,730.1,731.7,731.6,732.9,734.2,735.9,736.7,736.8,null,724.7,728.9,730.8,734,735.2,737.6,741.2,740.8,739.6,739.4,741.7,744.2,749.8,753.9,756.3,755.9,759.3,760.7,762.9,763,764,766.3,767.3,769.2,772.6,776.5,777.3,779.1,779.9,776.5,783.6,784.3,786.4,787.7,789.5,791.4,789.6,798.8,796.3,796.5,798,804.2,807.2,806.9,812.4,803.4,806.2,2.8000000000000682,3.4851879512074538E-3,8,18,16.700000000000045,2.11526282457252E-2,6,24,14.800000000000068,1.8701036138488839E-2,8,24,128.90000000000009,0.19031448398051101,6,21]
["Michigan","SMS26000006500000001",608,609.4,609.4,609.29999999999995,610.4,610.6,608.5,608.9,607.6,609.4,609.5,608.79999999999995,null,609,609,608.9,610.20000000000005,611.6,610.4,612.9,613.4,611,614.70000000000005,614.4,614.70000000000005,null,615.6,614.79999999999995,616,620.5,620.29999999999995,619.79999999999995,624.20000000000005,624.5,624.6,625.9,625.5,626.79999999999995,null,628.4,630.29999999999995,630.9,631.6,631.20000000000005,631.6,632.4,633.20000000000005,633.9,634,634.9,636.20000000000005,null,635.6,636.70000000000005,637.20000000000005,639.1,638.79999999999995,639.29999999999995,638,638,637.70000000000005,637.1,638,635.1,null,642.6,643,643.1,642.70000000000005,643.79999999999995,643.5,642.4,643.1,643.9,647,647.6,649.1,647.1,647.1,648,648.4,649.6,650.29999999999995,651.5,653,651.1,654.5,657,659,660.1,660.8,660.2,664.1,665.1,665.1,667.3,666.8,667.6,667.1,666.5,667.6,668.9,671,671.2,670.2,669.8,668.9,671.5,669.1,674.6,671.6,672.9,1.2999999999999545,1.9356759976175617E-3,11,23,6.3999999999999773,9.6024006001500031E-3,20,39,5.2999999999999545,7.9388855602156288E-3,22,45,64.399999999999977,0.10583401807723908,19,43]
["Minnesota","SMS27000006500000001",451.7,451.6,452.7,454.7,454.8,452.8,454.3,453.5,450,454.7,454.8,456,null,454.7,455.5,457.2,456.7,457.9,459.1,457.9,459.2,459.3,461.1,462.4,461.7,null,464.4,465.1,465.5,468,469.3,470.7,470.7,471.6,473,470.7,471.2,472.8,null,472.6,474,474.8,474.5,475,475.5,476.4,478.4,482,482.3,483.1,484.1,null,485.4,486.7,487.3,488.7,490,489.6,489.3,491.7,493.5,496.7,497.5,497.9,null,495.2,495.2,496,497,497.9,498.2,499.1,499.6,500,502,502.6,501.6,502.5,504.4,505.8,506.3,507.7,508.5,510.4,511.4,512.6,514.70000000000005,514.6,516.1,517.1,517.4,518.20000000000005,519.5,519.70000000000005,517.79999999999995,522.79999999999995,524.79999999999995,523.6,525.20000000000005,529,531.20000000000005,533.5,535,534.5,539.5,541.5,542.79999999999995,546.20000000000005,540.6,541.20000000000005,539.6,540.1,0.5,9.2661230541141583E-4,23,27,11.100000000000023,2.0982986767485865E-2,14,25,8.8999999999999773,1.6754518072289112E-2,16,28,85.800000000000011,0.18886198547215499,13,22]
["Mississippi","SMS28000006500000001",127,127.1,127.1,127.2,127.5,127.9,128.9,129.19999999999999,129,129.1,129.5,129.6,null,129.6,129.6,129.80000000000001,130,130.30000000000001,130.19999999999999,130.19999999999999,130.69999999999999,130.69999999999999,131.4,131.6,131.6,null,131.80000000000001,131.80000000000001,131.80000000000001,131.80000000000001,131.6,132.19999999999999,132.30000000000001,132,132.5,132.69999999999999,132.6,132.80000000000001,null,132.80000000000001,133.19999999999999,133.30000000000001,133,132.5,133.1,133.69999999999999,133.4,133,133.19999999999999,133.19999999999999,133.4,null,133.5,133.69999999999999,133.9,134.5,134.30000000000001,133.9,133.80000000000001,132.69999999999999,133.9,135.19999999999999,135.19999999999999,134.9,null,133.9,133.9,133.80000000000001,134.19999999999999,134.6,134.6,135.6,135.5,135.30000000000001,136.4,136.69999999999999,136.6,137,137.19999999999999,137.4,137.4,138.5,138.4,138.1,138.1,138.1,138,138.80000000000001,138.69999999999999,139.19999999999999,139.5,139.6,139.9,140.19999999999999,140.19999999999999,140.4,141.1,140.5,140.69999999999999,141,141.1,141.80000000000001,142.19999999999999,142.6,142.4,143.6,143.69999999999999,143.9,145.4,145.5,144.69999999999999,145.4,0.70000000000001705,4.8375950241880935E-3,18,9,4.4000000000000057,3.120567375886529E-2,28,4,4.3000000000000114,3.0474840538625172E-2,29,5,16.5,0.12800620636152055,38,36]
["Missouri","SMS29000006500000001",403.5,403.6,403.9,403.4,405,406.1,407,408.5,408.8,409.7,410.6,411.4,null,410.3,411.1,411.7,412.9,414.4,415.8,415.6,416.1,418.1,419.9,420.4,421.6,null,422.5,422.6,423.4,423.5,423.2,422.8,423.3,423.3,424.7,423.6,424.2,424.5,null,425.2,425.1,424.7,424.8,425.5,426.1,427,427.9,428.7,429.5,429.3,429.9,null,430.7,432.1,429.8,434,433.1,431.8,433.2,433.2,433.1,431.4,435.3,435.5,null,432.9,434.4,432.6,435.2,435.4,435.2,436.4,436.5,436.6,434.8,434.3,434.4,445.3,444.7,443.3,445.7,446.2,447,449,448.4,447.9,450.6,449.5,449.3,451.8,452.4,452.8,454.4,454.9,455.4,456.7,457.9,458.8,463.8,463.7,464,462.9,463.6,460.8,466.1,466.4,463.1,466.9,469.5,467,468.7,468.5,-0.19999999999998863,-4.267121826327899E-4,36,36,4.8000000000000114,1.0351520379555772E-2,27,38,4.5,9.6982758620689658E-3,27,39,61.5,0.15110565110565111,21,28]
["Montana","SMS30000006500000001",62,62.1,62,62.1,62.2,62.4,62.5,62.6,62.5,62.9,63,63.1,null,63.2,63.1,63.3,63.5,63.7,64,64.2,64.099999999999994,64.099999999999994,64.099999999999994,64,63.9,null,63.9,64.099999999999994,64.099999999999994,63.9,64.599999999999994,64.8,65,65.400000000000006,65.7,66.2,66.099999999999994,66.5,null,66.8,67.099999999999994,67.099999999999994,67.3,67.599999999999994,67.5,67.7,67.900000000000006,67.7,67.900000000000006,68,68.2,null,68.3,68.400000000000006,68.599999999999994,68.7,68.8,69,69.099999999999994,69.3,69.5,69.5,69.8,69.7,null,69.8,69.900000000000006,69.900000000000006,70.400000000000006,70.2,70.2,70,70.099999999999994,69.900000000000006,69.8,69.8,69.8,70.7,70.8,71,71.2,71.5,71.5,71.400000000000006,71.599999999999994,71.8,72.3,72.5,72.7,73.099999999999994,73.3,73.400000000000006,73.5,73.5,73.7,74.400000000000006,74.400000000000006,74.8,75.2,75.099999999999994,75.2,75.8,75.599999999999994,75.8,76.099999999999994,76.3,76.099999999999994,75.599999999999994,76.599999999999994,77,76.7,76.7,0,0,31,31,1.6000000000000085,2.1304926764314364E-2,42,23,1.5,1.9946808510638295E-2,42,21,14.200000000000003,0.22720000000000004,41,12]
["Nebraska","SMS31000006500000001",138.69999999999999,138.4,138.19999999999999,138,138.19999999999999,138.19999999999999,138.69999999999999,138.19999999999999,138.69999999999999,139.19999999999999,139.4,139.80000000000001,null,139.69999999999999,139.9,140,139.9,140.30000000000001,141.80000000000001,141.80000000000001,141.9,141.19999999999999,141,140.69999999999999,141,null,142.19999999999999,141.9,141.6,142.30000000000001,142.9,142.80000000000001,142.80000000000001,143.1,143.5,143.80000000000001,143.9,144.19999999999999,null,144.30000000000001,144.4,145.69999999999999,145.5,145.30000000000001,145.6,145.80000000000001,146.19999999999999,146.6,147,146.80000000000001,147.19999999999999,null,146.80000000000001,146.6,146.9,147.19999999999999,147.19999999999999,147.4,147.19999999999999,147.19999999999999,147.1,147.5,147.69999999999999,147.1,null,147.1,147.4,148,147.80000000000001,147.69999999999999,148,148.30000000000001,148.4,148.6,149.6,149.9,150.30000000000001,149.1,148.5,148.5,148.1,148.5,148.6,149.30000000000001,149.1,149.5,150.69999999999999,151.19999999999999,151.80000000000001,151,151.4,152.1,151.4,152.5,152.4,153.1,153.30000000000001,153.80000000000001,153.80000000000001,154.1,154,153.69999999999999,154.69999999999999,154,153.30000000000001,154.1,153.80000000000001,155.30000000000001,155.30000000000001,155.6,155.80000000000001,155.30000000000001,-0.5,-3.2092426187419767E-3,44,44,1.2000000000000171,7.7871512005192539E-3,44,44,1.3000000000000114,8.4415584415585155E-3,44,43,16.600000000000023,0.11968276856524891,37,39]
["Nevada","SMS32000006500000001",97.7,97.6,97.3,97.2,97.7,98.2,98.5,99,99,99.8,99.8,99.9,null,100.3,100.3,100.5,100.9,101.2,101.5,101.4,101.7,101.6,102.8,102.9,103.1,null,103.9,104.2,104.5,104.6,104.8,105.1,105.7,105.9,106.1,106.3,106.7,106.9,null,107.7,107.6,107.9,108.2,108.6,108.2,108.2,109.1,109.1,108.9,108.9,109.3,null,109.5,109.9,110.4,110.5,110.9,111.5,111.9,112.2,113,112.9,114.3,114.5,null,113.8,114.5,114.7,115,115.4,116.2,116.7,117.3,117.6,116.5,117.6,118.6,119,119.4,119.8,120.4,120.9,121.8,122.3,123.1,123.7,124.3,123.7,124.2,124.6,125.1,125.2,126,126.7,126.8,128.1,128.30000000000001,129,130.6,131.19999999999999,131.1,129.30000000000001,131.4,131.4,131.69999999999999,131.69999999999999,133.1,133.5,135.4,135.69999999999999,134.6,135.5,0.90000000000000568,6.6864784546805771E-3,13,3,4.3000000000000114,3.2774390243902531E-2,29,3,4.4000000000000057,3.3562166285278458E-2,28,2,37,0.37563451776649748,27,1]
["New Hampshire","SMS33000006500000001",110,110.2,110.1,110.3,110.5,110.5,110.6,110.9,110.8,111.2,111.3,111.5,null,111.4,111.5,111.7,111.7,111.9,112.2,112.4,112.3,112.6,112.5,112.7,112.9,null,112.9,113.1,113.4,113.4,113.4,113,113.4,113.3,113.5,114,113.6,113.8,null,114.2,114,113.9,113.9,114,114.1,114.2,114.3,114.7,114.6,114.8,115,null,115.6,115.2,115.2,115.6,115.6,115.7,115.7,115.9,115.8,116.3,116.7,115.8,null,115,115.1,115.3,115.6,115.7,116,116.1,116.1,116.2,116.7,116.3,117.1,117.2,116.9,117.3,117.5,117.8,117.9,118.1,118,117.9,118.6,118.7,118.8,119.6,119.8,119.9,120.4,120.7,120.5,121.3,121.2,121.4,122,122.2,121.8,122.3,122.9,122.2,123.4,123.1,123.5,123.6,124,124.1,124.5,124.5,0,0,31,31,2.2999999999999972,1.8821603927986885E-2,35,27,2.7000000000000028,2.2167487684729089E-2,34,17,13.900000000000006,0.1256781193490055,42,38]
["New Jersey","SMS34000006500000001",593,594.1,593.5,594.70000000000005,595.6,597.4,597.20000000000005,597.79999999999995,598.79999999999995,600.9,601.6,603.4,null,602.1,599,599.9,600.4,599.70000000000005,599.4,600,600,600,601.6,603.5,601.5,null,601.9,601.9,602.70000000000005,603.6,603.4,604,606.29999999999995,606.5,609.29999999999995,607.70000000000005,610.20000000000005,613.29999999999995,null,614.9,617.20000000000005,619,617,619.4,619.9,619.70000000000005,621.4,623.29999999999995,623.9,621.5,625.1,null,626.4,626.6,628.5,631.5,633.20000000000005,631.20000000000005,629.5,631.29999999999995,632.20000000000005,632.5,636.6,635.4,null,630.5,629.5,632.20000000000005,633.4,634.4,635.1,635.29999999999995,635.20000000000005,637,638,638.70000000000005,640.5,652.4,652.9,654.29999999999995,655,656.2,658.6,658.5,659,660.6,666.4,668.1,670.7,667.7,669.2,670.2,671.5,671.3,673,675.8,676.8,679.8,683.3,683.4,686.6,685.9,686,686.1,688.1,688.6,689.5,686.5,689.1,695.4,696,699.3,3.2999999999999545,4.7413793103447625E-3,4,11,15.899999999999977,2.3266022827041231E-2,8,18,12.699999999999932,1.8496941450626175E-2,11,25,102.09999999999991,0.17096450100468838,10,24]
["New Mexico","SMS35000006500000001",117.5,118.1,118.3,118.1,118.4,117.6,118.1,118.6,118.9,118.6,118.7,118.7,null,119.1,119.1,119.4,119,119.1,119.9,120.4,119.5,119.5,119.8,120.1,120.5,null,120.4,120.3,120.6,121.1,121.3,121.6,122.7,122.3,122.2,121.9,121.8,121.5,null,121.7,122.2,121.8,121.8,122.1,122.7,123.4,122.7,123.1,123.3,123.4,123.6,null,123.7,123.7,123.8,123.9,123.8,123.8,123.7,123.8,123.7,123.3,123.3,124,null,125.5,125.8,125.9,126.1,126.5,126.1,127.2,127.7,128.30000000000001,129.4,130.5,131.30000000000001,130.4,131,131.30000000000001,131.80000000000001,132.4,132.30000000000001,132.80000000000001,133.1,133.30000000000001,134.5,135.30000000000001,136,136.69999999999999,137.4,137.4,138,138.19999999999999,138.30000000000001,138.9,139.6,139.69999999999999,140.6,141,140.9,140.19999999999999,140.5,141,141,141.30000000000001,139.9,139.19999999999999,140.4,141.5,142.4,142.9,0.5,3.5112359550561797E-3,23,17,1.9000000000000057,1.3475177304964579E-2,38,35,2,1.4194464158977998E-2,38,32,24.800000000000011,0.20999153259949208,33,16]
["New York","SMS36000006500000001",1640.3,1645.5,1643.8,1640.4,1645.1,1651.7,1653.9,1657.8,1657.9,1664.9,1667.1,1671.5,null,1676.1,1679.6,1683.2,1686.7,1687.9,1690.2,1690.8,1695.1,1694.8,1701.3,1706.7,1709.4,null,1711.3,1713.7,1713,1722.1,1724,1722.3,1726,1725.8,1731,1728.9,1730.1,1734.1,null,1737.2,1740.4,1743.6,1744.3,1752.5,1750.6,1753.4,1759.7,1769,1767.1,1759.6,1767.8,null,1773.8,1778.3,1781.6,1790.6,1790.1,1784.6,1796,1799.1,1801.3,1804.4,1809.5,1809.3,null,1827.3,1831.7,1836.7,1840.4,1843.8,1839.7,1850.7,1856.9,1861.7,1865.6,1868.9,1871.6,1866.1,1871.2,1874.5,1879.5,1883,1889.1,1898.9,1898.8,1891.5,1890,1897.9,1896.4,1922.4,1929.5,1934.7,1942.3,1946,1953,1960.6,1964.2,1968.1,1960,1970,1969.7,1984.8,1990.3,1989,1994,2001.8,2019.9,2029.9,2031.9,2025.3,2012.8,2023.9,11.100000000000136,5.5147058823530092E-3,2,7,53.900000000000091,2.7360406091370606E-2,2,14,54.200000000000045,2.7516880743260419E-2,2,8,370,0.22371364653243847,2,13]
["North Carolina","SMS37000006500000001",535,536.29999999999995,536.1,535.9,537.1,538.6,536.70000000000005,537.79999999999995,537.1,537.29999999999995,536.6,536.20000000000005,null,536.5,535.20000000000005,536.70000000000005,536.70000000000005,536.6,536.29999999999995,537.20000000000005,537.1,533.1,537.5,538.29999999999995,537.6,null,536.9,537.6,537.79999999999995,539.6,538.79999999999995,539.1,539,539.1,540.79999999999995,541.5,542.5,543.29999999999995,null,545.70000000000005,544.9,545.20000000000005,546.1,547.20000000000005,548.5,549.29999999999995,550.1,551.5,552.5,553.29999999999995,554.29999999999995,null,554.9,554.79999999999995,556.20000000000005,557,557.1,557.79999999999995,559.29999999999995,560,560.9,569.6,565,565.70000000000005,null,561.5,561.29999999999995,564.79999999999995,567.4,567.79999999999995,567.6,568.9,570.20000000000005,568.6,571.20000000000005,572.1,572.4,570.6,571.9,571.1,572,573.1,573.6,573.5,573.5,573.5,574.29999999999995,576.4,575.5,578.70000000000005,580.1,581.29999999999995,583.29999999999995,583.79999999999995,583.29999999999995,586.79999999999995,588.4,588,587.20000000000005,586.79999999999995,589,589.4,591.70000000000005,592,593.20000000000005,593,597.70000000000005,599.70000000000005,604.5,604.4,605,605.1,0.10000000000002274,1.6528925619838469E-4,{"$f":"RANK(DK37,($DK$5:$DK$54))","v":28},30,18.300000000000068,3.1186094069529772E-2,5,5,16.100000000000023,2.7334465195246217E-2,6,9,68.399999999999977,0.1274455002794857,18,37]
["North Dakota","SMS38000006500000001",52.5,52.8,52.7,52.8,53.1,53.5,53.1,53.2,53.5,53.9,53.8,54.2,null,54.3,54.2,54.6,54.8,54.6,55,55.2,55.1,55.2,55.7,55.5,55.6,null,55.8,55.7,55.9,56,56.1,55.9,56.3,56.2,56.7,56.6,56.8,57,null,57,57.2,57.2,57.3,57.6,57.7,57.8,58,58,58.1,58.1,58.3,null,58.2,58.5,58.6,58.7,58.8,58.8,59,58.9,58.9,59.4,59.7,59.6,null,59.1,59.3,59.2,59.2,59.1,58.8,58.9,59.1,59.4,59.9,60.2,59.7,59.7,60,60,60.3,60.4,60.6,60.6,60.7,60.9,61.4,61.3,61.3,60.9,61.2,61.4,61.9,61.8,61.6,62.4,62.6,62.6,62.8,62.6,62.5,63.3,62.9,62.7,62.7,62.5,62.9,63.1,63.2,63.3,63.4,63,-0.39999999999999858,-6.3091482649842053E-3,43,49,0.39999999999999858,6.3897763578274532E-3,48,46,0.5,8.0000000000000002E-3,48,44,9.8999999999999986,0.18644067796610167,44,23]
["Ohio","SMS39000006500000001",822.1,823.4,824.1,824.4,825.1,826.7,828.3,830.5,831.4,833.2,834.4,836.2,null,837.2,836.8,839.6,837.9,836.7,836.4,839.5,841,843.2,845.2,846.4,845.5,null,845.9,847.5,848.1,850.2,854.8,850.8,854.9,853.6,853.9,854.3,855.5,857.6,null,860.5,861.6,863.9,864,865.5,867.1,866,866.6,867.3,868.7,869.4,870.5,null,869.8,873.7,873.9,875.7,876.6,878.3,882.8,883.1,877.5,878.7,882.1,881.1,null,884.7,886.2,887.9,889.3,890.3,890.8,891.7,893.2,893,890.6,890.1,890.2,898.1,899.1,899.3,902.8,904.6,904.6,908.5,908.3,908.5,914.1,914.5,917.1,915.3,916.8,918.2,919.9,921.7,920.1,925.3,925.1,926.3,932.4,932.3,934.2,926.5,931.3,938.1,938,941.2,944.5,943.1,946.5,953,948.7,946.8,-1.9000000000000909,-2.0027405923896814E-3,50,42,14.5,1.555293360506275E-2,11,33,12.599999999999909,1.3487475915221482E-2,12,35,118.5,0.14306410720753351,8,30]
["Oklahoma","SMS40000006500000001",216.7,216.7,216.8,217,217.5,218.7,219.6,219.9,219.8,220,220,220.1,null,220.1,220.6,220.6,221.4,221.4,221.4,221.2,221.6,221.6,223.1,223.1,223.1,null,222.4,220.4,221.7,222.1,222.6,222.6,224.2,223.9,224.4,224.3,224.3,224.4,null,225.2,225.2,225.1,226,226.3,225.8,225.8,226.6,226.8,227.2,227.6,228.2,null,228.1,227.9,227.8,227.3,227,227.2,226.7,227,227.1,226.4,226.4,227.1,null,227.5,227.7,227.6,227.8,227.5,228.2,228.2,227.9,227.9,228.7,229,230,229.5,229.6,229.7,230,230.6,231,231.4,231.6,232.2,233.5,233.2,231.4,233.8,234.1,234,233.3,233.2,232.2,233.9,233.8,233.7,234.8,234.9,234.6,234.7,237.4,236.8,235.3,236.2,235.6,239,239.6,239.8,240,239.2,-0.80000000000001137,-3.3333333333333808E-3,47,45,4.2999999999999829,1.830566198382283E-2,30,28,4.5999999999999943,1.9607843137254877E-2,25,22,19.599999999999994,8.9253187613843321E-2,35,47]
["Oregon","SMS41000006500000001",221.8,222,221.6,222.5,223,223.6,224,224.4,225.1,225,225,225.3,null,227.2,226.5,226.9,227.4,228.1,228.6,228.9,229.4,229.6,231.3,231.6,232.1,null,233.1,232.6,233.1,233.2,233.6,233.6,234.2,234.8,235.2,235.7,236.1,236.2,null,236,236.6,237.5,237.8,237.8,236.7,237.7,238.5,239.1,239.1,239.5,240.2,null,240.7,241.4,241.5,242,242.1,240.8,242.1,243,243.8,244.6,244.4,244.8,null,245.1,245.3,246.3,246.7,247,247.3,248.5,248.7,250.3,252.4,253.4,253.6,253.1,254.8,254.8,255.8,256.3,257.60000000000002,258.5,259.7,260.10000000000002,261,263.3,263,262.7,263.89999999999998,264.5,264.8,264.89999999999998,265.5,266.39999999999998,268.3,268.89999999999998,270.7,271.5,272.60000000000002,270.3,272.89999999999998,272.7,273.2,274.60000000000002,276.39999999999998,278.10000000000002,279.10000000000002,278.39999999999998,278.7,278.89999999999998,0.19999999999998863,7.1761750986720004E-4,27,28,7.3999999999999773,2.7255985267034908E-2,18,15,6.2999999999999545,2.3110785033015238E-2,18,16,54.899999999999977,0.24508928571428562,22,10]
["Pennsylvania","SMS42000006500000001",1107.5,1108.4000000000001,1107.4000000000001,1107.8,1109,1110.7,1112.3,1112.0999999999999,1110.4000000000001,1112.9000000000001,1115,1115.0999999999999,null,1117.3,1114.7,1117.5999999999999,1119.5999999999999,1124.4000000000001,1125.5999999999999,1127,1129.0999999999999,1127.7,1132.9000000000001,1132.8,1134.9000000000001,null,1134.4000000000001,1135.7,1136.7,1137,1140.7,1142.5,1142.5,1143.3,1144.9000000000001,1144.3,1146.7,1148.5,null,1149.3,1151.2,1155,1154.9000000000001,1154.8,1149.5,1149.2,1148,1155.4000000000001,1155.9000000000001,1156.5,1156.2,null,1156.7,1158.3,1158.2,1157.2,1155.2,1153,1154.4000000000001,1152.8,1161,1162,1163,1159.4000000000001,null,1170.7,1170.9000000000001,1174.7,1178.5,1180.3,1178.8,1180.5999999999999,1182.5999999999999,1185.3,1189.2,1188.7,1190.5999999999999,1185.2,1188.4000000000001,1185.5999999999999,1190.0999999999999,1190.3,1190,1189.4000000000001,1192,1193.5,1203.0999999999999,1205,1206.2,1204.3,1208,1210.2,1214.8,1215.7,1212.9000000000001,1220.5999999999999,1222.5999999999999,1226.9000000000001,1235.0999999999999,1240,1242.5,1239.9000000000001,1252.5,1250.5999999999999,1245.9000000000001,1248.7,1240.5,1250.3,1246.8,1255.9000000000001,1257.2,1260.2,3,2.3862551702195354E-3,6,22,20.200000000000045,1.6290322580645198E-2,4,32,17.700000000000045,1.4245472837022169E-2,4,31,147.90000000000009,0.13296772453474789,5,34]
["Rhode Island","SMS44000006500000001",99.3,99.9,99.5,99.3,99.3,100,99.7,99.9,100,100.2,100.7,100.7,null,101.3,101,101,100.8,101.2,101,101.6,102,101.9,101.2,101.5,101.9,null,101.4,101.6,101.8,102.4,102.6,102.7,103,102.7,101.9,102.6,102.5,101.9,null,102.3,103.2,103.1,102.3,102.9,102.9,102.8,103.5,105,103.7,103.4,104.3,null,105,104,104.5,104.2,104.3,105.3,104.3,104.3,105.2,105.5,105.6,103.2,null,105,104.8,104.7,105.1,105.3,105.1,105.7,105.7,105.2,104.9,105.1,104.9,105.8,105,105.4,105.5,105.7,105.6,106.5,105.6,104.4,105.3,105.6,104.9,105.4,106.1,106.3,106.1,106.4,106.4,106.4,105.8,106.2,106.9,106.9,106.8,106.8,106.6,107.6,106.7,107.6,106.7,107.8,108.1,106.7,107.2,107.8,0.59999999999999432,5.5970149253730811E-3,20,6,0.89999999999999147,8.419083255378778E-3,47,41,1,9.3632958801498131E-3,46,41,8.0999999999999943,8.1243731193580679E-2,48,48]
["South Carolina","SMS45000006500000001",207.1,207.2,207,206.7,207.9,208.3,209,209.5,208.4,209.1,209.5,209.3,null,210.9,211.3,211.4,213,213.7,213.8,214.3,214.6,214,214.9,214.7,214.9,null,214,214.6,214.8,214.7,214.9,215.7,214.8,214.3,214.8,213.8,213.8,213.8,null,214.4,214.2,214.6,214,214.1,213.4,213,213.6,215.7,216.1,216.6,216.7,null,216.4,217.1,217.1,217.8,217.8,217,217.3,218.3,219.2,220.9,221.7,221.2,null,223.1,222.8,224.3,225.6,225.4,225.8,226,226.4,226.3,227.6,227.5,227.8,231.2,231.9,232.5,233.1,234.1,234.4,235.3,236,236.4,238.3,239.9,239.7,238.3,238.9,239.8,240.4,241,241.5,242.5,242.6,243.3,243.7,244.3,245.4,245.9,244.7,245.8,244.7,244.9,246.9,247.8,248.8,249.2,251.3,251.2,-0.10000000000002274,-3.9793076004784216E-4,35,34,6.8999999999999773,2.824396234138345E-2,19,12,5.7999999999999829,2.3634881825590801E-2,20,14,42.199999999999989,0.20191387559808607,26,17]
["South Dakota","SMS46000006500000001",62.9,62.9,62.9,63,63.1,63.2,63,63,63.2,63.4,63.7,63.9,null,63.9,64,64,64.2,64.400000000000006,64.5,64.599999999999994,64.5,64.7,64.7,64.8,64.900000000000006,null,64.900000000000006,64.900000000000006,64.900000000000006,65,65.2,65.3,65.400000000000006,65.599999999999994,65.5,65.7,65.8,65.8,null,66,66,66.2,67.099999999999994,67.2,67.5,67.400000000000006,67.3,67.5,67.5,67.5,67.5,null,67.7,67.900000000000006,67.900000000000006,67.8,67.900000000000006,67.900000000000006,67.900000000000006,67.900000000000006,67.8,68.2,68.3,68.099999999999994,null,68.2,68.3,68.3,68.3,68.3,68.400000000000006,68.400000000000006,68.400000000000006,68.3,68.7,68.7,68.599999999999994,68.5,68.7,69,69.099999999999994,69.2,69.2,68.900000000000006,69.099999999999994,69.3,69.3,69.099999999999994,69.2,69.7,69.8,70,70.099999999999994,70.3,70,70.3,70.599999999999994,70.900000000000006,71,71,71.099999999999994,70.599999999999994,70.599999999999994,71.099999999999994,71.099999999999994,71.400000000000006,71.099999999999994,71.099999999999994,71.599999999999994,71.7,71.599999999999994,72.2,0.60000000000000853,8.3798882681565441E-3,19,1,1.2000000000000028,1.6901408450704265E-2,45,31,1.1000000000000085,1.5471167369901668E-2,45,30,9.2000000000000028,0.14603174603174607,46,29]
["Tennessee","SMS47000006500000001",363.6,363.3,362.7,363.9,365.3,367.2,366.1,366.4,366.6,367.1,367.9,368.6,null,369.1,368.9,370.3,372.3,372.1,372.5,373.6,375.1,376.4,378.3,378.5,379.5,null,379.1,380.4,380.6,382.5,384.3,383.1,385,385.5,387.4,387.6,388.3,388.9,null,390.4,391.6,392.4,392.2,391.5,392.3,391.9,392.5,394.1,394.6,395.1,395.1,null,395.5,396.2,396.6,396.5,395.8,395.1,394.3,394.7,395.6,397,399,398.9,null,399.8,399.8,400.4,401.8,401.2,400.3,402.3,403.2,404.4,405.7,406.2,406.3,411,410.9,411.9,411.9,412.6,412.4,414.2,415.2,415.8,419.1,419.8,423,419.2,421.3,421.1,421.8,422.9,422.3,425.1,426.2,427,428.6,428.8,430.4,421.9,427,427.8,430.3,429.4,427.2,427.4,430,433.2,434.9,438,3.1000000000000227,7.1280754196367509E-3,5,2,9.1999999999999886,2.1455223880596987E-2,16,22,7.6000000000000227,1.7657992565055815E-2,17,26,71.899999999999977,0.19639442775198027,16,19]
["Texas","SMS48000006500000001",1311.8,1314.8,1316.1,1324.1,1329.9,1335,1342.3,1344.8,1348.3,1353.8,1356.6,1358.8,null,1364.7,1368.8,1372.9,1375.2,1379,1382.8,1381.2,1384.1,1385.1,1391.2,1392.1,1394,null,1398.2,1397.4,1400.4,1406.4,1408.7,1412,1417.4,1419.9,1423.9,1423.8,1427.1,1429.5,null,1431.8,1434.5,1437.7,1435.5,1438.9,1442.7,1441.4,1448.1,1453.6,1457.1,1460.3,1464.3,null,1464.7,1471.7,1474.6,1477.7,1478.7,1480.8,1483.4,1487.2,1489.8,1498.9,1497.5,1500.7,null,1505.8,1510.4,1510.4,1514.4,1518,1519.8,1523.9,1527.6,1530,1540.3,1546.9,1553.1,1553.8,1560.6,1562.8,1568.5,1575,1578.3,1586.2,1591.3,1595.4,1598.3,1600.9,1604.4,1610.6,1615.5,1618.2,1620.5,1624.9,1625.8,1636.6,1640.3,1643.8,1649,1651.8,1658.6,1657.2,1668.9,1668.1,1678.6,1678.4,1688.3,1688.8,1688.3,1680.5,1684,1692.2,8.2000000000000455,4.869358669833756E-3,3,8,40.400000000000091,2.4458166848286774E-2,3,17,33.600000000000136,2.025804895695173E-2,3,20,349.90000000000009,0.26067198092825755,3,7]
["Utah","SMS49000006500000001",149.6,149.4,149.80000000000001,149.6,150.1,150.4,150.69999999999999,151.4,151.69999999999999,152.19999999999999,153,153,null,153.69999999999999,153.69999999999999,154.1,154.4,154.6,155.1,155.6,155.69999999999999,155.9,156.19999999999999,156,156,null,156.6,157.30000000000001,157.19999999999999,157.6,158.30000000000001,158.6,158.9,159.1,159.80000000000001,160.1,160.30000000000001,161,null,161.30000000000001,161.5,162.1,163.19999999999999,164.1,164.6,164.5,165.5,166.1,166.5,167.4,167.7,null,168.5,169.1,169.5,170.3,170.5,170.5,170,170.6,171,171.8,173.2,172.9,null,172.6,173.2,173.7,172,173.8,173.9,174.4,175.5,175.5,176.5,176.9,177,178.9,179.3,179.9,180.4,181.4,182.5,182.9,183.3,184.4,184.2,184.2,185.9,187.9,188.4,188.8,190.1,190.8,191.1,192.4,193,194.3,195.3,196,195.6,195.1,194.6,195.1,195.8,196.8,196.5,197.8,198.9,199.7,200.8,201.4,0.59999999999999432,2.9880478087649116E-3,20,20,5.4000000000000057,2.7551020408163294E-2,23,13,5.8000000000000114,2.9652351738241368E-2,19,6,50.700000000000017,0.33642999336430007,24,2]
["Vermont","SMS50000006500000001",59,59.4,59.6,59,59.9,59.7,59.2,59.4,59.3,58.8,58.8,58.8,null,59,58.9,59,59.2,58.9,58.9,59.2,59,59.4,59.9,59.2,59.3,null,59.1,59.6,59.5,59.4,59.5,59.4,59.4,59.5,59.9,59.5,59.6,59.7,null,60.1,60.1,60.4,60.3,60.4,60.5,60.9,61.2,61,61.3,61.1,61.3,null,61.3,61.2,61.4,61.5,61.4,61.7,61.9,61.9,61.9,61.8,61.8,62,null,62.5,61.9,62,62.2,62.3,62.6,62.5,62.5,62.6,62.6,62.7,62.9,63.2,63,63,62.8,63.4,63.3,63.5,63.1,63.2,64.2,64.5,64.7,64,64.2,64,64.3,64.400000000000006,64.2,64.7,64.5,64.400000000000006,64.7,64.400000000000006,64.599999999999994,65.5,65.099999999999994,64.8,64.900000000000006,65.3,65,66.2,66,66,65.8,65.5,-0.29999999999999716,-4.5592705167172825E-3,40,48,1.0999999999999943,1.7080745341614818E-2,46,30,0.90000000000000568,1.3931888544891731E-2,47,34,6.2999999999999972,0.10641891891891886,49,42]
["Virginia","SMS51000006500000001",456.5,457.4,457.9,457,461.5,463.6,462.3,463.1,459.4,460.1,461,461.7,null,460.8,459.3,462.4,462.7,467.3,469,472.3,472.1,468.9,473,473.6,473.2,null,474.8,474.8,475.6,473,469.9,471.8,476.2,476.8,478.7,478.2,478.9,471.4,null,481.1,481.6,482.2,482.7,478.6,482.1,484.8,488.1,489.7,491.4,492,486.7,null,493.8,495,496,495.6,492.4,494.1,496.2,498.1,498.9,499,500.9,502.9,null,493.3,493.4,493.9,494.9,495.6,494.8,495.9,495.3,495.2,499.3,498.6,499.3,504.8,505.2,505.7,506.5,507,508.1,511.8,512.70000000000005,513.20000000000005,516.70000000000005,518.20000000000005,518.20000000000005,523.70000000000005,525,526.29999999999995,527,528.20000000000005,528.20000000000005,530.29999999999995,532.1,535,540.70000000000005,539.4,538.1,534.20000000000005,540,541.6,544,543.29999999999995,544.29999999999995,548.6,553,554.70000000000005,554.9,555,0.10000000000002274,1.8021265092813614E-4,28,29,15.600000000000023,2.8921023359288141E-2,9,9,16.899999999999977,3.1406801709719337E-2,5,4,92.699999999999989,0.20051914341336791,12,18]
["Washington","SMS53000006500000001",404.4,405.1,406.7,406.8,408.8,409.9,411.1,412.5,413.6,415.3,416.6,418.4,null,419.3,420,421,422.1,422.7,423.6,423.7,423.9,424.4,426.6,426.7,426.7,null,429.3,428.3,428.8,428.4,428.5,429.9,431.1,431.2,431,430.9,431.1,431.9,null,431,431,432,431.9,432.5,433.2,432.6,433.1,432.5,432.6,432.9,433.7,null,434.3,435.4,435.5,436.5,436.7,436.6,440.9,440.7,441.8,440.3,441.3,443,null,448.9,450.2,449.4,450.6,451.5,452.7,454.5,455,455.6,457.1,458.9,460.2,455.1,455.3,455.5,457.1,457.3,458.7,454.7,455.6,456.5,459.9,460.1,461.4,457,458.4,459.8,461.3,462.4,462.7,462.9,465.6,467.2,468.8,470.4,471.2,474,474.4,476.3,475.9,477,476.2,478.8,479.6,482.2,478.1,481,2.8999999999999773,6.0656766366868377E-3,7,5,10.600000000000023,2.2534013605442226E-2,15,19,9.8000000000000114,2.0797962648556902E-2,14,19,69.899999999999977,0.17003162247628309,17,25]
["West Virginia","SMS54000006500000001",117,117.4,117.4,117.9,118.4,118.9,119,119.3,119.2,119.8,119.8,120,null,120,119.9,120.1,120.2,119.8,120.7,120.9,120.9,121.3,120.9,121.1,121.2,null,121.7,122.1,122,122.5,122.6,122.7,122.9,123.2,123.1,123.8,124.4,124.4,null,124.5,124.7,125,125.7,125.6,125.5,125.6,125.8,126.2,126,126.2,126.3,null,126.3,126.3,126.2,126,126,125.7,125.6,125.9,125.8,127,126.9,126.8,null,126.9,126.3,126.2,126.2,126.2,126.5,125.9,126.3,126.2,126.8,127,126.5,129.4,129.1,128.30000000000001,128.1,127.8,127.8,127.5,127.7,127.8,128.80000000000001,129.19999999999999,129.1,130,129.5,129.30000000000001,129.30000000000001,129.30000000000001,129.1,129.5,129.5,129.80000000000001,130.30000000000001,130.80000000000001,131.19999999999999,132.4,132.69999999999999,132.69999999999999,133,132.6,133.4,133.5,133.9,133.30000000000001,133.9,134.5,0.59999999999999432,4.4809559372665743E-3,20,13,3.6999999999999886,2.8287461773700215E-2,32,11,3.3000000000000114,2.5152439024390332E-2,33,11,15.5,0.13025210084033614,40,35]
["Wisconsin","SMS55000006500000001",405.3,406.1,406.4,405.6,406.2,407.7,407.2,407.7,406.1,406.9,406.4,405.7,null,407.4,407.8,408,405.9,406.7,408.2,408.9,409.3,406.2,406.9,407.5,407.7,null,407.4,407.8,406.8,409.1,410.9,410,411.2,411.5,412.4,413.1,413.2,414.4,null,412.9,415.1,416.4,417.6,418.2,418.2,415.5,417.5,420.4,422.1,421.8,422.7,null,419.7,422.9,423,424.2,423.3,423.3,421.7,423.6,425.1,427.7,428.7,430.6,null,427.6,429.4,428.8,429.4,429.1,430.7,429.9,429.1,430.9,433.3,433.1,433.1,432.8,433.8,434.7,433.8,434.4,435,434.9,435.8,435.7,440.7,440,440.6,441,442.2,442.6,443.4,443,443.7,446.4,446.6,447,448.8,449.6,449.2,450.6,448.7,450.1,450.2,448.4,449.2,449.8,451,451.6,452.5,451.9,-0.60000000000002274,-1.3259668508287794E-3,46,39,2.2999999999999545,5.1156583629892224E-3,36,47,2.6999999999999886,6.0106856634015776E-3,35,48,44.699999999999989,0.10977406679764241,25,41]
["Wyoming","SMS56000006500000001",25.4,25.3,25.5,25.4,25.7,25.6,25.7,25.7,25.7,25.8,26.1,26.2,null,25.9,26,26.1,26.3,26.2,26.3,26.4,26.5,26.5,26.8,26.8,26.7,null,26.9,26.9,27.1,26.9,26.9,26.7,26.5,26.7,26.7,26.6,26.3,26.7,null,26.5,26.5,26.4,26.5,26.5,26.6,26.5,26.8,26.7,26.6,26.8,26.9,null,26.8,26.6,26.9,26.9,26.8,26.8,26.7,26.9,26.7,26.8,27.1,27.1,null,27,26.9,27,27.1,27.1,27.1,27.1,27,27,27,27.3,27.2,26.9,26.8,26.9,26.8,26.9,27,26.9,26.9,27.1,27,27.4,27.4,27.5,27.6,27.8,27.7,27.6,27.7,27.7,27.6,27.6,27.6,27.6,27.6,27.8,27.9,28,27.8,27.6,27.7,27.6,27.6,27.6,27.3,27.1,-0.19999999999999929,-7.3260073260073E-3,39,50,-0.5,-1.8115942028985508E-2,50,50,-0.5,-1.8115942028985508E-2,50,50,1.4000000000000021,5.447470817120631E-2,50,50]

{"sheet":"Leisure&Hosp","index":8,"n_rows":54,"n_cols":130,"rows_kept":54,"cut":false,"hidden":false,"merged":[]}
[]
["Leisure & Hospitality"]
[]
["State Name","Series ID","Jan\n2009","Feb\n2009","Mar\n2009","Apr\n2009","May\n2009","Jun\n2009","2009-07-01","Aug\n2009","Sep\n2009","Oct\n2009","Nov\n2009","Dec\n2009",null,"Jan\n2010","Feb\n2010","Mar\n2010","Apr\n2010","May\n2010","Jun\n2010","Jul\n2010","Aug\n2010","Sep\n2010","Oct\n2010","Nov\n2010","Dec\n2010",null,"Jan\n2011","Feb\n2011","Mar\n2011","Apr\n2011","May\n2011","Jun\n2011","Jul\n2011","Aug\n2011","Sep\n2011","Oct\n2011","Nov\n2011","Dec\n2011",null,"2012-01-01","2012-02-01","2012-03-01","2012-04-01","2012-05-01","2012-06-01","2012-07-01","2012-08-01","2012-09-01","2012-10-01","2012-11-01","2012-12-01",null,"2013-01-01","2013-02-01","2013-03-01","2013-04-01","2013-05-01","2013-06-01","2013-07-01","2013-08-01","2013-09-01","2013-10-01","2013-11-01","2013-12-01",null,"2014-01-01","2014-02-01","2014-03-01","2014-04-01","2014-05-01","2014-06-01","2014-07-01","2014-08-01","2014-09-01","2014-10-01","2014-11-01","2014-12-01","2015-01-01","2015-02-01","2015-03-01","2015-04-01","2015-05-01","2015-06-01","2015-07-01","2015-08-01","2015-09-01","2015-10-01","2015-11-01","2015-12-01","2016-01-01","2016-02-01","2016-03-16","2016-04-29","2016-05-29","2016-06-29","2016-07-29","2016-08-29","2016-09-29","2016-10-29","2016-11-29","2016-12-29","2017-01-29","2017-02-28","2017-03-30","2017-04-29","2017-05-29","2017-06-29","2017-07-29","2017-08-29","2017-09-29","2017-10-29","2017-11-29","Month-to-Month","Month-to-Month %","Mo Chg Rank","Mo % Rank","Year-to-Year","Year-to-Year %","Yr Chg Rank","Yr % Rank","Year-to-Date Chg","Year-to-Date %","Year-to-Date  Chg Rank","Year-to-Date % Rank","Chg from Trough","% Chg from Trough","Trough Chg Rank","Trough % Chg Rank"]
["Alabama","SMS01000007000000001",171.9,171.5,170.8,170.3,170.7,170.1,169.8,169.1,169.3,169.1,169,169.5,null,168.4,166.7,167.7,167.4,167.4,167.1,166.6,166.7,166.9,168.2,168.7,169,null,167.6,168.2,168.5,169.1,167.6,167.8,169.7,170.3,170.5,170.3,170.2,170.4,null,171.3,172.2,172.9,174,173.8,174,173.5,174,174.4,174.6,175.1,174.9,null,176.3,176.4,176.8,177.9,178.2,178.8,179.3,179.2,180.2,183.1,184.5,184.7,null,181.9,181.9,182.5,182.9,183.1,183.6,184,184.8,184.6,188.1,187.4,188.2,187.2,188.6,187.9,187.9,188.8,188.5,189.5,189.6,189.5,191.2,191.9,192.5,194.9,196.1,196.3,196.8,197,196.9,197.9,198.5,199.1,198.7,199.6,199.1,202.7,203,201.3,201.6,204.2,208.1,208,206.4,205.9,205.5,205.9,{"$f":"DJ5-DI5","v":0.40000000000000568},{"$f":"DK5/DI5","v":1.9464720194647478E-3},{"$f":"RANK(DK5,($DK$5:$DK$54))","v":23},{"$f":"RANK(DL5,($DL$5:$DL$54))","v":21},{"$f":"DJ5-CX5","v":6.3000000000000114},{"$f":"DO5/CX5","v":3.1563126252505069E-2},{"$f":"RANK(DO5,($DO$5:$DO$54))","v":16},{"$f":"RANK(DP5,($DP$5:$DP$54))","v":6},{"$f":"DJ5-CY5","v":6.8000000000000114},{"$f":"DS5/CY5","v":3.4153691612255205E-2},{"$f":"RANK(DS5,DS$5:DS$54)","v":15},{"$f":"RANK(DT5,DT$5:DT$54)","v":5},{"$f":"DJ5-I5","v":36.099999999999994},{"$f":"DW5/I5","v":0.21260306242638394},{"$f":"RANK(DW5,($DW$5:$DW$54))","v":25},{"$f":"RANK(DX5,($DX$5:$DX$54))","v":19}]
["Alaska","SMS02000007000000001",31.5,31.5,31.3,30.7,31.5,30.8,30.8,30.8,31.4,31.6,31.2,31.1,null,31.3,31.2,30.9,31.2,31.3,31.3,31.4,31.4,31.6,31.9,32,32.4,null,32.4,32.5,32.299999999999997,32.4,32.299999999999997,32.299999999999997,32.4,32.5,32.6,32.9,32.6,32.6,null,32.9,32.9,32.799999999999997,33.299999999999997,33.1,33.299999999999997,33.1,33.1,33.299999999999997,34.9,33.5,33.5,null,33.4,33.799999999999997,33.6,33.5,33.5,33.5,33.4,33.4,33.5,33.700000000000003,33.6,33.5,null,34,34,34.1,34,34.5,34.1,33.9,34.1,34.1,34.5,34.6,34.799999999999997,34.799999999999997,34.799999999999997,34.799999999999997,34.9,35.5,34.9,35.1,35.1,35.299999999999997,34.6,35.299999999999997,34.799999999999997,35,35,35,35.299999999999997,35.4,35.200000000000003,35.299999999999997,35.6,35.4,36,36.200000000000003,36.1,36.700000000000003,35.799999999999997,35.5,35.6,37,36.200000000000003,35.9,35.4,36.200000000000003,36.4,35.700000000000003,{"$f":"DJ6-DI6","v":-0.69999999999999574},{"$f":"DK6/DI6","v":-1.9230769230769114E-2},{"$f":"RANK(DK6,($DK$5:$DK$54))","v":35},{"$f":"RANK(DL6,($DL$5:$DL$54))","v":48},{"$f":"DJ6-CX6","v":-0.5},{"$f":"DO6/CX6","v":-1.3812154696132596E-2},{"$f":"RANK(DO6,($DO$5:$DO$54))","v":40},{"$f":"RANK(DP6,($DP$5:$DP$54))","v":43},{"$f":"DJ6-CY6","v":-0.39999999999999858},{"$f":"DS6/CY6","v":-1.1080332409972259E-2},{"$f":"RANK(DS6,DS$5:DS$54)","v":40},43,{"$f":"DJ6-I6","v":4.9000000000000021},{"$f":"DW6/I6","v":0.15909090909090914},{"$f":"RANK(DW6,($DW$5:$DW$54))","v":46},{"$f":"RANK(DX6,($DX$5:$DX$54))","v":33}]
["Arizona","SMS04000007000000001",261.60000000000002,260.8,259.39999999999998,257.10000000000002,257.39999999999998,256.5,255.2,255.5,252.8,252.4,251.4,251.7,null,251.3,251.4,251.7,253.6,253.7,254.8,254.4,254.2,253.4,255.1,256.5,256.60000000000002,null,255.8,256.2,257.3,257.5,259,258.60000000000002,259.39999999999998,259.89999999999998,261.2,261.10000000000002,262.3,262.10000000000002,null,263.7,264.10000000000002,266.10000000000002,265.39999999999998,265.89999999999998,266.10000000000002,266.39999999999998,267.2,268.5,269.2,268.3,269.3,null,270.60000000000002,272.5,272.89999999999998,273.39999999999998,274.3,273.8,275,276.3,276.89999999999998,277.60000000000002,278,278,null,281.8,284,284.39999999999998,285,285.2,285.3,285.10000000000002,286.3,287.10000000000002,291.39999999999998,292.5,292.60000000000002,295.60000000000002,295.2,296,296.60000000000002,296.60000000000002,297.89999999999998,300,300.60000000000002,300.89999999999998,302.7,304.3,304.39999999999998,304,305,305.2,306.5,307.39999999999998,307.5,309.89999999999998,310.89999999999998,312.5,316.3,317.10000000000002,318.3,319.2,321,323,324.3,324.7,324.8,324.2,323.2,324.5,323.60000000000002,325.8,2.1999999999999886,6.7985166872681965E-3,8,13,8.6999999999999886,2.7436140018921439E-2,11,14,7.5,2.35626767200754E-2,12,18,70.600000000000023,0.27664576802507845,12,9]
["Arkansas","SMS05000007000000001",100.8,100.5,100.4,100,100.1,100.1,100.1,99.3,99.2,98.8,98.5,97.9,null,98.1,97.5,98,98.7,98.9,98.9,98.8,99.4,99.9,99.2,99,99.2,null,98.8,98.1,98.8,100.2,99.6,99.2,100.5,100.7,100.8,101.7,101.8,101.9,null,101.8,102.4,103.1,102.8,102.7,102.8,102.2,102.5,102.7,102.4,103.2,104.3,null,104.4,104.4,104.4,104.6,104.8,104.9,105.4,105,105.5,106,106.6,106.9,null,106.2,106.5,106.8,107.1,107.5,107.5,107.5,107.8,108.4,108.5,109.3,113.1,109.4,110.3,109.6,110.2,111.5,111.1,111.1,112.3,112.9,113.3,114.5,115.7,113.9,114.9,115.4,115.2,115.3,115,114.9,115.9,116,116.7,116.1,116.3,114.8,115.4,115.7,116.9,117,121.5,121.9,121.3,119.5,119.4,117.5,-1.9000000000000057,-1.5912897822445607E-2,43,47,1.4000000000000057,1.2058570198105131E-2,33,30,1.2000000000000028,1.031814273430785E-2,34,32,17.400000000000006,0.17382617382617388,34,29]
["California","SMS06000007000000001",1536.5,1526.2,1512.6,1507.9,1509.5,1501.3,1495,1491.7,1490.4,1493.2,1487.3,1487.9,null,1486.1,1484,1481.6,1500,1496.6,1498.8,1502.1,1504.8,1507.4,1517.7,1515.6,1524.9,null,1522,1525.7,1525.8,1526.6,1526.6,1524.4,1533.9,1537.7,1545.5,1548.8,1556.2,1556.4,null,1566.6,1571.7,1577.7,1584.3,1590.3,1595.2,1601.7,1610.3,1612.4,1619.1,1623.7,1628.8,null,1638.4,1647.1,1655,1662.3,1672.7,1673.8,1674.9,1675.1,1679.1,1687.6,1689.2,1696.6,null,1726.8,1734.8,1740.6,1746.8,1752,1756.7,1759.3,1763.6,1762,1768.1,1777.4,1784.5,1796.5,1803.7,1807.7,1813.8,1818,1818.6,1830.4,1834.4,1840.4,1852.8,1857.9,1864.8,1874.6,1879.7,1880.7,1890,1888.7,1888.9,1896.8,1898.2,1903.3,1918.2,1916.6,1922.6,1923,1927.4,1933.6,1942.4,1931.9,1934.2,1950.1,1938.2,1940.4,1957.6,1973,15.400000000000091,7.8667756436453275E-3,1,10,56.400000000000091,2.9427110508191637E-2,1,9,50.400000000000091,2.621450119629673E-2,1,11,478,0.31973244147157193,1,4]
["Colorado","SMS08000007000000001",265.8,264.8,263.3,262.8,264.10000000000002,261.7,262.3,261.60000000000002,261.7,261.3,260.3,259.60000000000002,null,260,260.5,259.8,261.8,261.5,262.3,263.2,263.89999999999998,264,266.10000000000002,265.5,267.89999999999998,null,268.89999999999998,267.7,269.3,269.60000000000002,269.8,270.60000000000002,271.10000000000002,272.3,274.39999999999998,273.7,274.39999999999998,274.89999999999998,null,275.39999999999998,275.10000000000002,277.89999999999998,277.89999999999998,278.3,279.8,280.2,280.7,281,281.7,282.8,283.39999999999998,null,284.8,286.39999999999998,287.2,288.39999999999998,289.8,290.5,291,290.8,291,294.3,291.5,293.60000000000002,null,295.10000000000002,296.10000000000002,297.3,298.60000000000002,299.89999999999998,299.60000000000002,300.60000000000002,301.39999999999998,303.3,305.89999999999998,304.8,306.10000000000002,306.5,308.89999999999998,308.7,309.39999999999998,311.10000000000002,311.7,312.5,312.89999999999998,315.60000000000002,317.8,319.39999999999998,325.2,319.60000000000002,320.60000000000002,320.5,320.60000000000002,321.3,322.2,324,324.5,325.5,330,328.8,327,327.8,326.8,329.2,332,331.1,334.3,333.7,331.5,331.2,335.1,336,0.89999999999997726,2.6857654431512302E-3,16,20,7.1999999999999886,2.1897810218978069E-2,15,23,9,2.7522935779816515E-2,10,8,73.699999999999989,0.28097598170034305,10,8]
["Connecticut","SMS09000007000000001",134.9,134.30000000000001,134,132.4,134.19999999999999,134,133.4,133.4,134.1,133.4,133.19999999999999,132.80000000000001,null,130.9,130.6,131.30000000000001,133.1,133.4,132.9,134,134.69999999999999,135.30000000000001,135.5,135.80000000000001,135.69999999999999,null,134.4,135.4,135.4,135.80000000000001,135.80000000000001,136.19999999999999,137.80000000000001,138.19999999999999,139,139.69999999999999,139.4,140.1,null,141.4,141.80000000000001,142.69999999999999,141.69999999999999,141.80000000000001,142.69999999999999,142.1,142.4,142.6,143.5,144,144.80000000000001,null,145.4,143.4,146.30000000000001,147.4,147.19999999999999,147.6,147.4,147.30000000000001,147.4,150.4,149.4,150.6,null,151.5,149.9,150.69999999999999,150.5,150.1,150,149.6,149.5,150,152.69999999999999,153.1,155,151.19999999999999,150.69999999999999,150.9,150.5,151.19999999999999,151,150.69999999999999,150.6,150.69999999999999,152.69999999999999,153.5,153.9,152,153.1,153.30000000000001,152.6,153.30000000000001,153.9,154.30000000000001,154.80000000000001,154.6,155.30000000000001,155.30000000000001,155.30000000000001,158.4,155.6,156,156.4,156.69999999999999,161.1,159.1,158.80000000000001,157,153.69999999999999,151.69999999999999,-2,-1.3012361743656475E-2,44,46,-3.6000000000000227,-2.3180940115904845E-2,50,48,-3.6000000000000227,-2.3180940115904845E-2,49,48,18.299999999999983,0.13718140929535219,32,40]
["Delaware","SMS10000007000000001",40.700000000000003,41.2,40.5,40.700000000000003,41.4,41,40.4,40.6,40.700000000000003,40.5,40.200000000000003,40.700000000000003,null,40.5,40,40.5,41.6,41.8,42.2,43,43,43.3,43.4,43.7,43.6,null,43.6,43.6,43.7,43.4,43.2,42.5,43.2,43.3,43.1,43.1,43.1,43,null,43.3,43.7,43.9,43.8,43.8,43.4,43.5,43.7,43.7,43.8,43.8,43.9,null,44,44,44.1,44.3,44.9,45.2,44.8,44.3,44.1,44.5,44.5,44.9,null,46.6,46.4,46.6,46.8,46.9,46.9,47,47,46.8,47.1,47.3,47.6,47.9,48,48.1,48.1,48.7,48.7,49,49.2,49.2,49.9,50,50.8,48.8,49.2,49.3,49.6,49.5,49.6,49.9,49.8,49.8,50.9,51.2,51,51.2,52.2,51.4,50.9,52.2,50.8,52,51.9,52.5,50.7,50.2,-0.5,-9.8619329388560158E-3,33,44,-1,-1.953125E-2,41,46,-0.79999999999999716,-1.5686274509803866E-2,42,46,9.8000000000000043,0.24257425742574268,43,16]
["Florida","SMS12000007000000001",945.8,940.9,935.9,931.8,929.4,926.2,923,920.7,919.9,918.3,916.6,913.8,null,916.7,919.5,920.8,924.6,928.4,931.2,931.9,935.1,936.2,941.9,943.4,944.7,null,944.5,940.6,945.5,948.9,952.4,953.8,958.4,961.7,967.1,968.3,972.1,973.1,null,981.4,982.4,989.1,992.5,993,996.9,999.2,1000.8,1003.7,1007.6,1010.1,1013.6,null,1015.7,1021,1024,1026,1031.2,1035.5999999999999,1041.2,1043,1045.7,1050.4000000000001,1052.5,1050,null,1062.7,1066,1070.5,1075.3,1079.2,1083.5999999999999,1087.2,1090.7,1095.7,1103.7,1109.2,1109.3,1111.2,1116.7,1117.9000000000001,1117.0999999999999,1122.5,1126.8,1132.9000000000001,1138.8,1143,1146.9000000000001,1147.5,1149.0999999999999,1160.9000000000001,1166.5999999999999,1165.8,1167.7,1170.5,1169.0999999999999,1174.7,1177.8,1183.0999999999999,1181.0999999999999,1192.5,1194,1199.4000000000001,1206.4000000000001,1194.3,1199.2,1208,1200.5,1205.9000000000001,1203.0999999999999,1163.0999999999999,1195.9000000000001,1197.7,1.7999999999999545,1.5051425704489961E-3,12,23,5.2000000000000455,4.360587002096474E-3,17,37,3.7000000000000455,3.0988274706868052E-3,23,36,274.70000000000005,0.29761646803900332,3,6]
["Georgia","SMS13000007000000001",384.9,383.8,381.5,381.6,381.6,381.4,380.1,378.3,377.3,376.8,375.5,374.1,null,372.1,370.9,371.3,371.9,372.1,373.3,375,375.1,376.5,377,377.4,377.9,null,373.3,379.3,380.2,380,381.3,381.1,382.4,383.3,384.2,384.2,386,386.3,null,388,388.4,390.8,392.2,393,393.6,393.1,393.7,394.3,398.7,398.4,401,null,403.6,404.8,404.6,408.3,408.2,410,413.1,414.1,414.7,415.8,417.9,420.8,null,421.1,420.2,422.4,426.1,426.5,427.3,429.5,431.2,432.6,437.1,441.7,444.6,439.9,443,442.9,443,444.8,448.3,449.1,451.2,453.3,457.7,458.7,459.8,459.7,460.9,460.8,464.1,466.2,467.8,469.2,470.8,473.7,478.2,479.5,481.6,485.4,485.4,486,483.8,480.5,488.7,492,490.1,493.3,492.8,493.4,0.59999999999996589,1.2175324675323983E-3,20,25,13.899999999999977,2.8988529718456679E-2,5,12,11.799999999999955,2.450166112956801E-2,6,16,113.29999999999995,0.29807945277558523,5,5]
["Hawaii","SMS15000007000000001",102.3,101.8,101.4,100.9,100.9,100.9,100.5,100.8,100.6,100.5,100.1,100.2,null,99.8,99.8,99.5,99.7,99.3,99.5,99.8,100.1,100.5,101.3,101.9,102.1,null,102.3,102.3,102.6,102.4,102.4,102.1,102.5,103.1,103.9,103.8,104.1,104.4,null,105.1,105.5,106,106.6,107,107.5,108,107.8,108.4,108.7,109,109.4,null,109.4,109.7,109.8,110.2,110.6,110.9,110.9,111.2,111.2,110.8,111.4,111.9,null,112.9,113.1,113.2,113.1,113,112.9,112.8,112.6,113.4,113.4,113.6,113.5,113.7,113.8,113.7,113.4,113.8,114.1,114.4,114.8,114.5,114.9,115.2,115.6,116.8,117.3,117.2,117.4,117.5,117.8,118.3,118.5,118.5,119.6,119.2,120.1,120,120,121.4,121,121.9,122.7,123,122.1,120.8,121.9,122,9.9999999999994316E-2,8.2034454470873101E-4,26,26,2.7999999999999972,2.3489932885906017E-2,27,20,1.9000000000000057,1.5820149875104127E-2,28,28,21.5,0.21393034825870647,31,18]
["Idaho","SMS16000007000000001",60.3,60,59.1,58.3,58.8,58.6,58.6,58.1,57.9,58.1,57.9,58,null,57.8,57.5,57.4,57.7,57.7,57.8,57.8,58,58.1,58.6,58.4,58.4,null,58.4,58.6,58.2,59,58.8,59.1,59.6,59.8,59.9,59.9,60.2,60,null,60,60.7,60.8,60.8,61.4,60.9,60.9,61.2,61.5,61.9,62.2,62.1,null,62.9,62.7,63,63.3,63.5,63.7,63.5,62.9,62.7,63.4,63,62.6,null,65,65.400000000000006,65.599999999999994,65.599999999999994,66.099999999999994,66.7,66.7,66.900000000000006,66.099999999999994,66.599999999999994,66.900000000000006,67,67.2,67.3,67.7,67.2,67.900000000000006,68.099999999999994,68.400000000000006,68.5,69.099999999999994,70.5,72.099999999999994,72.7,71,71.599999999999994,71.599999999999994,71.5,71.7,72.5,72.3,72.3,72.3,72.7,72.7,72.5,72.400000000000006,73,72.5,73.5,73.400000000000006,73,73.599999999999994,72.8,72.3,73.400000000000006,73.7,0.29999999999999716,4.0871934604904238E-3,24,17,1,1.3755158184319119E-2,37,28,1.2000000000000028,1.6551724137931073E-2,34,26,15.100000000000001,0.25767918088737202,37,12]
["Illinois","SMS17000007000000001",523.70000000000005,522.20000000000005,519.79999999999995,517.70000000000005,518.5,516.70000000000005,515.70000000000005,514.1,515.6,511.9,512.29999999999995,511.9,null,512.20000000000005,513.20000000000005,512.5,513.79999999999995,513.79999999999995,514.6,514.79999999999995,515.4,516.79999999999995,518.5,519.29999999999995,519.9,null,517.6,517,519.4,521.1,520.29999999999995,520.9,521.20000000000005,525,525.1,526.29999999999995,527,526.1,null,530.6,532,535.1,534.79999999999995,534.29999999999995,535.29999999999995,535.6,538.6,537.6,539.29999999999995,539.70000000000005,541.6,null,542.4,542.4,542.79999999999995,543.29999999999995,545,546.5,547.20000000000005,546.79999999999995,546.20000000000005,548,549.1,548.4,null,553.4,553.70000000000005,553.5,555.70000000000005,556.70000000000005,556.20000000000005,555.9,554.70000000000005,555.70000000000005,556.4,556.29999999999995,559.70000000000005,564.20000000000005,567.6,568.1,570.9,573.9,575.29999999999995,576.70000000000005,577.5,578.5,583.29999999999995,584.1,583.79999999999995,591.70000000000005,591.6,592.29999999999995,592.9,592,592.9,595.1,595,595.4,598.20000000000005,596.79999999999995,596.9,594,595.20000000000005,598.79999999999995,595.6,597.5,602.70000000000005,606.20000000000005,597.9,596.6,597,595,-2,-3.3500837520938024E-3,44,32,-1.7999999999999545,-3.0160857908846424E-3,45,40,-1.8999999999999773,-3.183112749204184E-3,46,40,79.299999999999955,0.15377157261974006,9,37]
["Indiana","SMS18000007000000001",280.2,280.10000000000002,279.3,278,278.39999999999998,277.8,276.8,275.5,275.60000000000002,273.89999999999998,273,272.5,null,272.7,272.89999999999998,272.10000000000002,273,271.89999999999998,272.8,273.10000000000002,274,274.10000000000002,274.60000000000002,274.5,275.10000000000002,null,275.60000000000002,276,277.10000000000002,276.8,277.10000000000002,276.7,277.89999999999998,278.10000000000002,278.60000000000002,278.7,279.8,280.39999999999998,null,281.8,283.89999999999998,285.3,284.7,284.3,285.10000000000002,285.2,285.2,285.60000000000002,286,287.2,288.5,null,288.39999999999998,288.7,288.5,289,289.8,291.10000000000002,290.2,289.10000000000002,290.8,292.5,293.5,294,null,290.89999999999998,290.60000000000002,290.3,292.8,293.5,294.5,294.8,294,293.89999999999998,295.2,294.2,295,298.3,299.2,299.60000000000002,299.89999999999998,300.60000000000002,301,301,301.5,302,303,303.8,304.60000000000002,304.8,306.10000000000002,306.60000000000002,307,306.7,306.2,307.60000000000002,307.89999999999998,308.7,308.60000000000002,309.5,310.2,308.89999999999998,305.7,307.5,307.8,308.10000000000002,307.3,310.39999999999998,306.5,308.3,308.8,306.3,-2.5,-8.095854922279792E-3,47,42,-3.1999999999999886,-1.0339256865912725E-2,49,42,-3.8999999999999773,-1.257253384912952E-2,50,44,29.5,0.10657514450867052,27,43]
["Iowa","SMS19000007000000001",133.9,133.80000000000001,133.30000000000001,132.5,132.9,132.9,132.9,132.80000000000001,132.6,132.30000000000001,131.4,129.9,null,129.9,130.1,129.30000000000001,129.6,130,129.80000000000001,129.6,129.6,129.80000000000001,130.19999999999999,130.30000000000001,130.6,null,131.1,130.5,130.9,131.4,131.6,131.80000000000001,131.19999999999999,131.80000000000001,132.4,132.19999999999999,132.69999999999999,132.9,null,133,133.69999999999999,134.30000000000001,134,134,134,134.6,134.5,134.4,134.6,135,135,null,135.6,136.19999999999999,136,135.19999999999999,135.6,136.1,136.80000000000001,136.80000000000001,136.6,138.4,138.9,138.19999999999999,null,137.80000000000001,137.9,137.9,137,137.6,137.5,137.30000000000001,137.1,137.6,137.69999999999999,139.30000000000001,139.69999999999999,139.1,139.19999999999999,139.5,139.1,139.4,139.4,139.19999999999999,139.19999999999999,139.19999999999999,140.1,141.30000000000001,141.6,142.30000000000001,142.4,142.80000000000001,143.30000000000001,142.4,142.30000000000001,142.30000000000001,142.1,141.9,143.30000000000001,143.80000000000001,142.69999999999999,145.30000000000001,144.5,142.5,142.30000000000001,141.30000000000001,144.5,144.9,143.80000000000001,145.9,147.6,148.1,0.5,3.3875338753387536E-3,22,18,4.2999999999999829,2.9902642559109755E-2,20,8,5.4000000000000057,3.784162578836725E-2,18,4,15.199999999999989,0.1143717080511662,36,42]
["Kansas","SMS20000007000000001",115.5,114.9,114.5,113.8,114,113.8,114.2,114.1,114.8,113.4,113.6,112.8,null,112.7,113,112.9,113,113,113.3,113.1,113.1,113.6,114,114.5,114,null,114.1,113.1,114.1,114.6,115,114.9,115.5,116,115.7,115.8,116,116,null,118.4,119,119.7,119.7,119.4,119.8,119.3,119.8,119.2,119.8,120.4,120.6,null,121.1,121,121,120.8,121.5,121.1,121.4,121.1,121.7,120.3,120.3,119.8,null,121.7,121.8,121.7,122.2,122.9,122.4,123.3,123.4,123.5,124.2,124.6,124.8,125.5,126,125.4,125.3,124.9,125.4,125.5,126.1,126.1,125.7,126.3,127.5,127.2,127.7,127.4,127.7,127.3,127.3,127.3,127.6,127.6,127.4,127.5,127,126.9,128.6,128.6,127.8,127.7,126.7,124.8,125.2,125.8,126.2,125.1,-1.1000000000000085,-8.7163232963550601E-3,37,43,-2.4000000000000057,-1.8823529411764749E-2,48,45,-1.9000000000000057,-1.4960629921259887E-2,48,45,10.899999999999991,9.5446584938703949E-2,41,47]
["Kentucky","SMS21000007000000001",169.5,169.3,169.6,167.6,168.7,168.7,168.6,167.5,167.7,166.6,166.2,165.6,null,165.2,165.2,165.3,166.4,166.3,167.7,166.9,168,168.4,169.9,169.8,169.8,null,168.3,169.1,169.4,169.9,169.5,169.7,170.1,170.7,170.8,170.6,171.4,171.3,null,172.3,173.5,174,173.6,175.2,174.9,174.2,174.9,175,176.4,177.3,177.6,null,179.8,178.7,178.6,178.9,178.6,178.6,179.4,179,179.6,177.8,177.9,178,null,181.4,181.1,180.8,183.4,182.2,182.8,183,182.9,182.9,183,184.8,185.4,186.2,186.3,184.6,186,186.8,187.4,187.8,188.4,188.9,190,191,189.5,191.6,192.3,192.8,193.1,193.2,193.2,194.4,194.8,194.7,192.9,192.1,190.6,193.3,193.4,193.8,195.3,195.5,196,195.5,193.3,193.6,193.2,195.3,2.1000000000000227,1.0869565217391422E-2,10,4,3.2000000000000171,1.6657990629880361E-2,24,26,4.7000000000000171,2.465897166841562E-2,20,14,26.700000000000017,0.15836298932384352,29,34]
["Louisiana","SMS22000007000000001",195.8,196.6,195.5,194.4,194.9,194.5,194.3,194.5,194.5,193.5,192.8,191.9,null,192.8,192.7,193.1,193.7,193.4,194.3,194.1,193.8,195.3,196.4,196.9,196.2,null,196.9,198.2,198.5,199.2,199.9,199.9,201,202.4,202.3,203.1,204.1,204.6,null,205.8,206,205.7,205.9,205.6,205.9,206.8,207.1,207.1,208.6,208.8,210.1,null,210.7,210.5,210.5,212.2,213.1,213.7,213.8,214.7,214.6,217.3,218.7,219.1,null,217.2,218.3,218.9,219.3,220.4,221.1,221.1,221.7,221.8,222.2,223.4,225,225.7,226.6,226.7,227.1,227.7,228.2,229.2,228.3,229.4,231.2,229.9,228.9,231.7,231.4,232,232.9,232.6,232,231.3,230.5,231.3,231.3,231.5,230.3,229.5,229.4,229.7,230.3,232.7,236.6,235.7,237.2,238.1,235.5,234.3,-1.1999999999999886,-5.0955414012738374E-3,38,37,2.8000000000000114,1.2095032397408256E-2,26,29,4,1.736864958749457E-2,22,25,40,0.20586721564590837,23,21]
["Maine","SMS23000007000000001",59.2,59.3,59.3,59.6,59.8,58.6,59.1,59.1,59.5,59.3,59.1,59.3,null,59.6,59.5,59.3,59.7,59.8,59.2,59.7,59.7,59.8,60.1,60.4,60.2,null,60,60.2,60.2,59.5,59.5,59.5,60.8,60.5,60.4,60.3,60.5,60.2,null,60.5,61,61.2,61.4,61.8,62.5,61.3,61.5,61.8,61.9,61.6,62,null,62.3,62,62.3,61.9,62.4,63.6,62.8,62.7,62.1,62.7,62.6,63.4,null,62.8,63.1,62.9,62.8,63,63,62.9,62.8,62.4,62.6,61.9,61.4,63.9,63.6,63.8,63.8,63.9,63.8,63.6,63.6,63.7,64.599999999999994,64.3,64.5,65,65.8,65.2,65.400000000000006,64.599999999999994,64.900000000000006,65.3,65.5,65.2,64.599999999999994,66,65.599999999999994,65.599999999999994,64.8,65,65.2,67,68,68.2,67.2,66.3,65.2,64.900000000000006,-0.29999999999999716,-4.6012269938649868E-3,31,35,-1.0999999999999943,-1.666666666666658E-2,43,44,-0.69999999999998863,-1.0670731707316901E-2,41,42,5.8000000000000043,9.8138747884940841E-2,45,45]
["Maryland","SMS24000007000000001",232.8,231.3,230.2,230.3,232.9,232,231.6,230.4,231.1,228.5,228.1,227.8,null,228.4,223.1,226.8,229.6,229.1,229.4,230.2,231.1,232.4,233.3,232.7,232.5,null,229.6,230.8,232.3,232.6,232.9,232.1,233.6,234.4,234.6,234.8,236.7,237.1,null,239.1,240.7,242,242.2,243.3,244.9,244.6,245.6,246.8,247.9,248.3,249.4,null,251.7,252.7,252,252.6,252.6,255.1,254.7,253.6,253.3,256.7,256,257.10000000000002,null,257.7,257.8,257,259.39999999999998,260.3,259.3,259.2,259,261,263.3,263.5,265.5,265.8,266.60000000000002,264.7,266.2,267.60000000000002,266.2,267.3,267.5,267.3,273.39999999999998,273.39999999999998,274.60000000000002,271.8,272.10000000000002,272.39999999999998,272.39999999999998,270.5,270.39999999999998,270.39999999999998,271.89999999999998,272.39999999999998,273,273.2,273.8,279.10000000000002,276,273.5,273.39999999999998,271.60000000000002,273.3,276.39999999999998,275.89999999999998,278,276.8,275.39999999999998,-1.4000000000000341,-5.0578034682082157E-3,40,36,2.1999999999999886,8.0527086383601343E-3,30,36,1.5999999999999659,5.8436815193570702E-3,31,35,43.799999999999983,0.18911917098445588,19,24]
["Massachusetts","SMS25000007000000001",298,299.8,299.5,298.5,302.60000000000002,299.8,299.10000000000002,299.7,300.60000000000002,299.39999999999998,299.8,301.10000000000002,null,303.89999999999998,303.7,302.60000000000002,306.8,307.3,305.60000000000002,307.3,307.89999999999998,308.8,311.5,311,311.2,null,310.39999999999998,309.8,311.7,314.10000000000002,312.8,310.89999999999998,316.3,317.89999999999998,317.39999999999998,317.89999999999998,318.89999999999998,318.5,null,322.2,324.89999999999998,324,323.8,323.5,326.10000000000002,326.2,325.2,326.5,326.89999999999998,327.2,328.6,null,329.5,329.9,331.8,331.8,332.8,334,332.1,332.8,333.7,337.7,338.5,338.3,null,338.5,339,340.8,338,340.1,340.7,342.4,342.3,341.8,343.9,344.6,346.6,347.5,344.8,345.9,346,350.6,348.9,350.4,350.5,348.9,349.6,349.3,349.2,356.7,358.8,359.3,359.9,360.4,360.4,362.5,362.7,362.8,361.9,360.9,363.2,362.4,362.1,362.8,358.9,360.8,362.5,363.8,360.9,362.2,367.9,372.1,4.2000000000000455,1.141614569176419E-2,3,3,11.200000000000045,3.1033527292879042E-2,8,7,8.9000000000000341,2.4504405286343706E-2,11,15,73,0.24406552992310263,11,15]
["Michigan","SMS26000007000000001",385.8,384.3,381.1,382.6,384.6,381.5,381.7,380.3,381.9,380.2,378.5,377.7,null,375.8,376.8,374.8,377.3,376.9,377.9,377.6,378.8,378.7,378.4,378.5,379,null,378.8,378.3,379.2,378.2,378.8,378.5,381.7,381.5,382.2,383.4,383.1,381.6,null,385.2,386.2,388.5,389.2,385.7,388.2,388.8,389,389.3,391,392,393.4,null,398.1,398.9,397.8,395.6,397.4,397.5,396.8,396.8,396.2,401.9,399.1,399.8,null,403,403.7,404.1,404.5,405.7,407.3,407.5,407.8,407.1,406.8,405.8,406.9,411.7,411.7,411.5,409.4,413,412.5,414.4,414.4,415.6,417.7,419.1,420.7,421.2,423,423.4,424.6,423.6,423.5,425.6,426.1,426.3,433.5,434,434.4,437.3,441.1,435.8,439.6,434.7,432.9,433.3,431.8,434.5,437.8,441.3,3.5,7.9945180447693002E-3,4,9,7.3000000000000114,1.682027649769588E-2,14,25,6.9000000000000341,1.5883977900552567E-2,14,27,59.600000000000023,0.15614356824731471,16,35]
["Minnesota","SMS27000007000000001",241.7,240.5,239.1,238.1,239.3,237.5,237.2,236.8,236.4,236,235.2,235.4,null,234.3,234,234.4,236.1,235.1,233.8,234.9,235.3,235.1,237.9,235.9,235.4,null,235.7,236.1,236.9,237.7,240.2,240,239.5,240.6,242.9,241.4,241.9,241.8,null,242.9,244.1,245.8,247.1,243.6,244.4,245.4,245.5,246.8,246.6,246.9,247.5,null,248.8,248.7,249.1,247.6,248.8,249.7,250.5,249.7,249.3,249.8,251.8,252.3,null,252.6,253,251.4,254.3,255,255.4,255.5,257,254.2,254.7,256.39999999999998,256.7,256.3,257,257.39999999999998,257.60000000000002,258.10000000000002,259.2,257.8,257.89999999999998,257.89999999999998,258.60000000000002,260.10000000000002,262.3,264,264.2,264.10000000000002,264.5,263.5,263.39999999999998,264.8,264.60000000000002,264.10000000000002,261.3,262.39999999999998,261.60000000000002,264.60000000000002,262,264.2,265.60000000000002,265.8,271.5,274,268.39999999999998,266.89999999999998,267.7,260.2,-7.5,-2.8016436309301458E-2,50,50,-2.1999999999999886,-8.3841463414633718E-3,47,41,-1.4000000000000341,-5.3516819571866742E-3,45,41,23,9.6964586846543008E-2,30,46]
["Mississippi","SMS28000007000000001",122.7,122.7,122.1,121.4,121,120.4,119.9,119.1,118.5,118.2,118.3,118,null,118,117.9,118.1,118.4,118.2,118.3,118.4,118.4,118.5,118.7,118.6,118.5,null,118,118.4,118.8,119.4,119.5,119.3,119.3,119.6,119.9,120,120.1,120.4,null,120.6,121.1,121.5,121.2,121.8,121.6,121.7,122,121.8,121.8,121.9,122.3,null,122.7,122.8,123.3,123.5,123.5,124,124.2,123.8,124.5,126,125.1,125.1,null,125.6,125.4,125.4,125.8,126.1,125.5,125.3,124.6,125.5,126.8,126.5,126.7,126.7,127.2,126.7,128,128.6,128.6,129.19999999999999,129.30000000000001,129.80000000000001,130.6,130.5,130.6,131.6,132,132.1,132.30000000000001,132.5,132.69999999999999,133.30000000000001,133.5,134,134.80000000000001,136.80000000000001,136.5,134.9,134,134.1,133.5,132.30000000000001,133.1,134.6,135.1,135,137.80000000000001,138,0.19999999999998863,1.4513788098692933E-3,25,24,1.1999999999999886,8.7719298245613198E-3,36,33,1.5,1.098901098901099E-2,32,31,18.099999999999994,0.1509591326105087,33,38]
["Missouri","SMS29000007000000001",277.3,276,275.39999999999998,273.5,275.2,273.5,271.2,273.2,271.2,271,270.60000000000002,270.89999999999998,null,270.3,271.7,270.8,272.3,271.10000000000002,270.39999999999998,272.7,272.39999999999998,273.5,272.8,272.60000000000002,272,null,270.60000000000002,269.5,270.39999999999998,269,269.10000000000002,269.10000000000002,272,272.7,270.3,272.39999999999998,271.8,272.2,null,272.7,272.7,274.39999999999998,274.5,274.60000000000002,275.10000000000002,274.60000000000002,274.60000000000002,273.60000000000002,275.8,276.8,277.39999999999998,null,280.2,279.2,278.89999999999998,279.89999999999998,279.89999999999998,280.39999999999998,280.60000000000002,280.7,282.60000000000002,283.89999999999998,284.10000000000002,284.7,null,284.60000000000002,284.5,283.8,285.89999999999998,285.5,285,285.8,286.2,284.89999999999998,287.3,285.2,287.3,290.5,292,289.8,290.7,292,291.39999999999998,292,291.8,293.5,287.60000000000002,287.2,285.60000000000002,298,299.10000000000002,299.60000000000002,301,299,300.10000000000002,299.3,300,299.89999999999998,303.2,306.60000000000002,307.10000000000002,307.10000000000002,312.39999999999998,309.5,305.39999999999998,306.3,310.89999999999998,308.7,309.3,311.60000000000002,313.8,314.39999999999998,0.59999999999996589,1.9120458891012297E-3,20,22,7.7999999999999545,2.5440313111545838E-2,13,19,7.2999999999999545,2.3770758710517596E-2,13,17,43.199999999999989,0.15929203539823006,20,32]
["Montana","SMS30000007000000001",57.6,57.6,57,57,57.1,57.1,56.8,56.7,56.6,56.3,56.1,55.4,null,55.6,55.6,55.2,55.4,55.5,55.3,55.8,56.2,56.4,55.6,55.7,56,null,55.8,56,56,56.3,56.5,55.6,56.3,56.4,56.8,57,57.1,57.3,null,57.3,57.2,57.4,57.7,57.8,58.1,58,58.3,58.3,58.6,58.5,58.5,null,59.3,59.9,59.8,60,59.8,59.9,60,60.1,60.2,60,59.7,59.6,null,60.8,60.5,60,60.2,60.2,60.1,60.3,60.3,60.3,60.6,60.8,60.1,61.4,61.8,62.1,62.1,62.3,62.5,62.5,62.6,62.5,61.4,61.4,61.2,63.7,64,63.9,64.7,64.400000000000006,64.5,64.599999999999994,64.400000000000006,64.599999999999994,64.5,65.2,65.2,65.099999999999994,65.5,64.900000000000006,65.900000000000006,65.5,66,66.2,65.5,65,66.3,66.900000000000006,0.60000000000000853,9.0497737556562378E-3,18,8,1.7000000000000028,2.6073619631901884E-2,31,16,1.7000000000000028,2.6073619631901884E-2,29,13,10.100000000000009,0.17781690140845086,42,27]
["Nebraska","SMS31000007000000001",82.6,82.3,82.5,81.400000000000006,81.8,81.400000000000006,81.2,81.099999999999994,81.099999999999994,80.5,80.5,79.8,null,80,80.2,79.8,80.3,80.400000000000006,80.7,81.099999999999994,81.5,81.400000000000006,81.5,81.400000000000006,81.3,null,81,81.3,81.5,81.900000000000006,82.2,82.1,82,81.900000000000006,81.8,81.900000000000006,82.1,82.3,null,82.8,83,84.3,84.4,84.4,84.4,84.5,84.1,84,84.3,84.6,85,null,85,85.1,84.8,83.9,84.4,84.6,84.9,85.6,86.2,86.5,86.1,85.3,null,87.7,87.8,87.3,86.7,87.1,86.9,86.6,86.6,86.4,86.5,87.1,88.7,87.6,87.9,88.1,87.4,87.7,88.2,88.4,88.6,88.9,89.1,88.4,89.2,89.5,89.7,90.2,90,90,89.8,90.5,90.7,91.2,90.8,91.4,91.1,90.1,91.8,90.5,91.4,91.2,92.5,92.9,93.3,94.1,93.9,94.8,0.89999999999999147,9.5846645367411235E-3,15,7,3.3999999999999915,3.7199124726476927E-2,23,3,3.7000000000000028,4.061470911086721E-2,24,3,13.599999999999994,0.16748768472906397,38,31]
["Nevada","SMS32000007000000001",316.7,313.7,309.89999999999998,308.5,308.60000000000002,307.7,306.5,304.60000000000002,304.60000000000002,304.2,303.89999999999998,309.10000000000002,null,308.5,309.3,308,308.3,308.5,310.2,309.2,308.7,308.2,308.8,309.60000000000002,311.3,null,312.10000000000002,312.7,314.60000000000002,315.5,316.2,315.7,315.5,315.8,316.5,317,317,316,null,315.39999999999998,316.39999999999998,317.2,317.10000000000002,316.8,317.10000000000002,317,316.5,316.8,317.5,318.2,318.5,null,319.8,320.2,321.3,322.5,322.89999999999998,323.8,324.89999999999998,326.60000000000002,327.3,327.3,329.3,327.2,null,329.1,330.6,332.5,333.7,335.6,335,335.9,339.9,340.2,341.3,341.4,342.2,340.1,341.2,341.1,340.3,340.4,340.2,340,341.1,340.9,340.7,339.8,339,342,342.9,342.7,344.2,344.4,345.6,346.6,347.3,347.9,346.7,348.9,349.7,351.1,351.9,351.2,354.5,349.4,349.1,350.4,351.2,351.8,352.8,350.3,-2.5,-7.0861678004535142E-3,47,40,1.4000000000000341,4.0126110633420297E-3,32,38,0.60000000000002274,1.7157563625965764E-3,36,38,43.800000000000011,0.14290375203915176,18,39]
["New Hampshire","SMS33000007000000001",62.5,62.3,62.2,61.7,62.6,61.5,62.1,62.1,62.4,61.9,61.8,62.1,null,61.9,62,62,62.1,62.3,62.3,62.4,62.4,63.3,63,62.5,63.1,null,63,63,63,63.5,62.9,62.1,63.3,63.8,63.3,63.4,64,63.8,null,63.7,64,64.2,64.099999999999994,64.3,64.7,64.400000000000006,64.599999999999994,64.5,65.2,64.900000000000006,65.099999999999994,null,65.599999999999994,65.5,65.7,66.2,66.2,66.2,65.900000000000006,65.900000000000006,65.7,67.5,67.2,67.3,null,66.900000000000006,67,66.8,66.599999999999994,67.099999999999994,66.900000000000006,67,67,66.900000000000006,66.599999999999994,67.2,67.3,68.2,67.8,68.2,68.400000000000006,68.8,68.400000000000006,68.7,68.400000000000006,68.3,68.2,68.8,69.099999999999994,69.400000000000006,70.099999999999994,69.5,69.599999999999994,69.2,69.5,69.5,69.7,69.900000000000006,72,72.5,72.5,75.599999999999994,75.3,75.099999999999994,75.900000000000006,71.8,71.8,71.599999999999994,72.5,71.400000000000006,72.400000000000006,73.099999999999994,0.69999999999998863,9.6685082872926594E-3,17,6,0.59999999999999432,8.2758620689654394E-3,39,34,0.59999999999999432,8.2758620689654394E-3,37,34,10.999999999999993,0.17713365539452483,40,28]
["New Jersey","SMS34000007000000001",336.7,335.6,334.7,331.1,335.9,333.6,334.1,334,335,332.6,333,333.8,null,331.4,329.3,331.8,334.2,334.4,334.4,333.8,334.3,335.5,336.8,335.9,335.8,null,333.1,333.6,334.5,334.5,335.1,333.7,335.7,336.3,336,337.4,338,338.7,null,342,344.1,346.8,344.7,344.7,347.2,347.7,348.7,348.6,349.5,340.9,345.6,null,349.8,350.4,352.2,352.3,353.4,355,354.2,354.1,355.5,355,354.6,349.3,null,357.3,356.3,357.3,357.9,360.5,358.7,358.4,357.9,356.8,358.5,358.6,358.2,355.6,355.9,355.6,357.1,360.5,357.6,360.8,361.2,362.3,363.1,364,364.2,364.7,367.5,368.8,368.5,368.2,369.9,370.9,371.5,371.3,372.8,372.4,375.2,377.8,378.1,372.9,375.8,377.7,380.8,388.1,390.3,384.9,384.6,386.2,1.5999999999999659,4.1601664066561773E-3,13,16,13.800000000000011,3.7056928034371675E-2,6,4,11,2.9317697228144989E-2,7,7,52.099999999999966,0.15594133492966167,17,36]
["New Mexico","SMS35000007000000001",85.2,84.9,84.5,84.3,84.5,84.1,84.1,84.2,83.9,83.5,83.4,83.5,null,83.4,83.4,83.4,83.6,83.6,84.1,83.8,83.6,83.6,83.7,83.8,83.9,null,84.1,84.4,84.6,84.6,84.2,84.1,84.2,84.5,85,85.2,85.3,85.3,null,84.7,85.1,85.1,85.3,85.5,86,86,86.2,86.1,88.4,87.7,87.8,null,87.7,87.7,87.3,87.7,87.7,87.3,88.8,88.4,87.9,88,87.7,88.1,null,90.2,89.9,89.9,90.1,91.1,90.7,91,90.9,90.9,91.3,91.2,90.5,92.2,92.5,92.6,92.9,92.9,92.9,93.2,93.1,93.2,93,94.5,94.9,94.5,95.3,95,94.9,95.2,95.3,95.9,96.1,96.5,95.7,97.4,97.8,98.2,98.4,97.8,97.9,98.6,100.9,99.5,99.4,98.6,100.2,100,-0.20000000000000284,-1.9960079840319646E-3,30,29,2.5999999999999943,2.6694045174537929E-2,28,15,2.2000000000000028,2.2494887525562401E-2,27,20,15.900000000000006,0.18906064209274681,35,25]
["New York","SMS36000007000000001",712.2,711.1,708.6,698,709.5,710.4,709.7,712.1,723,715.8,716.9,718,null,721.1,722.9,725.2,729.2,730.4,732.8,735.2,739.5,742.7,744.9,746.9,749.3,null,755.9,756.6,758.7,759.3,759.5,763.9,768.6,769,772.5,776.7,780.9,783.5,null,788.5,795.2,798.7,797.3,799.8,803.7,805.8,810.6,812.4,815.3,803.7,815.8,null,820,822.6,826.4,832.7,835.4,840.7,836.6,834.8,839.7,843.3,842.2,841.2,null,859.5,862.9,864.5,866.1,871.1,869.6,868.5,866.8,873.8,877,874.9,879.7,886.5,887.5,889.2,887.6,893.1,892.6,896.1,896.4,899.5,902.6,900.5,899.6,910.3,912.1,915.9,914.1,908.1,910.7,916.6,917.9,916.5,915.1,914.2,926.5,922.4,923.5,921.5,924.6,934.1,941.9,943.6,951.1,937.4,937.4,940,2.6000000000000227,2.7736291871133163E-3,6,19,25.799999999999955,2.8221395755852061E-2,3,13,13.5,1.4570966001079331E-2,4,30,230.29999999999995,0.32450331125827808,4,3]
["North Carolina","SMS37000007000000001",397.4,397.8,395.1,392.1,395.1,393,392.2,391.4,391.6,389.6,389.2,388.2,null,387.8,386.8,387.1,388.6,389.2,391.4,392.4,393.7,395.7,396.2,397.2,396.1,null,393.8,397.2,398.5,399.8,400.2,401.1,399.7,401.8,401.7,402.9,404.8,406,null,407.7,409.5,411.7,413.1,414.1,413.4,416.3,417.4,416.4,419.6,419.6,421.4,null,424.1,424.6,424.9,427.4,428.4,430.7,430.2,430.1,430.4,436.2,437.4,437.3,null,440.1,436.4,438.8,440.5,443.9,443.4,442.3,442.5,443.3,446.9,449.1,451.4,453.3,454.4,454.3,454.6,456.6,458.5,459.3,459.9,459.6,459.8,464,466.2,473.3,476.1,477.5,480,479.6,479.3,480.2,482,483,482.6,486.6,485.6,484.4,489.2,489,487.3,487.7,489.6,492.3,491.9,489,492.1,490.6,-1.5,-3.0481609428977849E-3,41,31,4,8.2203041512535959E-3,21,35,5,1.029654036243822E-2,19,33,98.400000000000034,0.25089240183579814,6,13]
["North Dakota","SMS38000007000000001",34,33.799999999999997,33.6,33.5,34,34.4,34.1,34.200000000000003,34.200000000000003,34.1,33.9,34,null,33.799999999999997,33.700000000000003,33.700000000000003,34.4,34.200000000000003,34.200000000000003,34.200000000000003,34.4,34.4,34.700000000000003,34.700000000000003,34.799999999999997,null,34.799999999999997,34.799999999999997,34.9,34.799999999999997,35.1,35.200000000000003,35.200000000000003,35.5,36,36,36.4,36.799999999999997,null,37.4,37.6,37.6,38,37.799999999999997,37.9,38.299999999999997,38.4,38.4,38.4,38.5,38.700000000000003,null,38.700000000000003,38.9,38.9,38.6,38.700000000000003,39,39.4,39.4,39.5,40,40.4,40.5,null,39.9,40,40.1,40.200000000000003,40.700000000000003,40.799999999999997,40.6,40.700000000000003,40.700000000000003,41.7,41.6,41.6,40.799999999999997,40.700000000000003,40.5,40.700000000000003,40.5,40.5,40.4,40.299999999999997,40.299999999999997,40.6,40.700000000000003,40.299999999999997,39.9,39.299999999999997,39.6,39.4,39.200000000000003,39,39.200000000000003,39.4,39.4,39.700000000000003,39.5,39.5,38.9,38.799999999999997,39.299999999999997,39.1,39.5,39.5,40.799999999999997,39.700000000000003,38.700000000000003,38.6,37.6,-1,-2.5906735751295335E-2,36,49,-1.8999999999999986,-4.8101265822784775E-2,46,50,-1.8999999999999986,-4.8101265822784775E-2,47,50,3.5,0.10263929618768328,48,44]
["Ohio","SMS39000007000000001",481.7,480.4,479.6,476.4,479.3,477.3,476.3,474.7,477.9,474,471.9,472.6,null,472.7,472.2,472,473.6,473.4,473.2,474.9,475.6,477.5,478.5,479.5,479.6,null,478.8,479.7,479.2,480.8,481.5,480.9,484.1,486.5,485.9,485.9,489.6,488.6,null,490.7,494.2,497.8,497.9,498.6,501,500.7,502.6,503.2,508.1,507,509.2,null,511.4,512.5,514,515.9,517.5,518.79999999999995,519.1,518.20000000000005,519.5,518.9,512,517.5,null,522.9,522.9,523.9,524.70000000000005,525.4,526.20000000000005,528.4,529.20000000000005,529.6,538.29999999999995,541.1,547.1,533,534.29999999999995,534.4,535.9,537.6,537.4,540,540.20000000000005,543.5,546.29999999999995,550.29999999999995,551.29999999999995,549.79999999999995,550.1,550.79999999999995,550.29999999999995,550.1,549.29999999999995,551.29999999999995,551.70000000000005,551.9,551.6,556.4,555.9,551.29999999999995,556.1,553.4,558.6,557.70000000000005,555.6,563.79999999999995,568.29999999999995,570.79999999999995,568.70000000000005,568.70000000000005,0,0,27,27,12.300000000000068,2.2106398274622699E-2,7,21,12.800000000000068,2.302572405108845E-2,5,19,92.400000000000034,0.19399538106235573,7,22]
["Oklahoma","SMS40000007000000001",141.30000000000001,141.6,141.69999999999999,140.80000000000001,140.5,140.4,140.19999999999999,139.80000000000001,139.30000000000001,138.9,138.69999999999999,136.69999999999999,null,137,137.30000000000001,137.80000000000001,138.9,139.19999999999999,138.9,138.80000000000001,139.19999999999999,139.69999999999999,140.30000000000001,140.69999999999999,141.30000000000001,null,141.30000000000001,139.19999999999999,141.6,143,143.1,143.1,143.6,144,144.4,144.19999999999999,144.30000000000001,144.5,null,145.1,145.69999999999999,146.30000000000001,147.1,147.30000000000001,147.6,146.1,146.6,147.19999999999999,148.19999999999999,148.69999999999999,149.1,null,149.6,149.80000000000001,149.80000000000001,150,150.69999999999999,150.80000000000001,151.6,152.30000000000001,152.80000000000001,153.5,155.30000000000001,154.6,null,154.69999999999999,155,154,154.80000000000001,154.19999999999999,154.69999999999999,155.69999999999999,156,156,155.80000000000001,155.30000000000001,155,158.30000000000001,159.4,158.80000000000001,158.6,160,161.19999999999999,161.6,161.9,161.80000000000001,164.1,165.5,165.1,164.5,165,165.6,164.5,163.69999999999999,163.5,163.6,163.9,163.6,165,164.5,166.2,164.1,164.5,165.2,164.2,165.5,163.80000000000001,166.6,168.4,167.3,169.8,169.3,-0.5,-2.9446407538280327E-3,33,30,4.8000000000000114,2.9179331306990949E-2,18,11,3.1000000000000227,1.8652226233453809E-2,25,23,29.100000000000023,0.20756062767475053,28,20]
["Oregon","SMS41000007000000001",166.3,165,164,163,163.19999999999999,163.1,162.4,161.9,161.9,161.80000000000001,161.80000000000001,161,null,161.19999999999999,161.19999999999999,161.30000000000001,161.9,162.19999999999999,162.69999999999999,162.5,162.4,162.5,163.6,163,163.69999999999999,null,164.3,165.2,164.8,165,164.6,165.2,165.6,165.9,166.8,166.1,165.9,166.8,null,167.3,167.9,168.4,168.7,169.4,169.4,170.3,170.7,171.2,171.8,172.3,172.8,null,173.5,174,174.7,175.6,176.3,176.9,177.1,177,176.9,178.8,179.6,180.2,null,181,179.9,180.9,182.1,182.5,182.1,182.5,182.7,182.7,183.4,184.5,184.8,187.5,188.6,189.3,189.7,190.8,191.3,192,192.3,192.6,194.1,194.4,194.4,196.6,197.9,198.1,199.1,199,199.4,199.7,199.4,200.2,200.2,200.3,200.1,199.7,199.1,199.6,200.9,201,203.3,206.2,202.7,199.1,203.1,204.3,1.2000000000000171,5.9084194977844272E-3,14,15,4,1.9970044932601096E-2,21,24,4.2000000000000171,2.0989505247376399E-2,21,21,41.900000000000006,0.25800492610837439,21,11]
["Pennsylvania","SMS42000007000000001",495.7,495.7,494.5,489.4,497.5,494.2,495,495,497.1,492.5,491.8,491.1,null,493.5,491,494.2,497.2,498.5,498.1,501.1,503.1,504.5,507,508.8,509,null,508,507.8,509.9,510.9,511.1,509.4,510.4,510.7,511.7,513.5,515.29999999999995,515.29999999999995,null,519.6,521.79999999999995,526.5,523.4,522.29999999999995,523.29999999999995,523.1,526.70000000000005,525.9,525,527.20000000000005,527.9,null,529.6,529.9,532.9,528.9,529.9,533.1,533.9,533.70000000000005,535,536.4,539.9,542.20000000000005,null,536.1,536.1,536.6,536.79999999999995,538.1,537.29999999999995,534.70000000000005,537.70000000000005,537.5,540.29999999999995,544,546.20000000000005,540.70000000000005,543,540.5,542.6,544.4,544.5,545.20000000000005,546.29999999999995,548.1,556.70000000000005,554.4,557.5,551.9,555.79999999999995,557.20000000000005,557.20000000000005,555.20000000000005,552.1,557.20000000000005,557.5,558.20000000000005,564.29999999999995,565.5,565.1,565.70000000000005,572.29999999999995,563.6,566.29999999999995,568.9,574.29999999999995,580.4,583.29999999999995,583.4,584.4,579.9,-4.5,-7.7002053388090354E-3,49,41,14.399999999999977,2.5464190981432322E-2,4,18,14.799999999999955,2.6190054857547256E-2,3,12,84.899999999999977,0.17151515151515148,8,30]
["Rhode Island","SMS44000007000000001",49.1,49.1,49,48.7,49.9,48.9,48.2,48.7,49.1,49,48.7,49.1,null,49.1,48.9,49,49.5,49.6,49.5,49.8,49.8,49.7,49.5,49.8,49.5,null,49.6,49.6,49.7,50,49.9,50,50.4,50.3,50.4,50.5,50.5,50.5,null,50.9,51.5,51.5,51.6,52,51.8,51.8,52.2,52.1,52.1,52.3,52.3,null,52.6,52.6,53,53.1,53.1,53.7,53.7,53.7,53.8,53.7,54.4,54.6,null,54.6,54.7,55,55.1,55.2,55.1,55,55.1,55.1,55,55.4,55.6,56.2,55.2,55.6,56.1,56.8,56.2,56.4,56.4,56.7,56.8,57.3,57.3,57.1,57.1,57.5,57.4,57.5,57.7,57.7,57.8,57.6,58.4,58.9,58.6,58.9,59.2,58.6,58.4,59.3,59.7,61.6,61.9,60.3,59.6,60.2,0.60000000000000142,1.0067114093959755E-2,19,5,1.3000000000000043,2.2071307300509411E-2,34,22,1.6000000000000014,2.7303754266211629E-2,30,10,12,0.24896265560165973,39,14]
["South Carolina","SMS45000007000000001",212,211.5,210.3,209.3,210.3,208.3,207.9,207.6,207.4,206.3,205.2,205.1,null,205.7,206,205.7,206.8,206.8,206.6,208,208.1,210,209.1,209.1,209.3,null,206.2,208.7,209.5,210.3,212,211.4,210.9,211.7,212.1,211.6,212.5,213.3,null,214.2,214.7,216.7,216,215.3,216.8,216.5,217.3,216.5,217.9,218.6,218.9,null,219.8,220.4,219.4,221.2,221.3,222.7,223.7,223.4,224,227.4,228.3,229.8,null,227.6,226,227.8,228,228.1,227.9,227.5,227.6,227.8,230.4,232.5,230.3,236.4,237.8,236.6,235.4,236.9,236.7,238.3,238.9,238.8,240,240.5,241.7,244.7,245.6,246.1,246.2,246.7,246.7,248.2,248.2,248,246.8,247.3,247.5,245.8,244.8,244.9,247,248.6,248.4,250.1,248,244.8,249.7,248,-1.6999999999999886,-6.8081698037644718E-3,42,39,0.69999999999998863,2.8305701577031484E-3,38,39,0.5,2.0202020202020202E-3,38,37,40.099999999999994,0.19288119288119285,22,23]
["South Dakota","SMS46000007000000001",43.2,43.1,43.1,42.4,43,42.8,43.2,42.8,43.4,42.7,42.7,42.5,null,42.4,42.5,42.5,42.7,43,43.1,43,43.3,43.1,43.4,43.4,43.3,null,43.1,43.2,43.1,43.1,42.9,43.1,43.3,43.5,43.9,43.8,43.8,43.9,null,44.1,44.2,44.4,44.5,44.4,44.4,44.2,44.2,44.3,44.4,44.3,44.6,null,44.7,44.6,44.6,44.1,44.6,44.5,44.7,44.7,44.7,44.5,44.4,44.2,null,45.5,45.5,45.4,45.3,45.5,45.1,45,45.1,45.5,45.9,45.3,45,45.8,45.9,45.9,45.8,46,45.9,46,46,46.1,46.3,46.4,46.5,46.7,46.6,46.6,46.9,46.5,46.5,46.7,46.7,46.8,47.6,47.7,47.8,46.9,47.5,47.9,48.7,48.2,48.8,47.9,47.8,47.3,46.9,46.7,-0.19999999999999574,-4.2643923240937255E-3,29,34,-1,-2.0964360587002094E-2,41,47,-1.0999999999999943,-2.3012552301255113E-2,43,47,3.5,8.1018518518518517E-2,48,48]
["Tennessee","SMS47000007000000001",267.89999999999998,266.10000000000002,265,263.3,265,263.89999999999998,262.89999999999998,262,262.10000000000002,261.7,261.39999999999998,261.2,null,261.7,260.3,260.3,260.89999999999998,260.89999999999998,262.60000000000002,262,262,262,263.60000000000002,263.8,263.3,null,263.60000000000002,264.5,264.8,265.2,266.7,266,267.5,268.7,270.2,269.60000000000002,270.7,272.7,null,273.3,273.89999999999998,275.60000000000002,275.8,276.3,276.3,275.89999999999998,277,276.89999999999998,279.2,280.10000000000002,281,null,281.5,282.39999999999998,283.8,284.10000000000002,284.8,285.89999999999998,287.3,287.39999999999998,288.10000000000002,290.5,292.2,292.2,null,290.60000000000002,291.5,292.8,294.2,294.89999999999998,295.8,297.3,298.2,299.89999999999998,299,299.3,300.2,302.39999999999998,304.10000000000002,301.89999999999998,304.8,307,307.5,309.10000000000002,309.8,311.2,311.7,311.2,312.60000000000002,315.39999999999998,316.39999999999998,317.10000000000002,318,317.8,319,319.7,321.10000000000002,322.60000000000002,323.3,323.5,325.5,328.1,328.6,328.1,325.2,325.3,327.9,329.9,331.3,328.9,329.3,331.8,2.5,7.5918615244457942E-3,7,12,8.3000000000000114,2.5656877897990763E-2,12,17,6.3000000000000114,1.9354838709677455E-2,16,22,68.900000000000034,0.26207683529859277,13,10]
["Texas","SMS48000007000000001",1012.1,1011.6,1008.9,1006.5,1007.1,1007.4,1006.5,1005.5,1004.2,1001.1,999.3,998.4,null,997.2,998.1,999.5,999.7,1002.5,1003.8,1003.7,1007.7,1011.5,1021.2,1023.3,1026.5,null,1025.8,1023.3,1033.3,1037.2,1038,1038.4000000000001,1039.7,1045.2,1048,1052.7,1056.5999999999999,1057.3,null,1061.8,1064.3,1070.5,1074.7,1079,1085.5999999999999,1084.5999999999999,1093.0999999999999,1099.4000000000001,1101.9000000000001,1107.4000000000001,1113.3,null,1118.3,1125.4000000000001,1127,1130.5,1134.5,1138.7,1142.5999999999999,1144.9000000000001,1148.2,1161.0999999999999,1161.2,1163.9000000000001,null,1164.7,1168.3,1173,1176.4000000000001,1180.2,1184.9000000000001,1189.7,1191.4000000000001,1197.5,1209.4000000000001,1212.0999999999999,1212.5,1215,1224,1218.2,1227.5999999999999,1231.7,1236.2,1244.2,1248.3,1255.9000000000001,1269.3,1270.7,1276.0999999999999,1275.3,1280.0999999999999,1280.3,1284,1285.5,1286.5,1290.3,1294.0999999999999,1296.4000000000001,1304.5999999999999,1310.0999999999999,1312.6,1321.1,1325.5,1313,1320.7,1322.2,1320.6,1327.3,1330.5,1310.9,1340.5,1348.5,8,5.9679224170085792E-3,2,14,38.400000000000091,2.9310739638195631E-2,2,10,35.900000000000091,2.7350297120219483E-2,2,9,342,0.33979135618479883,2,2]
["Utah","SMS49000007000000001",112.5,112.3,112.1,111.7,111.4,110.8,110.6,110.7,110.5,109.6,109.7,109,null,109.4,109.6,109.3,111.2,110.5,110.8,110.9,111,110.4,111.5,111.4,112.3,null,112.6,112.5,112.6,113,113.2,113.5,113.8,113.9,114.6,114.4,113.5,114.6,null,115.4,115.7,116.4,117.2,119.2,118.6,118.7,119.3,119.8,120.3,121.2,121.3,null,121.4,122.1,122.7,122.4,123.1,123.8,124.1,124,123.7,126.1,126.5,126.4,null,125.9,126.5,126.8,127.6,127.7,127.8,128.30000000000001,128.9,129.19999999999999,130.80000000000001,130.9,132.1,130.5,131.6,132,131.80000000000001,133,133.5,134.5,134.9,135.30000000000001,137.6,137.19999999999999,138.69999999999999,135.6,136.6,137,137.6,138.19999999999999,138.6,139.5,139.4,139.9,140.9,140.19999999999999,140.69999999999999,141.80000000000001,140.19999999999999,141.9,142.80000000000001,142.69999999999999,141.69999999999999,142,142,144.19999999999999,146.6,150,3.4000000000000057,2.3192360163710818E-2,5,2,9.8000000000000114,6.990014265335244E-2,9,1,9.3000000000000114,6.6098081023454242E-2,8,1,39.400000000000006,0.35623869801084995,24,1]
["Vermont","SMS50000007000000001",32.6,32.200000000000003,32,31.5,31.7,31.3,31.1,31.4,31.7,31.8,32,32.1,null,32,32.299999999999997,32.1,32.299999999999997,32.200000000000003,32.299999999999997,32.700000000000003,32.1,32.700000000000003,33.200000000000003,32.9,33.1,null,32.9,32.6,32.9,32.700000000000003,32.700000000000003,32.5,32.700000000000003,32.799999999999997,32.6,32.700000000000003,32.9,32.9,null,33.200000000000003,33.200000000000003,33.1,31.1,33.6,33.9,33.799999999999997,33.4,33.9,33.4,33.9,33.9,null,33.9,34,34.1,34.1,34,34.200000000000003,34,34.200000000000003,34.200000000000003,34.799999999999997,35.9,35.4,null,34.799999999999997,35.1,35.299999999999997,35,35.200000000000003,35.1,34.700000000000003,35.200000000000003,35.1,35.5,37.700000000000003,36.200000000000003,35.9,35.9,36.1,36.1,36.1,35.799999999999997,36,36.200000000000003,36.5,37,37.6,36.4,35.799999999999997,36,35.5,34.700000000000003,36.1,36.5,37.1,36.799999999999997,37.299999999999997,37.799999999999997,37.9,37.9,38.299999999999997,38.9,37.9,38.299999999999997,37.5,37.6,38.4,38.4,38,38.200000000000003,40.299999999999997,2.0999999999999943,5.4973821989528646E-2,11,1,2.3999999999999986,6.3324538258575161E-2,29,2,2.3999999999999986,6.3324538258575161E-2,26,2,9.1999999999999957,0.2958199356913182,44,7]
["Virginia","SMS51000007000000001",343.8,343.1,340.6,340.6,344.2,342.9,342,341.2,341.4,340.1,339.2,338.5,null,336.8,333.1,336.2,340.6,340.9,342.1,342.7,343,344.8,345.1,345.3,345.1,null,344.1,345.1,345.8,347.6,348.2,348.4,349.8,350.5,351,352.3,352.9,353.6,null,355.3,357.2,358.1,357.1,357.1,355.7,357.1,359.2,360.2,361.6,363.4,365.2,null,366.4,365.5,365.1,365.5,364.5,362.8,365.5,365.7,366.7,368.5,373.2,371.2,null,369.8,367.8,368.3,370.2,371.4,371.3,370.9,371.1,371.5,372.8,376.1,377.3,378.9,379.2,378,379.1,380.3,381.2,384.4,386,387.3,389.2,392.8,393.2,395.8,397.4,399.3,398.3,396.2,396.3,397.2,398.6,399.2,399.2,399.5,398.4,402.8,405.5,403.2,400.8,400.1,407.5,406.5,408.9,403.7,406.6,404.3,-2.3000000000000114,-5.6566650270536431E-3,46,38,4.8000000000000114,1.2015018773466862E-2,18,31,5.9000000000000341,1.4809236947791252E-2,17,29,62.300000000000011,0.1821637426900585,15,26]
["Washington","SMS53000007000000001",276,274.7,272.5,268.10000000000002,269.89999999999998,269.60000000000002,269.60000000000002,268.7,268.2,267.3,265.89999999999998,264.8,null,265,264.8,265.2,266.10000000000002,266.10000000000002,266.2,266,266.2,266.7,268,267.7,268.60000000000002,null,269.3,269.39999999999998,267.5,270.10000000000002,270.5,270.89999999999998,270.7,271.10000000000002,271.89999999999998,271.5,272.39999999999998,273.2,null,273.7,274.8,275.5,275.7,276.10000000000002,276.39999999999998,277.10000000000002,277.60000000000002,278.3,279.5,280.2,281.39999999999998,null,282.8,282.60000000000002,283.7,284.8,287,287.5,288.3,289,289.2,287.10000000000002,289,291.10000000000002,null,296.8,295.60000000000002,296.10000000000002,295.60000000000002,296.10000000000002,296.2,296.7,297.89999999999998,297.3,296.7,297.39999999999998,297.5,303.5,304.8,304.8,305,307.2,309,309.7,310.89999999999998,310.60000000000002,312.8,315.5,315.7,317,319,319.8,321.8,322.39999999999998,323.2,325.39999999999998,325.89999999999998,325.39999999999998,330.6,331.1,334,328.8,329.8,332.5,332.1,335.3,335.6,333.5,333.3,335.7,335.5,334.1,-1.3999999999999773,-4.1728763040237773E-3,39,33,3,9.060706735125339E-3,25,32,0.10000000000002274,2.994011976048585E-4,39,39,64.5,0.23924332344213647,14,17]
["West Virginia","SMS54000007000000001",72.5,72.2,72.400000000000006,71.599999999999994,72.2,71.900000000000006,71.900000000000006,71.8,71.599999999999994,71.400000000000006,71.5,71.599999999999994,null,71.400000000000006,71,71.400000000000006,71.8,71.7,72.400000000000006,72.2,72.5,72.7,72.900000000000006,72.599999999999994,72.599999999999994,null,72.099999999999994,72.3,72.400000000000006,72.599999999999994,73,72.8,72.8,73.099999999999994,72.900000000000006,73.3,73.400000000000006,73.5,null,73.3,74.099999999999994,74.599999999999994,74.400000000000006,74.3,73.8,74.3,74.3,74.400000000000006,74.7,74.400000000000006,74.599999999999994,null,75.2,74.8,74.8,74.7,74.7,74.599999999999994,74.5,74.099999999999994,73.900000000000006,74.8,74.099999999999994,74.2,null,74.2,74.2,74.3,74.2,74.099999999999994,74.2,74.2,74.099999999999994,73.900000000000006,73.7,72.3,72.7,74.8,74.3,74.099999999999994,74.400000000000006,74.400000000000006,74.400000000000006,74.599999999999994,74.400000000000006,74.5,75,74.7,74.7,75,74.900000000000006,74.900000000000006,74.900000000000006,75.099999999999994,74.900000000000006,74.8,74.599999999999994,74.7,74.3,74.7,74.599999999999994,73.5,73.900000000000006,74.400000000000006,74.8,73.599999999999994,72.900000000000006,73.599999999999994,73.8,75.099999999999994,75.900000000000006,75.900000000000006,0,0,27,27,1.2000000000000028,1.6064257028112486E-2,35,27,1.3000000000000114,1.7426273458445194E-2,33,24,4,5.5632823365785809E-2,47,49]
["Wisconsin","SMS55000007000000001",254.8,255.2,254.2,252.5,255.1,253.9,252.3,251.3,251.6,250.3,250.2,250,null,250.3,250,249.8,251.6,251.3,250.9,251.3,252.1,251.7,252.8,253.1,252.8,null,252.1,252.1,251.2,251.2,251.5,251.7,253,253.2,253.1,253.7,253.6,252.8,null,254.2,255.1,257,257.5,256.89999999999998,257.3,257.5,256.7,257.89999999999998,256.60000000000002,257.60000000000002,258.7,null,259.10000000000002,259.60000000000002,259.8,257.10000000000002,260,260.3,260.60000000000002,260.89999999999998,260.89999999999998,264.60000000000002,263,263.7,null,263.89999999999998,263.5,263.2,263.10000000000002,262.8,263.7,262.3,261.7,261.5,265.5,265.89999999999998,267.89999999999998,268.39999999999998,268.2,269.5,269.39999999999998,269.8,269.89999999999998,269.3,269.5,269.39999999999998,270,268.8,268.10000000000002,275.2,276.2,275.5,275,274.7,274.10000000000002,275.3,275.2,274.60000000000002,274.60000000000002,274.3,274.3,273,278.10000000000002,275.89999999999998,277.60000000000002,278.8,284.89999999999998,282.3,282.10000000000002,280.10000000000002,281.2,283.39999999999998,2.1999999999999886,7.8236130867709412E-3,8,11,9.0999999999999659,3.3175355450236844E-2,10,5,9.0999999999999659,3.3175355450236844E-2,9,6,31.099999999999966,0.12326595323028126,26,41]
["Wyoming","SMS56000007000000001",33.799999999999997,33.5,33.5,33.200000000000003,33.4,32.9,32.9,32.700000000000003,33.1,32.200000000000003,32.299999999999997,31.9,null,32.1,32.4,31.9,32.5,32.6,32.799999999999997,32.799999999999997,33,33.200000000000003,32.9,32.6,32.799999999999997,null,32.6,32.6,32.700000000000003,32.5,32.799999999999997,33,33.1,33.299999999999997,33.700000000000003,33.299999999999997,33.299999999999997,33.6,null,33.5,33.6,33.700000000000003,33.799999999999997,33.9,33.9,34,33.9,33.799999999999997,34.1,34.1,34.299999999999997,null,34.299999999999997,34.299999999999997,34.299999999999997,34.6,34.5,34.5,34.5,34.5,34.799999999999997,36,35.9,35.5,null,35.1,35.200000000000003,34.9,35.299999999999997,35.200000000000003,35.4,35.200000000000003,35.299999999999997,35.299999999999997,35.200000000000003,35.9,36,36,36.1,36.1,36.200000000000003,36.200000000000003,36,36.200000000000003,36.1,36.1,35.6,35,34.799999999999997,35.799999999999997,35.700000000000003,35.700000000000003,35.5,35.799999999999997,35.9,35.9,36,35.799999999999997,35.1,34.9,35,35.799999999999997,35.4,35.5,35.6,35.200000000000003,34.6,34.9,34.799999999999997,34.1,34.1,33.700000000000003,-0.39999999999999858,-1.1730205278592334E-2,32,45,-1.1999999999999957,-3.4383954154727669E-2,44,49,-1.2999999999999972,-3.7142857142857061E-2,44,49,0.80000000000000426,2.4316109422492533E-2,50,50]

{"sheet":"Govt","index":9,"n_rows":54,"n_cols":130,"rows_kept":54,"cut":false,"hidden":false,"merged":[]}
[]
["Government"]
[]
["State Name","Series ID","Jan\n2009","Feb\n2009","Mar\n2009","Apr\n2009","May\n2009","Jun\n2009","2009-07-01","Aug\n2009","Sep\n2009","Oct\n2009","Nov\n2009","Dec\n2009",null,"Jan\n2010","Feb\n2010","Mar\n2010","Apr\n2010","May\n2010","Jun\n2010","Jul\n2010","Aug\n2010","Sep\n2010","Oct\n2010","Nov\n2010","Dec\n2010",null,"Jan\n2011","Feb\n2011","Mar\n2011","Apr\n2011","May\n2011","Jun\n2011","Jul\n2011","Aug\n2011","Sep\n2011","Oct\n2011","Nov\n2011","Dec\n2011",null,"2012-01-01","2012-02-01","2012-03-01","2012-04-01","2012-05-01","2012-06-01","2012-07-01","2012-08-01","2012-09-01","2012-10-01","2012-11-01","2012-12-01",null,"2013-01-01","2013-02-01","2013-03-01","2013-04-01","2013-05-01","2013-06-01","2013-07-01","2013-08-01","2013-09-01","2013-10-01","2013-11-01","2013-12-01",null,"2014-01-01","2014-02-01","2014-03-01","2014-04-01","2014-05-01","2014-06-01","2014-07-01","2014-08-01","2014-09-01","2014-10-01","2014-11-01","2014-12-01","2015-01-01","2015-02-01","2015-03-01","2015-04-01","2015-05-01","2015-06-01","2015-07-01","2015-08-01","2015-09-01","2015-10-01","2015-11-01","2015-12-01","2016-01-01","2016-02-01","2016-03-16","2016-04-29","2016-05-29","2016-06-29","2016-07-29","2016-08-29","2016-09-29","2016-10-29","2016-11-29","2016-12-29","2017-01-29","2017-02-28","2017-03-30","2017-04-29","2017-05-29","2017-06-29","2017-07-29","2017-08-29","2017-09-29","2017-10-29","2017-11-29","Month-to-Month","Month-to-Month %","Mo Chg Rank","Mo % Rank","Year-to-Year","Year-to-Year %","Yr Chg Rank","Yr % Rank","Year-to-Date Chg","Year-to-Date %","Year-to-Date  Chg Rank","Year-to-Date % Rank","Chg from Trough","% Chg from Trough","Trough Chg Rank","Trough % Chg Rank"]
["Alabama","SMS01000009000000001",384.1,383.4,383.1,385.1,384.1,384.5,383,383.1,383.5,383.9,384.5,385.4,null,385.1,384.8,386.3,387.5,395.7,391.8,388.1,386.4,384.6,385.1,385.2,386.3,null,384.9,384.6,383.9,383.7,382.9,382,383.7,381.8,381.1,380,380.1,379.2,null,379,379,379.1,378.4,377.7,377.5,378,377,376.7,377.9,377.6,377.9,null,377.6,377.8,377.9,377.8,377.4,376.9,381.9,380.3,377.4,377,376.8,375.6,null,376.8,376.6,376.3,377.2,376.9,376.5,377.6,378.2,378,379.7,379.8,379.5,377.2,376.7,376.3,377.3,377.8,378.2,379.1,379.9,378.9,376.3,375.8,375.4,377.3,376.9,377,377.7,377.6,378.6,379.8,381.8,379.8,380.5,380.4,379.8,379.3,380,380.9,380,379.5,378.5,378.4,380.7,381.8,382.7,383.7,{"$f":"DJ5-DI5","v":1},{"$f":"DK5/DI5","v":2.6130128037627387E-3},{"$f":"RANK(DK5,($DK$5:$DK$54))","v":3},{"$f":"RANK(DL5,($DL$5:$DL$54))","v":4},{"$f":"DJ5-CX5","v":3.3000000000000114},{"$f":"DO5/CX5","v":8.6750788643533434E-3},{"$f":"RANK(DO5,($DO$5:$DO$54))","v":13},{"$f":"RANK(DP5,($DP$5:$DP$54))","v":15},{"$f":"DJ5-CY5","v":3.8999999999999773},{"$f":"DS5/CY5","v":1.0268562401263764E-2},{"$f":"RANK(DS5,DS$5:DS$54)","v":13},{"$f":"RANK(DT5,DT$5:DT$54)","v":14},{"$f":"DJ5-I5","v":0.69999999999998863},{"$f":"DW5/I5","v":1.8276762402088477E-3},{"$f":"RANK(DW5,($DW$5:$DW$54))","v":26},{"$f":"RANK(DX5,($DX$5:$DX$54))","v":26}]
["Alaska","SMS02000009000000001",82.5,82.8,82.6,83.7,83,83.9,83.9,84,83.8,84.2,84,84.3,null,84.1,84.4,84.8,85.2,85.6,86.3,85.6,85.7,85.7,85.4,85.3,85.4,null,86.5,85.1,84.7,84.8,84.6,85.4,84.8,83.8,84.6,84.7,84.5,84.6,null,84.4,84.6,84.8,84.2,84.4,83.9,83.9,84.1,84.3,83.8,84.1,83.8,null,83.7,83.3,83.3,83.2,83.1,83,82.7,82.5,82.2,81.900000000000006,82,82,null,82.2,82.1,82.1,82.2,82.3,82.1,82.7,82.1,81.8,81.8,82,82,82.2,81.900000000000006,82,82,82.8,81.900000000000006,82,81.8,81.900000000000006,81.5,81.599999999999994,81.599999999999994,81.900000000000006,81.7,81.5,81.3,81.099999999999994,81.2,81,80.900000000000006,80.7,81,81,80.8,81.2,81.400000000000006,81.599999999999994,81.2,82.1,81.7,80.8,81.5,81.400000000000006,81.099999999999994,80.900000000000006,{"$f":"DJ6-DI6","v":-0.19999999999998863},{"$f":"DK6/DI6","v":-2.4660912453759389E-3},{"$f":"RANK(DK6,($DK$5:$DK$54))","v":21},{"$f":"RANK(DL6,($DL$5:$DL$54))","v":39},{"$f":"DJ6-CX6","v":-9.9999999999994316E-2},{"$f":"DO6/CX6","v":-1.2345679012344976E-3},{"$f":"RANK(DO6,($DO$5:$DO$54))","v":28},{"$f":"RANK(DP6,($DP$5:$DP$54))","v":29},{"$f":"DJ6-CY6","v":0.10000000000000853},{"$f":"DS6/CY6","v":1.2376237623763432E-3},{"$f":"RANK(DS6,DS$5:DS$54)","v":27},26,{"$f":"DJ6-I6","v":-3},{"$f":"DW6/I6","v":-3.5756853396901073E-2},{"$f":"RANK(DW6,($DW$5:$DW$54))","v":30},{"$f":"RANK(DX6,($DX$5:$DX$54))","v":40}]
["Arizona","SMS04000009000000001",429.9,427.2,426.6,427.5,423.3,422,423,420.1,419.2,419.5,418.1,416.9,null,417.4,417,416.8,418.5,429.4,419.1,417.9,413.6,412.2,411.7,411.4,409.9,null,411.3,410,410.7,410.3,410.4,403.9,395.9,409.9,409.7,410.7,409.3,405.8,null,408.3,409.7,410.5,411,404.2,414.3,402.8,411.7,411.4,411.7,411.7,411.7,null,411.8,411.3,410.8,411.6,409.7,408.1,403.3,405.4,409.6,410.4,408.1,407.6,null,411.1,410.1,410,410,402.3,410.4,409.9,410.3,411.4,412.3,410.9,411.1,410.4,410.1,410.1,409.3,404.2,407.7,406.3,408.9,409.6,407.4,409.4,407.9,409.3,409.9,410.5,410.3,410,411.2,411.4,410.6,413.4,412.2,411.8,411.7,410.6,410.7,408.9,409.1,411.1,416.3,414.2,416.3,414.3,412.1,412.3,0.19999999999998863,4.8531909730645142E-4,{"$f":"RANK(DK7,($DK$5:$DK$54))","v":12},{"$f":"RANK(DL7,($DL$5:$DL$54))","v":11},0.5,1.2141816415735794E-3,23,25,0.60000000000002274,1.4573718727229118E-3,23,25,-10.699999999999989,-2.5295508274231653E-2,40,35]
["Arkansas","SMS05000009000000001",214.7,216.1,216.4,217,216.9,217.5,217.5,217.8,215.6,217.2,217.5,218.3,null,215,214.9,216.9,217.5,223.9,223.4,221,219.5,216.9,216.4,216.1,216.8,null,217,216.4,217,218,218,217.7,214.8,217.6,216.4,217.4,217.3,216.6,null,216,216.7,216.8,215.9,216.5,217,215.9,215.8,216,216,216.1,216.3,null,216.1,216,215.8,215.9,215.2,215.6,215.6,215.6,215.7,215.1,215.7,215.8,null,213.2,213.2,213.2,213.3,213.7,213.6,213.9,213.9,213.8,213.1,213.1,213.2,213,212.7,212.5,212.4,212.3,212.7,213.2,213.3,213.3,213.1,213.3,213.4,212.8,213,213.7,212.9,212.6,212.5,212.6,212.5,211.7,211.1,211.1,211.2,211.3,211.3,211.9,211.5,211.1,211.1,211.5,211.2,210.6,210.5,210.3,-0.19999999999998863,-9.5011876484555171E-4,21,25,-0.79999999999998295,-3.7896731406915347E-3,35,34,-0.89999999999997726,-4.2613636363635294E-3,36,39,-7.1999999999999886,-3.3103448275862014E-2,38,38]
["California","SMS06000009000000001",2514.6,2511.6,2506.9,2511.9,2499.4,2492.8000000000002,2473.3000000000002,2457.9,2432.5,2453.4,2448.1,2444.4,null,2444.9,2438.6,2434.8000000000002,2473.6999999999998,2512.5,2480.1999999999998,2450.5,2431,2426.5,2432.6999999999998,2430.1999999999998,2425.6,null,2426.6999999999998,2422.4,2421.6999999999998,2418.4,2411.8000000000002,2407.4,2401.1999999999998,2392.6999999999998,2391.9,2391.4,2389,2383.4,null,2384.6999999999998,2383.6999999999998,2380.8000000000002,2379,2377.9,2378.8000000000002,2377.6,2373.1,2370.1999999999998,2368.8000000000002,2368.3000000000002,2370.6,null,2365.8000000000002,2365.8000000000002,2365.9,2363.3000000000002,2364.4,2364.6,2365.1,2382.4,2382.4,2374.3000000000002,2378.8000000000002,2377.1999999999998,null,2392.4,2391.9,2395.6,2401.1999999999998,2404.3000000000002,2405.4,2405.5,2418,2426,2435.4,2432.6999999999998,2431.6999999999998,2442.1,2441.9,2444.4,2446.5,2443.3000000000002,2455.9,2462.5,2480.5,2470.8000000000002,2478.5,2476.4,2477.6,2486.8000000000002,2491.8000000000002,2498.5,2499.9,2507.4,2512,2514,2517.3000000000002,2528.4,2543.5,2539,2545.6,2539.6999999999998,2543.6,2548.9,2542,2555.1999999999998,2544.1999999999998,2562.9,2559,2574.1,2580.4,2580.6,0.1999999999998181,7.7507363199433462E-5,13,15,41.599999999999909,1.6384403308389094E-2,1,8,35,1.3749214330609679E-2,1,9,107.29999999999973,4.3383334007196746E-2,2,10]
["Colorado","SMS08000009000000001",391.5,388.4,388.9,390.3,391.6,390.9,389.9,390.5,389.9,390.8,390.8,391.4,null,391.5,392.4,394,393.7,401.7,395.8,395.7,393.7,392.2,392.4,392.7,393,null,392.8,392.3,392.6,393.8,393.3,392.8,392.8,392.3,394.5,393.2,392.8,393.1,null,393.3,393,393.8,394.8,394.3,394.7,394.6,395,395.3,395.1,395.7,395.8,null,401.9,401.8,401.6,402.2,402.6,403.7,403.9,404.9,405.6,406.5,406.3,406,null,405.8,405.8,406.2,406.7,407.1,408.7,407.9,407.6,407.5,407.6,409.3,409.1,412.6,413.1,413.4,414.7,415.6,416.8,417,418.3,417.8,419.8,419.5,420.5,424,425.1,426.4,427.4,420.1,424.9,426.4,429.6,429.5,427.1,427.8,428,433.1,430.3,430.1,428.7,427.8,426.8,430.2,433.3,430.4,427.9,428.1,0.20000000000004547,4.6739892498257881E-4,10,12,0.30000000000001137,7.0126227208978811E-4,25,27,0.10000000000002274,2.3364485981313725E-4,26,27,38.200000000000045,9.7973839446011915E-2,4,2]
["Connecticut","SMS09000009000000001",251.3,251.3,250.9,250.7,250.6,250.3,246.2,245.1,245.8,245.1,245.6,245.1,null,245.6,245.5,243.9,243.3,249.5,246.3,244.5,244.1,241.8,242.6,241.7,241.5,null,241,241.1,241.1,243.1,240.3,239.5,240.9,238.5,239.8,239.6,238.8,239.5,null,238.6,239.9,240,238.4,236.7,238.6,239,239.7,238.6,237.3,238.4,238.5,null,240.5,236.9,238.1,238.3,237.7,245.5,243.9,240.4,235.5,234.9,235,235.6,null,237,237.1,237.7,238.2,238.4,238.8,238.2,238.2,238.4,237.3,237.4,237.7,239.5,239.4,239.2,238.6,239.6,239.2,239.2,238.7,239,237.5,237.7,237.5,238.1,238.1,238,237.6,238.2,238.1,236,235.7,235.5,233.9,234.3,233.9,233.7,233.6,233.7,233.2,233.9,233.8,232.9,232.8,231.9,231,230.8,-0.19999999999998863,-8.6580086580081658E-4,21,24,-3.5,-1.4938113529662825E-2,43,46,-3.0999999999999943,-1.3253527148353973E-2,47,48,-15.399999999999977,-6.2550771730300478E-2,42,46]
["Delaware","SMS10000009000000001",63,63.6,63.6,63.1,63.4,63,62.7,63,63,63.7,63.8,63.4,null,63,63,63.2,63.2,64.8,64.5,64.8,64.099999999999994,63.9,63.5,63.9,63.9,null,63.9,63.7,63.4,64.2,63.4,63.6,63.5,63.9,63.8,63.8,63.7,63.7,null,63.6,63.7,63.6,63.3,63.8,63.8,63.6,63.5,63.6,63.6,63.6,63.7,null,62.9,63.7,63.9,63.9,64.099999999999994,63.9,64,64,64.099999999999994,64.3,64.5,63.8,null,65.7,65.5,64.900000000000006,64.7,64.7,64.5,64.7,64.400000000000006,64.8,65.400000000000006,65.2,65.3,65.2,64.7,66.3,63.9,65.400000000000006,65.599999999999994,65.7,65.3,65.400000000000006,65.900000000000006,65.8,65.599999999999994,65.2,64.900000000000006,65.3,65.2,65.400000000000006,65.2,65.7,65.400000000000006,65.5,65.599999999999994,65.099999999999994,65,65,65.5,65.3,65.5,65.3,64.7,65.5,65.2,66.2,65.099999999999994,64.900000000000006,-0.19999999999998863,-3.072196620583543E-3,21,42,-0.19999999999998863,-3.072196620583543E-3,29,32,-9.9999999999994316E-2,-1.5384615384614511E-3,31,33,2.2000000000000028,3.5087719298245661E-2,22,12]
["Florida","SMS12000009000000001",1121,1118.5,1115.3,1123.4000000000001,1116.0999999999999,1113.9000000000001,1116.4000000000001,1115,1112,1109.3,1109.7,1107,null,1109.3,1106.7,1106.5999999999999,1114.4000000000001,1147.2,1125.0999999999999,1114.7,1115,1107.7,1103.4000000000001,1103.5999999999999,1099.9000000000001,null,1103.3,1102.4000000000001,1100,1102.7,1096.0999999999999,1093.2,1091.8,1088.0999999999999,1085.9000000000001,1088.0999999999999,1085.8,1085.0999999999999,null,1082.9000000000001,1084.2,1082.4000000000001,1079.9000000000001,1075.0999999999999,1078.8,1079.0999999999999,1076.4000000000001,1077.2,1078.2,1077.5999999999999,1077.5,null,1077.9000000000001,1077.7,1077.5999999999999,1079,1075.3,1076.3,1074.0999999999999,1074,1075,1076.4000000000001,1077.2,1076.7,null,1073.2,1073.5,1074.4000000000001,1073.9000000000001,1074.5999999999999,1073,1072.5,1071.5,1071.7,1075.8,1078.4000000000001,1079.3,1075.4000000000001,1077.8,1078.2,1079,1079.2,1079.5999999999999,1080.5,1082.0999999999999,1081.7,1086.2,1085.7,1086.8,1086.4000000000001,1087.9000000000001,1088.8,1090.5999999999999,1093.3,1094.5999999999999,1097.5,1100.2,1104,1099.2,1098.5,1100.0999999999999,1103.3,1096.5999999999999,1101,1097.3,1103.8,1105.3,1111,1108.8,1109,1111.5,1110.7,-0.79999999999995453,-7.1974808816909993E-4,41,21,12.200000000000045,1.1106053709604047E-2,3,13,10.600000000000136,9.6354876829380393E-3,3,15,-5.7000000000000455,-5.1056968828377333E-3,36,27]
["Georgia","SMS13000009000000001",715.7,714.6,713.8,716.2,711.6,709.8,707.8,706,706.6,703.6,700.2,700.4,null,701.4,699.6,700.2,701.9,715.2,709.5,707.2,698.5,691.5,690.5,689.5,689.1,null,689.2,689.2,688.8,685.9,688,686.6,690.3,687.2,687.2,686.2,685.3,685.5,null,684.3,683.1,685.5,685.3,684.8,687.6,684.5,684.2,684.6,686.6,687.3,686.5,null,685.9,686.1,684.8,684.2,682.7,681.6,681.4,680.2,681.1,680,678.9,677.8,null,681.3,679.5,680.7,682.9,684.7,684.6,685.7,689.5,687.3,688.3,688.5,687.5,678.9,678.9,678.7,678.8,677.7,679.5,680.1,683.5,677.8,681.5,682,681.1,681.4,682.3,676.8,684.1,685.8,687.6,687.6,689.9,690.3,690.9,692.1,691.1,693.1,693.5,691.9,693.1,693.8,695.2,700.7,699.6,697.8,701.8,701.2,-0.59999999999990905,-8.5494442861201064E-4,35,23,9.1000000000000227,1.3148388961132816E-2,5,10,10.100000000000023,1.4614382867891799E-2,4,8,-6.5999999999999091,-9.3246679853064562E-3,37,30]
["Hawaii","SMS15000009000000001",126.6,125.4,125.9,126.8,126.4,127,126.6,126.2,123.7,123.6,123.7,123.7,null,124.1,123.6,124.5,125,126.1,125.4,127.2,123.9,124.7,124.4,127.9,124.2,null,124.2,124.7,124.6,124.4,124.4,124.5,125.8,123.3,124.9,124.9,124.5,124.6,null,119.2,124.8,125,128.9,125.1,125.1,124.9,132.1,125,125.4,125.5,125.4,null,120.1,125,125.1,125.8,125.3,125,125.1,124.9,125.2,125.5,125.8,125.9,null,129.69999999999999,125.3,124.9,124.8,125,125.2,125.2,128.9,125.2,125,124.4,124.8,126.1,125.9,126,126.1,125.8,126.2,126,129.30000000000001,126.2,127.2,126.8,126.9,124.6,125.9,126.3,124.6,125.8,126.1,126,128,126.8,126.7,128.19999999999999,126.2,125.9,126.7,126.4,126.5,126.5,125.6,123.5,124.2,125.8,125.3,123.8,-1.5,-1.1971268954509178E-2,45,50,-4.3999999999999915,-3.4321372854914135E-2,47,49,-2.4000000000000057,-1.9017432646592756E-2,43,49,-2.7999999999999972,-2.2116903633491291E-2,29,33]
["Idaho","SMS16000009000000001",120.4,118,119.4,120.7,119.5,121,119.3,119.3,117.7,119.4,119.2,119.3,null,117.9,118.3,118.8,119.2,121.9,119.4,119.2,118.9,117.7,117.3,116.9,117,null,116.3,117.2,117.3,117.1,117.4,117.1,117.9,117.9,117.2,116.6,116.9,117.1,null,116.6,116.7,116.3,116.8,117,117,117.3,117.3,117.8,118.3,118.3,118.2,null,118.9,118.5,118.2,118.1,118.3,118.4,117.8,117.3,117.8,119.4,119.6,119.5,null,117.8,117.5,118,118,118,118,118.7,118.4,118.4,120.1,120.4,120.2,118.9,118.4,118.5,118.7,119.4,119.2,119.6,118.9,119.4,120.9,121,121.1,120.1,120.3,120.5,120.3,120.7,121.3,121.9,122,122.2,123,123.2,123,124.1,123.1,123.4,123.9,124,124.6,125.2,125.6,126.6,126,126.5,0.5,3.968253968253968E-3,6,2,3.2999999999999972,2.6785714285714263E-2,14,2,3.5,2.8455284552845527E-2,14,2,7.2000000000000028,6.0352053646269936E-2,14,6]
["Illinois","SMS17000009000000001",856.8,855.3,854.5,861.5,861.1,858.4,857.3,853.3,857.1,856.3,858.3,856.7,null,856.6,857.3,854.8,857,870.7,860.2,847.6,855.6,850.4,847.9,845.3,842.7,null,841.6,841.2,839.9,841.4,839.3,839.4,841.2,839.2,835.9,833.2,832.4,831.9,null,831.5,830.3,831.9,832.5,831.7,832.4,829.7,832.5,834.1,834.6,833.9,833.8,null,832.7,832,830.7,830.4,826.1,828.4,826.7,826.8,826.3,830,830,831.9,null,826.5,824.4,824.7,826.3,826.6,827.9,827.3,828.3,828.4,832.6,831.4,831.2,827.6,828.3,828.3,828.7,828.1,828.8,829.3,829.6,829.9,834,832.3,832.6,828.8,827.6,828.8,826.4,824.3,825.5,827.2,828.7,832.9,832.8,831.6,831.6,829.5,826.9,824.8,825.4,822.5,823.9,824.9,825.6,825.1,826.4,823.6,-2.7999999999999545,-3.3881897386253083E-3,49,44,-8,-9.6200096200096206E-3,48,43,-8,-9.6200096200096206E-3,50,45,-33.699999999999932,-3.9309459932345657E-2,46,41]
["Indiana","SMS18000009000000001",437,436.2,437.9,437.8,443.7,438.4,434.5,445.6,435.6,439,436.8,437.3,null,436.9,437.6,435.7,440.9,449.8,445.3,449.8,449.1,427.2,428.2,426.9,425.3,null,427.1,425.7,425.5,429.8,436.3,432.7,421.8,424.8,426.9,425.9,427.2,430.7,null,430.9,427,428.1,426.4,426.1,429,423.2,424.8,424.6,423.4,422.7,419.1,null,419.9,423,422.5,422.8,419,420.6,420.4,424.5,419.1,424.1,422.4,422.3,null,417.4,426.4,427,427.2,426.7,428.6,424.9,426.6,427.7,425.3,427.4,429.2,426.2,425.4,424.7,425.4,426.2,425.7,429.7,429.9,427.7,425.3,425.6,426.6,426.4,427.6,429.2,427.9,428.2,429.5,426.5,436,432.8,431.6,431.4,430.6,430.9,433.7,432.3,432.7,428.1,431.8,438.1,437.2,440,439,438.7,-0.30000000000001137,-6.8337129840549292E-4,28,19,7.3000000000000114,1.6921650440426546E-2,8,6,8.0999999999999659,1.8810961449140653E-2,6,4,4.1999999999999886,9.6662830840045771E-3,18,23]
["Iowa","SMS19000009000000001",254.4,254.9,255.3,256.2,255.9,254.4,253.8,253.6,255,254.2,254.1,253.2,null,251.9,252.6,254.1,253.5,256.5,254.6,251.6,250.5,251.3,252.4,253.2,252.6,null,252.2,252.5,252.8,253.3,252.7,252.5,256.3,253.8,253.7,252.5,251.9,252.3,null,254.5,253.7,253.6,254.3,253.6,251.9,254.1,256.2,254,253.3,253,253.4,null,252.9,253.8,254.1,253.9,254.5,253.5,258,257.7,256.2,257.10000000000002,256.8,256.60000000000002,null,254.2,254.5,254.9,254.6,254.1,252.7,254.6,256.7,256.10000000000002,258.3,258.10000000000002,257.7,255.7,255.6,255.4,255.2,254.6,253.1,253.7,254,254,255.7,255.7,254.8,257,257,257.10000000000002,257.60000000000002,257.2,258.10000000000002,258.3,258.8,259,258.7,257.89999999999998,258.5,258.3,256.89999999999998,256.8,255.7,254.7,256.39999999999998,256.8,258.60000000000002,257.5,258.7,258.3,-0.39999999999997726,-1.5461925009662824E-3,30,33,0.40000000000003411,1.5509887553316563E-3,24,24,-0.19999999999998863,-7.7369439071562338E-4,33,31,4.5,1.7730496453900707E-2,{"$f":"RANK(DW19,($DW$5:$DW$54))","v":17},19]
["Kansas","SMS20000009000000001",264.7,262.3,261.60000000000002,262.2,264.2,261.3,259,257.39999999999998,259,260.8,261.5,262.10000000000002,null,262.2,259.5,261.39999999999998,261.89999999999998,266.60000000000002,266.60000000000002,265.5,266.2,261.60000000000002,259.8,257,258.60000000000002,null,263.7,259.3,259.10000000000002,260.89999999999998,259.60000000000002,256.60000000000002,261.8,262.3,261,258.89999999999998,258.60000000000002,256.7,null,259.5,258.8,258.60000000000002,257.3,258.3,255.9,258.39999999999998,261.8,257.5,258.89999999999998,259.2,258.5,null,257.7,259.10000000000002,257.8,258.5,254.8,252,255.8,257.10000000000002,259,258.8,258.5,258.3,null,256.39999999999998,256.7,256.8,256.3,256.2,256.60000000000002,257.3,256.60000000000002,256.7,257.7,258,257.7,257,257.10000000000002,257.10000000000002,257.10000000000002,257.10000000000002,257.2,256.7,256.5,256.39999999999998,256.10000000000002,255.9,255.9,255.3,255.5,256,256.2,255.4,255.9,255.6,255.6,256.5,256.39999999999998,255.9,257.3,255.1,254.1,255,255.4,256,254.4,256.2,256.89999999999998,255.9,255.9,255.4,-0.5,-1.9538882375928096E-3,31,37,-0.5,-1.9538882375928096E-3,33,30,-1.9000000000000057,-7.3843762145355835E-3,40,43,-3.5999999999999943,-1.3899613899613878E-2,33,31]
["Kentucky","SMS21000009000000001",320.5,319.10000000000002,319.89999999999998,323.10000000000002,324.39999999999998,324.3,327.9,325.89999999999998,326.7,327.10000000000002,327.60000000000002,326.8,null,327.39999999999998,327.2,328.1,329.3,336.7,334.9,332.8,326.89999999999998,331.1,331.9,331.5,331.9,null,331.5,333.1,333,332.9,333.4,334.5,334.9,335.2,336.3,336.1,336.6,338.3,null,338.2,338.3,339.1,339.9,338.8,338,336.3,336.1,337.5,337.4,337.3,337.1,null,336.8,337.2,337.5,336.7,335.8,335.5,336.9,337.7,337.8,336.6,337.4,337.7,null,322.89999999999998,321.7,321.8,322.3,322.5,323.10000000000002,324.7,324.60000000000002,323.8,324.2,324.60000000000002,324.60000000000002,321.10000000000002,320,319.10000000000002,319.10000000000002,318.89999999999998,318.39999999999998,317.39999999999998,317.2,317.89999999999998,316.7,316.8,316.60000000000002,319.2,318.89999999999998,319.3,318.10000000000002,318.60000000000002,317.60000000000002,318.5,319.10000000000002,318.7,319,318.89999999999998,318.8,318.60000000000002,316.3,318.2,317.7,317.5,316.2,317.89999999999998,317.8,316.89999999999998,317.2,316.7,-0.5,-1.5762925598991173E-3,31,34,-2.1999999999999886,-6.898714330511097E-3,38,41,-2.1000000000000227,-6.5872020075283021E-3,42,42,-11.199999999999989,-3.4156755108264686E-2,41,39]
["Louisiana","SMS22000009000000001",367.5,368.8,368.4,369.8,369.8,368.8,367.3,368.1,368.7,370.2,370.4,370.7,null,369.2,368.7,370.8,369.5,375.4,373.7,364.4,364.5,360.1,360,359.2,359.8,null,360.4,359.5,359.1,358.1,357.4,356.2,356.5,356.1,356,355.8,354.3,353.3,null,352.8,351.8,350.8,351.5,350.6,349.3,348.7,347.4,345.6,345.7,345.3,345.9,null,343.3,342.9,342.4,341.8,341.3,341.9,341.1,340.2,339.1,339.3,338.9,338.6,null,331.5,331.8,330.6,329.9,329.6,329.8,327.10000000000002,327.60000000000002,328,327.2,327.10000000000002,327.10000000000002,328.2,328.4,327.10000000000002,327.7,327.39999999999998,327.60000000000002,326.8,327.10000000000002,326.89999999999998,325.60000000000002,326.3,325.3,326.60000000000002,326.3,326,325.8,327.3,325.39999999999998,324.3,323.8,326.8,323.89999999999998,323.7,323.10000000000002,324.3,323.60000000000002,323.2,322.7,324.10000000000002,323.7,320.60000000000002,321.39999999999998,320.89999999999998,319.89999999999998,319.3,-0.59999999999996589,-1.8755861206626006E-3,36,36,-4.3999999999999773,-1.3592832869941235E-2,46,45,-3.8000000000000114,-1.1761064685855806E-2,48,47,-48,-0.13068336509665124,48,50]
["Maine","SMS23000009000000001",103.9,103.6,103.6,104.6,104.1,104.8,102.8,102,103.7,103.7,103.6,103.5,null,104,103.7,104.9,104.9,106.7,105.2,103.6,102.1,103.1,103.4,103.4,103.7,null,103,102.8,102.7,102.4,101.3,102.1,102.7,102.3,102.4,101.1,101.6,101,null,100.8,101.5,101.3,101.2,101.6,101.5,102,102.9,101.3,101.2,100.7,100.8,null,101.4,100.7,100.7,100.7,100.6,100.3,100.5,100.5,99.9,100.1,99.9,100,null,99.4,99.5,99.7,99.6,99.4,99.6,99.8,99.9,100.2,100.3,100,99.7,99.6,99.4,99.5,99.5,99,99.8,100.7,100.4,99.6,99.2,99.2,99.4,99.1,99.7,99.8,99.9,99.8,100.4,100.3,100.4,100.3,100.2,99.8,99.5,99.4,99.8,99.8,100.3,99.9,101.1,101.9,101.6,100.8,99.7,99.4,-0.29999999999999716,-3.0090270812437028E-3,27,41,-0.39999999999999147,-4.0080160320640429E-3,32,35,-9.9999999999994316E-2,-1.0050251256280836E-3,31,32,-3.3999999999999915,-3.3073929961089411E-2,32,37]
["Maryland","SMS24000009000000001",489.9,491.1,491.2,493.2,494.7,493.6,495.5,494.6,492.9,496.1,496.2,496.7,null,496,494.7,497.7,499.4,508.5,507.2,504.3,504.7,500.3,500.7,502,501.4,null,503.6,504.8,505.7,503.3,504.9,507.9,507.5,503.5,504.1,506.8,501.5,504,null,505.4,505.6,507.6,504.5,505.1,503.8,501.9,502.6,506.6,505,504.9,504.7,null,505,504.5,504.1,505.2,505.7,505,502,503.7,505,502.4,503,503.6,null,502.7,502.5,501.8,503.1,503,505.8,501.9,503.1,506.3,507,506.9,506.7,503.2,503.6,502.9,503.2,503.4,503.3,500.1,502.9,503.5,503.3,503.6,502.7,502.9,501.6,503.5,503,503.6,505.1,504.7,506,504.3,504.6,505.8,506.1,509.4,511.3,510.7,512.29999999999995,511.7,517.9,507.2,511.9,512.5,513.4,515,1.6000000000000227,3.116478379431287E-3,2,3,9.1999999999999886,1.8189007512850908E-2,4,5,8.8999999999999773,1.7585457419482271E-2,5,5,19.5,3.9354187689202826E-2,8,11]
["Massachusetts","SMS25000009000000001",436.6,438.3,437.4,441.1,438.2,439,438.2,438,434.9,437.3,436,440.1,null,439.7,436.4,437.2,439.6,448,442,438.3,437.9,435.6,438.1,439.2,437.7,null,436.6,435.4,435.6,433.8,435.1,434.2,435.2,433.5,435.3,434.5,432.5,434.3,null,435.6,434.2,436.9,434.7,435.9,437.1,437.3,438.4,440.8,438.4,440.4,439.8,null,437.6,441,441.9,443,441.7,441.5,437.9,439.2,437.9,438.7,438.8,440.6,null,447,448.2,449,452,449.2,450.7,450.7,450.8,453.6,455.7,455.9,456.6,448.5,449.4,452.5,451.1,450,452.7,452,451,449.8,451,451.6,452,450.9,451.5,456.7,451,453.3,453.6,455.1,456.1,456.1,459.4,462.7,457.5,460.4,458.8,459.7,458.7,458.7,459.1,457.4,458.3,459.1,459.8,459.2,-0.60000000000002274,-1.3049151805133161E-3,37,29,-3.5,-7.5642965204236008E-3,43,42,1.6999999999999886,3.7158469945354944E-3,18,20,21,4.7923322683706068E-2,6,8]
["Michigan","SMS26000009000000001",651,649.29999999999995,649,652.5,651.70000000000005,647.20000000000005,643.70000000000005,644.4,642,643.5,642.4,641.29999999999995,null,639.5,639.70000000000005,639.20000000000005,641.4,650.4,641.9,637.79999999999995,630.20000000000005,626.20000000000005,627.29999999999995,626.29999999999995,625.4,null,624.4,620.70000000000005,621.9,620.4,617.70000000000005,617.9,617.6,615.29999999999995,615,613.79999999999995,612.79999999999995,611.9,null,615,613.1,612.4,610.79999999999995,610.29999999999995,605.4,607.1,608.9,606.70000000000005,605.4,604.79999999999995,603.79999999999995,null,602.20000000000005,601.29999999999995,599.70000000000005,600.4,601.4,597.20000000000005,598.6,597.9,599.1,599,599.5,600.20000000000005,null,595.5,595.79999999999995,595.79999999999995,595.6,594.70000000000005,596,596.70000000000005,597.70000000000005,594.79999999999995,596.9,594.6,595.20000000000005,593.4,594.1,594.29999999999995,594.1,594,592.5,592.79999999999995,595.79999999999995,591,597.4,597.20000000000005,598.6,594.9,595.5,597.70000000000005,596.4,592.5,602.1,601.29999999999995,601.9,603.29999999999995,608.29999999999995,609.20000000000005,609.9,609.5,608.9,608.4,609.6,607.20000000000005,612.1,615.5,617.29999999999995,618.70000000000005,614.9,612.4,-2.5,-4.0657017401203449E-3,47,45,3.1999999999999318,5.2527905449769067E-3,16,19,2.5,4.0990326282997211E-3,16,19,-31.300000000000068,-4.8625135932888093E-2,45,43]
["Minnesota","SMS27000009000000001",417.1,418.1,417.9,419.4,419.8,418,421.3,417.8,411,416.7,416,415.6,null,417.2,416.6,418.1,418.1,421.9,418.4,418,415.7,412.6,414.3,415.2,414.1,null,413.4,414,413.6,413.2,412.7,413.2,392.4,412.2,412.9,411.5,410.7,411,null,409.7,410.2,411.1,412.2,411.5,412.8,409.3,413.8,414,414.4,414.9,414.6,null,412.6,414.5,413.7,413.1,412.9,412.7,407.5,412.4,413.9,416,414.6,416.6,null,417.8,417.9,418,418.7,417.5,420.7,428,426.1,421.7,419.5,420.7,418.6,420.5,419.9,419.4,420.5,421.3,421.8,421.5,423.3,422,421.3,421.5,424.8,422.6,421.1,422.9,423,423.2,423.5,423.2,425.7,425.6,429.1,428.7,429.7,427,424.6,424.6,427.6,425,426.5,428.1,428.9,430.6,431.1,430.5,-0.60000000000002274,-1.3917884481559331E-3,37,30,1.8000000000000114,4.1987403778866606E-3,18,20,0.80000000000001137,1.8617640214103127E-3,21,24,9.1999999999999886,2.1837170662235908E-2,11,17]
["Mississippi","SMS28000009000000001",249.5,249.2,248.8,249.9,250.8,250.2,250.5,249.7,250,249.7,249.3,249.6,null,249.3,249.5,250.7,249.6,253.4,252.1,249.8,246.7,246.1,247.2,246.5,249.2,null,246,245.4,245.3,246,245.9,246.1,247,246.7,246,245.9,245.7,245.9,null,246.3,245.8,246.2,245.7,246.4,246,245.6,245.7,245.4,245.7,245.8,245.8,null,245.6,245.7,245.6,245.7,245.5,244.8,244.9,245,245.6,245.6,246,245.7,null,244.6,244.4,244.4,244.6,244.1,245.8,246.5,245.3,244.9,245.6,245.5,245.5,243.8,243.7,243.6,243.5,243.6,243.5,245.4,244.3,243.5,245.7,245.9,245.9,244,244.3,244.2,245,244.1,244.2,244.5,244.4,244.6,245.3,245.2,244.9,245.3,245.4,245.8,245.5,245.6,245.2,247.6,244.7,245.3,244.6,244.9,0.30000000000001137,1.2264922322159091E-3,7,8,-0.29999999999998295,-1.2234910277323938E-3,30,28,0,0,28,28,-5.5999999999999943,-2.2355289421157661E-2,35,34]
["Missouri","SMS29000009000000001",448.7,449.2,449,452.7,452.8,452.6,454.1,453,453.7,452.7,451.7,451.4,null,449.8,451.1,451.5,448.7,456.5,446,443.8,458.3,445.3,441.6,440.9,440,null,443.6,439.4,438.8,439,440.1,439.2,439.8,439.7,438.5,437.6,437.9,438.9,null,437.6,437.7,437.8,438.7,439.3,442.4,443.7,445.3,447.3,447.9,447.9,448.9,null,449.6,450.6,452.3,452,451.1,449.7,448.6,447.9,450.2,450.8,451.7,452.7,null,432.3,432.2,431.8,432.2,432.4,432.4,431.5,432.1,431.9,432.7,432.1,431.5,433.8,435.8,435.6,434,434.2,435.9,435.9,436.1,431.9,432.2,432,431.6,432.4,429,430,429.5,431.1,437.1,437.2,438.3,436.6,436.1,435.7,435.9,435.2,432.8,432.6,431.1,430.3,438.9,451.2,449.2,438.9,435.5,434.5,-1,-2.2962112514351321E-3,43,38,-1.1999999999999886,-2.7541886619233159E-3,36,31,-1.3999999999999773,-3.2117458132598698E-3,38,34,-19.600000000000023,-4.3162299053072062E-2,43,42]
["Montana","SMS30000009000000001",88,88.8,88.9,89.2,90,90,89.8,90,89.7,90.4,90.5,91.2,null,91.3,91.3,92.6,91.9,94,92.8,92.8,92.5,90.9,91.2,91.1,90.8,null,90.5,90.9,91.1,90.6,91.2,91.1,88.3,89.6,89.7,89.6,89.4,89.3,null,89.5,89.4,89.5,89.7,90.3,89.4,90,89.7,90.1,89.7,89.9,90.1,null,90.6,91.3,90.7,90.7,89.5,89.2,89.8,90.1,90.4,89.1,89.3,89.2,null,89.5,90,89.8,90,89.5,89.7,89.2,89.3,89,87.6,87.9,87.6,90.1,90.1,90.3,90.5,90.3,90.2,90.1,90.2,90.6,90.2,90.3,90,90.6,90.6,90.7,91,91.4,91.5,91.6,91.5,91.6,92.1,91.9,91.9,91.5,91.7,91.9,92.1,92.3,92.5,92.3,92.6,92.7,93,92.5,-0.5,-5.3763440860215058E-3,31,47,0.59999999999999432,6.5288356909683817E-3,22,17,0.59999999999999432,6.5288356909683817E-3,24,18,2.7000000000000028,3.0066815144766178E-2,20,13]
["Nebraska","SMS31000009000000001",166.5,167,167.5,168,168.1,168.1,171.2,169.7,168.5,168.4,168.7,168.2,null,168,168.4,170.1,169.3,171,170.7,170,169.8,168.9,169.1,169,169.1,null,168.8,168.4,168.5,168.7,167.9,167.8,167.8,168,167.7,168.5,168.4,168.3,null,168.6,168.7,168.6,168.8,169.2,167,168.4,168.5,168.8,168.3,168.6,168.6,null,168.6,168.5,168.4,168.6,169.4,167.8,168.9,168.7,168.8,169.2,169.4,169,null,169.3,169.7,169.6,170.1,169.9,169.2,170.1,170,171.1,171.7,171.6,171.7,169.6,169.8,170.3,171,170.5,170.5,170.7,171.3,170.9,171.5,171.5,171.9,171.7,171.7,172.2,171.9,172.1,174.8,174,170.5,173.7,171.6,171.4,171,171.2,170.9,171.3,171.1,170.7,173.4,171.4,171,173.2,172.2,172.5,0.30000000000001137,1.7421602787457107E-3,7,6,1.0999999999999943,6.4177362893815303E-3,20,18,1.5,8.771929824561403E-3,19,16,1.3000000000000114,7.5934579439253004E-3,24,25]
["Nevada","SMS32000009000000001",160.30000000000001,159.5,159.1,158.80000000000001,158,157.69999999999999,157.6,157.1,157,155.5,154.80000000000001,154.19999999999999,null,154.1,154.6,154.69999999999999,154.9,158.19999999999999,155.6,154.9,153.1,152.5,151.5,151.19999999999999,150.80000000000001,null,152.9,152.4,151.30000000000001,151.69999999999999,151.30000000000001,149.4,149.5,150.30000000000001,149.19999999999999,148.6,148.4,148.6,null,148.69999999999999,148.1,148.80000000000001,148.5,149.19999999999999,149.5,149.80000000000001,149.80000000000001,150.1,149.80000000000001,150,150,null,151.4,150,150,150,150,151.6,149.80000000000001,153.1,152.1,151.19999999999999,151,151.1,null,152,151.80000000000001,151.9,151.9,152.19999999999999,151.4,152.19999999999999,153.30000000000001,154.19999999999999,152.9,152.69999999999999,152.5,153.69999999999999,153.69999999999999,153.9,154.30000000000001,154.5,154.69999999999999,154.9,155.6,155.6,156,156.69999999999999,156.69999999999999,155.9,156.4,156.9,156.5,157.1,154.69999999999999,159.19999999999999,159.6,159,159.30000000000001,159.19999999999999,159,159.6,159.9,159.80000000000001,158.19999999999999,159.5,159.30000000000001,162.4,164,164.2,163.9,164.8,0.90000000000000568,5.4911531421598884E-3,4,1,5.6000000000000227,3.517587939698507E-2,9,1,5.8000000000000114,3.6477987421383716E-2,9,1,7.2000000000000171,4.5685279187817368E-2,13,9]
["New Hampshire","SMS33000009000000001",96.4,95.9,95.7,96.7,97,97.8,96,96.7,96,96.8,96.6,96.8,null,95.3,96.9,97.8,97.4,98.6,96.6,95.3,95.4,94.5,94.5,94.2,94.1,null,93,93.4,93.4,93.1,93.4,93.3,90.2,90.1,90.8,91.6,91.3,91.4,null,92.3,91.1,91.8,91.5,91.5,91.1,91.7,91,92.7,91.5,91.6,91.5,null,91.2,91.1,90.3,90.9,90.8,90.2,89.3,90.2,89.7,90,89.7,90,null,90.8,90.4,90.6,90.7,88.5,90.4,91,90.8,91.1,91,90.5,90.3,90.8,90.2,90.9,91,90.7,90.4,91,90.7,89.8,89.8,89.4,89.4,90.3,91.3,90.6,90.9,90.1,90.8,90.1,92.2,90.8,91.5,91.3,90.6,91.1,91,90.7,90.9,90.3,90.5,91.4,93.4,90.7,90.8,90.8,0,0,16,16,-0.5,-5.4764512595837896E-3,33,39,0.20000000000000284,2.2075055187638286E-3,25,22,-5.2000000000000028,-5.4166666666666696E-2,34,45]
["New Jersey","SMS34000009000000001",650,651.29999999999995,651.20000000000005,652,654.29999999999995,653.9,653.9,654.5,653.20000000000005,651.6,651.29999999999995,651.6,null,647.70000000000005,646,645.20000000000005,645.9,659,652.9,646.9,637.20000000000005,626.5,623.1,624.79999999999995,621.5,null,619.29999999999995,620.1,618.6,620.1,619.70000000000005,617.4,618.5,616.70000000000005,617.4,618.79999999999995,619.4,617.9,null,615,616.5,617.9,614,615.1,617,615.6,616.9,617.4,617.20000000000005,615.6,616.4,null,618.1,620.29999999999995,618,609.5,611.20000000000005,613.6,612.9,617.79999999999995,616.5,615.6,615.79999999999995,615.4,null,618,618.6,617.79999999999995,619.20000000000005,619.9,619.5,620.70000000000005,621.9,621.4,622.20000000000005,622.6,622.5,613.4,613.4,613.79999999999995,613.20000000000005,616.4,616.6,616.20000000000005,616.9,615.1,613.70000000000005,614.4,614.6,613.20000000000005,613.70000000000005,615.1,612.79999999999995,614.4,613.9,615.70000000000005,617.1,615.29999999999995,612.29999999999995,612,611.4,609.4,609.1,610.70000000000005,608.5,609.9,610.29999999999995,611.9,613,609.1,608.4,608.5,0.10000000000002274,1.6436554898097098E-4,14,14,-3.5,-5.7189542483660127E-3,43,40,-2.8999999999999773,-4.7432122996401331E-3,45,40,-45.399999999999977,-6.9429576387826847E-2,47,47]
["New Mexico","SMS35000009000000001",198.9,199,198.6,199,199.5,199.5,199.6,199.6,197.9,198.6,198.6,198.6,null,197.4,198.8,200.1,201.3,204.1,202.5,202.1,200.5,195.9,197.8,197.4,197.1,null,195.4,196.5,196.7,196.8,196.8,197.3,195.2,195.4,195.4,194.9,194.9,195.4,null,194.7,195,195.2,193.7,194.5,193.9,192.8,194.4,194.5,194.9,195.1,194.9,null,194.9,194.7,194.6,195,194.6,190.6,190.1,192.8,193.5,193,192.8,192.2,null,192.2,192.2,192,191.8,192,190.1,192.1,192.6,192.3,192.1,191.8,191.6,189.9,190,189.7,190.1,189.9,189.2,186.2,190.3,190.4,189.9,190,190.7,191.4,191.8,191.5,191.7,191.3,191.5,190.9,191.1,190.9,191,192.3,191.4,189.5,191.6,191.4,191.1,189.2,184.5,185.8,188.9,189.4,189.6,189.4,-0.19999999999998863,-1.0548523206750455E-3,21,26,-2.9000000000000057,-1.5080603224128995E-2,41,47,-2,-1.0449320794148381E-2,41,46,-10.199999999999989,-5.1102204408817582E-2,39,44]
["New York","SMS36000009000000001",1518.7,1521.9,1521.8,1523.2,1521.5,1518.2,1567.9,1558.7,1504.6,1510.1,1512.2,1512,null,1514.1,1514.8,1516.2,1521.3,1556.6,1543,1507.6,1492.3,1490.6,1493.6,1495.2,1490.2,null,1491.4,1487.9,1486.4,1491.9,1480.7,1476.5,1482.3,1493.2,1476.8,1474,1472.2,1469.4,null,1461.6,1467,1466.4,1465,1462.5,1458.7,1454,1454.4,1455.2,1452.9,1450.2,1451.4,null,1444.3,1447.2,1446.3,1445.4,1447,1445.2,1443,1444.8,1438.7,1440.6,1442.2,1443.1,null,1428.1,1434,1434,1436.8,1434.9,1435.7,1436.7,1438.7,1438.3,1442,1440.4,1439.3,1433.2,1433.8,1434.5,1434.5,1436.4,1438.9,1444.5,1442.9,1442.2,1444.6,1444.9,1444.9,1443.5,1442.8,1444.5,1443.4,1440.3,1442.8,1446.1,1446,1449.1,1450.8,1451,1451.2,1451.4,1451.7,1453,1453.9,1449.5,1451.6,1455,1455.6,1458,1455.3,1454.2,-1.0999999999999091,-7.5585789871497914E-4,44,22,3.2000000000000455,2.2053756030324229E-3,15,22,3,2.0672546857772875E-3,15,23,-113.70000000000005,-7.2517379934944851E-2,50,48]
["North Carolina","SMS37000009000000001",726.5,725.1,724.4,728,724.8,726.2,728.2,725.6,723.8,720.4,717.8,717.1,null,717,717.1,717.4,722.2,738.4,731.1,724.6,718.2,717.5,718.4,719.3,720.6,null,717.2,716.9,715.4,715.7,714,715.1,713.1,711.9,710.9,711.6,713.7,713,null,712.9,712.5,711,711.1,713,705.6,704.7,709.3,707.7,719.5,718.6,718.2,null,718.3,718.6,717.3,716.1,714.6,707.6,710.1,708.9,709.9,719.2,719.7,719.7,null,715.5,714.2,714.2,716.1,716.6,716.7,718.3,717.1,714.1,715,714.2,715.8,719.2,719.1,718.9,719.8,720.5,722.1,722.1,721.4,720.7,719,718.8,718.6,719.2,722.1,725.7,722.8,724,728.8,730.2,728.5,732.4,731.1,730.9,732.4,727.2,728.1,733,729.2,728.6,737.7,739.6,734.6,740.8,740.1,740,-0.10000000000002274,-1.3511687609785533E-4,20,18,9.1000000000000227,1.2450403611985255E-2,5,11,7.6000000000000227,1.0376843255051916E-2,7,13,11.799999999999955,1.6204339467179283E-2,10,21]
["North Dakota","SMS38000009000000001",76.599999999999994,76.599999999999994,77,77.2,78.3,78.3,78.2,78.099999999999994,78.3,78.400000000000006,78.7,78.8,null,78.599999999999994,79,79.8,79.8,80.599999999999994,80.099999999999994,79.8,79.599999999999994,79.400000000000006,79.599999999999994,79.599999999999994,79.400000000000006,null,79.599999999999994,79.400000000000006,79.400000000000006,79.3,79.599999999999994,79.400000000000006,79.099999999999994,78.599999999999994,78.900000000000006,78.8,78.8,79.2,null,79.099999999999994,79.2,79.3,79.400000000000006,79.5,79.3,79.900000000000006,79.400000000000006,79.7,79.599999999999994,79.599999999999994,79.599999999999994,null,80,79.900000000000006,79.7,79.599999999999994,79.8,80,80.400000000000006,80.2,79.900000000000006,80.3,80.2,80.2,null,80,80.2,80.099999999999994,80.599999999999994,80.5,80.8,81.099999999999994,80.7,80.8,80.5,80.5,80.599999999999994,80.099999999999994,80.2,80.599999999999994,80.7,80.599999999999994,80.900000000000006,82.6,81.900000000000006,80.7,81.5,82.2,82.4,83.1,83.5,83.4,83.2,83.5,83.4,83.6,83.7,83.3,83,83.3,83.4,84.4,84.3,83.6,83.7,83.8,83.5,83.1,83.4,83.3,83.5,83.4,-9.9999999999994316E-2,-1.1976047904190936E-3,18,27,0.10000000000000853,1.2004801920769332E-3,26,26,0,0,28,28,5.2000000000000028,6.6496163682864484E-2,15,5]
["Ohio","SMS39000009000000001",794.3,793.4,792.2,794.2,789.4,788.3,787,785.7,784.7,784.3,781.8,779.3,null,783.1,780.1,780.3,783.7,795.3,786.5,779.7,775,772.3,774.5,774,774.6,null,770.6,769.6,769.9,768.1,761.7,760.4,767.4,763.7,762.2,760.4,761.1,761.4,null,758,761.3,761.9,761.4,762.4,761.9,760.1,761.9,762.8,761.7,759.9,759.1,null,760.2,759.2,756.8,759.3,757.8,754.3,758.5,763.4,759.9,759,756.6,754,null,759,758.8,758.8,759.2,760.4,750.4,761.1,762.4,762.4,758.8,755.8,759.1,766.2,768.7,768.5,768.3,768.1,768.2,767.7,768.2,767.8,767.1,768.9,775.6,774.8,776.3,777,776.3,775.7,777.5,778.3,780,779.4,774.4,775.1,771.6,772.7,769.5,769,766.9,773.5,779,781.7,776.3,769.3,767.7,765.4,-2.3000000000000682,-2.9959619643090637E-3,46,40,-9.7000000000000455,-1.2514514256225061E-2,49,44,-6.2000000000000455,-8.0352514256091818E-3,49,44,-21.600000000000023,-2.7445997458703967E-2,44,36]
["Oklahoma","SMS40000009000000001",343.4,344.4,345.3,346.9,348,347.4,351.5,350.8,349.5,350.2,350.7,350.4,null,349.3,349.3,350.3,349.5,354.6,355,353.8,346.7,342,343.5,343.5,343.7,null,344.2,343.5,343.6,344.1,343.6,344.8,343.3,340.2,345.6,344,344.5,346,null,345.6,346.7,347.4,346.9,346.5,346.7,347,347.9,347.9,348,348.4,348.4,null,348.3,349.6,349.9,349.4,349,348.5,348,347.7,347.2,346.8,347.5,347.6,null,347.5,348.3,347.9,347.3,347.3,348,347.7,348.3,348.4,347.4,348.1,348,350.2,350.5,349.9,350.7,351.4,351.1,351.3,352,352.2,352.5,352.7,352.4,353.7,353.8,354.3,354,352.8,353.5,353.6,353.9,353.6,353.4,353.3,353.5,354.4,354.6,354.6,354.2,353.6,354,354.5,353.9,354.1,354.8,354.3,-0.5,-1.4092446448703494E-3,31,31,1,2.8304557033682421E-3,21,21,0.80000000000001137,2.2630834512022951E-3,21,21,2.8000000000000114,7.9658605974395769E-3,19,24]
["Oregon","SMS41000009000000001",300.3,300.5,299.7,300.10000000000002,300.10000000000002,298.10000000000002,302.3,300.60000000000002,298.39999999999998,298.7,297.60000000000002,297.7,null,297.8,297.60000000000002,298,299.89999999999998,304.60000000000002,303.39999999999998,303,300.89999999999998,297.39999999999998,298.7,299,296.7,null,298.60000000000002,297.7,296.8,296.8,296.5,295.8,294.10000000000002,293.2,292.60000000000002,292.8,292.39999999999998,291.89999999999998,null,291.39999999999998,291.2,291.39999999999998,290.8,291,290.39999999999998,291.5,291.39999999999998,291.3,290.39999999999998,290.2,289.89999999999998,null,288.7,289,288.7,288.60000000000002,288.60000000000002,288.10000000000002,287.89999999999998,288.2,289.60000000000002,290,290.60000000000002,292.2,null,291.10000000000002,291,291.10000000000002,292.2,292.3,292.89999999999998,294,294.7,295.7,296.89999999999998,297,297.8,298,298.3,299,299.10000000000002,298.89999999999998,300.39999999999998,299.7,300.5,301.5,302.3,302.39999999999998,303.39999999999998,303.8,304.7,305.39999999999998,306.3,306.89999999999998,307,308.39999999999998,305.7,309.5,308,308.5,308.5,305.10000000000002,308.7,309.7,309.3,309.60000000000002,310.60000000000002,312.8,309.39999999999998,312.3,310.5,310.8,0.30000000000001137,9.6618357487926367E-4,7,9,2.3000000000000114,7.4554294975689188E-3,17,16,2.3000000000000114,7.4554294975689188E-3,17,17,8.5,2.8117763810783989E-2,12,14]
["Pennsylvania","SMS42000009000000001",764.4,765.1,765,770,767.9,770.9,769,768.2,769.5,769.7,771.3,770.2,null,764.2,765.7,769.2,773,789.5,786,770.1,769.1,765.6,767.1,767,764.2,null,765.3,763,762.3,760.9,758.7,757.1,746.4,743.2,741.6,740.2,740.8,739.7,null,733.4,737.8,736.8,735.9,741,728.8,731.1,732.3,731.3,729.2,727.1,726.9,null,725,725.1,722.8,722.9,721.4,716.1,719.5,723.5,718.9,717.2,717.2,717.5,null,716.5,713.9,711.9,712.6,712.7,710.8,710.6,710.3,711.9,709.9,709.1,708.4,704,705.4,704.4,704.6,704.5,702.1,702.1,708.8,705.2,706.2,706,706.8,702.2,702.1,702.8,700.9,700.7,701.7,710.9,710.9,711.7,704.5,703.6,703.1,700.4,701.8,700.8,700.1,700.7,694.9,705.7,705.8,704.6,699.6,700.2,0.60000000000002274,8.5763293310466373E-4,5,10,-3.3999999999999773,-4.8322910744741003E-3,42,36,-2.8999999999999773,-4.1245910965722905E-3,45,38,-68.799999999999955,-8.946684005201555E-2,49,49]
["Rhode Island","SMS44000009000000001",62.5,62.6,62.3,62.5,62.3,62.3,61.6,61.4,61.9,62.1,61.8,61.8,null,61.8,61.7,61.8,61.8,63.4,62.4,62.3,62.1,61.1,60.9,61,60.9,null,60.9,60.8,60.9,60.9,60.6,60.8,60.3,60.7,60.5,60.3,60.1,60.3,null,60.1,60.2,60,60.3,60.4,59.7,59.9,60.2,60.3,60.1,60,60.1,null,60,59.8,60,60.1,60.1,60.1,60.7,60.4,60.4,60.2,60.1,60,null,60.2,60.1,60.1,60.2,60.3,60.4,60.4,59.8,60.2,60.1,60,60.1,60.7,60.6,60.4,60.5,60.5,60.4,60.3,60.3,60.3,60.4,60.2,60,60.2,60.4,60.3,60.3,60.1,60.6,60.8,61,61,60.7,60.8,60.7,60.5,60.6,60.5,60.6,60.6,60.6,60.9,60.4,60.8,60.7,60.5,-0.20000000000000284,-3.2948929159802775E-3,26,43,-0.29999999999999716,-4.9342105263157432E-3,31,37,-0.20000000000000284,-3.2948929159802775E-3,34,35,-1.1000000000000014,-1.785714285714288E-2,28,32]
["South Carolina","SMS45000009000000001",348.9,348.5,347.8,349.6,348.6,347.9,348.4,347.1,345.7,346.1,346.2,346.2,null,347,347.7,347.9,348.5,358,351.8,350.7,348.3,342.6,342.1,341.1,341.4,null,341.9,341.8,341.2,341.5,341.1,340.8,341.2,341.1,341.5,342.6,342.5,340.9,null,341.9,347.3,347.8,347,347.1,347.8,348.3,347.5,348.1,347.9,348.8,347.7,null,349.3,353.1,353.4,354,353.7,350.3,350.5,350,353,352.1,352.7,352.8,null,353.8,354.2,354.3,355.5,356,355.5,356.1,357.4,358.1,358.5,359.2,360,358.3,359.2,358.9,359.3,359.8,359.9,360.6,359.1,361.9,362.4,362,362.5,362.1,362.3,362.7,362.6,362.5,363.2,367.4,364.6,364,363.7,365.1,365.1,364.7,364.2,365.1,365.8,365.6,366,368.5,371,368.7,369.8,369.2,-0.60000000000002274,-1.6224986479178548E-3,37,35,4.0999999999999659,1.1229800054779419E-2,12,12,4.0999999999999659,1.1229800054779419E-2,12,12,20.800000000000011,5.9701492537313466E-2,7,7]
["South Dakota","SMS46000009000000001",77,76.900000000000006,77,77.5,78.5,77.599999999999994,78.599999999999994,78.7,78.5,78.099999999999994,78.2,77.7,null,78,77.900000000000006,78.5,78.599999999999994,79.599999999999994,79.2,79.099999999999994,79.400000000000006,79.099999999999994,78.7,78.599999999999994,78.2,null,78.5,78.5,78.099999999999994,78.2,78.2,78.3,78,77.7,77.5,77.7,77.5,77.7,null,77.599999999999994,77.099999999999994,77.400000000000006,77.599999999999994,77.5,77.099999999999994,77.2,77.2,77.7,77.8,77.8,77.8,null,77.7,77.599999999999994,77.400000000000006,77.099999999999994,77,76.7,76.599999999999994,77.8,78.3,77.5,77.5,77.2,null,77.5,77.7,77.599999999999994,77.599999999999994,77.8,78,77.900000000000006,77.900000000000006,78.099999999999994,78.400000000000006,78.2,78,77.5,77.599999999999994,77.7,77.8,78,78.2,78,77.599999999999994,77.7,78,78,78.2,78,78.099999999999994,78.099999999999994,78.2,78.599999999999994,79.099999999999994,79.099999999999994,79,79,78.599999999999994,79.2,79,79.7,79.8,79.900000000000006,79.900000000000006,80.5,80.8,80.5,80.400000000000006,80.599999999999994,80.3,80.5,0.20000000000000284,2.4906600249066358E-3,11,5,1.2999999999999972,1.6414141414141378E-2,19,7,1.5,1.8987341772151899E-2,19,3,1.9000000000000057,2.4173027989821957E-2,23,15]
["Tennessee","SMS47000009000000001",428.3,427.7,427.6,428.5,428.8,427.2,428.6,428.8,428.4,429.6,430.5,429.3,null,430.7,429.1,429.4,432.4,442.8,439.1,435.1,433.9,433.2,431.6,430.3,430.1,null,430.8,429.8,429.4,428.1,428.7,426.2,425.4,430.3,426.5,426.4,425.5,425.1,null,424.8,425.5,426.9,424.5,423.4,422.1,422.6,422.9,423.6,423.8,423.9,423.8,null,421.7,422.1,422,421.5,420.7,421.1,420.3,420,420.3,419.4,418.8,418.8,null,425.6,425.5,425.5,425,425.2,424.6,423.8,424.2,424.7,425.3,426.1,426.9,424.7,424.3,423.6,423.4,421.5,422.6,422.8,423.1,424.6,426.6,427.3,427.6,425.5,426.1,430,426.5,426.2,424.5,427.1,427.5,427.5,431.7,428.9,428.3,432.5,429.9,434.9,429.5,433.1,433.5,434.3,433.2,433.8,436.1,433.4,-2.7000000000000455,-6.191240541160388E-3,48,49,4.5,1.049195616693868E-2,11,14,5.0999999999999659,1.1907541442913765E-2,10,10,4.7999999999999545,1.1199253383107685E-2,16,22]
["Texas","SMS48000009000000001",1803,1802.7,1804.5,1814.7,1814.4,1818.1,1818.9,1812.5,1820,1834.1,1833.8,1834.3,null,1836.9,1840,1847.2,1857.5,1892.9,1881.3,1864.2,1856.2,1844.6,1852.9,1852.1,1851,null,1847.6,1841,1836.4,1834.8,1831.5,1835.7,1828.6,1816,1801.3,1793.2,1789.2,1788.8,null,1789.6,1792.5,1791.6,1791,1789.3,1789.9,1799,1796.9,1794.6,1797,1797.7,1799.7,null,1796.6,1801.2,1802.3,1803.9,1804.8,1807.7,1820.6,1814.4,1817.3,1819.3,1822.7,1824.9,null,1819.1,1819.7,1820.2,1821.6,1823.8,1829.8,1830.6,1830.2,1830.9,1832.6,1836.3,1841.3,1839.3,1842.5,1843.5,1843.9,1851.7,1848.3,1856.6,1858.8,1862.1,1861.9,1863.2,1867,1903.6,1905.4,1908.5,1914.9,1919.8,1923.8,1930.9,1931.4,1934.3,1934.2,1937.5,1940.4,1944.2,1944.5,1947,1949.5,1953.2,1959.2,1958.1,1959.2,1963.6,1971,1973.5,2.5,1.2683916793505834E-3,1,7,36,1.8580645161290321E-2,2,4,33.099999999999909,1.7058338486909869E-2,2,7,154.59999999999991,8.4996426411567377E-2,1,3]
["Utah","SMS49000009000000001",213.7,214,213.6,215,214.8,214.4,213.9,214.6,215.1,215.5,215.4,215.6,null,215.7,215.4,215.8,216.7,220.8,218.4,217.6,217.8,218.2,218.6,218.5,218.6,null,218.4,218.9,219.8,220.1,220.4,220.2,220.6,220.8,220.5,220.3,220.3,221.4,null,221.9,221.9,222.3,224.9,223.6,223.6,224.1,222.7,222.9,224.4,224.1,223.7,null,223.9,223.9,223.8,225.2,225.9,225,227.2,225.4,226.4,226.7,227,227,null,227.4,228,228.2,231,231.6,230.2,230.9,230,230.2,230,230.2,230.1,232.2,232.6,233,233,233.4,233.2,235,232.9,234.1,235.1,235.4,235.7,235.2,235.6,236.3,236.8,237.4,237.8,238.9,238.8,240.1,240.4,240.1,240.7,239.9,240.9,241.7,242.5,244.1,242.3,243.1,242.1,245,244.8,244.9,9.9999999999994316E-2,4.0849673202612055E-4,15,13,4.8000000000000114,1.9991670137442779E-2,10,3,4.2000000000000171,1.7449106771915319E-2,11,6,31,0.14492753623188406,5,1]
["Vermont","SMS50000009000000001",54.3,54.5,54.2,55.2,55.2,54.8,54.3,54.7,54,54.6,54.5,54.1,null,54.6,54.5,55.3,55.2,56,55.5,54.9,54.9,54.2,54.7,54.4,54.2,null,54.3,54.5,54.6,54.7,54.7,54.8,54.3,54.2,54.7,54.9,54.7,55.1,null,54.5,55,55.1,55.1,54.9,54.5,54.5,56.3,55.3,55,55.2,55.2,null,55.2,54.9,55.2,54.9,54.9,55,55,54.8,54.7,54.9,54.9,53.9,null,55.7,55.6,55.8,55.8,55.3,56.1,56.5,56.5,56.3,56.1,55.8,56,56.3,55.8,55.9,55.8,55.7,56,56.6,55.9,55.7,56.1,56.2,55.9,55.5,55.6,55.7,55.6,55,55.7,57.6,56.4,56.1,55.5,55.4,55.7,55.7,55.5,56.1,55.6,55.8,56,55.9,56.2,56.7,55.5,55.5,0,0,16,16,0.10000000000000142,1.8050541516245744E-3,27,23,-0.20000000000000284,-3.5906642728905356E-3,34,36,1.2000000000000028,2.2099447513812209E-2,25,16]
["Virginia","SMS51000009000000001",698.2,697,698.1,699.1,702.3,703.2,697.9,700.1,699.4,699.5,703.7,701.6,null,702.2,698,701.1,705,717.2,716,705.3,700.4,704.6,702.7,700.9,701.6,null,706.4,708.8,709.5,708.6,708.4,708.2,707.5,708.3,713.6,714,713.1,714.1,null,710.7,711.9,711.4,709.4,709.1,709.1,701.5,709.8,711.4,711.4,711.9,712.7,null,708.6,710.6,710.2,711.1,710.4,709.7,710.7,711.1,710.6,709.7,709.9,710,null,704.7,704,703.7,705.7,705.9,704.7,707.5,707.1,707.4,707.5,707.4,708.2,710.4,711.7,709.6,711.3,712.4,711.9,714,713.3,711.8,711.1,710.7,710.4,710.8,713.1,714.3,714.9,713.9,713.5,714.4,716,713.9,716.5,714.5,715.1,713.4,717.8,714,715.3,714.5,714.7,714.6,714.7,715.6,713.2,712.3,-0.90000000000009095,-1.2619181155357417E-3,42,28,-2.2000000000000455,-3.0790762771169284E-3,39,33,-2.8000000000000682,-3.9155362886310564E-3,44,37,14.399999999999977,2.0633328557099838E-2,9,18]
["Washington","SMS53000009000000001",549.6,549.79999999999995,550.5,554.5,553.20000000000005,549,548.4,547.79999999999995,547.5,548.9,548.4,547.5,null,548.6,548.5,548.6,550.29999999999995,560.20000000000005,554.79999999999995,551.4,549.6,546.9,546.9,547,546.20000000000005,null,546.4,546.6,545.29999999999995,544.70000000000005,544.9,544,545.1,544.20000000000005,539.9,540.70000000000005,539.6,539.5,null,539.4,538.29999999999995,540.6,540.6,540.5,541.20000000000005,542.5,541.1,542.5,542,542.5,542.6,null,542.70000000000005,542.6,542.6,542.70000000000005,542.70000000000005,542.79999999999995,542.29999999999995,543.70000000000005,544.4,544.20000000000005,544.6,544.79999999999995,null,545.6,546.29999999999995,547.29999999999995,548.20000000000005,549.29999999999995,549.20000000000005,552,554.5,556.1,556.20000000000005,554.5,557,556.20000000000005,557.29999999999995,558.70000000000005,559.5,560.5,561.6,563,564.29999999999995,566.6,562.9,565.5,566.79999999999995,566.5,567.5,568.1,568.79999999999995,571.20000000000005,571,573.29999999999995,574.29999999999995,579.4,578.20000000000005,578.70000000000005,580.29999999999995,578,580.1,580.29999999999995,582.1,582.20000000000005,584.6,591.5,586.9,591.1,590.4,587.1,-3.2999999999999545,-5.5894308943088659E-3,50,48,8.3999999999999773,1.4515292897874506E-2,7,9,6.8000000000000682,1.1718076856798326E-2,8,11,38.700000000000045,7.0568927789934441E-2,3,4]
["West Virginia","SMS54000009000000001",147.9,148.69999999999999,148.9,148.80000000000001,143.69999999999999,154.5,152.4,153.19999999999999,149.19999999999999,150.4,150.1,150.69999999999999,null,151.69999999999999,151.4,152.69999999999999,152.6,160.1,155.19999999999999,154,153.9,151.5,151.6,151.69999999999999,151.69999999999999,null,150.4,150.6,150.9,152.69999999999999,146.30000000000001,150.30000000000001,149.9,150.30000000000001,153.9,153.6,152.9,153.19999999999999,null,154.30000000000001,153.69999999999999,153.9,153.6,158.19999999999999,151,151.19999999999999,151.5,154,153.80000000000001,154.80000000000001,154.30000000000001,null,153.9,153.80000000000001,153.30000000000001,153.69999999999999,148.9,153.9,154.80000000000001,155.30000000000001,153.5,155,154.9,154.9,null,152.19999999999999,151.80000000000001,151.69999999999999,152.30000000000001,164.1,151.9,152.4,152.30000000000001,153.30000000000001,153.9,153.80000000000001,153.80000000000001,152.6,152.5,151.4,152.4,152.19999999999999,151.5,151.30000000000001,151,151.69999999999999,152.5,152,152.5,154.5,154.30000000000001,154.80000000000001,155.1,158.6,155.69999999999999,155.4,155.69999999999999,154.19999999999999,155.69999999999999,164.7,155.80000000000001,155.6,155.6,154.5,154.6,153.9,154.1,153.5,154.1,154.30000000000001,155.6,154.9,-0.69999999999998863,-4.4987146529562256E-3,40,46,-9.7999999999999829,-5.9502125075895466E-2,50,50,-0.90000000000000568,-5.7766367137355949E-3,37,41,2.5,1.6404199475065617E-2,21,20]
["Wisconsin","SMS55000009000000001",422.8,423.5,423,422.3,423.7,420.7,421.2,418.7,416.9,419.9,418.3,420.3,null,420.9,416.9,417.5,422.3,425.8,421.7,418.6,417.8,417.2,418.9,420,414.6,null,420.5,418.4,418,416.5,416.7,412.5,416.1,415.3,412.4,407.9,407.4,410.4,null,407.6,406.4,408.9,411.8,417.2,410.8,407.4,412.1,409.9,410.5,414.6,410.8,null,408.6,415.2,408.5,406.8,406.6,408.1,408.6,410.3,412.8,417.8,415.9,417.6,null,410.1,408.9,409.7,410.7,409.9,410.7,412.3,417.6,411.5,411.7,414.7,412.3,410,411.1,410.1,410.5,409.1,409.5,408.7,408.4,408.2,412.2,410.7,412.9,410.1,410,409.8,410.5,407.5,409.9,412.8,414.6,409.4,415.6,420.5,418.2,413.2,416,411.5,418.6,417.5,410.8,417.1,412.5,417.6,418.5,418.2,-0.30000000000001137,-7.1684587813622793E-4,28,20,-2.3000000000000114,-5.4696789536266624E-3,40,38,0,0,28,28,-3,-7.1225071225071226E-3,30,28]
["Wyoming","SMS56000009000000001",69.599999999999994,70.099999999999994,70,70.8,71.099999999999994,70.5,70,69.8,70.7,70.8,70.8,70.900000000000006,null,70.8,71,71.7,71.400000000000006,72.900000000000006,72.099999999999994,70.900000000000006,70.5,71.400000000000006,71.599999999999994,71.400000000000006,71.5,null,71.400000000000006,71.599999999999994,71.7,71.900000000000006,71.900000000000006,72.099999999999994,72.8,73.2,72.2,72,72,72.099999999999994,null,72.2,72.5,72.3,71.900000000000006,72,72,73.2,72.599999999999994,72.099999999999994,72.2,72.2,72.3,null,72.5,72.3,72.2,72.400000000000006,72.2,71.900000000000006,72.3,72.599999999999994,71.900000000000006,71.599999999999994,71.900000000000006,71.900000000000006,null,71.599999999999994,71.5,71.5,71.7,71.400000000000006,71,71.7,71.400000000000006,71.3,71.599999999999994,71.5,71.3,70.900000000000006,70.900000000000006,71.099999999999994,71.099999999999994,71.2,71.3,71.599999999999994,71.5,71.7,71.7,71.900000000000006,71.900000000000006,71.8,71.7,71.7,71.7,71.7,71.7,71.400000000000006,71.400000000000006,71.2,70.900000000000006,70.8,70.900000000000006,70.400000000000006,70.400000000000006,70.7,70.5,70.400000000000006,70,69.8,69.900000000000006,69.599999999999994,69.599999999999994,69.5,-9.9999999999994316E-2,-1.4367816091953207E-3,18,32,-1.2999999999999972,-1.8361581920903914E-2,37,48,-1.4000000000000057,-1.9746121297602334E-2,39,50,-0.5,-7.1428571428571426E-3,27,29]

{"sheet":"state fips","index":10,"n_rows":53,"n_cols":3,"rows_kept":53,"cut":false,"hidden":false,"merged":[[0,0,1,0],[0,3,1,3]]}
["State","Postal","FIPS"]
[null,"Abbr.","Code"]
["Alabama","AL",1]
["Alaska","AK",2]
["Arizona","AZ",4]
["Arkansas","AR",5]
["California","CA",6]
["Colorado","CO",8]
["Connecticut","CT",9]
["Delaware","DE",10]
["District of Columbia","DC",11]
["Florida","FL",12]
["Georgia","GA",13]
["Hawaii","HI",15]
["Idaho","ID",16]
["Illinois","IL",17]
["Indiana","IN",18]
["Iowa","IA",19]
["Kansas","KS",20]
["Kentucky","KY",21]
["Louisiana","LA",22]
["Maine","ME",23]
["Maryland","MD",24]
["Massachusetts","MA",25]
["Michigan","MI",26]
["Minnesota","MN",27]
["Mississippi","MS",28]
["Missouri","MO",29]
["Montana","MT",30]
["Nebraska","NE",31]
["Nevada","NV",32]
["New Hampshire","NH",33]
["New Jersey","NJ",34]
["New Mexico","NM",35]
["New York","NY",36]
["North Carolina","NC",37]
["North Dakota","ND",38]
["Ohio","OH",39]
["Oklahoma","OK",40]
["Oregon","OR",41]
["Pennsylvania","PA",42]
["Rhode Island","RI",44]
["South Carolina","SC",45]
["South Dakota","SD",46]
["Tennessee","TN",47]
["Texas","TX",48]
["Utah","UT",49]
["Vermont","VT",50]
["Virginia","VA",51]
["Washington","WA",53]
["West Virginia","WV",54]
["Wisconsin","WI",55]
["Wyoming","WY",56]